{"text_format":"1","workbook":"xlsx","n_sheets":11,"sheets":["Instructions","Subject Data","Subject Data Accessible","Comparison Group 1","Comparison Group 1 Accessible","Comparison Group 2","Comparison Group 2 Accessible","Comparison Group 3","Comparison Group 3 Accessible","Summary","Summary Accessible"],"not_rendered":{"charts":0,"images":3,"macros":1,"external_links":0,"defined_names":11,"comments":0,"pivot_tables":0},"unopened":[],"bounds":{"document_bytes":16777216,"sheet_cells":100000,"rows_first":2000,"rows_last":500,"rows_between":2000,"halvings":0,"cell_chars":16384,"cell_head_chars":4096},"cells_cut":0,"cells_raw":0,"read":"whole","date_system":"1900"}

{"sheet":"Instructions","index":0,"n_rows":32,"n_cols":10,"rows_kept":32,"cut":false,"hidden":false,"merged":[[30,0,30,11],[1,0,1,11],[14,0,14,11],[19,0,19,11],[21,0,21,11],[28,0,28,11],[22,2,23,11],[20,0,20,11],[24,2,26,11],[2,0,2,11],[15,0,15,11],[3,0,3,11],[4,0,4,11],[17,1,17,9],[18,1,18,7],[16,1,16,11]]}
["FHWA Crash Data Summary Template V1.5 - Accessible",null,null,null,null,null,null,null,null,"Release Date: November 2020"]
["Overview"]
["This spreadsheet is a template that State, Tribal, local, and other agencies can use to summarize crash data and detect over-representation to inform their highway safety programs. FHWA adapted the template from the Washington State Department of Transportation's (WSDOT) \"County X\" Spreadsheet. WSDOT developed the diagnostic tool to support a systemic approach to safety for both State and local agencies."]
["The only requirement for using the spreadsheet is having access to crash data. Everyone has free access to fatal crash data from the National Highway Traffic Safety Administration's Fatality and Injury Reporting System Tool (FIRST). The default crash data elements and attributes in the Template match the Model Minimum Uniform Crash Critera - 5th Edition guideline. However, the Crash Data Summary Template can be easily modified if your crash data contains different  variables. The user can simply modify the crash/vehicle attributes in the tool to match their data by leaving a column blank or by inserting/deleting rows. Make sure to carry any changes across all worksheets in the template file."]
["Agencies are also not limited  to a certain number of years of crash data. Importing more years into the tool provides a larger sample and increases the ability to detect over-representation; however, at the same time, more years of data can create challenges if there are changes in the dataset over time."]
["The contents of this Excel file include the following:"]
["Worksheet Name","Preferred Names","Contents"]
["Instructions","----","The current worksheet, which provides a description of the template and describes how to use the tool."]
["Subject Data","Test County","This worksheet is the primary data entry worksheet for this analysis. Users input data for the subject jurisdiction (e.g., \"County X\") into Columns D-H and L-P. The proportional distributions are compared against total crashes within the jurisdiction and against proportions in the comparison groups."]
["Comparison Group 1","Test Group 1","This worksheet is meant to summarize data for the first comparison group to be compared against (e.g. all county-owned roadways in the same DOT District as X County) into Columns D-H and L-P. Data for this worksheet may include crashes in neighboring towns, similar counties, and even statewide."]
["Comparison Group 2","Test Group 2","This worksheet is meant to summarize data for the second comparison group to be compared against (e.g. all regional roadways in the state) into Columns D-H and L-P. Data for this worksheet may include crashes in neighboring towns, similar counties, and even statewide."]
["Comparison Group 3","Test Group 3","This worksheet is meant to summarize data for the third comparison group to be compared against (e.g. all state roads) into Columns D-H and L-P. Data for this worksheet may include crashes in neighboring towns, similar counties, and even statewide."]
["Summary","----","This worksheet contains the summary of the comparison analysis based on the input data from \"Subject Data\" and Comparison Group worksheets.  The proportional distributions are compared against total crashes within the jurisdiction and against proportions in the comparison groups. Use this worksheet to review your results."]
["Caption: Table includes three columns and five rows. The first column is for Worksheet Name, the second column is for Preferred Names, and the third column is for Contents. The first row is for Instructions with no entry for Preferred Names. The second row is for Subject Data with entry for the name of the subject area. The third row is for Comparison Group 1 with entry for the name of the County Roads. The fourth row is for Comparison Group 2 with entry for the name of the Region Roads. The fifth row is for Comparison Group 3 with entry for the name of State Roads. The sixth row is for Summary with no entry for Preferred Names."]
["Instructions"]
["1. In separate spreadsheet, organize crash data into a pivot table.\n2. Label each worksheet using the \"Preferred Names\" column above. Type the label into the bordered cells above.\n3. Update Column A of the Subject Data tab to match your agency's crash data elements and attributes.\n4. Review crash distributions by severity in the pivot table and copy the data into the Subject Data Tab (Fatal and Serious Injury Crashes: Columns D-H, and Total Crashes: Columns L-P).\n5. Once data are entered, review highlighted cells to identify overrepresented crash attributes between fatal and serious injury crashes and total crashes. If you would like to compare against a Comparison Group, proceed to Step 5.\n6. Repeat these steps in the Comparison Group worksheets to compare the subject data against other data.\n7. If you want to view/work in two places in the template at the same time, follow these instructions: "]
[null,"i) from the “View” menu in Excel, select “New Window” "]
[null,"ii) select “View Side by Side\""]
[null,"iii) select “Synchronous Scrolling”"]
["Tips"]
["1. Organize your pivot table to match the Template. This includes using the crash date or crash year element as columns and sorting in the same order as the Template. This allows for simply copying and pasting crash totals from the pivot table into the template.\n2. Modify the Template to your needs. Add and remove rows and sections as you see fit. Don't feel limited to the default elements in the Template.\n3. Don't feel limited to crash-level data, you can use vehicle-level data or person-level data.\n4. Remember to carry any changes to data variables in the \"Subject Data\" worksheet through to the comparison group worksheets.\n5. If the sample of fatal and suspected serious injury crashes is too small, consider including suspected minor injury crashes as well.\n6. You do not have to use the Comparison Groups if you do not want to. They are provided as additional options for comparison."]
["Pattern Coding Rules"]
[3.4000000000000002E-2,null,"Cells with the dotted pattern in Column I of the \"Summary\" worksheet indicate fatal and serious injury crashes are overrepresented against total crashes (for the subject data). An attribute is overrepresented if the proportion of fatal and serious injury crashes is either 5 percent or more than 2 times the proportion of total crashes."]
[]
[3.4000000000000002E-2,null,"Cells with the dotted pattern in Columns G, E, and C of the \"Summary\" worksheet indicate fatal and serious injury crashes for the subject data are overrepresented against fatal and serious injury crashes in the relevant comparison group. Cells with the pattern in Columns T, R, and P indicate total crashes for the subject data are overrepresented against total crashes in the relevant Comparison Group. An attribute is overrepresented if the proportion of subject data crashes is either 5 percent or more than 2 times the proportion of comparison group crashes."]
[]
[]
["N/A",null,"N/A indicates no crash data are required or available for a cell."]
["Accessibility"]
["To use an accessible version of a worksheet, toggle the \"Accessibility:\" switch in Cell A1 to read \"On\". Users can also toggle the button using CTRL+SHIFT+A."]
["Acknowledgement"]
["This Template is based on a spreadsheet developed and used by WSDOT."]

{"sheet":"Subject Data","index":1,"n_rows":577,"n_cols":15,"rows_kept":577,"cut":false,"hidden":false,"merged":[[2,8,2,14],[0,0,0,14],[1,0,3,0],[1,1,1,7],[1,8,1,14],[2,1,2,7]]}
["Crash Data Summary Template"]
["Year 1 - Year 5 Subject Data","Fatal and Serious Injury Crashes",null,null,null,null,null,null,"All Crashes"]
[null,{"$f":"Instructions!B9","v":"Test County"},null,null,null,null,null,null,{"$f":"Instructions!B9","v":"Test County"}]
[null,"Year 1 - Year 5","%","Year 5","Year 4","Year 3","Year 2","Year 1","Year 1 - Year 5","%","Year 5","Year 4","Year 3","Year 2","Year 1"]
["Overall Numbers"]
["Total # of Collisions",{"$f":"SUM(D6:H6)","v":7},"N/A",2,2,1,2,0,{"$f":"SUM(K6:O6)","v":50},"N/A",8,10,17,10,5]
["# of Fatal Collisions",4,{"$f":"B7/B6","v":0.5714285714285714},1,1,1,1,0,0,{"$f":"I7/I6","v":0},0,0,0,0,0]
["# of Serious Injury Collisions",3,{"$f":"B8/B6","v":0.42857142857142855},1,1,0,1,0,1,{"$f":"I8/I6","v":0.02},1,0,0,0,0]
["# of Alcohol-Related Collisions",0,{"$f":"B9/B6","v":0},0,0,0,0,0,2,{"$f":"I9/I6","v":0.04},1,0,0,1,0]
["Total # of Fatalities",0,"N/A",0,0,0,0,0,0,"N/A",0,0,0,0,0]
["Total # of Serious Injuries",3,"N/A",1,1,0,1,0,7,"N/A",2,1,2,2,0]
["Most Severe Injury Reported"]
["5 (K)",{"$f":"SUM(D13:H13)","v":4},{"$f":"B13/SUM(B$13:B$17)","v":0.5714285714285714},1,1,1,1,0,{"$f":"SUM(K13:O13)","v":4},{"$f":"I13/SUM(I$13:I$17)","v":0.08},1,1,1,1,0]
["4 (A)",{"$f":"SUM(D14:H14)","v":3},{"$f":"B14/SUM(B$13:B$17)","v":0.42857142857142855},1,1,0,1,0,{"$f":"SUM(K14:O14)","v":3},{"$f":"I14/SUM(I$13:I$17)","v":0.06},1,1,0,1,0]
["3 (B)","N/A","N/A","N/A","N/A","N/A","N/A","N/A",{"$f":"SUM(K15:O15)","v":2},{"$f":"I15/SUM(I$13:I$17)","v":0.04},0,0,0,2,0]
["2 (C)","N/A","N/A","N/A","N/A","N/A","N/A","N/A",{"$f":"SUM(K16:O16)","v":4},0.08,1,1,2,0,0]
["1 (O)","N/A","N/A","N/A","N/A","N/A","N/A","N/A",{"$f":"SUM(K17:O17)","v":37},0.74,5,7,14,6,5]
["Property"]
["Public",{"$f":"SUM(D19:H19)","v":4},{"$f":"B19/SUM(B$19:B$20)","v":0.5714285714285714},1,1,1,1,0,{"$f":"SUM(K19:O19)","v":37},{"$f":"I19/SUM(I$19:I$20)","v":0.74},5,7,14,6,5]
["Private",3,{"$f":"B20/SUM(B$19:B$20)","v":0.42857142857142855},1,1,0,1,0,13,{"$f":"I20/SUM(I$19:I$20)","v":0.26},3,3,3,4,0]
["Location"]
["Trafficway, On Road",{"$f":"SUM(D22:H22)","v":3},{"$f":"B22/SUM(B$22:B$24)","v":0.42857142857142855},1,1,1,0,0,{"$f":"SUM(K22:O22)","v":31},{"$f":"I22/SUM(I$22:I$24)","v":0.62},4,7,11,5,4]
["Trafficway, Not on Road",{"$f":"SUM(D23:H23)","v":2},{"$f":"B23/SUM(B$22:B$24)","v":0.2857142857142857},0,1,0,1,0,{"$f":"SUM(K23:O23)","v":13},{"$f":"I23/SUM(I$22:I$24)","v":0.26},3,2,3,4,1]
["Non-Trafficway",{"$f":"SUM(D24:H24)","v":2},{"$f":"B24/SUM(B$22:B$24)","v":0.2857142857142857},1,0,0,1,0,{"$f":"SUM(K24:O24)","v":6},{"$f":"I24/SUM(I$22:I$24)","v":0.12},{"$f":"K6-SUM(K22:K23)","v":1},{"$f":"L6-SUM(L22:L23)","v":1},3,1,0]
["By Weekday"]
["Sunday",{"$f":"SUM(D26:H26)","v":1},{"$f":"B26/SUM(B$26:B$32)","v":0.14285714285714285},0,1,0,0,0,{"$f":"SUM(K26:O26)","v":4},{"$f":"I26/SUM(I$26:I$32)","v":0.08},1,1,2,0,0]
["Monday",1,{"$f":"B27/SUM(B$26:B$32)","v":0.14285714285714285},0,0,0,1,0,9,{"$f":"I27/SUM(I$26:I$32)","v":0.18},1,4,0,3,1]
["Tuesday",1,0.14285714285714285,1,0,0,0,0,13,0.26,4,3,3,2,1]
["Wednesday",2,0.2857142857142857,0,0,1,1,0,6,0.12,1,0,4,1,0]
["Thursday",1,0.14285714285714285,0,1,0,0,0,8,0.16,0,1,4,2,1]
["Friday",0,0,0,0,0,0,0,5,0.1,0,1,1,1,2]
["Saturday",1,0.14285714285714285,1,0,0,0,0,5,0.1,1,0,3,1,0]
["Crash Hour"]
["12:00 AM - 12:59 AM",{"$f":"SUM(D34:H34)","v":2},{"$f":"B34/SUM(B$34:B$58)","v":0.2857142857142857},0,0,1,1,0,{"$f":"SUM(K34:O34)","v":3},{"$f":"I34/SUM(I$34:I$58)","v":0.06},0,0,1,2,0]
["1:00 AM - 1:59 AM",0,{"$f":"B35/SUM(B$34:B$58)","v":0},0,0,0,0,0,0,{"$f":"I35/SUM(I$34:I$58)","v":0},0,0,0,0,0]
["2:00 AM - 2:59 AM",0,0,0,0,0,0,0,0,0,0,0,0,0,0]
["3:00 AM - 3:59 AM",0,0,0,0,0,0,0,0,0,0,0,0,0,0]
["4:00 AM - 4:59 AM",1,0.14285714285714285,1,0,0,0,0,1,0.02,1,0,0,0,0]
["5:00 AM - 5:59 AM",0,0,0,0,0,0,0,3,0.06,0,1,2,0,0]
["6:00 AM - 6:59 AM",0,0,0,0,0,0,0,1,0.02,0,1,0,0,0]
["7:00 AM - 7:59 AM",0,0,0,0,0,0,0,2,0.04,0,1,0,1,0]
["8:00 AM - 8:59 AM",0,0,0,0,0,0,0,2,0.04,1,1,0,0,0]
["9:00 AM - 9:59 AM",0,0,0,0,0,0,0,2,0.04,2,0,0,0,0]
["10:00 AM - 10:59 AM",1,0.14285714285714285,0,1,0,0,0,1,0.02,0,0,1,0,0]
["11:00 AM - 11:59 AM",0,0,0,0,0,0,0,3,0.06,0,0,3,0,0]
["12:00 PM - 12:59 PM",0,0,0,0,0,0,0,3,0.06,0,1,0,2,0]
["1:00 PM - 1:59 PM",1,0.14285714285714285,0,1,0,0,0,5,0.1,1,1,2,1,0]
["2:00 PM - 2:59 PM",0,0,0,0,0,0,0,4,0.08,0,0,3,0,1]
["3:00 PM - 3:59 PM",0,0,0,0,0,0,0,4,0.08,1,1,1,0,1]
["4:00 PM - 4:59 PM",0,0,0,0,0,0,0,3,0.06,0,1,1,1,0]
["5:00 PM - 5:59 PM",2,0.2857142857142857,1,0,0,1,0,6,0.12,1,0,2,2,1]
["6:00 PM - 6:59 PM",0,0,0,0,0,0,0,2,0.04,0,1,0,0,1]
["7:00 PM - 7:59 PM",0,0,0,0,0,0,0,2,0.04,1,0,0,1,0]
["8:00 PM - 8:59 PM",0,0,0,0,0,0,0,2,0.04,0,1,0,0,1]
["9:00 PM - 9:59 PM",0,0,0,0,0,0,0,0,0,0,0,0,0,0]
["10:00 PM - 10:59 PM",0,0,0,0,0,0,0,1,0.02,0,0,1,0,0]
["11:00 PM - 11:59 PM",0,0,0,0,0,0,0,0,0,0,0,0,0,0]
["Unknown",0,0,0,0,0,0,0,0,0,0,0,0,0,0]
["Crash Month"]
["January",{"$f":"SUM(D60:H60)","v":0},{"$f":"B60/SUM(B$60:B$71)","v":0},0,0,0,0,0,{"$f":"SUM(K60:O60)","v":5},{"$f":"I60/SUM(I$60:I$71)","v":0.1},1,2,1,0,1]
["February",0,{"$f":"B61/SUM(B$60:B$71)","v":0},0,0,0,0,0,4,{"$f":"I61/SUM(I$60:I$71)","v":0.08},1,0,2,0,1]
["March",0,0,0,0,0,0,0,5,0.1,2,2,1,0,0]
["April",1,0.14285714285714285,0,1,0,0,0,5,0.1,0,2,2,1,0]
["May",0,0,0,0,0,0,0,3,0.06,0,0,3,0,0]
["June",1,0.14285714285714285,0,0,1,0,0,3,0.06,2,0,1,0,0]
["July",2,0.2857142857142857,0,0,0,2,0,6,0.12,0,2,2,2,0]
["August",2,0.2857142857142857,2,0,0,0,0,6,0.12,2,0,0,3,1]
["September",0,0,0,0,0,0,0,4,0.08,0,1,1,1,1]
["October",0,0,0,0,0,0,0,4,0.08,0,0,3,1,0]
["November",1,0.14285714285714285,0,1,0,0,0,3,0.06,0,1,1,0,1]
["December",0,0,0,0,0,0,0,2,0.04,0,0,0,2,0]
["Crash Jurisdiction"]
["A",{"$f":"SUM(D73:H73)","v":0},{"$f":"B73/SUM(B$73:B$77)","v":0},0,0,0,0,0,{"$f":"SUM(K73:O73)","v":0},{"$f":"I73/SUM(I$73:I$77)","v":0},0,0,0,0,0]
["B",{"$f":"SUM(D74:H74)","v":1},{"$f":"B74/SUM(B$73:B$77)","v":0.14285714285714285},1,0,0,0,0,{"$f":"SUM(K74:O74)","v":1},{"$f":"I74/SUM(I$73:I$77)","v":0.02},1,0,0,0,0]
["C",{"$f":"SUM(D75:H75)","v":2},0.2857142857142857,0,0,0,2,0,{"$f":"SUM(K75:O75)","v":2},0.04,0,0,0,2,0]
["D",{"$f":"SUM(D76:H76)","v":4},0.5714285714285714,1,1,2,0,0,{"$f":"SUM(K76:O76)","v":4},0.08,1,1,2,0,0]
["E",{"$f":"SUM(D77:H77)","v":0},0,0,0,0,0,0,{"$f":"SUM(K77:O77)","v":43},0.86,6,9,15,8,5]
["First Harmful Event"]
["Cargo/Equipment Loss or Shift",{"$f":"SUM(D79:H79)","v":0},{"$f":"B79/SUM(B$79:B$120)","v":0},0,0,0,0,0,{"$f":"SUM(K79:O79)","v":0},{"$f":"I79/SUM(I$79:I$120)","v":0},0,0,0,0,0]
["Fell/Jumped from Motor Vehicle",0,{"$f":"B80/SUM(B$79:B$120)","v":0},0,0,0,0,0,0,{"$f":"I80/SUM(I$79:I$120)","v":0},0,0,0,0,0]
["Fire/Explosion",0,0,0,0,0,0,0,0,0,0,0,0,0,0]
["Immersion, Full or Partial",0,0,0,0,0,0,0,0,0,0,0,0,0,0]
["Jackknife",0,0,0,0,0,0,0,0,0,0,0,0,0,0]
["Other Non-Collision",3,0.42857142857142855,1,0,0,2,0,14,0.28000000000000003,4,2,5,1,2]
["Overturn/Rollover",0,0,0,0,0,0,0,0,0,0,0,0,0,0]
["Thrown or Falling Object",{"$f":"SUM(D86:H86)","v":0},0,0,0,0,0,0,{"$f":"SUM(K86:O86)","v":0},0,0,0,0,0,0]
["Collision with Animal",0,0,0,0,0,0,0,0,0,0,0,0,0,0]
["Collision with Construction Equipment",0,0,0,0,0,0,0,0,0,0,0,0,0,0]
["Collision with Farm Equipment",0,0,0,0,0,0,0,0,0,0,0,0,0,0]
["Collision with Motor Vehicle in Transport",0,0,0,0,0,0,0,6,0.12,1,0,3,2,0]
["Collision with Other Non-Fixed Object",0,0,0,0,0,0,0,0,0,0,0,0,0,0]
["Collision with Other Non-motorist",0,0,0,0,0,0,0,1,0.02,0,0,1,0,0]
["Collision with Parked Motor Vehicle",0,0,0,0,0,0,0,0,0,0,0,0,0,0]
["Collision with Pedalcycle",0,0,0,0,0,0,0,0,0,0,0,0,0,0]
["Collision with Pedestrian",0,0,0,0,0,0,0,0,0,0,0,0,0,0]
["Collision with Railway Vehicle",0,0,0,0,0,0,0,2,0.04,2,0,0,0,0]
["Strikes Object ar Rest from MV in Transport",0,0,0,0,0,0,0,0,0,0,0,0,0,0]
["Struck by Falling, Shifting Cargo, or Anything Set in Motion by Motor Vehicle",1,0.14285714285714285,0,1,0,0,0,0,0,0,0,0,0,0]
["Collision with Bridge Overhead Structure",0,0,0,0,0,0,0,2,0.04,0,0,1,0,1]
["Collision with Bridge Pier or Support",0,0,0,0,0,0,0,0,0,0,0,0,0,0]
["Collision with Bridge Rail",1,0.14285714285714285,0,0,1,0,0,0,0,0,0,0,0,0]
["Collision with Cable Barrier",0,0,0,0,0,0,0,0,0,0,0,0,0,0]
["Collision with Concrete Traffic Barrier",0,0,0,0,0,0,0,0,0,0,0,0,0,0]
["Collision with Culvert",1,0.14285714285714285,1,0,0,0,0,0,0,0,0,0,0,0]
["Collision with Curb",0,0,0,0,0,0,0,4,0.08,0,0,1,2,1]
["Collision with Ditch",0,0,0,0,0,0,0,0,0,0,0,0,0,0]
["Collision with Embankment",0,0,0,0,0,0,0,3,0.06,1,2,0,0,0]
["Collision with Fence",0,0,0,0,0,0,0,0,0,0,0,0,0,0]
["Collision with Guardrail End Terminal",0,0,0,0,0,0,0,0,0,0,0,0,0,0]
["Collision with Guardrail Face",0,0,0,0,0,0,0,0,0,0,0,0,0,0]
["Collision with Impact Attenuator/Crash Cushion",0,0,0,0,0,0,0,0,0,0,0,0,0,0]
["Collision with Mailbox",{"$f":"SUM(D112:H112)","v":0},0,0,0,0,0,0,6,0.12,0,1,2,3,0]
["Collision with Other Fixed Object",0,0,0,0,0,0,0,0,0,0,0,0,0,0]
["Collision with Other Post, Pole, or Support",1,0.14285714285714285,0,1,0,0,0,4,0.08,0,4,0,0,0]
["Collision with Other Traffic Barrier",0,0,0,0,0,0,0,0,0,0,0,0,0,0]
["Collision with Traffic Sign Support",0,0,0,0,0,0,0,8,0.16,0,1,4,2,1]
["Collision with Traffic Signal Support",0,0,0,0,0,0,0,0,0,0,0,0,0,0]
["Collision with Tree",0,0,0,0,0,0,0,0,0,0,0,0,0,0]
["Collision with Utility Pole or Light Support",0,0,0,0,0,0,0,0,0,0,0,0,0,0]
["Unknown",0,0,0,0,0,0,0,0,0,{"$f":"K6-SUM(K79:K119)","v":0},{"$f":"L6-SUM(L79:L119)","v":0},0,0,0]
["Location of First Harmful Event"]
["Gore",{"$f":"SUM(D122:H122)","v":0},{"$f":"B122/SUM(B$122:B$132)","v":0},0,0,0,0,0,{"$f":"SUM(K122:O122)","v":5},{"$f":"I122/SUM(I$122:I$132)","v":0.1},1,2,1,0,1]
["In Parking Lane or Zone",{"$f":"SUM(D123:H123)","v":0},{"$f":"B123/SUM(B$122:B$132)","v":0},0,0,0,0,0,{"$f":"SUM(K123:O123)","v":4},{"$f":"I123/SUM(I$122:I$132)","v":0.08},1,0,2,0,1]
["Median",{"$f":"SUM(D124:H124)","v":0},0,0,0,0,0,0,{"$f":"SUM(K124:O124)","v":5},0.1,2,2,1,0,0]
["Off-Roadway, Location Unknown",{"$f":"SUM(D125:H125)","v":1},0.14285714285714285,0,1,0,0,0,{"$f":"SUM(K125:O125)","v":5},0.1,0,2,2,1,0]
["On Roadway",0,0,0,0,0,0,0,3,0.06,0,0,3,0,0]
["On Shoulder, Left Side",1,0.14285714285714285,0,0,1,0,0,3,0.06,2,0,1,0,0]
["On Shoulder, Right Side",2,0.2857142857142857,0,0,0,2,0,6,0.12,0,2,2,2,0]
["Outside Road/Right-of-Way",2,0.2857142857142857,2,0,0,0,0,6,0.12,2,0,0,3,1]
["Roadside",0,0,0,0,0,0,0,4,0.08,0,1,1,1,1]
["Separator/Traffic Island",0,0,0,0,0,0,0,4,0.08,0,0,3,1,0]
["Unknown",{"$f":"SUM(D132:H132)","v":1},0.14285714285714285,0,1,0,0,0,{"$f":"SUM(K132:O132)","v":5},0.1,0,1,1,2,1]
["Manner of Crash"]
["Not a Collision Between Two Motor Vehicles",{"$f":"SUM(D134:H134)","v":0},{"$f":"B134/SUM(B$134:B$143)","v":0},0,0,0,0,0,{"$f":"SUM(K134:O134)","v":8},{"$f":"I134/SUM(I$134:I$143)","v":0.16},0,3,3,0,2]
["Angle",1,{"$f":"B135/SUM(B$134:B$143)","v":0.14285714285714285},1,0,0,0,0,13,{"$f":"I135/SUM(I$134:I$143)","v":0.26},2,1,3,5,2]
["Front to Front",0,0,0,0,0,0,0,0,0,0,0,0,0,0]
["Front to Rear",0,0,0,0,0,0,0,4,0.08,0,1,2,1,0]
["Rear to Rear",5,0.7142857142857143,1,1,1,2,0,25,0.5,6,5,9,4,1]
["Rear to Side",{"$f":"SUM(D139:H139)","v":0},0,0,0,0,0,0,{"$f":"SUM(K139:O139)","v":0},0,0,0,0,0,0]
["Sideswipe, Opposite Direction",{"$f":"SUM(D140:H140)","v":0},0,0,0,0,0,0,0,0,0,0,0,0,0]
["Sideswipe, Same Direction",1,0.14285714285714285,0,1,0,0,0,0,0,0,0,0,0,0]
["Other",0,0,0,0,0,0,0,0,0,0,0,0,0,0]
["Unknown",0,0,0,0,0,0,0,0,0,0,0,0,0,0]
["Weather"]
["Blowing Sand, Soil, Dirt",{"$f":"SUM(D145:H145)","v":2},{"$f":"B145/SUM(B$145:B$156)","v":0.2857142857142857},0,0,0,2,0,{"$f":"SUM(K145:O145)","v":6},{"$f":"I145/SUM(I$145:I$156)","v":0.12},0,2,2,2,0]
["Blowing Snow",2,{"$f":"B146/SUM(B$145:B$156)","v":0.2857142857142857},2,0,0,0,0,6,{"$f":"I146/SUM(I$145:I$156)","v":0.12},2,0,0,3,1]
["Clear",0,0,0,0,0,0,0,4,0.08,0,1,1,1,1]
["Cloudy",0,0,0,0,0,0,0,4,0.08,0,0,3,1,0]
["Fog, Smog, Smoke",1,0.14285714285714285,0,1,0,0,0,3,0.06,0,1,1,0,1]
["Freezing Rain or Freezing Drizzle",0,0,0,0,0,0,0,2,0.04,0,0,0,2,0]
["Rain",0,0,0,0,0,0,0,5,0.1,1,2,1,0,1]
["Severe Crosswinds",0,0,0,0,0,0,0,4,0.08,1,0,2,0,1]
["Sleet or Hail",0,0,0,0,0,0,0,5,0.1,2,2,1,0,0]
["Snow",1,0.14285714285714285,0,1,0,0,0,5,0.1,0,2,2,1,0]
["Other",0,0,0,0,0,0,0,3,0.06,0,0,3,0,0]
["Unknown",1,0.14285714285714285,0,0,1,0,0,3,0.06,2,0,1,0,0]
["Light Conditions"]
["Daylight",{"$f":"SUM(D158:H158)","v":0},{"$f":"B158/SUM(B$158:B$164)","v":0},0,0,0,0,0,{"$f":"SUM(K158:O158)","v":6},{"$f":"I158/SUM(I$158:I$164)","v":0.12},1,0,4,1,0]
["Dawn/Dusk",{"$f":"SUM(D159:H159)","v":2},{"$f":"B159/SUM(B$158:B$164)","v":0.2857142857142857},0,1,0,1,0,{"$f":"SUM(K159:O159)","v":8},{"$f":"I159/SUM(I$158:I$164)","v":0.16},0,1,4,2,1]
["Dark - Lighted",1,0.14285714285714285,1,0,0,0,0,5,0.1,0,1,1,1,2]
["Dark - Not Lighted",2,0.2857142857142857,0,0,1,1,0,5,0.1,1,0,3,1,0]
["Dark - Unknown Lighting",1,0.14285714285714285,0,1,0,0,0,4,0.08,1,1,2,0,0]
["Other",0,0,0,0,0,0,0,9,0.18,1,4,0,3,1]
["Unknown",1,0.14285714285714285,1,0,0,0,0,13,0.26,4,3,3,2,1]
["Road Surface Condition"]
["Dry",{"$f":"SUM(D166:H166)","v":4},{"$f":"B166/SUM(B$166:B$176)","v":0.5714285714285714},1,1,1,1,0,{"$f":"SUM(K166:O166)","v":22},{"$f":"I166/SUM(I$166:I$176)","v":0.44},5,3,10,4,0]
["Ice/Frost",2,{"$f":"B167/SUM(B$166:B$176)","v":0.2857142857142857},1,0,0,1,0,28,{"$f":"I167/SUM(I$166:I$176)","v":0.56000000000000005},3,7,7,6,5]
["Mud, Dirt, Gravel",0,0,0,0,0,0,0,0,0,0,0,0,0,0]
["Oil",1,0.14285714285714285,0,1,0,0,0,0,0,0,0,0,0,0]
["Sand",0,0,0,0,0,0,0,0,0,0,0,0,0,0]
["Sluch",0,0,0,0,0,0,0,0,0,0,0,0,0,0]
["Snow",0,0,0,0,0,0,0,0,0,0,0,0,0,0]
["Water (Standing, Moving)",0,0,0,0,0,0,0,0,0,0,0,0,0,0]
["Wet",0,0,0,0,0,0,0,0,0,0,0,0,0,0]
["Other",0,0,0,0,0,0,0,0,0,0,0,0,0,0]
["Unknown",0,0,0,0,0,0,0,0,0,0,0,0,0,0]
["Contributing Circumstances - Roadway Environment, Selection 1"]
["None",{"$f":"SUM(D178:H178)","v":1},{"$f":"B178/SUM(B$178:B$200)","v":0.14285714285714285},0,0,0,1,0,{"$f":"SUM(K178:O178)","v":0},{"$f":"I178/SUM(I$178:I$200)","v":0},0,0,0,0,0]
["Animal(s)",0,{"$f":"B179/SUM(B$178:B$200)","v":0},0,0,0,0,0,0,{"$f":"I179/SUM(I$178:I$200)","v":0},0,0,0,0,0]
["Debris",0,0,0,0,0,0,0,1,0.02,1,0,0,0,0]
["Glare",0,0,0,0,0,0,0,3,0.06,0,1,2,0,0]
["Non-Highway Work",1,0.14285714285714285,1,0,0,0,0,1,0.02,0,1,0,0,0]
["Obstructed Crosswalks",0,0,0,0,0,0,0,2,0.04,0,1,0,1,0]
["Obstruction in Roadway",0,0,0,0,0,0,0,5,0.1,1,1,0,3,0]
["Prior Crash",0,0,0,0,0,0,0,2,0.04,2,0,0,0,0]
["Prior Non-Recurring Incident",0,0,0,0,0,0,0,1,0.02,0,0,1,0,0]
["Regular Congestion",0,0,0,0,0,0,0,3,0.06,0,0,3,0,0]
["Related to a Bus Stop",0,0,0,0,0,0,0,3,0.06,0,1,0,2,0]
["Road Surface Condition (wet, icy, snow, slush, etc.)",0,0,0,0,0,0,0,5,0.1,1,1,2,1,0]
["Ruts, Holes, Bumps",0,0,0,0,0,0,0,4,0.08,0,0,3,0,1]
["Shoulders (none, low, soft, high)",1,0.14285714285714285,0,1,0,0,0,4,0.08,1,1,1,0,1]
["Toll Booth/Plaza Related",0,0,0,0,0,0,0,3,0.06,0,1,1,1,0]
["Traffic Control Device",0,0,0,0,0,0,0,6,0.12,1,0,2,2,1]
["Traffic Incident",0,0,0,0,0,0,0,2,0.04,0,1,0,0,1]
["Visual Obstruction(s)",3,0.42857142857142855,1,0,1,1,0,1,0.02,1,0,0,0,0]
["Weather Conditions",1,0.14285714285714285,0,1,0,0,0,2,0.04,0,1,0,0,1]
["Work Zone (construction/maintenance/utility)",0,0,0,0,0,0,0,1,0.02,0,0,1,0,0]
["Worn, Travel-polished Surface",0,0,0,0,0,0,0,1,0.02,0,0,1,0,0]
["Other",0,0,0,0,0,0,0,0,0,0,0,0,0,0]
["Unknown",0,0,0,0,0,0,0,0,0,0,0,0,0,0]
["Contributing Circumstances - Roadway Environment, Selection 2"]
["None",{"$f":"SUM(D202:H202)","v":0},{"$f":"B202/SUM(B$202:B$224)","v":0},0,0,0,0,0,{"$f":"SUM(K202:O202)","v":4},{"$f":"I202/SUM(I$202:I$224)","v":0.08},1,0,1,2,0]
["Animal(s)",0,{"$f":"B203/SUM(B$202:B$224)","v":0},0,0,0,0,0,0,{"$f":"I203/SUM(I$202:I$224)","v":0},0,0,0,0,0]
["Debris",0,0,0,0,0,0,0,1,0.02,0,0,0,1,0]
["Glare",0,0,0,0,0,0,0,0,0,0,0,0,0,0]
["Non-Highway Work",1,0.14285714285714285,0,0,0,1,0,0,0,0,0,0,0,0]
["Obstructed Crosswalks",1,0.14285714285714285,1,0,0,0,0,3,0.06,0,1,2,0,0]
["Obstruction in Roadway",0,0,0,0,0,0,0,1,0.02,0,1,0,0,0]
["Prior Crash",0,0,0,0,0,0,0,2,0.04,0,2,0,0,0]
["Prior Non-Recurring Incident",0,0,0,0,0,0,0,2,0.04,1,1,0,0,0]
["Regular Congestion",0,0,0,0,0,0,0,2,0.04,2,0,0,0,0]
["Related to a Bus Stop",0,0,0,0,0,0,0,1,0.02,0,0,1,0,0]
["Road Surface Condition (wet, icy, snow, slush, etc.)",1,0.14285714285714285,0,0,1,0,0,3,0.06,0,1,2,0,0]
["Ruts, Holes, Bumps",0,0,0,0,0,0,0,2,0.04,0,0,0,2,0]
["Shoulders (none, low, soft, high)",1,0.14285714285714285,0,1,0,0,0,4,0.08,1,0,2,1,0]
["Toll Booth/Plaza Related",0,0,0,0,0,0,0,4,0.08,0,0,3,0,1]
["Traffic Control Device",0,0,0,0,0,0,0,4,0.08,1,1,1,0,1]
["Traffic Incident",1,0.14285714285714285,0,1,0,0,0,3,0.06,0,1,1,1,0]
["Visual Obstruction(s)",0,0,0,0,0,0,0,6,0.12,1,0,2,2,1]
["Weather Conditions",1,0.14285714285714285,1,0,0,0,0,2,0.04,0,1,0,0,1]
["Work Zone (construction/maintenance/utility)",0,0,0,0,0,0,0,2,0.04,1,0,0,1,0]
["Worn, Travel-polished Surface",1,0.14285714285714285,0,0,0,1,0,3,0.06,0,1,1,0,1]
["Other",0,0,0,0,0,0,0,0,0,0,0,0,0,0]
["Unknown",0,0,0,0,0,0,0,1,0.02,0,0,1,0,0]
["Within Interchange Area"]
["No",{"$f":"SUM(D226:H226)","v":3},{"$f":"B226/SUM(B$226:B$228)","v":0.42857142857142855},1,1,0,1,0,{"$f":"SUM(K226:O226)","v":43},{"$f":"I226/SUM(I$226:I$228)","v":0.86},6,9,15,8,5]
["Yes",4,{"$f":"B227/SUM(B$226:B$228)","v":0.5714285714285714},1,1,1,1,0,5,{"$f":"I227/SUM(I$226:I$228)","v":0.1},1,1,1,2,0]
["Unknown",0,0,0,0,0,0,0,2,0.04,1,0,1,0,0]
["Relation to Junction"]
["Acceleration/Deceleration Lane",0,{"$f":"B230/SUM(B$230:B$240)","v":0},0,0,0,0,0,3,{"$f":"I230/SUM(I$230:I$240)","v":0.06},1,0,1,0,1]
["Crossover-Related",0,{"$f":"B231/SUM(B$230:B$240)","v":0},0,0,0,0,0,5,{"$f":"I231/SUM(I$230:I$240)","v":0.1},2,2,1,0,0]
["Driveway Access or Related",4,0.5714285714285714,1,1,0,2,0,3,0.06,0,0,2,1,0]
["Entrance/Exit Ramp or Related",0,0,0,0,0,0,0,4,0.08,0,1,3,0,0]
["Intersection or Related",0,0,0,0,0,0,0,4,0.08,2,1,1,0,0]
["Non-Junction",1,0.14285714285714285,1,0,0,0,0,6,0.12,0,2,2,2,0]
["Railway Grade Crossing",0,0,0,0,0,0,0,5,0.1,0,0,1,3,1]
["Shared-Use Path or Trail",1,0.14285714285714285,0,0,1,0,0,4,0.08,0,1,1,1,1]
["Through Roadway",0,0,0,0,0,0,0,7,0.14000000000000001,0,2,3,1,1]
["Other",0,0,0,0,0,0,0,6,0.12,2,1,2,0,1]
["Unknown",1,0.14285714285714285,0,1,0,0,0,3,0.06,1,0,0,2,0]
["Type of Intersection"]
["Not at Intersection",0,{"$f":"B242/SUM(B$242:B$246)","v":0},0,0,0,0,0,2,{"$f":"I242/SUM(I$242:I$246)","v":0.04},0,0,0,0,2]
["Two-Leg",3,{"$f":"B243/SUM(B$242:B$246)","v":0.42857142857142855},1,0,1,1,0,12,{"$f":"I243/SUM(I$242:I$246)","v":0.24},3,2,4,3,0]
["Three-Leg",1,0.14285714285714285,1,0,0,0,0,3,0.06,1,1,1,0,0]
["Four-Leg",3,0.42857142857142855,0,1,1,1,0,33,0.66,4,7,12,7,3]
["Five or More Legs",0,0,0,0,0,0,0,0,0,0,0,0,0,0]
["Intersection Geometry"]
["Angled or Skewed",3,{"$f":"B248/SUM(B$248:B$251)","v":0.42857142857142855},1,0,1,1,0,14,{"$f":"I248/SUM(I$248:I$251)","v":0.28000000000000003},3,2,4,3,2]
["Roundabout or Traffic Circle",1,{"$f":"B249/SUM(B$248:B$251)","v":0.14285714285714285},1,0,0,0,0,3,{"$f":"I249/SUM(I$248:I$251)","v":0.06},1,1,1,0,0]
["Perpindicular",3,0.42857142857142855,0,1,1,1,0,33,0.66,4,7,12,7,3]
["Not at Intersection",0,0,0,0,0,0,0,0,0,0,0,0,0,0]
["Traffic Control Device"]
["Signalized",0,{"$f":"B253/SUM(B$253:B$258)","v":0},0,0,0,0,0,0,{"$f":"I253/SUM(I$253:I$258)","v":0},0,0,0,0,0]
["Stop - All Way",0,{"$f":"B254/SUM(B$253:B$258)","v":0},0,0,0,0,0,0,{"$f":"I254/SUM(I$253:I$258)","v":0},0,0,0,0,0]
["Stop - Partial",6,0.8571428571428571,2,1,1,2,0,36,0.72,6,8,8,9,5]
["Yield",0,0,0,0,0,0,0,2,0.04,0,0,2,0,0]
["No Controls",1,0.14285714285714285,0,1,0,0,0,3,0.06,1,0,2,0,0]
["Not an Intersection",0,0,0,0,0,0,0,9,0.18,1,2,5,1,0]
["Crash in Work Zone"]
["Yes",{"$f":"SUM(D260:H260)","v":7},{"$f":"B260/SUM(B$260:B$262)","v":1},2,2,1,2,0,{"$f":"SUM(K260:O260)","v":14},{"$f":"I260/SUM(I$260:I$262)","v":0.28000000000000003},1,6,2,5,0]
["No",0,{"$f":"B261/SUM(B$260:B$262)","v":0},0,0,0,0,0,9,{"$f":"I261/SUM(I$260:I$262)","v":0.18},1,2,5,1,0]
["Unknown",0,0,0,0,0,0,0,27,0.54,6,2,10,4,5]
["Number of Motor Vehicles Involved"]
["One",3,{"$f":"B264/SUM(B$264:B$267)","v":0.42857142857142855},0,1,1,1,0,33,{"$f":"I264/SUM(I$264:I$267)","v":0.66},4,7,12,7,3]
["Two",0,{"$f":"B265/SUM(B$264:B$267)","v":0},0,0,0,0,0,0,{"$f":"I265/SUM(I$264:I$267)","v":0},0,0,0,0,0]
["Three",3,0.42857142857142855,1,0,1,1,0,14,0.28000000000000003,3,2,4,3,2]
["Four or More",1,0.14285714285714285,1,0,0,0,0,3,0.06,1,1,1,0,0]
["Horizontal Alignment"]
["Straight",{"$f":"SUM(D269:H269)","v":0},{"$f":"B269/SUM(B$269:B$271)","v":0},0,0,0,0,0,{"$f":"SUM(K269:O269)","v":9},{"$f":"I269/SUM(I$269:I$271)","v":0.18},1,2,5,1,0]
["Horizontal Curve Left",0,{"$f":"B270/SUM(B$269:B$271)","v":0},0,0,0,0,0,27,{"$f":"I270/SUM(I$269:I$271)","v":0.54},6,2,10,4,5]
["Horizontal Curve Right",7,1,2,2,1,2,0,14,0.28000000000000003,1,6,2,5,0]
["Vertical Alignment"]
["Level",0,{"$f":"B273/SUM(B$273:B$278)","v":0},0,0,0,0,0,1,{"$f":"I273/SUM(I$273:I$278)","v":0.02},0,0,0,0,1]
["Uphill",0,{"$f":"B274/SUM(B$273:B$278)","v":0},0,0,0,0,0,0,{"$f":"I274/SUM(I$273:I$278)","v":0},0,0,0,0,0]
["Hillcrest",2,0.2857142857142857,1,0,0,1,0,6,0.12,2,2,1,1,0]
["Downhill",2,0.2857142857142857,0,1,1,0,0,10,0.2,2,1,5,2,0]
["Sag",3,0.42857142857142855,1,0,1,1,0,31,0.62,4,6,10,7,4]
["Unknown",0,0,0,0,0,0,0,2,0.04,0,1,1,0,0]
["Roadway Owner"]
["State",{"$f":"SUM(D280:H280)","v":2},{"$f":"B280/SUM(B$280:B$285)","v":0.2857142857142857},0,1,1,0,0,{"$f":"SUM(K280:O280)","v":10},{"$f":"I280/SUM(I$280:I$285)","v":0.2},2,1,5,2,0]
["County",3,{"$f":"B281/SUM(B$280:B$285)","v":0.42857142857142855},1,0,1,1,0,31,{"$f":"I281/SUM(I$280:I$285)","v":0.62},4,6,10,7,4]
["Municipality",0,0,0,0,0,0,0,2,0.04,0,1,1,0,0]
["Federal",0,0,0,0,0,0,0,1,0.02,0,0,0,0,1]
["Tribal",0,0,0,0,0,0,0,0,0,0,0,0,0,0]
["Unknown",2,0.2857142857142857,1,0,0,1,0,6,0.12,2,2,1,1,0]
["Area Type"]
["Urban",{"$f":"SUM(D287:H287)","v":4},{"$f":"B287/SUM(B$287:B$289)","v":0.5714285714285714},1,1,1,1,0,{"$f":"SUM(K287:O287)","v":19},{"$f":"I287/SUM(I$287:I$289)","v":0.38},2,5,5,3,4]
["Rural",3,{"$f":"B288/SUM(B$287:B$289)","v":0.42857142857142855},1,1,0,1,0,22,{"$f":"I288/SUM(I$287:I$289)","v":0.44},4,4,10,3,1]
["Unknown",0,0,0,0,0,0,0,9,0.18,2,1,2,4,0]
["Functional Class"]
["Interstate",{"$f":"SUM(D291:H291)","v":0},{"$f":"B291/SUM(B$291:B$297)","v":0},0,0,0,0,0,{"$f":"SUM(K291:O291)","v":4},{"$f":"I291/SUM(I$291:I$297)","v":0.08},1,1,2,0,0]
["Principal Arterial - Other Freeway or Expressway",1,{"$f":"B292/SUM(B$291:B$297)","v":0.14285714285714285},0,0,0,1,0,9,{"$f":"I292/SUM(I$291:I$297)","v":0.18},1,4,0,3,1]
["Principal Arterial - Other",1,0.14285714285714285,1,0,0,0,0,13,0.26,4,3,3,2,1]
["Minor Arterial",2,0.2857142857142857,0,0,1,1,0,6,0.12,1,0,4,1,0]
["Collector",1,0.14285714285714285,0,1,0,0,0,8,0.16,0,1,4,2,1]
["Local",0,0,0,0,0,0,0,5,0.1,0,1,1,1,2]
["Unknown",2,0.2857142857142857,1,0,1,0,0,{"$f":"SUM(K297:O297)","v":5},0.1,1,0,3,1,0]
["Access Control"]
["No Access Control",4,{"$f":"B299/SUM(B$299:B$301)","v":0.5714285714285714},1,1,1,1,0,22,{"$f":"I299/SUM(I$299:I$301)","v":0.44},4,4,10,3,1]
["Partial Access Control",3,{"$f":"B300/SUM(B$299:B$301)","v":0.42857142857142855},1,1,0,1,0,9,{"$f":"I300/SUM(I$299:I$301)","v":0.18},2,1,2,4,0]
["Full Access Control",0,{"$f":"B301/SUM(B$299:B$301)","v":0},0,0,0,0,0,19,{"$f":"I301/SUM(I$299:I$301)","v":0.38},2,5,5,3,4]
["Roadway Lighting"]
["Continuous Lighting on Both Sides",0,{"$f":"B303/SUM(B$303:B$307)","v":0},0,0,0,0,0,2,{"$f":"I303/SUM(I$303:I$307)","v":0.04},0,0,0,2,0]
["Continuous Lighting on One Side",0,{"$f":"B304/SUM(B$303:B$307)","v":0},0,0,0,0,0,4,{"$f":"I304/SUM(I$303:I$307)","v":0.08},1,1,2,0,0]
["No Lighting",1,0.14285714285714285,1,0,0,0,0,43,0.86,6,9,15,8,5]
["Spot Illumination on Both Sides",2,0.2857142857142857,0,0,0,2,0,0,0,0,0,0,0,0]
["Spot Illumination on One Side",4,0.5714285714285714,1,1,2,0,0,1,0.02,1,0,0,0,0]
["Alcohol Involvement"]
["Yes",5,{"$f":"B309/SUM(B$309:B$311)","v":0.7142857142857143},2,1,1,1,0,11,{"$f":"I309/SUM(I$309:I$311)","v":0.22},1,1,4,4,1]
["No",0,{"$f":"B310/SUM(B$309:B$311)","v":0},0,0,0,0,0,25,{"$f":"I310/SUM(I$309:I$311)","v":0.5},6,7,5,4,3]
["Unknown",2,{"$f":"B311/SUM(B$309:B$311)","v":0.2857142857142857},0,1,0,1,0,14,{"$f":"I311/SUM(I$309:I$311)","v":0.28000000000000003},1,2,8,2,1]
["Drug Involvement"]
["Yes",0,{"$f":"B313/SUM(B$313:B$315)","v":0},0,0,0,0,0,14,{"$f":"I313/SUM(I$313:I$315)","v":0.28000000000000003},1,2,8,2,1]
["No",4,{"$f":"B314/SUM(B$313:B$315)","v":0.5714285714285714},1,1,1,1,0,11,{"$f":"I314/SUM(I$313:I$315)","v":0.22},1,1,4,4,1]
["Unknown",3,{"$f":"B315/SUM(B$313:B$315)","v":0.42857142857142855},1,1,0,1,0,25,{"$f":"I315/SUM(I$313:I$315)","v":0.5},6,7,5,4,3]
["Vehicle Data"]
["Motor Vehicle Body Type"]
["All-Terrain Vehicle",6,{"$f":"B318/SUM(B$318:B$346)","v":0.6},2,0,2,2,0,28,{"$f":"I318/SUM(I$318:I$346)","v":0.35897435897435898},4,5,10,6,3]
["Golf Cart",0,{"$f":"B319/SUM(B$318:B$346)","v":0},0,0,0,0,0,0,{"$f":"I319/SUM(I$318:I$346)","v":0},0,0,0,0,0]
["Snowmobile",0,0,0,0,0,0,0,0,0,0,0,0,0,0]
["Low Speed Vehicle",0,0,0,0,0,0,0,10,0.12820512820512819,1,2,4,2,1]
["Moped or motorized bicycle",0,0,0,0,0,0,0,1,1.282051282051282E-2,1,0,0,0,0]
["Recreational Off-Highway Vehicles",0,0,0,0,0,0,0,1,1.282051282051282E-2,1,0,0,0,0]
["2-Wheeled Motorcycle",1,0.1,0,1,0,0,0,1,1.282051282051282E-2,0,1,0,0,0]
["3-Wheeled Motorcycle",0,0,0,0,0,0,0,0,0,0,0,0,0,0]
["Autocycle",0,0,0,0,0,0,0,0,0,0,0,0,0,0]
["Passenger Car",0,0,0,0,0,0,0,9,0.11538461538461539,1,2,3,2,1]
["Passenger Van",0,0,0,0,0,0,0,0,0,0,0,0,0,0]
["Sport Utility Vehicle",{"$f":"SUM(D329:H329)","v":0},0,0,0,0,0,0,{"$f":"SUM(K329:O329)","v":0},0,0,0,0,0,0]
["Pickup",0,0,0,0,0,0,0,0,0,0,0,0,0,0]
["Cargo Van",{"$f":"SUM(D331:H331)","v":0},0,0,0,0,0,0,0,0,0,0,0,0,0]
["Construction Equipment",0,0,0,0,0,0,0,0,0,0,0,0,0,0]
["Farm Equipment",0,0,0,0,0,0,0,0,0,0,0,0,0,0]
["Single-Unit Truck",0,0,0,0,0,0,0,0,0,0,0,0,0,0]
["Truck Tractor",0,0,0,0,0,0,0,0,0,0,0,0,0,0]
["Motor Home",0,0,0,0,0,0,0,0,0,0,0,0,0,0]
["9- or 12-Passenger Van",0,0,0,0,0,0,0,0,0,0,0,0,0,0]
["15-Passenger Van",0,0,0,0,0,0,0,0,0,0,0,0,0,0]
["Large Limo",0,0,0,0,0,0,0,0,0,0,0,0,0,0]
["Mini-bus",0,0,0,0,0,0,0,0,0,0,0,0,0,0]
["School Bus",0,0,0,0,0,0,0,0,0,0,0,0,0,0]
["Transit Bus",0,0,0,0,0,0,0,0,0,0,0,0,0,0]
["Motorcoach",3,0.3,1,0,1,1,0,28,0.35897435897435898,3,7,7,6,5]
["Other Bus Type",0,0,0,0,0,0,0,0,0,0,0,0,0,0]
["Other Trucks",0,0,0,0,0,0,0,0,0,0,0,0,0,0]
["Other",0,0,0,0,0,0,0,0,0,0,0,0,0,0]
["Posted Speed Limit"]
["5 MPH",0,{"$f":"B348/SUM(B$348:B$362)","v":0},0,0,0,0,0,0,{"$f":"I348/SUM(I$348:I$362)","v":0},0,0,0,0,0]
["10 MPH",0,{"$f":"B349/SUM(B$348:B$362)","v":0},0,0,0,0,0,0,{"$f":"I349/SUM(I$348:I$362)","v":0},0,0,0,0,0]
["15 MPH",0,0,0,0,0,0,0,1,1.282051282051282E-2,0,0,1,0,0]
["20 MPH",0,0,0,0,0,0,0,0,0,0,0,0,0,0]
["25 MPH",2,0.16666666666666666,0,0,1,1,0,0,0,0,0,0,0,0]
["30 MPH",0,0,0,0,0,0,0,0,0,0,0,0,0,0]
["35 MPH",0,0,0,0,0,0,0,0,0,0,0,0,0,0]
["40 MPH",2,0.16666666666666666,0,1,0,1,0,2,2.564102564102564E-2,0,0,1,1,0]
["45 MPH",1,8.3333333333333329E-2,0,0,1,0,0,27,0.34615384615384615,2,5,8,4,8]
["50 MPH",0,0,0,0,0,0,0,0,0,0,0,0,0,0]
["55 MPH",{"$f":"SUM(D358:H358)","v":4},0.33333333333333331,2,0,1,1,0,18,0.23076923076923078,5,5,3,4,1]
["60 MPH",1,8.3333333333333329E-2,0,0,1,0,0,2,2.564102564102564E-2,0,0,1,1,0]
["65 MPH",0,0,0,0,0,0,0,1,1.282051282051282E-2,0,0,0,1,0]
["70 MPH",2,0.16666666666666666,1,0,0,1,0,14,0.17948717948717949,2,2,6,4,0]
["Unknown",0,{"$f":"B362/SUM(B$348:B$362)","v":0},0,0,0,0,0,13,{"$f":"I362/SUM(I$348:I$362)","v":0.16666666666666666},2,5,4,1,1]
["Traffic Way"]
["One-Way",{"$f":"SUM(D364:H364)","v":7},{"$f":"B364/SUM(B$364:B$365)","v":0.7},2,1,2,2,0,{"$f":"SUM(K364:O364)","v":40},{"$f":"I364/SUM(I$364:I$365)","v":0.51282051282051277},5,9,14,8,4]
["Two-Way",3,{"$f":"B365/SUM(B$364:B$365)","v":0.3},1,0,1,1,null,38,{"$f":"I365/SUM(I$364:I$365)","v":0.48717948717948717},6,8,10,8,6]
["Median Type"]
["Not Divided",2,{"$f":"B367/SUM(B$367:B$372)","v":0.22222222222222221},0,1,0,1,0,18,{"$f":"I367/SUM(I$367:I$372)","v":0.23076923076923078},0,4,9,4,1]
["Continuous Left-Turn Lane",0,{"$f":"B368/SUM(B$367:B$372)","v":0},0,0,0,0,0,0,{"$f":"I368/SUM(I$367:I$372)","v":0},0,0,0,0,0]
["Divided with Flush Median",2,0.22222222222222221,0,0,1,1,0,17,0.21794871794871795,2,5,5,3,2]
["Divided with Raised Median",0,0,0,0,0,0,0,1,1.282051282051282E-2,0,0,1,0,0]
["Divided with Depressed Median",4,0.44444444444444442,2,0,2,0,0,16,0.20512820512820512,4,1,4,5,2]
["Unknown",1,0.1111111111111111,1,0,0,0,0,26,0.33333333333333331,5,7,5,4,5]
["Barrier Type"]
["No Barrier",1,{"$f":"B374/SUM(B$374:B$380)","v":0.1},0,0,0,1,0,2,{"$f":"I374/SUM(I$374:I$380)","v":2.564102564102564E-2},1,0,0,1,0]
["Cable Barrier",0,{"$f":"B375/SUM(B$374:B$380)","v":0},0,0,0,0,0,0,{"$f":"I375/SUM(I$374:I$380)","v":0},0,0,0,0,0]
["Concrete Barrier",{"$f":"SUM(D376:H376)","v":9},0.9,3,1,3,2,0,{"$f":"SUM(K376:O376)","v":76},0.97435897435897434,10,17,24,15,10]
["Earth Embankment",0,0,0,0,0,0,0,0,0,0,0,0,0,0]
["Guardrail",0,0,0,0,0,0,0,0,0,0,0,0,0,0]
["Box Barrier",0,0,0,0,0,0,0,0,0,0,0,0,0,0]
["Other Barrier",{"$f":"SUM(D380:H380)","v":0},0,0,0,0,0,0,0,0,0,0,0,0,0]
["Number of Lanes"]
["One",1,{"$f":"B382/SUM(B$382:B$392)","v":0.1},0,1,0,0,0,2,{"$f":"I382/SUM(I$382:I$392)","v":2.564102564102564E-2},1,1,0,0,0]
["Two",0,{"$f":"B383/SUM(B$382:B$392)","v":0},0,0,0,0,0,0,{"$f":"I383/SUM(I$382:I$392)","v":0},0,0,0,0,0]
["Three",0,0,0,0,0,0,0,0,0,0,0,0,0,0]
["Four",1,0.1,0,0,1,0,0,7,8.9743589743589744E-2,2,2,2,0,1]
["Five",0,0,0,0,0,0,0,5,6.4102564102564097E-2,0,1,0,2,2]
["Six",0,0,0,0,0,0,0,4,5.128205128205128E-2,0,1,2,1,0]
["Seven",0,0,0,0,0,0,0,0,0,0,0,0,0,0]
["Eight",0,0,0,0,0,0,0,0,0,0,0,0,0,0]
["Nine",7,0.7,2,0,2,3,0,43,0.55128205128205132,4,8,14,11,6]
["Ten or More",0,0,0,0,0,0,0,0,0,0,0,0,0,0]
["Unknown",1,0.1,1,0,0,0,0,17,0.21794871794871795,4,4,6,2,1]
["Motor Vehicle Maneuver Prior to Crash"]
["Backing",{"$f":"SUM(D394:H394)","v":0},{"$f":"B394/SUM(B$394:B$408)","v":0},0,0,0,0,0,{"$f":"SUM(K394:O394)","v":1},{"$f":"I394/SUM(I$394:I$408)","v":1.282051282051282E-2},0,0,0,1,0]
["Changing Lanes",{"$f":"SUM(D395:H395)","v":0},{"$f":"B395/SUM(B$394:B$408)","v":0},0,0,0,0,0,{"$f":"SUM(K395:O395)","v":7},{"$f":"I395/SUM(I$394:I$408)","v":8.9743589743589744E-2},0,1,4,1,1]
["Entering Traffic Lane",{"$f":"SUM(D396:H396)","v":0},0,0,0,0,0,0,{"$f":"SUM(K396:O396)","v":0},0,0,0,0,0,0]
["Leaving Traffic Lane",{"$f":"SUM(D397:H397)","v":0},0,0,0,0,0,0,{"$f":"SUM(K397:O397)","v":1},1.282051282051282E-2,0,0,1,0,0]
["Making U-Turn",{"$f":"SUM(D398:H398)","v":4},0.4,2,1,0,1,0,{"$f":"SUM(K398:O398)","v":26},0.33333333333333331,5,5,6,7,3]
["Movements Essentially Straight Ahead",0,0,0,0,0,0,0,8,0.10256410256410256,0,1,2,2,3]
["Negotiating a Curve",2,0.2,0,0,2,0,0,9,0.11538461538461539,1,4,3,1,0]
["Overtaking/Passing",0,0,0,0,0,0,0,1,1.282051282051282E-2,1,0,0,0,0]
["Parked",3,0.3,0,0,1,2,0,8,0.10256410256410256,1,2,3,2,0]
["Slowing",0,0,0,0,0,0,0,8,0.10256410256410256,1,2,4,1,0]
["Stopped in Traffic",{"$f":"SUM(D404:H404)","v":0},0,0,0,0,0,0,{"$f":"SUM(K404:O404)","v":2},2.564102564102564E-2,0,1,1,0,0]
["Turning Left",{"$f":"SUM(D405:H405)","v":1},0.1,1,0,0,0,0,{"$f":"SUM(K405:O405)","v":1},1.282051282051282E-2,1,0,0,0,0]
["Turning Right",0,0,0,0,0,0,0,4,5.128205128205128E-2,0,0,0,1,3]
["Other",0,0,0,0,0,0,0,1,1.282051282051282E-2,0,1,0,0,0]
["Unknown",0,0,0,0,0,0,0,1,1.282051282051282E-2,1,0,0,0,0]
["Most Harmful Event"]
["Cargo/Equipment Loss or Shift",{"$f":"SUM(D410:H410)","v":0},{"$f":"B410/SUM(B$410:B$451)","v":0},0,0,0,0,0,{"$f":"SUM(K410:O410)","v":0},{"$f":"I410/SUM(I$410:I$451)","v":0},0,0,0,0,0]
["Fell/Jumped from Motor Vehicle",0,{"$f":"B411/SUM(B$410:B$451)","v":0},0,0,0,0,0,0,{"$f":"I411/SUM(I$410:I$451)","v":0},0,0,0,0,0]
["Fire/Explosion",0,0,0,0,0,0,0,0,0,0,0,0,0,0]
["Immersion, Full or Partial",0,0,0,0,0,0,0,1,1.282051282051282E-2,0,1,0,0,0]
["Jackknife",0,0,0,0,0,0,0,4,5.128205128205128E-2,0,1,0,0,3]
["Other Non-Collision",0,0,0,0,0,0,0,0,0,0,0,0,0,0]
["Overturn/Rollover",0,0,0,0,0,0,0,0,0,0,0,0,0,0]
["Thrown or Falling Object",0,0,0,0,0,0,0,0,0,0,0,0,0,0]
["Collision with Animal",0,0,0,0,0,0,0,0,0,0,0,0,0,0]
["Collision with Construction Equipment",0,0,0,0,0,0,0,1,1.282051282051282E-2,0,0,1,0,0]
["Collision with Farm Equipment",0,0,0,0,0,0,0,0,0,0,0,0,0,0]
["Collision with Motor Vehicle in Transport",0,0,0,0,0,0,0,1,1.282051282051282E-2,0,0,1,0,0]
["Collision with Other Non-Fixed Object",0,0,0,0,0,0,0,0,0,0,0,0,0,0]
["Collision with Other Non-motorist",1,0.1111111111111111,0,0,0,1,0,0,0,0,0,0,0,0]
["Collision with Parked Motor Vehicle",0,0,0,0,0,0,0,0,0,0,0,0,0,0]
["Collision with Pedalcycle",0,0,0,0,0,0,0,1,1.282051282051282E-2,0,1,0,0,0]
["Collision with Pedestrian",0,0,0,0,0,0,0,0,0,0,0,0,0,0]
["Collision with Railway Vehicle",0,0,0,0,0,0,0,0,0,0,0,0,0,0]
["Strikes Object ar Rest from MV in Transport",0,0,0,0,0,0,0,0,0,0,0,0,0,0]
["Struck by Falling, Shifting Cargo, or Anything Set in Motion by Motor Vehicle",0,0,0,0,0,0,0,0,0,0,0,0,0,0]
["Collision with Bridge Overhead Structure",0,0,0,0,0,0,0,5,6.4102564102564097E-2,0,0,3,2,0]
["Collision with Bridge Pier or Support",0,0,0,0,0,0,0,1,1.282051282051282E-2,1,0,0,0,0]
["Collision with Bridge Rail",0,0,0,0,0,0,0,1,1.282051282051282E-2,1,0,0,0,0]
["Collision with Cable Barrier",3,0.33333333333333331,1,0,1,1,0,7,8.9743589743589744E-2,2,2,1,2,0]
["Collision with Concrete Traffic Barrier",0,0,0,0,0,0,0,8,0.10256410256410256,1,2,4,1,0]
["Collision with Culvert",1,0.1111111111111111,0,0,0,1,0,1,1.282051282051282E-2,0,0,0,1,0]
["Collision with Curb",0,0,0,0,0,0,0,0,0,0,0,0,0,0]
["Collision with Ditch",1,0.1111111111111111,1,0,0,0,0,8,0.10256410256410256,1,0,1,4,2]
["Collision with Embankment",0,0,0,0,0,0,0,0,0,0,0,0,0,0]
["Collision with Fence",1,0.1111111111111111,1,0,0,0,0,0,0,0,0,0,0,0]
["Collision with Guardrail End Terminal",1,0.1111111111111111,0,0,1,0,0,5,6.4102564102564097E-2,0,3,2,0,0]
["Collision with Guardrail Face",0,0,0,0,0,0,0,3,3.8461538461538464E-2,1,0,2,0,0]
["Collision with Impact Attenuator/Crash Cushion",0,0,0,0,0,0,0,0,0,0,0,0,0,0]
["Collision with Mailbox",0,0,0,0,0,0,0,0,0,0,0,0,0,0]
["Collision with Other Fixed Object",1,0.1111111111111111,0,0,1,0,0,0,0,0,0,0,0,0]
["Collision with Other Post, Pole, or Support",0,0,0,0,0,0,0,0,0,0,0,0,0,0]
["Collision with Other Traffic Barrier",0,0,0,0,0,0,0,0,0,0,0,0,0,0]
["Collision with Traffic Sign Support",0,0,0,0,0,0,0,3,3.8461538461538464E-2,1,0,2,0,0]
["Collision with Traffic Signal Support",0,0,0,0,0,0,0,0,0,0,0,0,0,0]
["Collision with Tree",0,0,0,0,0,0,0,0,0,0,0,0,0,0]
["Collision with Utility Pole or Light Support",0,0,0,0,0,0,0,0,0,0,0,0,0,0]
["Unknown",0,0,0,0,0,0,0,28,0.35897435897435898,3,7,7,6,5]
["Contributing Circumstance, Vehicle"]
["None",0,{"$f":"B453/SUM(B$453:B$468)","v":0},0,0,0,0,0,0,{"$f":"I453/SUM(I$453:I$468)","v":0},0,0,0,0,0]
["Brakes",0,{"$f":"B454/SUM(B$453:B$468)","v":0},0,0,0,0,0,1,{"$f":"I454/SUM(I$453:I$468)","v":1.282051282051282E-2},0,0,1,0,0]
["Exhaust System",0,0,0,0,0,0,0,0,0,0,0,0,0,0]
["Body or Doors",0,0,0,0,0,0,0,0,0,0,0,0,0,0]
["Steering",4,0.4,2,1,0,1,0,0,0,0,0,0,0,0]
["Power Train",0,0,0,0,0,0,0,0,0,0,0,0,0,0]
["Suspension",2,0.2,0,0,2,0,0,2,2.564102564102564E-2,0,0,1,1,0]
["Tires",0,0,0,0,0,0,0,27,0.34615384615384615,2,5,8,4,8]
["Wheels",3,0.3,0,0,1,2,0,0,0,0,0,0,0,0]
["Lights (head, signal, tail)",0,0,0,0,0,0,0,18,0.23076923076923078,5,5,3,4,1]
["Windows or Windshield",0,0,0,0,0,0,0,2,2.564102564102564E-2,0,0,1,1,0]
["Mirrors",1,0.1,1,0,0,0,0,1,1.282051282051282E-2,0,0,0,1,0]
["Wipers",0,0,0,0,0,0,0,14,0.17948717948717949,2,2,6,4,0]
["Truck Coupling, Tailer Hitch, Safety Chains",0,0,0,0,0,0,0,0,0,0,0,0,0,0]
["Other",0,0,0,0,0,0,0,13,0.16666666666666666,2,5,4,1,1]
["Unknown",0,0,0,0,0,0,0,0,0,0,0,0,0,0]
["Person-Level Data"]
["Person Type"]
["Driver",{"$f":"SUM(D471:H471)","v":1},{"$f":"B471/SUM(B$471:B$478)","v":7.1428571428571425E-2},0,0,0,1,0,{"$f":"SUM(K471:O471)","v":18},{"$f":"I471/SUM(I$471:I$478)","v":0.16981132075471697},0,4,9,4,1]
["Passenger",0,{"$f":"B472/SUM(B$471:B$478)","v":0},0,0,0,0,0,0,{"$f":"I472/SUM(I$471:I$478)","v":0},0,0,0,0,0]
["Occupant of Motor Vehicle Not in Transport",2,0.14285714285714285,0,1,0,1,0,17,0.16037735849056603,2,5,5,3,2]
["Bicyclist",4,0.2857142857142857,1,1,1,1,0,1,9.433962264150943E-3,0,0,1,0,0]
["Other Cyclist",2,0.14285714285714285,0,0,1,1,0,16,0.15094339622641509,4,1,4,5,2]
["Pedestrian",0,0,0,0,0,0,0,0,0,0,0,0,0,0]
["Wheelchair, Person in a Building, Skater, Personal Conveyance, etc.",4,0.2857142857142857,2,0,2,0,0,25,0.23584905660377359,4,7,5,4,5]
["Unknown",1,7.1428571428571425E-2,1,0,0,0,0,29,0.27358490566037735,5,5,12,3,4]
["Restraint Use"]
["Booster Seat",0,{"$f":"B480/SUM(B$480:B$497)","v":0},0,0,0,0,0,0,{"$f":"I480/SUM(I$480:I$497)","v":0},0,0,0,0,0]
["Child Restraint System - Forward Facing",0,{"$f":"B481/SUM(B$480:B$497)","v":0},0,0,0,0,0,0,{"$f":"I481/SUM(I$480:I$497)","v":0},0,0,0,0,0]
["Child Restraint System - Rear Facing",1,7.1428571428571425E-2,0,1,0,0,0,1,9.433962264150943E-3,0,0,1,0,0]
["Child Restraint - Type Unknown",0,0,0,0,0,0,0,0,0,0,0,0,0,0]
["Lap Belt Only Used",2,0.14285714285714285,1,0,0,1,0,0,0,0,0,0,0,0]
["None Used - Motor Vehicle Occupant",0,0,0,0,0,0,0,0,0,0,0,0,0,0]
["Restraint Used - Type Unknown",1,7.1428571428571425E-2,0,0,1,0,0,0,0,0,0,0,0,0]
["Shoulder and Lap Belt Used",1,7.1428571428571425E-2,0,0,0,1,0,2,1.8867924528301886E-2,0,0,1,1,0]
["Shoulder Belt Only Used",1,7.1428571428571425E-2,0,0,1,0,0,27,0.25471698113207547,2,5,8,4,8]
["Stretcher",0,0,0,0,0,0,0,0,0,0,0,0,0,0]
["Wheelchair",4,0.2857142857142857,2,0,1,1,0,18,0.16981132075471697,5,5,3,4,1]
["DOT-Compliant Motorcycle Helmet",0,0,0,0,0,0,0,2,1.8867924528301886E-2,0,0,1,1,0]
["Not DOT-Compliant Motorcycle Helmet",0,0,0,0,0,0,0,1,9.433962264150943E-3,0,0,0,1,0]
["Unknown if DOT-Compliant Motorcycle Helmet",2,0.14285714285714285,1,0,0,1,0,14,0.13207547169811321,2,2,6,4,0]
["No Helmet",0,0,0,0,0,0,0,0,0,0,0,0,0,0]
["Not Applicable",2,0.14285714285714285,0,1,1,0,0,13,0.12264150943396226,2,5,4,1,1]
["Other",0,0,0,0,0,0,0,0,0,0,0,0,0,0]
["Unknown",0,0,0,0,0,0,0,28,0.26415094339622641,4,5,12,3,4]
["Driver Actions at Time of Crash, Selection 1"]
["No Contributing Action",4,{"$f":"B499/SUM(B$499:B$517)","v":0.2857142857142857},2,0,1,1,0,18,{"$f":"I499/SUM(I$499:I$517)","v":0.16981132075471697},5,5,3,4,1]
["Disregarded Other Road Markings",0,{"$f":"B500/SUM(B$499:B$517)","v":0},0,0,0,0,0,2,{"$f":"I500/SUM(I$499:I$517)","v":1.8867924528301886E-2},0,0,1,1,0]
["Disregarded Other Traffic Sign",0,0,0,0,0,0,0,1,9.433962264150943E-3,0,0,0,1,0]
["Failed to Keep in Proper Lane",2,0.14285714285714285,1,0,0,1,0,14,0.13207547169811321,2,2,6,4,0]
["Failed to Yield Right-of-Way",0,0,0,0,0,0,0,0,0,0,0,0,0,0]
["Followed Too Closely",2,0.14285714285714285,0,1,1,0,0,13,0.12264150943396226,2,5,4,1,1]
["Improper Backing",0,0,0,0,0,0,0,0,0,0,0,0,0,0]
["Improper Passing",0,0,0,0,0,0,0,28,0.26415094339622641,4,5,12,3,4]
["Improper Turn",0,0,0,0,0,0,0,0,0,0,0,0,0,0]
["Operated Motor Vehicle in Inattentive, Careless, Negligent, or Erratic Manner",0,0,0,0,0,0,0,0,0,0,0,0,0,0]
["Operated Motor Vehicle in Reckless or Aggressive Manner",1,7.1428571428571425E-2,0,1,0,0,0,1,9.433962264150943E-3,0,0,1,0,0]
["Over-Correcting/Over-Steering",0,0,0,0,0,0,0,0,0,0,0,0,0,0]
["Ran Off Roadway",2,0.14285714285714285,1,0,0,1,0,0,0,0,0,0,0,0]
["Ran Red Light",0,0,0,0,0,0,0,0,0,0,0,0,0,0]
["Ran Stop Sign",1,7.1428571428571425E-2,0,0,1,0,0,0,0,0,0,0,0,0]
["Swerve or Avoided Due to Wind, Slippery Surface, Motor Vehicle, Object, Non-Motorist in Roadway, etc.",1,7.1428571428571425E-2,0,0,0,1,0,2,1.8867924528301886E-2,0,0,1,1,0]
["Wrong Side or Wrong Way",1,7.1428571428571425E-2,0,0,1,0,0,27,0.25471698113207547,2,5,8,4,8]
["Other Contributing Action",0,0,0,0,0,0,0,0,0,0,0,0,0,0]
["Unknown",0,0,0,0,0,0,0,0,0,0,0,0,0,0]
["Driver Actions at Time of Crash, Selection 2"]
["No Contributing Action",{"$f":"SUM(D519:H519)","v":0},{"$f":"B519/SUM(B$519:B$537)","v":0},0,0,0,0,0,{"$f":"SUM(K519:O519)","v":10},{"$f":"I519/SUM(I$519:I$537)","v":9.4339622641509441E-2},1,2,5,2,0]
["Disregarded Other Road Markings",2,{"$f":"B520/SUM(B$519:B$537)","v":0.14285714285714285},1,0,1,0,0,8,{"$f":"I520/SUM(I$519:I$537)","v":7.5471698113207544E-2},2,1,2,1,2]
["Disregarded Other Traffic Sign",0,0,0,0,0,0,0,14,0.13207547169811321,3,3,4,1,3]
["Failed to Keep in Proper Lane",0,0,0,0,0,0,0,10,9.4339622641509441E-2,1,3,4,1,1]
["Failed to Yield Right-of-Way",4,0.2857142857142857,0,0,2,2,0,11,0.10377358490566038,1,1,4,4,1]
["Followed Too Closely",2,0.14285714285714285,1,1,0,0,0,13,0.12264150943396226,1,4,4,3,1]
["Improper Backing",0,0,0,0,0,0,0,7,6.6037735849056603E-2,1,2,1,2,1]
["Improper Passing",1,7.1428571428571425E-2,0,0,0,1,0,3,2.8301886792452831E-2,0,1,0,2,0]
["Improper Turn",1,7.1428571428571425E-2,1,0,0,0,0,2,1.8867924528301886E-2,1,0,0,0,1]
["Operated Motor Vehicle in Inattentive, Careless, Negligent, or Erratic Manner",0,0,0,0,0,0,0,0,0,0,0,0,0,0]
["Operated Motor Vehicle in Reckless or Aggressive Manner",0,0,0,0,0,0,0,4,3.7735849056603772E-2,0,0,2,1,1]
["Over-Correcting/Over-Steering",0,0,0,0,0,0,0,0,0,0,0,0,0,0]
["Ran Off Roadway",1,7.1428571428571425E-2,1,0,0,0,0,10,9.4339622641509441E-2,0,1,6,1,2]
["Ran Red Light",1,7.1428571428571425E-2,0,0,1,0,0,0,0,0,0,0,0,0]
["Ran Stop Sign",1,7.1428571428571425E-2,0,0,0,1,0,8,7.5471698113207544E-2,2,3,3,0,0]
["Swerve or Avoided Due to Wind, Slippery Surface, Motor Vehicle, Object, Non-Motorist in Roadway, etc.",1,7.1428571428571425E-2,0,1,0,0,0,0,0,0,0,0,0,0]
["Wrong Side or Wrong Way",0,0,0,0,0,0,0,0,0,0,0,0,0,0]
["Other Contributing Action",0,0,0,0,0,0,0,0,0,0,0,0,0,0]
["Unknown",0,0,0,0,0,0,0,6,5.6603773584905662E-2,2,1,1,1,1]
["Driver Actions at Time of Crash, Selection 3"]
["No Contributing Action",{"$f":"SUM(D539:H539)","v":1},{"$f":"B539/SUM(B$539:B$557)","v":7.1428571428571425E-2},0,0,1,0,0,{"$f":"SUM(K539:O539)","v":8},{"$f":"I539/SUM(I$539:I$557)","v":7.5471698113207544E-2},2,3,3,0,0]
["Disregarded Other Road Markings",1,{"$f":"B540/SUM(B$539:B$557)","v":7.1428571428571425E-2},0,0,0,1,0,0,{"$f":"I540/SUM(I$539:I$557)","v":0},0,0,0,0,0]
["Disregarded Other Traffic Sign",1,7.1428571428571425E-2,0,1,0,0,0,0,0,0,0,0,0,0]
["Failed to Keep in Proper Lane",0,0,0,0,0,0,0,0,0,0,0,0,0,0]
["Failed to Yield Right-of-Way",0,0,0,0,0,0,0,6,5.6603773584905662E-2,2,1,1,1,1]
["Followed Too Closely",0,0,0,0,0,0,0,10,9.4339622641509441E-2,1,2,5,2,0]
["Improper Backing",0,0,0,0,0,0,0,8,7.5471698113207544E-2,2,1,2,1,2]
["Improper Passing",2,0.14285714285714285,1,0,1,0,0,14,0.13207547169811321,3,3,4,1,3]
["Improper Turn",0,0,0,0,0,0,0,10,9.4339622641509441E-2,1,3,4,1,1]
["Operated Motor Vehicle in Inattentive, Careless, Negligent, or Erratic Manner",0,0,0,0,0,0,0,11,0.10377358490566038,1,1,4,4,1]
["Operated Motor Vehicle in Reckless or Aggressive Manner",4,0.2857142857142857,0,0,2,2,0,13,0.12264150943396226,1,4,4,3,1]
["Over-Correcting/Over-Steering",2,0.14285714285714285,1,1,0,0,0,7,6.6037735849056603E-2,1,2,1,2,1]
["Ran Off Roadway",0,0,0,0,0,0,0,3,2.8301886792452831E-2,0,1,0,2,0]
["Ran Red Light",1,7.1428571428571425E-2,0,0,0,1,0,2,1.8867924528301886E-2,1,0,0,0,1]
["Ran Stop Sign",1,7.1428571428571425E-2,1,0,0,0,0,0,0,0,0,0,0,0]
["Swerve or Avoided Due to Wind, Slippery Surface, Motor Vehicle, Object, Non-Motorist in Roadway, etc.",0,0,0,0,0,0,0,4,3.7735849056603772E-2,0,0,2,1,1]
["Wrong Side or Wrong Way",0,0,0,0,0,0,0,0,0,0,0,0,0,0]
["Other Contributing Action",0,0,0,0,0,0,0,10,9.4339622641509441E-2,0,1,6,1,2]
["Unknown",1,7.1428571428571425E-2,1,0,0,0,0,0,0,0,0,0,0,0]
["Driver Actions at Time of Crash, Selection 4"]
["No Contributing Action",{"$f":"SUM(D559:H559)","v":0},{"$f":"B559/SUM(B$559:B$577)","v":0},0,0,0,0,0,{"$f":"SUM(K559:O559)","v":12},{"$f":"I559/SUM(I$559:I$577)","v":0.11320754716981132},3,5,4,0,0]
["Disregarded Other Road Markings",1,{"$f":"B560/SUM(B$559:B$577)","v":7.1428571428571425E-2},0,0,1,0,0,0,{"$f":"I560/SUM(I$559:I$577)","v":0},0,0,0,0,0]
["Disregarded Other Traffic Sign",2,0.14285714285714285,0,1,0,1,0,0,0,0,0,0,0,0]
["Failed to Keep in Proper Lane",0,0,0,0,0,0,0,0,0,0,0,0,0,0]
["Failed to Yield Right-of-Way",0,0,0,0,0,0,0,5,4.716981132075472E-2,1,1,1,1,1]
["Followed Too Closely",0,0,0,0,0,0,0,4,3.7735849056603772E-2,1,0,1,2,0]
["Improper Backing",0,0,0,0,0,0,0,17,0.16037735849056603,5,1,6,3,2]
["Improper Passing",2,0.14285714285714285,1,0,1,0,0,12,0.11320754716981132,3,3,2,1,3]
["Improper Turn",0,0,0,0,0,0,0,10,9.4339622641509441E-2,1,3,4,1,1]
["Operated Motor Vehicle in Inattentive, Careless, Negligent, or Erratic Manner",1,7.1428571428571425E-2,0,0,1,0,0,7,6.6037735849056603E-2,0,1,2,3,1]
["Operated Motor Vehicle in Reckless or Aggressive Manner",3,0.21428571428571427,0,0,1,2,0,12,0.11320754716981132,0,4,4,3,1]
["Over-Correcting/Over-Steering",2,0.14285714285714285,1,1,0,0,0,5,4.716981132075472E-2,0,2,1,1,1]
["Ran Off Roadway",0,0,0,0,0,0,0,3,2.8301886792452831E-2,0,1,0,2,0]
["Ran Red Light",1,7.1428571428571425E-2,0,0,0,1,0,2,1.8867924528301886E-2,1,0,0,0,1]
["Ran Stop Sign",1,7.1428571428571425E-2,1,0,0,0,0,0,0,0,0,0,0,0]
["Swerve or Avoided Due to Wind, Slippery Surface, Motor Vehicle, Object, Non-Motorist in Roadway, etc.",0,0,0,0,0,0,0,4,3.7735849056603772E-2,0,0,2,1,1]
["Wrong Side or Wrong Way",0,0,0,0,0,0,0,0,0,0,0,0,0,0]
["Other Contributing Action",0,0,0,0,0,0,0,10,9.4339622641509441E-2,0,1,6,1,2]
["Unknown",1,7.1428571428571425E-2,1,0,0,0,0,3,2.8301886792452831E-2,0,0,3,0,0]

{"sheet":"Subject Data Accessible","index":2,"n_rows":620,"n_cols":16,"rows_kept":620,"cut":false,"hidden":true,"merged":[[599,0,599,7],[599,8,599,15],[413,0,413,7],[413,8,413,15],[426,0,426,7],[443,0,443,7],[487,0,487,7],[426,8,426,15],[443,8,443,15],[487,8,487,15],[505,0,505,15],[516,0,516,7],[536,0,536,7],[557,0,557,7],[578,0,578,7],[506,8,506,15],[321,0,321,7],[299,8,299,15],[326,0,326,7],[333,0,333,7],[338,0,338,7],[338,8,338,15],[312,8,312,15],[321,8,321,15],[326,8,326,15],[333,8,333,15],[261,8,261,15],[291,0,291,7],[299,0,299,7],[307,0,307,7],[312,0,312,7],[261,0,261,7],[267,0,267,7],[275,0,275,7],[280,0,280,7],[286,0,286,7],[267,8,267,15],[275,8,275,15],[280,8,280,15],[286,8,286,15],[291,8,291,15],[307,8,307,15],[236,0,236,7],[241,0,241,7],[254,0,254,7],[236,8,236,15],[241,8,241,15],[254,8,254,15],[173,0,173,7],[186,0,186,7],[211,0,211,7],[173,8,173,15],[186,8,186,15],[211,8,211,15],[138,0,138,7],[150,0,150,7],[164,0,164,7],[138,8,138,15],[150,8,150,15],[164,8,164,15],[74,0,74,7],[81,0,81,7],[125,0,125,7],[74,8,74,15],[81,8,81,15],[125,8,125,15],[19,0,19,7],[19,8,19,15],[24,0,24,7],[33,0,33,7],[60,0,60,7],[24,8,24,15],[33,8,33,15],[60,8,60,15],[0,0,0,7],[8,0,8,7],[15,0,15,7],[0,8,0,15],[8,8,8,15],[15,8,15,15],[343,0,343,15],[375,0,375,7],[392,0,392,7],[396,0,396,7],[404,0,404,7],[344,8,344,15],[375,8,375,15],[392,8,392,15],[396,8,396,15],[404,8,404,15],[344,0,344,7],[516,8,516,15],[536,8,536,15],[557,8,557,15],[578,8,578,15],[506,0,506,7]]}
[{"$f":"CONCATENATE(\"Fatal and Serious Injury Crashes Only - \",A2, \"\n\",Instructions!$B$9)","v":"Fatal and Serious Injury Crashes Only - Overall Numbers\nTest County"},null,null,null,null,null,null,null,{"$f":"CONCATENATE(\"Total Crashes - \",I2, \"\n\",Instructions!$B$9)","v":"Total Crashes - Overall Numbers\nTest County"}]
["Overall Numbers","Number of Crashes","Percent of Crashes","Year 5 Crashes","Year 4 Crashes","Year 3 Crashes","Year 2 Crashes","Year 1 Crashes","Overall Numbers","Number of Crashes","Percent of Crashes","Year 5 Crashes","Year 4 Crashes","Year 3 Crashes","Year 2 Crashes","Year 1 Crashes"]
["Total # of Collisions",{"$f":"SUM(D3:H3)","v":7},"N/A",2,2,1,2,0,{"$f":"A3","v":"Total # of Collisions"},{"$f":"SUM(L3:P3)","v":50},"N/A",8,10,17,10,5]
["# of Fatal Collisions",4,{"$f":"B4/B3","v":0.5714285714285714},1,1,1,1,0,"# of Fatal Collisions",0,{"$f":"J4/J3","v":0},0,0,0,0,0]
["# of Serious Injury Collisions",3,{"$f":"B5/B3","v":0.42857142857142855},1,1,0,1,0,"# of Serious Injury Collisions",1,{"$f":"J5/J3","v":0.02},1,0,0,0,0]
["# of Alcohol-Related Collisions",0,{"$f":"B6/B3","v":0},0,0,0,0,0,"# of Alcohol-Related Collisions",2,{"$f":"J6/J3","v":0.04},1,0,0,1,0]
["Total # of Fatalities",0,"N/A",0,0,0,0,0,"Total # of Fatalities",0,"N/A",0,0,0,0,0]
["Total # of Serious Injuries",3,"N/A",1,1,0,1,0,"Total # of Serious Injuries",7,"N/A",2,1,2,2,0]
[{"$f":"CONCATENATE(\"Fatal and Serious Injury Crashes Only - \",A10, \"\n\",Instructions!$B$9)","v":"Fatal and Serious Injury Crashes Only - Most Severe Injury Reported\nTest County"},null,null,null,null,null,null,null,{"$f":"CONCATENATE(\"Total Crashes - \",I10, \"\n\",Instructions!$B$9)","v":"Total Crashes - Most Severe Injury Reported\nTest County"}]
["Most Severe Injury Reported","Number of Crashes","Percent of Crashes","Year 5 Crashes","Year 4 Crashes","Year 3 Crashes","Year 2 Crashes","Year 1 Crashes","Most Severe Injury Reported","Number of Crashes","Percent of Crashes","Year 5 Crashes","Year 4 Crashes","Year 3 Crashes","Year 2 Crashes","Year 1 Crashes"]
["5 (K)",{"$f":"SUM(D11:H11)","v":4},{"$f":"B11/SUM(B$11:B$15)","v":0.5714285714285714},1,1,1,1,0,{"$f":"A11","v":"5 (K)"},{"$f":"SUM(L11:P11)","v":4},{"$f":"J11/SUM(J$11:J$15)","v":0.08},1,1,1,1,0]
["4 (A)",{"$f":"SUM(D12:H12)","v":3},{"$f":"B12/SUM(B$11:B$15)","v":0.42857142857142855},1,1,0,1,0,{"$f":"A12","v":"4 (A)"},{"$f":"SUM(L12:P12)","v":3},{"$f":"J12/SUM(J$11:J$15)","v":0.06},1,1,0,1,0]
["3 (B)","N/A","N/A","N/A","N/A","N/A","N/A","N/A",{"$f":"A13","v":"3 (B)"},{"$f":"SUM(L13:P13)","v":2},{"$f":"J13/SUM(J$11:J$15)","v":0.04},0,0,0,2,0]
["2 (C)","N/A","N/A","N/A","N/A","N/A","N/A","N/A",{"$f":"A14","v":"2 (C)"},{"$f":"SUM(L14:P14)","v":4},0.08,1,1,2,0,0]
["1 (O)","N/A","N/A","N/A","N/A","N/A","N/A","N/A",{"$f":"A15","v":"1 (O)"},{"$f":"SUM(L15:P15)","v":37},0.74,5,7,14,6,5]
[{"$f":"CONCATENATE(\"Fatal and Serious Injury Crashes Only - \",A17, \"\n\",Instructions!$B$9)","v":"Fatal and Serious Injury Crashes Only - Property\nTest County"},null,null,null,null,null,null,null,{"$f":"CONCATENATE(\"Total Crashes - \",I17, \"\n \",Instructions!$B$9)","v":"Total Crashes - Property\n Test County"}]
["Property","Number of Crashes","Percent of Crashes","Year 5 Crashes","Year 4 Crashes","Year 3 Crashes","Year 2 Crashes","Year 1 Crashes","Property","Number of Crashes","Percent of Crashes","Year 5 Crashes","Year 4 Crashes","Year 3 Crashes","Year 2 Crashes","Year 1 Crashes"]
["Public",{"$f":"SUM(D18:H18)","v":4},{"$f":"B18/SUM(B$18:B$19)","v":0.5714285714285714},1,1,1,1,0,{"$f":"A18","v":"Public"},{"$f":"SUM(L18:P18)","v":37},{"$f":"J18/SUM(J$18:J$19)","v":0.74},5,7,14,6,5]
["Private",3,{"$f":"B19/SUM(B$18:B$19)","v":0.42857142857142855},1,1,0,1,0,{"$f":"A19","v":"Private"},13,{"$f":"J19/SUM(J$18:J$19)","v":0.26},3,3,3,4,0]
[{"$f":"CONCATENATE(\"Fatal and Serious Injury Crashes Only - \",A21, \"\n\",Instructions!$B$9)","v":"Fatal and Serious Injury Crashes Only - Location\nTest County"},null,null,null,null,null,null,null,{"$f":"CONCATENATE(\"Total Crashes - \",I21, \"\n\",Instructions!$B$9)","v":"Total Crashes - Location\nTest County"}]
["Location","Number of Crashes","Percent of Crashes","Year 5 Crashes","Year 4 Crashes","Year 3 Crashes","Year 2 Crashes","Year 1 Crashes","Location","Number of Crashes","Percent of Crashes","Year 5 Crashes","Year 4 Crashes","Year 3 Crashes","Year 2 Crashes","Year 1 Crashes"]
["Trafficway, On Road",{"$f":"SUM(D22:H22)","v":3},{"$f":"B22/SUM(B$22:B$24)","v":0.42857142857142855},1,1,1,0,0,{"$f":"A22","v":"Trafficway, On Road"},{"$f":"SUM(L22:P22)","v":31},{"$f":"J22/SUM(J$22:J$24)","v":0.62},4,7,11,5,4]
["Trafficway, Not on Road",{"$f":"SUM(D23:H23)","v":2},{"$f":"B23/SUM(B$22:B$24)","v":0.2857142857142857},0,1,0,1,0,{"$f":"A23","v":"Trafficway, Not on Road"},{"$f":"SUM(L23:P23)","v":13},{"$f":"J23/SUM(J$22:J$24)","v":0.26},3,2,3,4,1]
["Non-Trafficway",{"$f":"SUM(D24:H24)","v":2},{"$f":"B24/SUM(B$22:B$24)","v":0.2857142857142857},1,0,0,1,0,{"$f":"A24","v":"Non-Trafficway"},{"$f":"SUM(L24:P24)","v":6},{"$f":"J24/SUM(J$22:J$24)","v":0.12},{"$f":"L3-SUM(L22:L23)","v":1},{"$f":"M3-SUM(M22:M23)","v":1},3,1,0]
[{"$f":"CONCATENATE(\"Fatal and Serious Injury Crashes Only - \",A26, \"\n\",Instructions!$B$9)","v":"Fatal and Serious Injury Crashes Only - Weekday\nTest County"},null,null,null,null,null,null,null,{"$f":"CONCATENATE(\"Total Crashes - \",I26, \"\n\",Instructions!$B$9)","v":"Total Crashes - Weekday\nTest County"}]
["Weekday","Number of Crashes","Percent of Crashes","Year 5 Crashes","Year 4 Crashes","Year 3 Crashes","Year 2 Crashes","Year 1 Crashes","Weekday","Number of Crashes","Percent of Crashes","Year 5 Crashes","Year 4 Crashes","Year 3 Crashes","Year 2 Crashes","Year 1 Crashes"]
["Sunday",{"$f":"SUM(D27:H27)","v":1},{"$f":"B27/SUM(B$27:B$33)","v":0.14285714285714285},0,1,0,0,0,{"$f":"A27","v":"Sunday"},{"$f":"SUM(L27:P27)","v":4},{"$f":"J27/SUM(J$27:J$33)","v":0.08},1,1,2,0,0]
["Monday",1,0.14285714285714285,0,0,0,1,0,"Monday",9,{"$f":"J28/SUM(J$27:J$33)","v":0.18},1,4,0,3,1]
["Tuesday",1,0.14285714285714285,1,0,0,0,0,"Tuesday",13,0.26,4,3,3,2,1]
["Wednesday",2,0.2857142857142857,0,0,1,1,0,"Wednesday",6,0.12,1,0,4,1,0]
["Thursday",1,0.14285714285714285,0,1,0,0,0,"Thursday",8,0.16,0,1,4,2,1]
["Friday",0,0,0,0,0,0,0,"Friday",5,0.1,0,1,1,1,2]
["Saturday",1,0.14285714285714285,1,0,0,0,0,"Saturday",5,0.1,1,0,3,1,0]
[{"$f":"CONCATENATE(\"Fatal and Serious Injury Crashes Only - \",A35, \"\n\",Instructions!$B$9)","v":"Fatal and Serious Injury Crashes Only - Crash Hour\nTest County"},null,null,null,null,null,null,null,{"$f":"CONCATENATE(\"Total Crashes - \",I35, \"\n\",Instructions!$B$9)","v":"Total Crashes - Crash Hour\nTest County"}]
["Crash Hour","Number of Crashes","Percent of Crashes","Year 5 Crashes","Year 4 Crashes","Year 3 Crashes","Year 2 Crashes","Year 1 Crashes","Crash Hour","Number of Crashes","Percent of Crashes","Year 5 Crashes","Year 4 Crashes","Year 3 Crashes","Year 2 Crashes","Year 1 Crashes"]
["12:00 AM - 12:59 AM",{"$f":"SUM(D36:H36)","v":2},{"$f":"B36/SUM(B$36:B$60)","v":0.2857142857142857},0,0,1,1,0,{"$f":"A36","v":"12:00 AM - 12:59 AM"},{"$f":"SUM(L36:P36)","v":3},{"$f":"J36/SUM(J$36:J$60)","v":4.8387096774193547E-2},0,0,1,2,0]
["1:00 AM - 1:59 AM",0,0,0,0,0,0,0,"1:00 AM - 1:59 AM",0,{"$f":"J37/SUM(J$36:J$60)","v":0},0,0,0,0,0]
["2:00 AM - 2:59 AM",0,0,0,0,0,0,0,"2:00 AM - 2:59 AM",0,0,0,0,0,0,0]
["3:00 AM - 3:59 AM",0,0,0,0,0,0,0,"3:00 AM - 3:59 AM",0,0,0,0,0,0,0]
["4:00 AM - 4:59 AM",1,0.14285714285714285,1,0,0,0,0,"4:00 AM - 4:59 AM",1,1.6129032258064516E-2,1,0,0,0,0]
["5:00 AM - 5:59 AM",0,0,0,0,0,0,0,"5:00 AM - 5:59 AM",3,4.8387096774193547E-2,0,1,2,0,0]
["6:00 AM - 6:59 AM",0,0,0,0,0,0,0,"6:00 AM - 6:59 AM",1,1.6129032258064516E-2,0,1,0,0,0]
["7:00 AM - 7:59 AM",0,0,0,0,0,0,0,"7:00 AM - 7:59 AM",2,3.2258064516129031E-2,0,1,0,1,0]
["8:00 AM - 8:59 AM",0,0,0,0,0,0,0,"8:00 AM - 8:59 AM",2,3.2258064516129031E-2,1,1,0,0,0]
["9:00 AM - 9:59 AM",0,0,0,0,0,0,0,"9:00 AM - 9:59 AM",2,3.2258064516129031E-2,2,0,0,0,0]
["10:00 AM - 10:59 AM",1,0.14285714285714285,0,1,0,0,0,"10:00 AM - 10:59 AM",1,1.6129032258064516E-2,0,0,1,0,0]
["11:00 AM - 11:59 AM",0,0,0,0,0,0,0,"11:00 AM - 11:59 AM",3,4.8387096774193547E-2,0,0,3,0,0]
["12:00 PM - 12:59 PM",0,0,0,0,0,0,0,"12:00 PM - 12:59 PM",3,4.8387096774193547E-2,0,1,0,2,0]
["1:00 PM - 1:59 PM",1,0.14285714285714285,0,1,0,0,0,"1:00 PM - 1:59 PM",5,8.0645161290322578E-2,1,1,2,1,0]
["2:00 PM - 2:59 PM",0,0,0,0,0,0,0,"2:00 PM - 2:59 PM",4,6.4516129032258063E-2,0,0,3,0,1]
["3:00 PM - 3:59 PM",0,0,0,0,0,0,0,"3:00 PM - 3:59 PM",4,6.4516129032258063E-2,1,1,1,0,1]
["4:00 PM - 4:59 PM",0,0,0,0,0,0,0,"4:00 PM - 4:59 PM",3,4.8387096774193547E-2,0,1,1,1,0]
["5:00 PM - 5:59 PM",2,0.2857142857142857,1,0,0,1,0,"5:00 PM - 5:59 PM",6,9.6774193548387094E-2,1,0,2,2,1]
["6:00 PM - 6:59 PM",0,0,0,0,0,0,0,"6:00 PM - 6:59 PM",2,3.2258064516129031E-2,0,1,0,0,1]
["7:00 PM - 7:59 PM",0,0,0,0,0,0,0,"7:00 PM - 7:59 PM",2,3.2258064516129031E-2,1,0,0,1,0]
["8:00 PM - 8:59 PM",0,0,0,0,0,0,0,"8:00 PM - 8:59 PM",2,3.2258064516129031E-2,0,1,0,0,1]
["9:00 PM - 9:59 PM",0,0,0,0,0,0,0,"9:00 PM - 9:59 PM",0,0,0,0,0,0,0]
["10:00 PM - 10:59 PM",0,0,0,0,0,0,0,"10:00 PM - 10:59 PM",1,1.6129032258064516E-2,0,0,1,0,0]
["11:00 PM - 11:59 PM",0,0,0,0,0,0,0,"11:00 PM - 11:59 PM",0,0,0,0,0,0,0]
["Unknown",0,0,0,0,0,0,0,"Unknown",0,0,0,0,0,0,0]
[{"$f":"CONCATENATE(\"Fatal and Serious Injury Crashes Only - \",A62, \"\n\",Instructions!$B$9)","v":"Fatal and Serious Injury Crashes Only - Crash Month\nTest County"},null,null,null,null,null,null,null,{"$f":"CONCATENATE(\"Total Crashes - \",I62, \"\n\",Instructions!$B$9)","v":"Total Crashes - Crash Month\nTest County"}]
["Crash Month","Number of Crashes","Percent of Crashes","Year 5 Crashes","Year 4 Crashes","Year 3 Crashes","Year 2 Crashes","Year 1 Crashes","Crash Month","Number of Crashes","Percent of Crashes","Year 5 Crashes","Year 4 Crashes","Year 3 Crashes","Year 2 Crashes","Year 1 Crashes"]
["January",{"$f":"SUM(D63:H63)","v":0},{"$f":"B63/SUM(B$63:B$74)","v":0},0,0,0,0,0,{"$f":"A63","v":"January"},{"$f":"SUM(L63:P63)","v":5},{"$f":"J63/SUM(J$63:J$74)","v":0.1},1,2,1,0,1]
["February",0,0,0,0,0,0,0,"February",4,{"$f":"J64/SUM(J$63:J$74)","v":0.08},1,0,2,0,1]
["March",0,0,0,0,0,0,0,"March",5,0.1,2,2,1,0,0]
["April",1,0.14285714285714285,0,1,0,0,0,"April",5,0.1,0,2,2,1,0]
["May",0,0,0,0,0,0,0,"May",3,0.06,0,0,3,0,0]
["June",1,0.14285714285714285,0,0,1,0,0,"June",3,0.06,2,0,1,0,0]
["July",2,0.2857142857142857,0,0,0,2,0,"July",6,0.12,0,2,2,2,0]
["August",2,0.2857142857142857,2,0,0,0,0,"August",6,0.12,2,0,0,3,1]
["September",0,0,0,0,0,0,0,"September",4,0.08,0,1,1,1,1]
["October",0,0,0,0,0,0,0,"October",4,0.08,0,0,3,1,0]
["November",1,0.14285714285714285,0,1,0,0,0,"November",3,0.06,0,1,1,0,1]
["December",0,0,0,0,0,0,0,"December",2,0.04,0,0,0,2,0]
[{"$f":"CONCATENATE(\"Fatal and Serious Injury Crashes Only - \",A76, \"\n\",Instructions!$B$9)","v":"Fatal and Serious Injury Crashes Only - Crash Jurisdiction\nTest County"},null,null,null,null,null,null,null,{"$f":"CONCATENATE(\"Total Crashes - \",I76, \"\n\",Instructions!$B$9)","v":"Total Crashes - Crash Jurisdiction\nTest County"}]
["Crash Jurisdiction","Number of Crashes","Percent of Crashes","Year 5 Crashes","Year 4 Crashes","Year 3 Crashes","Year 2 Crashes","Year 1 Crashes","Crash Jurisdiction","Number of Crashes","Percent of Crashes","Year 5 Crashes","Year 4 Crashes","Year 3 Crashes","Year 2 Crashes","Year 1 Crashes"]
["A",{"$f":"SUM(D77:H77)","v":0},{"$f":"B77/SUM(B$77:B$81)","v":0},0,0,0,0,0,{"$f":"A77","v":"A"},{"$f":"SUM(L77:P77)","v":0},{"$f":"J77/SUM(J$77:J$81)","v":0},0,0,0,0,0]
["B",{"$f":"SUM(D78:H78)","v":1},{"$f":"B78/SUM(B$77:B$81)","v":0.14285714285714285},1,0,0,0,0,{"$f":"A78","v":"B"},{"$f":"SUM(L78:P78)","v":1},{"$f":"J78/SUM(J$77:J$81)","v":0.02},1,0,0,0,0]
["C",{"$f":"SUM(D79:H79)","v":2},{"$f":"B79/SUM(B$77:B$81)","v":0.2857142857142857},0,0,0,2,0,{"$f":"A79","v":"C"},{"$f":"SUM(L79:P79)","v":2},0.04,0,0,0,2,0]
["D",{"$f":"SUM(D80:H80)","v":4},{"$f":"B80/SUM(B$77:B$81)","v":0.5714285714285714},1,1,2,0,0,{"$f":"A80","v":"D"},{"$f":"SUM(L80:P80)","v":4},0.08,1,1,2,0,0]
["E",{"$f":"SUM(D81:H81)","v":0},{"$f":"B81/SUM(B$77:B$81)","v":0},0,0,0,0,0,{"$f":"A81","v":"E"},{"$f":"SUM(L81:P81)","v":43},0.86,6,9,15,8,5]
[{"$f":"CONCATENATE(\"Fatal and Serious Injury Crashes Only - \",A83, \"\n\",Instructions!$B$9)","v":"Fatal and Serious Injury Crashes Only - First Harmful Event\nTest County"},null,null,null,null,null,null,null,{"$f":"CONCATENATE(\"Total Crashes - \",I83, \"\n\",Instructions!$B$9)","v":"Total Crashes - First Harmful Event\nTest County"}]
["First Harmful Event","Number of Crashes","Percent of Crashes","Year 5 Crashes","Year 4 Crashes","Year 3 Crashes","Year 2 Crashes","Year 1 Crashes","First Harmful Event","Number of Crashes","Percent of Crashes","Year 5 Crashes","Year 4 Crashes","Year 3 Crashes","Year 2 Crashes","Year 1 Crashes"]
["Cargo/Equipment Loss or Shift",{"$f":"SUM(D84:H84)","v":0},{"$f":"B84/SUM(B$84:B$125)","v":0},0,0,0,0,0,{"$f":"A84","v":"Cargo/Equipment Loss or Shift"},{"$f":"SUM(L84:P84)","v":0},{"$f":"J84/SUM(J$84:J$125)","v":0},0,0,0,0,0]
["Fell/Jumped from Motor Vehicle",0,0,0,0,0,0,0,"Fell/Jumped from Motor Vehicle",0,{"$f":"J85/SUM(J$84:J$125)","v":0},0,0,0,0,0]
["Fire/Explosion",0,0,0,0,0,0,0,"Fire/Explosion",0,0,0,0,0,0,0]
["Immersion, Full or Partial",0,0,0,0,0,0,0,"Immersion, Full or Partial",0,0,0,0,0,0,0]
["Jackknife",0,0,0,0,0,0,0,"Jackknife",0,0,0,0,0,0,0]
["Other Non-Collision",3,0.42857142857142855,1,0,0,2,0,"Other Non-Collision",14,0.28000000000000003,4,2,5,1,2]
["Overturn/Rollover",0,0,0,0,0,0,0,"Overturn/Rollover",0,0,0,0,0,0,0]
["Thrown or Falling Object",{"$f":"SUM(D91:H91)","v":0},0,0,0,0,0,0,"Thrown or Falling Object",{"$f":"SUM(L91:P91)","v":0},0,0,0,0,0,0]
["Collision with Animal",0,0,0,0,0,0,0,"Collision with Animal",0,0,0,0,0,0,0]
["Collision with Construction Equipment",0,0,0,0,0,0,0,"Collision with Construction Equipment",0,0,0,0,0,0,0]
["Collision with Farm Equipment",0,0,0,0,0,0,0,"Collision with Farm Equipment",0,0,0,0,0,0,0]
["Collision with Motor Vehicle in Transport",0,0,0,0,0,0,0,"Collision with Motor Vehicle in Transport",6,0.12,1,0,3,2,0]
["Collision with Other Non-Fixed Object",0,0,0,0,0,0,0,"Collision with Other Non-Fixed Object",0,0,0,0,0,0,0]
["Collision with Other Non-motorist",0,0,0,0,0,0,0,"Collision with Other Non-motorist",1,0.02,0,0,1,0,0]
["Collision with Parked Motor Vehicle",0,0,0,0,0,0,0,"Collision with Parked Motor Vehicle",0,0,0,0,0,0,0]
["Collision with Pedalcycle",0,0,0,0,0,0,0,"Collision with Pedalcycle",0,0,0,0,0,0,0]
["Collision with Pedestrian",0,0,0,0,0,0,0,"Collision with Pedestrian",0,0,0,0,0,0,0]
["Collision with Railway Vehicle",0,0,0,0,0,0,0,"Collision with Railway Vehicle",2,0.04,2,0,0,0,0]
["Strikes Object ar Rest from MV in Transport",0,0,0,0,0,0,0,"Strikes Object ar Rest from MV in Transport",0,0,0,0,0,0,0]
["Struck by Falling, Shifting Cargo, or Anything Set in Motion by Motor Vehicle",1,0.14285714285714285,0,1,0,0,0,"Struck by Falling, Shifting Cargo, or Anything Set in Motion by Motor Vehicle",0,0,0,0,0,0,0]
["Collision with Bridge Overhead Structure",0,0,0,0,0,0,0,"Collision with Bridge Overhead Structure",2,0.04,0,0,1,0,1]
["Collision with Bridge Pier or Support",0,0,0,0,0,0,0,"Collision with Bridge Pier or Support",0,0,0,0,0,0,0]
["Collision with Bridge Rail",1,0.14285714285714285,0,0,1,0,0,"Collision with Bridge Rail",0,0,0,0,0,0,0]
["Collision with Cable Barrier",0,0,0,0,0,0,0,"Collision with Cable Barrier",0,0,0,0,0,0,0]
["Collision with Concrete Traffic Barrier",0,0,0,0,0,0,0,"Collision with Concrete Traffic Barrier",0,0,0,0,0,0,0]
["Collision with Culvert",1,0.14285714285714285,1,0,0,0,0,"Collision with Culvert",0,0,0,0,0,0,0]
["Collision with Curb",0,0,0,0,0,0,0,"Collision with Curb",4,0.08,0,0,1,2,1]
["Collision with Ditch",0,0,0,0,0,0,0,"Collision with Ditch",0,0,0,0,0,0,0]
["Collision with Embankment",0,0,0,0,0,0,0,"Collision with Embankment",3,0.06,1,2,0,0,0]
["Collision with Fence",0,0,0,0,0,0,0,"Collision with Fence",0,0,0,0,0,0,0]
["Collision with Guardrail End Terminal",0,0,0,0,0,0,0,"Collision with Guardrail End Terminal",0,0,0,0,0,0,0]
["Collision with Guardrail Face",0,0,0,0,0,0,0,"Collision with Guardrail Face",0,0,0,0,0,0,0]
["Collision with Impact Attenuator/Crash Cushion",0,0,0,0,0,0,0,"Collision with Impact Attenuator/Crash Cushion",0,0,0,0,0,0,0]
["Collision with Mailbox",{"$f":"SUM(D117:H117)","v":0},0,0,0,0,0,0,"Collision with Mailbox",6,0.12,0,1,2,3,0]
["Collision with Other Fixed Object",0,0,0,0,0,0,0,"Collision with Other Fixed Object",0,0,0,0,0,0,0]
["Collision with Other Post, Pole, or Support",1,0.14285714285714285,0,1,0,0,0,"Collision with Other Post, Pole, or Support",4,0.08,0,4,0,0,0]
["Collision with Other Traffic Barrier",0,0,0,0,0,0,0,"Collision with Other Traffic Barrier",0,0,0,0,0,0,0]
["Collision with Traffic Sign Support",0,0,0,0,0,0,0,"Collision with Traffic Sign Support",8,0.16,0,1,4,2,1]
["Collision with Traffic Signal Support",0,0,0,0,0,0,0,"Collision with Traffic Signal Support",0,0,0,0,0,0,0]
["Collision with Tree",0,0,0,0,0,0,0,"Collision with Tree",0,0,0,0,0,0,0]
["Collision with Utility Pole or Light Support",{"$f":"SUM(D124:H124)","v":0},0,0,0,0,0,0,"Collision with Utility Pole or Light Support",0,0,0,0,0,0,0]
["Unknown",0,0,0,0,0,0,0,"Unknown",0,0,{"$f":"L3-SUM(L84:L124)","v":0},{"$f":"M3-SUM(M84:M124)","v":0},{"$f":"N3-SUM(N84:N124)","v":0},{"$f":"O3-SUM(O84:O124)","v":0},{"$f":"P3-SUM(P84:P124)","v":0}]
[{"$f":"CONCATENATE(\"Fatal and Serious Injury Crashes Only - \",A127, \"\n\",Instructions!$B$9)","v":"Fatal and Serious Injury Crashes Only - Location of First Harmful Event\nTest County"},null,null,null,null,null,null,null,{"$f":"CONCATENATE(\"Total Crashes - \",I127, \"\n\",Instructions!$B$9)","v":"Total Crashes - Location of First Harmful Event\nTest County"}]
["Location of First Harmful Event","Number of Crashes","Percent of Crashes","Year 5 Crashes","Year 4 Crashes","Year 3 Crashes","Year 2 Crashes","Year 1 Crashes","Location of First Harmful Event","Number of Crashes","Percent of Crashes","Year 5 Crashes","Year 4 Crashes","Year 3 Crashes","Year 2 Crashes","Year 1 Crashes"]
["Gore",{"$f":"SUM(D128:H128)","v":0},{"$f":"B128/SUM(B$128:B$138)","v":0},0,0,0,0,0,{"$f":"A128","v":"Gore"},{"$f":"SUM(L128:P128)","v":5},{"$f":"J128/SUM(J$128:J$138)","v":0.1},1,2,1,0,1]
["In Parking Lane or Zone",{"$f":"SUM(D129:H129)","v":0},0,0,0,0,0,0,"In Parking Lane or Zone",{"$f":"SUM(L129:P129)","v":4},{"$f":"J129/SUM(J$128:J$138)","v":0.08},1,0,2,0,1]
["Median",{"$f":"SUM(D130:H130)","v":0},0,0,0,0,0,0,"Median",{"$f":"SUM(L130:P130)","v":5},0.1,2,2,1,0,0]
["Off-Roadway, Location Unknown",{"$f":"SUM(D131:H131)","v":1},0.14285714285714285,0,1,0,0,0,"Off-Roadway, Location Unknown",{"$f":"SUM(L131:P131)","v":5},0.1,0,2,2,1,0]
["On Roadway",0,0,0,0,0,0,0,"On Roadway",3,0.06,0,0,3,0,0]
["On Shoulder, Left Side",1,0.14285714285714285,0,0,1,0,0,"On Shoulder, Left Side",3,0.06,2,0,1,0,0]
["On Shoulder, Right Side",2,0.2857142857142857,0,0,0,2,0,"On Shoulder, Right Side",6,0.12,0,2,2,2,0]
["Outside Road/Right-of-Way",2,0.2857142857142857,2,0,0,0,0,"Outside Road/Right-of-Way",6,0.12,2,0,0,3,1]
["Roadside",0,0,0,0,0,0,0,"Roadside",4,0.08,0,1,1,1,1]
["Separator/Traffic Island",0,0,0,0,0,0,0,"Separator/Traffic Island",4,0.08,0,0,3,1,0]
["Unknown",{"$f":"SUM(D138:H138)","v":1},0.14285714285714285,0,1,0,0,0,"Unknown",{"$f":"SUM(L138:P138)","v":5},0.1,0,1,1,2,1]
[{"$f":"CONCATENATE(\"Fatal and Serious Injury Crashes Only - \",A140, \"\n\",Instructions!$B$9)","v":"Fatal and Serious Injury Crashes Only - Manner of Crash\nTest County"},null,null,null,null,null,null,null,{"$f":"CONCATENATE(\"Total Crashes - \",I140, \"\n\",Instructions!$B$9)","v":"Total Crashes - Manner of Crash\nTest County"}]
["Manner of Crash","Number of Crashes","Percent of Crashes","Year 5 Crashes","Year 4 Crashes","Year 3 Crashes","Year 2 Crashes","Year 1 Crashes","Manner of Crash","Number of Crashes","Percent of Crashes","Year 5 Crashes","Year 4 Crashes","Year 3 Crashes","Year 2 Crashes","Year 1 Crashes"]
["Not a Collision Between Two Motor Vehicles",{"$f":"SUM(D141:H141)","v":0},{"$f":"B141/SUM(B$141:B$150)","v":0},0,0,0,0,0,{"$f":"A141","v":"Not a Collision Between Two Motor Vehicles"},{"$f":"SUM(L141:P141)","v":8},{"$f":"J141/SUM(J$141:J$150)","v":0.16},0,3,3,0,2]
["Angle",1,0.14285714285714285,1,0,0,0,0,"Angle",13,{"$f":"J142/SUM(J$141:J$150)","v":0.26},2,1,3,5,2]
["Front to Front",0,0,0,0,0,0,0,"Front to Front",0,0,0,0,0,0,0]
["Front to Rear",0,0,0,0,0,0,0,"Front to Rear",4,0.08,0,1,2,1,0]
["Rear to Rear",5,0.7142857142857143,1,1,1,2,0,"Rear to Rear",25,0.5,6,5,9,4,1]
["Rear to Side",{"$f":"SUM(D146:H146)","v":0},0,0,0,0,0,0,"Rear to Side",{"$f":"SUM(L146:P146)","v":0},0,0,0,0,0,0]
["Sideswipe, Opposite Direction",{"$f":"SUM(D147:H147)","v":0},0,0,0,0,0,0,"Sideswipe, Opposite Direction",{"$f":"SUM(L147:P147)","v":0},0,0,0,0,0,0]
["Sideswipe, Same Direction",1,0.14285714285714285,0,1,0,0,0,"Sideswipe, Same Direction",0,0,0,0,0,0,0]
["Other",0,0,0,0,0,0,0,"Other",0,0,0,0,0,0,0]
["Unknown",0,0,0,0,0,0,0,"Unknown",0,0,0,0,0,0,0]
[{"$f":"CONCATENATE(\"Fatal and Serious Injury Crashes Only - \",A152, \"\n\",Instructions!$B$9)","v":"Fatal and Serious Injury Crashes Only - Weather\nTest County"},null,null,null,null,null,null,null,{"$f":"CONCATENATE(\"Total Crashes - \",I152, \"\n\",Instructions!$B$9)","v":"Total Crashes - Weather\nTest County"}]
["Weather","Number of Crashes","Percent of Crashes","Year 5 Crashes","Year 4 Crashes","Year 3 Crashes","Year 2 Crashes","Year 1 Crashes","Weather","Number of Crashes","Percent of Crashes","Year 5 Crashes","Year 4 Crashes","Year 3 Crashes","Year 2 Crashes","Year 1 Crashes"]
["Blowing Sand, Soil, Dirt",{"$f":"SUM(D153:H153)","v":2},{"$f":"B153/SUM(B$153:B$164)","v":0.2857142857142857},0,0,0,2,0,{"$f":"A153","v":"Blowing Sand, Soil, Dirt"},{"$f":"SUM(L153:P153)","v":6},{"$f":"J153/SUM(J$153:J$164)","v":0.12},0,2,2,2,0]
["Blowing Snow",2,0.2857142857142857,2,0,0,0,0,"Blowing Snow",6,{"$f":"J154/SUM(J$153:J$164)","v":0.12},2,0,0,3,1]
["Clear",0,0,0,0,0,0,0,"Clear",4,0.08,0,1,1,1,1]
["Cloudy",0,0,0,0,0,0,0,"Cloudy",4,0.08,0,0,3,1,0]
["Fog, Smog, Smoke",1,0.14285714285714285,0,1,0,0,0,"Fog, Smog, Smoke",3,0.06,0,1,1,0,1]
["Freezing Rain or Freezing Drizzle",0,0,0,0,0,0,0,"Freezing Rain or Freezing Drizzle",2,0.04,0,0,0,2,0]
["Rain",0,0,0,0,0,0,0,"Rain",5,0.1,1,2,1,0,1]
["Severe Crosswinds",0,0,0,0,0,0,0,"Severe Crosswinds",4,0.08,1,0,2,0,1]
["Sleet or Hail",0,0,0,0,0,0,0,"Sleet or Hail",5,0.1,2,2,1,0,0]
["Snow",1,0.14285714285714285,0,1,0,0,0,"Snow",5,0.1,0,2,2,1,0]
["Other",0,0,0,0,0,0,0,"Other",3,0.06,0,0,3,0,0]
["Unknown",1,0.14285714285714285,0,0,1,0,0,"Unknown",3,0.06,2,0,1,0,0]
[{"$f":"CONCATENATE(\"Fatal and Serious Injury Crashes Only - \",A166, \"\n\",Instructions!$B$9)","v":"Fatal and Serious Injury Crashes Only - Light Conditions\nTest County"},null,null,null,null,null,null,null,{"$f":"CONCATENATE(\"Total Crashes - \",I166, \"\n\",Instructions!$B$9)","v":"Total Crashes - Light Conditions\nTest County"}]
["Light Conditions","Number of Crashes","Percent of Crashes","Year 5 Crashes","Year 4 Crashes","Year 3 Crashes","Year 2 Crashes","Year 1 Crashes","Light Conditions","Number of Crashes","Percent of Crashes","Year 5 Crashes","Year 4 Crashes","Year 3 Crashes","Year 2 Crashes","Year 1 Crashes"]
["Daylight",{"$f":"SUM(D167:H167)","v":0},{"$f":"B167/SUM(B$167:B$173)","v":0},0,0,0,0,0,{"$f":"A167","v":"Daylight"},{"$f":"SUM(L167:P167)","v":6},{"$f":"J167/SUM(J$167:J$173)","v":0.12},1,0,4,1,0]
["Dawn/Dusk",{"$f":"SUM(D168:H168)","v":2},0.2857142857142857,0,1,0,1,0,"Dawn/Dusk",{"$f":"SUM(L168:P168)","v":8},{"$f":"J168/SUM(J$167:J$173)","v":0.16},0,1,4,2,1]
["Dark - Lighted",1,0.14285714285714285,1,0,0,0,0,"Dark - Lighted",5,0.1,0,1,1,1,2]
["Dark - Not Lighted",2,0.2857142857142857,0,0,1,1,0,"Dark - Not Lighted",5,0.1,1,0,3,1,0]
["Dark - Unknown Lighting",1,0.14285714285714285,0,1,0,0,0,"Dark - Unknown Lighting",4,0.08,1,1,2,0,0]
["Other",0,0,0,0,0,0,0,"Other",9,0.18,1,4,0,3,1]
["Unknown",1,0.14285714285714285,1,0,0,0,0,"Unknown",13,0.26,4,3,3,2,1]
[{"$f":"CONCATENATE(\"Fatal and Serious Injury Crashes Only - \",A175, \"\n\",Instructions!$B$9)","v":"Fatal and Serious Injury Crashes Only - Road Surface Condition\nTest County"},null,null,null,null,null,null,null,{"$f":"CONCATENATE(\"Total Crashes - \",I175, \"\n\",Instructions!$B$9)","v":"Total Crashes - Road Surface Condition\nTest County"}]
["Road Surface Condition","Number of Crashes","Percent of Crashes","Year 5 Crashes","Year 4 Crashes","Year 3 Crashes","Year 2 Crashes","Year 1 Crashes","Road Surface Condition","Number of Crashes","Percent of Crashes","Year 5 Crashes","Year 4 Crashes","Year 3 Crashes","Year 2 Crashes","Year 1 Crashes"]
["Dry",{"$f":"SUM(D176:H176)","v":4},{"$f":"B176/SUM(B$176:B$186)","v":0.5714285714285714},1,1,1,1,0,{"$f":"A176","v":"Dry"},{"$f":"SUM(L176:P176)","v":22},{"$f":"J176/SUM(J$176:J$186)","v":0.44},5,3,10,4,0]
["Ice/Frost",2,0.2857142857142857,1,0,0,1,0,"Ice/Frost",28,{"$f":"J177/SUM(J$176:J$186)","v":0.56000000000000005},3,7,7,6,5]
["Mud, Dirt, Gravel",0,0,0,0,0,0,0,"Mud, Dirt, Gravel",0,0,0,0,0,0,0]
["Oil",1,0.14285714285714285,0,1,0,0,0,"Oil",0,0,0,0,0,0,0]
["Sand",0,0,0,0,0,0,0,"Sand",0,0,0,0,0,0,0]
["Sluch",0,0,0,0,0,0,0,"Sluch",0,0,0,0,0,0,0]
["Snow",0,0,0,0,0,0,0,"Snow",0,0,0,0,0,0,0]
["Water (Standing, Moving)",0,0,0,0,0,0,0,"Water (Standing, Moving)",0,0,0,0,0,0,0]
["Wet",0,0,0,0,0,0,0,"Wet",0,0,0,0,0,0,0]
["Other",0,0,0,0,0,0,0,"Other",0,0,0,0,0,0,0]
["Unknown",0,0,0,0,0,0,0,"Unknown",0,0,0,0,0,0,0]
[{"$f":"CONCATENATE(\"Fatal and Serious Injury Crashes Only - \",A188, \"\n\",Instructions!$B$9)","v":"Fatal and Serious Injury Crashes Only - Contributing Circumstances - Roadway Environment, Selection 1\nTest County"},null,null,null,null,null,null,null,{"$f":"CONCATENATE(\"Total Crashes - \",I188, \"\n\",Instructions!$B$9)","v":"Total Crashes - Contributing Circumstances - Roadway Environment, Selection 1\nTest County"}]
["Contributing Circumstances - Roadway Environment, Selection 1","Number of Crashes","Percent of Crashes","Year 5 Crashes","Year 4 Crashes","Year 3 Crashes","Year 2 Crashes","Year 1 Crashes","Contributing Circumstances - Roadway Environment, Selection 1","Number of Crashes","Percent of Crashes","Year 5 Crashes","Year 4 Crashes","Year 3 Crashes","Year 2 Crashes","Year 1 Crashes"]
["None",{"$f":"SUM(D189:H189)","v":1},{"$f":"B189/SUM(B$189:B$211)","v":0.14285714285714285},0,0,0,1,0,{"$f":"A189","v":"None"},{"$f":"SUM(L189:P189)","v":0},{"$f":"J189/SUM(J$189:J$211)","v":0},0,0,0,0,0]
["Animal(s)",0,0,0,0,0,0,0,"Animal(s)",0,{"$f":"J190/SUM(J$189:J$211)","v":0},0,0,0,0,0]
["Debris",0,0,0,0,0,0,0,"Debris",1,0.02,1,0,0,0,0]
["Glare",0,0,0,0,0,0,0,"Glare",3,0.06,0,1,2,0,0]
["Non-Highway Work",1,0.14285714285714285,1,0,0,0,0,"Non-Highway Work",1,0.02,0,1,0,0,0]
["Obstructed Crosswalks",0,0,0,0,0,0,0,"Obstructed Crosswalks",2,0.04,0,1,0,1,0]
["Obstruction in Roadway",0,0,0,0,0,0,0,"Obstruction in Roadway",5,0.1,1,1,0,3,0]
["Prior Crash",0,0,0,0,0,0,0,"Prior Crash",2,0.04,2,0,0,0,0]
["Prior Non-Recurring Incident",0,0,0,0,0,0,0,"Prior Non-Recurring Incident",1,0.02,0,0,1,0,0]
["Regular Congestion",0,0,0,0,0,0,0,"Regular Congestion",3,0.06,0,0,3,0,0]
["Related to a Bus Stop",0,0,0,0,0,0,0,"Related to a Bus Stop",3,0.06,0,1,0,2,0]
["Road Surface Condition (wet, icy, snow, slush, etc.)",0,0,0,0,0,0,0,"Road Surface Condition (wet, icy, snow, slush, etc.)",5,0.1,1,1,2,1,0]
["Ruts, Holes, Bumps",0,0,0,0,0,0,0,"Ruts, Holes, Bumps",4,0.08,0,0,3,0,1]
["Shoulders (none, low, soft, high)",1,0.14285714285714285,0,1,0,0,0,"Shoulders (none, low, soft, high)",4,0.08,1,1,1,0,1]
["Toll Booth/Plaza Related",0,0,0,0,0,0,0,"Toll Booth/Plaza Related",3,0.06,0,1,1,1,0]
["Traffic Control Device",0,0,0,0,0,0,0,"Traffic Control Device",6,0.12,1,0,2,2,1]
["Traffic Incident",0,0,0,0,0,0,0,"Traffic Incident",2,0.04,0,1,0,0,1]
["Visual Obstruction(s)",3,0.42857142857142855,1,0,1,1,0,"Visual Obstruction(s)",1,0.02,1,0,0,0,0]
["Weather Conditions",1,0.14285714285714285,0,1,0,0,0,"Weather Conditions",2,0.04,0,1,0,0,1]
["Work Zone (construction/maintenance/utility)",0,0,0,0,0,0,0,"Work Zone (construction/maintenance/utility)",1,0.02,0,0,1,0,0]
["Worn, Travel-polished Surface",0,0,0,0,0,0,0,"Worn, Travel-polished Surface",1,0.02,0,0,1,0,0]
["Other",0,0,0,0,0,0,0,"Other",0,0,0,0,0,0,0]
["Unknown",0,0,0,0,0,0,0,"Unknown",0,0,0,0,0,0,0]
[{"$f":"CONCATENATE(\"Fatal and Serious Injury Crashes Only - \",A213, \"\n\",Instructions!$B$9)","v":"Fatal and Serious Injury Crashes Only - Contributing Circumstances - Roadway Environment, Selection 2\nTest County"},null,null,null,null,null,null,null,{"$f":"CONCATENATE(\"Total Crashes - \",I213, \"\n\",Instructions!$B$9)","v":"Total Crashes - Contributing Circumstances - Roadway Environment, Selection 2\nTest County"}]
["Contributing Circumstances - Roadway Environment, Selection 2","Number of Crashes","Percent of Crashes","Year 5 Crashes","Year 4 Crashes","Year 3 Crashes","Year 2 Crashes","Year 1 Crashes","Contributing Circumstances - Roadway Environment, Selection 2","Number of Crashes","Percent of Crashes","Year 5 Crashes","Year 4 Crashes","Year 3 Crashes","Year 2 Crashes","Year 1 Crashes"]
["None",{"$f":"SUM(D214:H214)","v":0},{"$f":"B214/SUM(B$214:B$236)","v":0},0,0,0,0,0,{"$f":"A214","v":"None"},{"$f":"SUM(L214:P214)","v":4},{"$f":"J214/SUM(J$214:J$236)","v":0.08},1,0,1,2,0]
["Animal(s)",0,0,0,0,0,0,0,"Animal(s)",0,{"$f":"J215/SUM(J$214:J$236)","v":0},0,0,0,0,0]
["Debris",0,0,0,0,0,0,0,"Debris",1,0.02,0,0,0,1,0]
["Glare",0,0,0,0,0,0,0,"Glare",0,0,0,0,0,0,0]
["Non-Highway Work",1,0.14285714285714285,0,0,0,1,0,"Non-Highway Work",0,0,0,0,0,0,0]
["Obstructed Crosswalks",1,0.14285714285714285,1,0,0,0,0,"Obstructed Crosswalks",3,0.06,0,1,2,0,0]
["Obstruction in Roadway",0,0,0,0,0,0,0,"Obstruction in Roadway",1,0.02,0,1,0,0,0]
["Prior Crash",0,0,0,0,0,0,0,"Prior Crash",2,0.04,0,2,0,0,0]
["Prior Non-Recurring Incident",0,0,0,0,0,0,0,"Prior Non-Recurring Incident",2,0.04,1,1,0,0,0]
["Regular Congestion",0,0,0,0,0,0,0,"Regular Congestion",2,0.04,2,0,0,0,0]
["Related to a Bus Stop",0,0,0,0,0,0,0,"Related to a Bus Stop",1,0.02,0,0,1,0,0]
["Road Surface Condition (wet, icy, snow, slush, etc.)",1,0.14285714285714285,0,0,1,0,0,"Road Surface Condition (wet, icy, snow, slush, etc.)",3,0.06,0,1,2,0,0]
["Ruts, Holes, Bumps",0,0,0,0,0,0,0,"Ruts, Holes, Bumps",2,0.04,0,0,0,2,0]
["Shoulders (none, low, soft, high)",1,0.14285714285714285,0,1,0,0,0,"Shoulders (none, low, soft, high)",4,0.08,1,0,2,1,0]
["Toll Booth/Plaza Related",0,0,0,0,0,0,0,"Toll Booth/Plaza Related",4,0.08,0,0,3,0,1]
["Traffic Control Device",0,0,0,0,0,0,0,"Traffic Control Device",4,0.08,1,1,1,0,1]
["Traffic Incident",1,0.14285714285714285,0,1,0,0,0,"Traffic Incident",3,0.06,0,1,1,1,0]
["Visual Obstruction(s)",0,0,0,0,0,0,0,"Visual Obstruction(s)",6,0.12,1,0,2,2,1]
["Weather Conditions",1,0.14285714285714285,1,0,0,0,0,"Weather Conditions",2,0.04,0,1,0,0,1]
["Work Zone (construction/maintenance/utility)",0,0,0,0,0,0,0,"Work Zone (construction/maintenance/utility)",2,0.04,1,0,0,1,0]
["Worn, Travel-polished Surface",1,0.14285714285714285,0,0,0,1,0,"Worn, Travel-polished Surface",3,0.06,0,1,1,0,1]
["Other",0,0,0,0,0,0,0,"Other",0,0,0,0,0,0,0]
["Unknown",0,0,0,0,0,0,0,"Unknown",1,0.02,0,0,1,0,0]
[{"$f":"CONCATENATE(\"Fatal and Serious Injury Crashes Only - \",A238, \"\n\",Instructions!$B$9)","v":"Fatal and Serious Injury Crashes Only - Within Interchange Area\nTest County"},null,null,null,null,null,null,null,{"$f":"CONCATENATE(\"Total Crashes - \",I238, \"\n\",Instructions!$B$9)","v":"Total Crashes - Within Interchange Area\nTest County"}]
["Within Interchange Area","Number of Crashes","Percent of Crashes","Year 5 Crashes","Year 4 Crashes","Year 3 Crashes","Year 2 Crashes","Year 1 Crashes","Within Interchange Area","Number of Crashes","Percent of Crashes","Year 5 Crashes","Year 4 Crashes","Year 3 Crashes","Year 2 Crashes","Year 1 Crashes"]
["No",{"$f":"SUM(D239:H239)","v":3},{"$f":"B239/SUM(B$239:B$241)","v":0.42857142857142855},1,1,0,1,0,{"$f":"A239","v":"No"},{"$f":"SUM(L239:P239)","v":43},{"$f":"J239/SUM(J$239:J$241)","v":0.86},6,9,15,8,5]
["Yes",4,{"$f":"B240/SUM(B$239:B$241)","v":0.5714285714285714},1,1,1,1,0,{"$f":"A240","v":"Yes"},5,{"$f":"J240/SUM(J$239:J$241)","v":0.1},1,1,1,2,0]
["Unknown",0,{"$f":"B241/SUM(B$239:B$241)","v":0},0,0,0,0,0,{"$f":"A241","v":"Unknown"},2,0.04,1,0,1,0,0]
[{"$f":"CONCATENATE(\"Fatal and Serious Injury Crashes Only - \",A243, \"\n\",Instructions!$B$9)","v":"Fatal and Serious Injury Crashes Only - Relation to Junction\nTest County"},null,null,null,null,null,null,null,{"$f":"CONCATENATE(\"Total Crashes - \",I243, \"\n\",Instructions!$B$9)","v":"Total Crashes - Relation to Junction\nTest County"}]
["Relation to Junction","Number of Crashes","Percent of Crashes","Year 5 Crashes","Year 4 Crashes","Year 3 Crashes","Year 2 Crashes","Year 1 Crashes","Relation to Junction","Number of Crashes","Percent of Crashes","Year 5 Crashes","Year 4 Crashes","Year 3 Crashes","Year 2 Crashes","Year 1 Crashes"]
["Acceleration/Deceleration Lane",0,{"$f":"B244/SUM(B$244:B$254)","v":0},0,0,0,0,0,{"$f":"A244","v":"Acceleration/Deceleration Lane"},3,{"$f":"J244/SUM(J$244:J$254)","v":0.06},1,0,1,0,1]
["Crossover-Related",0,0,0,0,0,0,0,"Crossover-Related",5,{"$f":"J245/SUM(J$244:J$254)","v":0.1},2,2,1,0,0]
["Driveway Access or Related",4,0.5714285714285714,1,1,0,2,0,"Driveway Access or Related",3,0.06,0,0,2,1,0]
["Entrance/Exit Ramp or Related",0,0,0,0,0,0,0,"Entrance/Exit Ramp or Related",4,0.08,0,1,3,0,0]
["Intersection or Related",0,0,0,0,0,0,0,"Intersection or Related",4,0.08,2,1,1,0,0]
["Non-Junction",1,0.14285714285714285,1,0,0,0,0,"Non-Junction",6,0.12,0,2,2,2,0]
["Railway Grade Crossing",0,0,0,0,0,0,0,"Railway Grade Crossing",5,0.1,0,0,1,3,1]
["Shared-Use Path or Trail",1,0.14285714285714285,0,0,1,0,0,"Shared-Use Path or Trail",4,0.08,0,1,1,1,1]
["Through Roadway",0,0,0,0,0,0,0,"Through Roadway",7,0.14000000000000001,0,2,3,1,1]
["Other",0,0,0,0,0,0,0,"Other",6,0.12,2,1,2,0,1]
["Unknown",1,0.14285714285714285,0,1,0,0,0,"Unknown",3,0.06,1,0,0,2,0]
[{"$f":"CONCATENATE(\"Fatal and Serious Injury Crashes Only - \",A256, \"\n\",Instructions!$B$9)","v":"Fatal and Serious Injury Crashes Only - Type of Intersection\nTest County"},null,null,null,null,null,null,null,{"$f":"CONCATENATE(\"Total Crashes - \",I256, \"\n\",Instructions!$B$9)","v":"Total Crashes - Type of Intersection\nTest County"}]
["Type of Intersection","Number of Crashes","Percent of Crashes","Year 5 Crashes","Year 4 Crashes","Year 3 Crashes","Year 2 Crashes","Year 1 Crashes","Type of Intersection","Number of Crashes","Percent of Crashes","Year 5 Crashes","Year 4 Crashes","Year 3 Crashes","Year 2 Crashes","Year 1 Crashes"]
["Not at Intersection",0,{"$f":"B257/SUM(B$257:B$261)","v":0},0,0,0,0,0,{"$f":"A257","v":"Not at Intersection"},2,{"$f":"J257/SUM(J$257:J$261)","v":0.04},0,0,0,0,2]
["Two-Leg",3,{"$f":"B258/SUM(B$257:B$261)","v":0.42857142857142855},1,0,1,1,0,{"$f":"A258","v":"Two-Leg"},12,{"$f":"J258/SUM(J$257:J$261)","v":0.24},3,2,4,3,0]
["Three-Leg",1,{"$f":"B259/SUM(B$257:B$261)","v":0.14285714285714285},1,0,0,0,0,{"$f":"A259","v":"Three-Leg"},3,0.06,1,1,1,0,0]
["Four-Leg",3,{"$f":"B260/SUM(B$257:B$261)","v":0.42857142857142855},0,1,1,1,0,{"$f":"A260","v":"Four-Leg"},33,0.66,4,7,12,7,3]
["Five or More Legs",0,{"$f":"B261/SUM(B$257:B$261)","v":0},0,0,0,0,0,{"$f":"A261","v":"Five or More Legs"},0,0,0,0,0,0,0]
[{"$f":"CONCATENATE(\"Fatal and Serious Injury Crashes Only - \",A263, \"\n\",Instructions!$B$9)","v":"Fatal and Serious Injury Crashes Only - Intersection Geometry\nTest County"},null,null,null,null,null,null,null,{"$f":"CONCATENATE(\"Total Crashes - \",I263, \"\n\",Instructions!$B$9)","v":"Total Crashes - Intersection Geometry\nTest County"}]
["Intersection Geometry","Number of Crashes","Percent of Crashes","Year 5 Crashes","Year 4 Crashes","Year 3 Crashes","Year 2 Crashes","Year 1 Crashes","Intersection Geometry","Number of Crashes","Percent of Crashes","Year 5 Crashes","Year 4 Crashes","Year 3 Crashes","Year 2 Crashes","Year 1 Crashes"]
["Angled or Skewed",3,{"$f":"B264/SUM(B$264:B$267)","v":0.42857142857142855},1,0,1,1,0,{"$f":"A264","v":"Angled or Skewed"},14,{"$f":"J264/SUM(J$264:J$267)","v":0.28000000000000003},3,2,4,3,2]
["Roundabout or Traffic Circle",1,{"$f":"B265/SUM(B$264:B$267)","v":0.14285714285714285},1,0,0,0,0,{"$f":"A265","v":"Roundabout or Traffic Circle"},3,{"$f":"J265/SUM(J$264:J$267)","v":0.06},1,1,1,0,0]
["Perpindicular",3,{"$f":"B266/SUM(B$264:B$267)","v":0.42857142857142855},0,1,1,1,0,{"$f":"A266","v":"Perpindicular"},33,0.66,4,7,12,7,3]
["Not at Intersection",0,{"$f":"B267/SUM(B$264:B$267)","v":0},0,0,0,0,0,{"$f":"A267","v":"Not at Intersection"},0,0,0,0,0,0,0]
[{"$f":"CONCATENATE(\"Fatal and Serious Injury Crashes Only - \",A269, \"\n\",Instructions!$B$9)","v":"Fatal and Serious Injury Crashes Only - Traffic Control Device\nTest County"},null,null,null,null,null,null,null,{"$f":"CONCATENATE(\"Total Crashes - \",I269, \"\n\",Instructions!$B$9)","v":"Total Crashes - Traffic Control Device\nTest County"}]
["Traffic Control Device","Number of Crashes","Percent of Crashes","Year 5 Crashes","Year 4 Crashes","Year 3 Crashes","Year 2 Crashes","Year 1 Crashes","Traffic Control Device","Number of Crashes","Percent of Crashes","Year 5 Crashes","Year 4 Crashes","Year 3 Crashes","Year 2 Crashes","Year 1 Crashes"]
["Signalized",0,{"$f":"B270/SUM(B$270:B$275)","v":0},0,0,0,0,0,{"$f":"A270","v":"Signalized"},0,{"$f":"J270/SUM(J$270:J$275)","v":0},0,0,0,0,0]
["Stop - All Way",0,0,0,0,0,0,0,"Stop - All Way",0,{"$f":"J271/SUM(J$270:J$275)","v":0},0,0,0,0,0]
["Stop - Partial",6,0.8571428571428571,2,1,1,2,0,"Stop - Partial",36,0.72,6,8,8,9,5]
["Yield",0,0,0,0,0,0,0,"Yield",2,0.04,0,0,2,0,0]
["No Controls",1,0.14285714285714285,0,1,0,0,0,"No Controls",3,0.06,1,0,2,0,0]
["Not an Intersection",0,0,0,0,0,0,0,"Not an Intersection",9,0.18,1,2,5,1,0]
[{"$f":"CONCATENATE(\"Fatal and Serious Injury Crashes Only - \",A277, \"\n\",Instructions!$B$9)","v":"Fatal and Serious Injury Crashes Only - Crash in Work Zone\nTest County"},null,null,null,null,null,null,null,{"$f":"CONCATENATE(\"Total Crashes - \",I277, \"\n\",Instructions!$B$9)","v":"Total Crashes - Crash in Work Zone\nTest County"}]
["Crash in Work Zone","Number of Crashes","Percent of Crashes","Year 5 Crashes","Year 4 Crashes","Year 3 Crashes","Year 2 Crashes","Year 1 Crashes","Crash in Work Zone","Number of Crashes","Percent of Crashes","Year 5 Crashes","Year 4 Crashes","Year 3 Crashes","Year 2 Crashes","Year 1 Crashes"]
["Yes",{"$f":"SUM(D278:H278)","v":7},{"$f":"B278/SUM(B$278:B$280)","v":1},2,2,1,2,0,{"$f":"A278","v":"Yes"},{"$f":"SUM(L278:P278)","v":14},{"$f":"J278/SUM(J$278:J$280)","v":0.28000000000000003},1,6,2,5,0]
["No",0,{"$f":"B279/SUM(B$278:B$280)","v":0},0,0,0,0,0,{"$f":"A279","v":"No"},9,{"$f":"J279/SUM(J$278:J$280)","v":0.18},1,2,5,1,0]
["Unknown",0,{"$f":"B280/SUM(B$278:B$280)","v":0},0,0,0,0,0,{"$f":"A280","v":"Unknown"},27,0.54,6,2,10,4,5]
[{"$f":"CONCATENATE(\"Fatal and Serious Injury Crashes Only - \",A282, \"\n\",Instructions!$B$9)","v":"Fatal and Serious Injury Crashes Only - Number of Motor Vehicles Involved\nTest County"},null,null,null,null,null,null,null,{"$f":"CONCATENATE(\"Total Crashes - \",I282, \"\n\",Instructions!$B$9)","v":"Total Crashes - Number of Motor Vehicles Involved\nTest County"}]
["Number of Motor Vehicles Involved","Number of Crashes","Percent of Crashes","Year 5 Crashes","Year 4 Crashes","Year 3 Crashes","Year 2 Crashes","Year 1 Crashes","Number of Motor Vehicles Involved","Number of Crashes","Percent of Crashes","Year 5 Crashes","Year 4 Crashes","Year 3 Crashes","Year 2 Crashes","Year 1 Crashes"]
["One",3,{"$f":"B283/SUM(B$283:B$286)","v":0.42857142857142855},0,1,1,1,0,{"$f":"A283","v":"One"},33,{"$f":"J283/SUM(J$283:J$286)","v":0.66},4,7,12,7,3]
["Two",0,{"$f":"B284/SUM(B$283:B$286)","v":0},0,0,0,0,0,{"$f":"A284","v":"Two"},0,{"$f":"J284/SUM(J$283:J$286)","v":0},0,0,0,0,0]
["Three",3,{"$f":"B285/SUM(B$283:B$286)","v":0.42857142857142855},1,0,1,1,0,{"$f":"A285","v":"Three"},14,0.28000000000000003,3,2,4,3,2]
["Four or More",1,{"$f":"B286/SUM(B$283:B$286)","v":0.14285714285714285},1,0,0,0,0,{"$f":"A286","v":"Four or More"},3,0.06,1,1,1,0,0]
[{"$f":"CONCATENATE(\"Fatal and Serious Injury Crashes Only - \",A288, \"\n\",Instructions!$B$9)","v":"Fatal and Serious Injury Crashes Only - Horizontal Alignment\nTest County"},null,null,null,null,null,null,null,{"$f":"CONCATENATE(\"Total Crashes - \",I288, \"\n\",Instructions!$B$9)","v":"Total Crashes - Horizontal Alignment\nTest County"}]
["Horizontal Alignment","Number of Crashes","Percent of Crashes","Year 5 Crashes","Year 4 Crashes","Year 3 Crashes","Year 2 Crashes","Year 1 Crashes","Horizontal Alignment","Number of Crashes","Percent of Crashes","Year 5 Crashes","Year 4 Crashes","Year 3 Crashes","Year 2 Crashes","Year 1 Crashes"]
["Straight",{"$f":"SUM(D289:H289)","v":0},{"$f":"B289/SUM(B$289:B$291)","v":0},0,0,0,0,0,{"$f":"A289","v":"Straight"},{"$f":"SUM(L289:P289)","v":9},{"$f":"J289/SUM(J$289:J$291)","v":0.18},1,2,5,1,0]
["Horizontal Curve Left",0,{"$f":"B290/SUM(B$289:B$291)","v":0},0,0,0,0,0,{"$f":"A290","v":"Horizontal Curve Left"},27,{"$f":"J290/SUM(J$289:J$291)","v":0.54},6,2,10,4,5]
["Horizontal Curve Right",7,{"$f":"B291/SUM(B$289:B$291)","v":1},2,2,1,2,0,{"$f":"A291","v":"Horizontal Curve Right"},14,0.28000000000000003,1,6,2,5,0]
[{"$f":"CONCATENATE(\"Fatal and Serious Injury Crashes Only - \",A293, \"\n\",Instructions!$B$9)","v":"Fatal and Serious Injury Crashes Only - Vertical Alignment\nTest County"},null,null,null,null,null,null,null,{"$f":"CONCATENATE(\"Total Crashes - \",I293, \"\n\",Instructions!$B$9)","v":"Total Crashes - Vertical Alignment\nTest County"}]
["Vertical Alignment","Number of Crashes","Percent of Crashes","Year 5 Crashes","Year 4 Crashes","Year 3 Crashes","Year 2 Crashes","Year 1 Crashes","Vertical Alignment","Number of Crashes","Percent of Crashes","Year 5 Crashes","Year 4 Crashes","Year 3 Crashes","Year 2 Crashes","Year 1 Crashes"]
["Level",0,{"$f":"B294/SUM(B$294:B$299)","v":0},0,0,0,0,0,{"$f":"A294","v":"Level"},1,{"$f":"J294/SUM(J$294:J$299)","v":0.02},0,0,0,0,1]
["Uphill",0,0,0,0,0,0,0,"Uphill",0,{"$f":"J295/SUM(J$294:J$299)","v":0},0,0,0,0,0]
["Hillcrest",2,0.2857142857142857,1,0,0,1,0,"Hillcrest",6,0.12,2,2,1,1,0]
["Downhill",2,0.2857142857142857,0,1,1,0,0,"Downhill",10,0.2,2,1,5,2,0]
["Sag",3,0.42857142857142855,1,0,1,1,0,"Sag",31,0.62,4,6,10,7,4]
["Unknown",0,0,0,0,0,0,0,"Unknown",2,0.04,0,1,1,0,0]
[{"$f":"CONCATENATE(\"Fatal and Serious Injury Crashes Only - \",A301, \"\n\",Instructions!$B$9)","v":"Fatal and Serious Injury Crashes Only - Roadway Owner\nTest County"},null,null,null,null,null,null,null,{"$f":"CONCATENATE(\"Total Crashes - \",I301, \"\n\",Instructions!$B$9)","v":"Total Crashes - Roadway Owner\nTest County"}]
["Roadway Owner","Number of Crashes","Percent of Crashes","Year 5 Crashes","Year 4 Crashes","Year 3 Crashes","Year 2 Crashes","Year 1 Crashes","Roadway Owner","Number of Crashes","Percent of Crashes","Year 5 Crashes","Year 4 Crashes","Year 3 Crashes","Year 2 Crashes","Year 1 Crashes"]
["State",{"$f":"SUM(D302:H302)","v":2},{"$f":"B302/SUM(B$302:B$307)","v":0.2857142857142857},0,1,1,0,0,{"$f":"A302","v":"State"},{"$f":"SUM(L302:P302)","v":10},{"$f":"J302/SUM(J$302:J$307)","v":0.2},2,1,5,2,0]
["County",3,0.42857142857142855,1,0,1,1,0,"County",31,{"$f":"J303/SUM(J$302:J$307)","v":0.62},4,6,10,7,4]
["Municipality",0,0,0,0,0,0,0,"Municipality",2,0.04,0,1,1,0,0]
["Federal",0,0,0,0,0,0,0,"Federal",1,0.02,0,0,0,0,1]
["Tribal",0,0,0,0,0,0,0,"Tribal",0,0,0,0,0,0,0]
["Unknown",2,0.2857142857142857,1,0,0,1,0,"Unknown",6,0.12,2,2,1,1,0]
[{"$f":"CONCATENATE(\"Fatal and Serious Injury Crashes Only - \",A309, \"\n\",Instructions!$B$9)","v":"Fatal and Serious Injury Crashes Only - Area Type\nTest County"},null,null,null,null,null,null,null,{"$f":"CONCATENATE(\"Total Crashes - \",I309, \"\n\",Instructions!$B$9)","v":"Total Crashes - Area Type\nTest County"}]
["Area Type","Number of Crashes","Percent of Crashes","Year 5 Crashes","Year 4 Crashes","Year 3 Crashes","Year 2 Crashes","Year 1 Crashes","Area Type","Number of Crashes","Percent of Crashes","Year 5 Crashes","Year 4 Crashes","Year 3 Crashes","Year 2 Crashes","Year 1 Crashes"]
["Urban",{"$f":"SUM(D310:H310)","v":4},{"$f":"B310/SUM(B$310:B$312)","v":0.5714285714285714},1,1,1,1,0,{"$f":"A310","v":"Urban"},{"$f":"SUM(L310:P310)","v":19},{"$f":"J310/SUM(J$310:J$312)","v":0.38},2,5,5,3,4]
["Rural",3,{"$f":"B311/SUM(B$310:B$312)","v":0.42857142857142855},1,1,0,1,0,{"$f":"A311","v":"Rural"},22,{"$f":"J311/SUM(J$310:J$312)","v":0.44},4,4,10,3,1]
["Unknown",0,{"$f":"B312/SUM(B$310:B$312)","v":0},0,0,0,0,0,{"$f":"A312","v":"Unknown"},9,0.18,2,1,2,4,0]
[{"$f":"CONCATENATE(\"Fatal and Serious Injury Crashes Only - \",A314, \"\n\",Instructions!$B$9)","v":"Fatal and Serious Injury Crashes Only - Functional Class\nTest County"},null,null,null,null,null,null,null,{"$f":"CONCATENATE(\"Total Crashes - \",I314, \"\n\",Instructions!$B$9)","v":"Total Crashes - Functional Class\nTest County"}]
["Functional Class","Number of Crashes","Percent of Crashes","Year 5 Crashes","Year 4 Crashes","Year 3 Crashes","Year 2 Crashes","Year 1 Crashes","Functional Class","Number of Crashes","Percent of Crashes","Year 5 Crashes","Year 4 Crashes","Year 3 Crashes","Year 2 Crashes","Year 1 Crashes"]
["Interstate",{"$f":"SUM(D315:H315)","v":0},{"$f":"B315/SUM(B$315:B$321)","v":0},0,0,0,0,0,{"$f":"A315","v":"Interstate"},{"$f":"SUM(L315:P315)","v":4},{"$f":"J315/SUM(J$315:J$321)","v":0.08},1,1,2,0,0]
["Principal Arterial - Other Freeway or Expressway",1,0.14285714285714285,0,0,0,1,0,"Principal Arterial - Other Freeway or Expressway",9,{"$f":"J316/SUM(J$315:J$321)","v":0.18},1,4,0,3,1]
["Principal Arterial - Other",1,0.14285714285714285,1,0,0,0,0,"Principal Arterial - Other",13,0.26,4,3,3,2,1]
["Minor Arterial",2,0.2857142857142857,0,0,1,1,0,"Minor Arterial",6,0.12,1,0,4,1,0]
["Collector",1,0.14285714285714285,0,1,0,0,0,"Collector",8,0.16,0,1,4,2,1]
["Local",0,0,0,0,0,0,0,"Local",5,0.1,0,1,1,1,2]
["Unknown",{"$f":"SUM(D321:H321)","v":2},0.2857142857142857,1,0,1,0,0,"Unknown",{"$f":"SUM(L321:P321)","v":5},0.1,1,0,3,1,0]
[{"$f":"CONCATENATE(\"Fatal and Serious Injury Crashes Only - \",A323, \"\n\",Instructions!$B$9)","v":"Fatal and Serious Injury Crashes Only - Access Control\nTest County"},null,null,null,null,null,null,null,{"$f":"CONCATENATE(\"Total Crashes - \",I323, \"\n\",Instructions!$B$9)","v":"Total Crashes - Access Control\nTest County"}]
["Access Control","Number of Crashes","Percent of Crashes","Year 5 Crashes","Year 4 Crashes","Year 3 Crashes","Year 2 Crashes","Year 1 Crashes","Access Control","Number of Crashes","Percent of Crashes","Year 5 Crashes","Year 4 Crashes","Year 3 Crashes","Year 2 Crashes","Year 1 Crashes"]
["No Access Control",4,{"$f":"B324/SUM(B$324:B$326)","v":0.5714285714285714},1,1,1,1,0,{"$f":"A324","v":"No Access Control"},22,{"$f":"J324/SUM(J$324:J$326)","v":0.44},4,4,10,3,1]
["Partial Access Control",3,{"$f":"B325/SUM(B$324:B$326)","v":0.42857142857142855},1,1,0,1,0,{"$f":"A325","v":"Partial Access Control"},9,{"$f":"J325/SUM(J$324:J$326)","v":0.18},2,1,2,4,0]
["Full Access Control",0,{"$f":"B326/SUM(B$324:B$326)","v":0},0,0,0,0,0,{"$f":"A326","v":"Full Access Control"},19,{"$f":"J326/SUM(J$324:J$326)","v":0.38},2,5,5,3,4]
[{"$f":"CONCATENATE(\"Fatal and Serious Injury Crashes Only - \",A328, \"\n\",Instructions!$B$9)","v":"Fatal and Serious Injury Crashes Only - Roadway Lighting\nTest County"},null,null,null,null,null,null,null,{"$f":"CONCATENATE(\"Total Crashes - \",I328, \"\n\",Instructions!$B$9)","v":"Total Crashes - Roadway Lighting\nTest County"}]
["Roadway Lighting","Number of Crashes","Percent of Crashes","Year 5 Crashes","Year 4 Crashes","Year 3 Crashes","Year 2 Crashes","Year 1 Crashes","Roadway Lighting","Number of Crashes","Percent of Crashes","Year 5 Crashes","Year 4 Crashes","Year 3 Crashes","Year 2 Crashes","Year 1 Crashes"]
["Continuous Lighting on Both Sides",0,{"$f":"B329/SUM(B$329:B$333)","v":0},0,0,0,0,0,{"$f":"A329","v":"Continuous Lighting on Both Sides"},2,{"$f":"J329/SUM(J$329:J$333)","v":0.04},0,0,0,2,0]
["Continuous Lighting on One Side",0,{"$f":"B330/SUM(B$329:B$333)","v":0},0,0,0,0,0,{"$f":"A330","v":"Continuous Lighting on One Side"},4,{"$f":"J330/SUM(J$329:J$333)","v":0.08},1,1,2,0,0]
["No Lighting",1,{"$f":"B331/SUM(B$329:B$333)","v":0.14285714285714285},1,0,0,0,0,{"$f":"A331","v":"No Lighting"},43,0.86,6,9,15,8,5]
["Spot Illumination on Both Sides",2,{"$f":"B332/SUM(B$329:B$333)","v":0.2857142857142857},0,0,0,2,0,{"$f":"A332","v":"Spot Illumination on Both Sides"},0,0,0,0,0,0,0]
["Spot Illumination on One Side",4,{"$f":"B333/SUM(B$329:B$333)","v":0.5714285714285714},1,1,2,0,0,{"$f":"A333","v":"Spot Illumination on One Side"},1,0.02,1,0,0,0,0]
[{"$f":"CONCATENATE(\"Fatal and Serious Injury Crashes Only - \",A335, \"\n\",Instructions!$B$9)","v":"Fatal and Serious Injury Crashes Only - Alcohol Involvement\nTest County"},null,null,null,null,null,null,null,{"$f":"CONCATENATE(\"Total Crashes - \",I335, \"\n\",Instructions!$B$9)","v":"Total Crashes - Alcohol Involvement\nTest County"}]
["Alcohol Involvement","Number of Crashes","Percent of Crashes","Year 5 Crashes","Year 4 Crashes","Year 3 Crashes","Year 2 Crashes","Year 1 Crashes","Alcohol Involvement","Number of Crashes","Percent of Crashes","Year 5 Crashes","Year 4 Crashes","Year 3 Crashes","Year 2 Crashes","Year 1 Crashes"]
["Yes",5,{"$f":"B336/SUM(B$336:B$338)","v":0.7142857142857143},2,1,1,1,0,{"$f":"A336","v":"Yes"},11,{"$f":"J336/SUM(J$336:J$338)","v":0.22},1,1,4,4,1]
["No",0,{"$f":"B337/SUM(B$336:B$338)","v":0},0,0,0,0,0,{"$f":"A337","v":"No"},25,{"$f":"J337/SUM(J$336:J$338)","v":0.5},6,7,5,4,3]
["Unknown",2,{"$f":"B338/SUM(B$336:B$338)","v":0.2857142857142857},0,1,0,1,0,{"$f":"A338","v":"Unknown"},14,{"$f":"J338/SUM(J$336:J$338)","v":0.28000000000000003},1,2,8,2,1]
[{"$f":"CONCATENATE(\"Fatal and Serious Injury Crashes Only - \",A340, \"\n\",Instructions!$B$9)","v":"Fatal and Serious Injury Crashes Only - Drug Involvement\nTest County"},null,null,null,null,null,null,null,{"$f":"CONCATENATE(\"Total Crashes - \",I340, \"\n\",Instructions!$B$9)","v":"Total Crashes - Drug Involvement\nTest County"}]
["Drug Involvement","Number of Crashes","Percent of Crashes","Year 5 Crashes","Year 4 Crashes","Year 3 Crashes","Year 2 Crashes","Year 1 Crashes","Drug Involvement","Number of Crashes","Percent of Crashes","Year 5 Crashes","Year 4 Crashes","Year 3 Crashes","Year 2 Crashes","Year 1 Crashes"]
["Yes",0,{"$f":"B341/SUM(B$341:B$343)","v":0},0,0,0,0,0,{"$f":"A341","v":"Yes"},14,{"$f":"J341/SUM(J$341:J$343)","v":0.28000000000000003},1,2,8,2,1]
["No",4,{"$f":"B342/SUM(B$341:B$343)","v":0.5714285714285714},1,1,1,1,0,{"$f":"A342","v":"No"},11,{"$f":"J342/SUM(J$341:J$343)","v":0.22},1,1,4,4,1]
["Unknown",3,{"$f":"B343/SUM(B$341:B$343)","v":0.42857142857142855},1,1,0,1,0,{"$f":"A343","v":"Unknown"},25,{"$f":"J343/SUM(J$341:J$343)","v":0.5},6,7,5,4,3]
["Vehicle Data"]
[{"$f":"CONCATENATE(\"Fatal and Serious Injury Crashes Only - \",A346, \"\n\",Instructions!$B$9)","v":"Fatal and Serious Injury Crashes Only - Motor Vehicle Body Type\nTest County"},null,null,null,null,null,null,null,{"$f":"CONCATENATE(\"Total Crashes - \",I346, \"\n\",Instructions!$B$9)","v":"Total Crashes - Motor Vehicle Body Type\nTest County"}]
["Motor Vehicle Body Type","Number of Crashes","Percent of Crashes","Year 5 Crashes","Year 4 Crashes","Year 3 Crashes","Year 2 Crashes","Year 1 Crashes","Motor Vehicle Body Type","Number of Crashes","Percent of Crashes","Year 5 Crashes","Year 4 Crashes","Year 3 Crashes","Year 2 Crashes","Year 1 Crashes"]
["All-Terrain Vehicle",6,{"$f":"B347/SUM(B$347:B$375)","v":0.6},2,0,2,2,0,{"$f":"A347","v":"All-Terrain Vehicle"},28,{"$f":"J347/SUM(J$347:J$375)","v":0.35897435897435898},4,5,10,6,3]
["Golf Cart",0,0,0,0,0,0,0,"Golf Cart",0,{"$f":"J348/SUM(J$347:J$375)","v":0},0,0,0,0,0]
["Snowmobile",0,0,0,0,0,0,0,"Snowmobile",0,0,0,0,0,0,0]
["Low Speed Vehicle",0,0,0,0,0,0,0,"Low Speed Vehicle",10,0.12820512820512819,1,2,4,2,1]
["Moped or motorized bicycle",0,0,0,0,0,0,0,"Moped or motorized bicycle",1,1.282051282051282E-2,1,0,0,0,0]
["Recreational Off-Highway Vehicles",0,0,0,0,0,0,0,"Recreational Off-Highway Vehicles",1,1.282051282051282E-2,1,0,0,0,0]
["2-Wheeled Motorcycle",1,0.1,0,1,0,0,0,"2-Wheeled Motorcycle",1,1.282051282051282E-2,0,1,0,0,0]
["3-Wheeled Motorcycle",0,0,0,0,0,0,0,"3-Wheeled Motorcycle",0,0,0,0,0,0,0]
["Autocycle",0,0,0,0,0,0,0,"Autocycle",0,0,0,0,0,0,0]
["Passenger Car",0,0,0,0,0,0,0,"Passenger Car",9,0.11538461538461539,1,2,3,2,1]
["Passenger Van",0,0,0,0,0,0,0,"Passenger Van",0,0,0,0,0,0,0]
["Sport Utility Vehicle",{"$f":"SUM(D358:H358)","v":0},0,0,0,0,0,0,"Sport Utility Vehicle",{"$f":"SUM(L358:P358)","v":0},0,0,0,0,0,0]
["Pickup",0,0,0,0,0,0,0,"Pickup",0,0,0,0,0,0,0]
["Cargo Van",{"$f":"SUM(D360:H360)","v":0},0,0,0,0,0,0,"Cargo Van",{"$f":"SUM(L360:P360)","v":0},0,0,0,0,0,0]
["Construction Equipment",0,0,0,0,0,0,0,"Construction Equipment",0,0,0,0,0,0,0]
["Farm Equipment",0,0,0,0,0,0,0,"Farm Equipment",0,0,0,0,0,0,0]
["Single-Unit Truck",0,0,0,0,0,0,0,"Single-Unit Truck",0,0,0,0,0,0,0]
["Truck Tractor",0,0,0,0,0,0,0,"Truck Tractor",0,0,0,0,0,0,0]
["Motor Home",0,0,0,0,0,0,0,"Motor Home",0,0,0,0,0,0,0]
["9- or 12-Passenger Van",0,0,0,0,0,0,0,"9- or 12-Passenger Van",0,0,0,0,0,0,0]
["15-Passenger Van",0,0,0,0,0,0,0,"15-Passenger Van",0,0,0,0,0,0,0]
["Large Limo",0,0,0,0,0,0,0,"Large Limo",0,0,0,0,0,0,0]
["Mini-bus",{"$f":"SUM(D369:H369)","v":0},0,0,0,0,0,0,"Mini-bus",{"$f":"SUM(L369:P369)","v":0},0,0,0,0,0,0]
["School Bus",{"$f":"SUM(D370:H370)","v":0},0,0,0,0,0,0,"School Bus",{"$f":"SUM(L370:P370)","v":0},0,0,0,0,0,0]
["Transit Bus",0,0,0,0,0,0,0,"Transit Bus",0,0,0,0,0,0,0]
["Motorcoach",3,0.3,1,0,1,1,0,"Motorcoach",28,0.35897435897435898,3,7,7,6,5]
["Other Bus Type",0,0,0,0,0,0,0,"Other Bus Type",0,0,0,0,0,0,0]
["Other Trucks",0,0,0,0,0,0,0,"Other Trucks",0,0,0,0,0,0,0]
["Other",0,0,0,0,0,0,0,"Other",0,0,0,0,0,0,0]
[{"$f":"CONCATENATE(\"Fatal and Serious Injury Crashes Only - \",A377, \"\n\",Instructions!$B$9)","v":"Fatal and Serious Injury Crashes Only - Posted Speed Limit\nTest County"},null,null,null,null,null,null,null,{"$f":"CONCATENATE(\"Total Crashes - \",I377, \"\",Instructions!$B$9)","v":"Total Crashes - Posted Speed LimitTest County"}]
["Posted Speed Limit","Number of Crashes","Percent of Crashes","Year 5 Crashes","Year 4 Crashes","Year 3 Crashes","Year 2 Crashes","Year 1 Crashes","Posted Speed Limit","Number of Crashes","Percent of Crashes","Year 5 Crashes","Year 4 Crashes","Year 3 Crashes","Year 2 Crashes","Year 1 Crashes"]
["5 MPH",0,{"$f":"B378/SUM(B$378:B$392)","v":0},0,0,0,0,0,{"$f":"A378","v":"5 MPH"},0,{"$f":"J378/SUM(J$378:J$392)","v":0},0,0,0,0,0]
["10 MPH",0,0,0,0,0,0,0,"10 MPH",0,{"$f":"J379/SUM(J$378:J$392)","v":0},0,0,0,0,0]
["15 MPH",0,0,0,0,0,0,0,"15 MPH",1,1.282051282051282E-2,0,0,1,0,0]
["20 MPH",0,0,0,0,0,0,0,"20 MPH",0,0,0,0,0,0,0]
["25 MPH",2,0.16666666666666666,0,0,1,1,0,"25 MPH",0,0,0,0,0,0,0]
["30 MPH",0,0,0,0,0,0,0,"30 MPH",0,0,0,0,0,0,0]
["35 MPH",0,0,0,0,0,0,0,"35 MPH",0,0,0,0,0,0,0]
["40 MPH",2,0.16666666666666666,0,1,0,1,0,"40 MPH",2,2.564102564102564E-2,0,0,1,1,0]
["45 MPH",1,8.3333333333333329E-2,0,0,1,0,0,"45 MPH",27,0.34615384615384615,2,5,8,4,8]
["50 MPH",0,0,0,0,0,0,0,"50 MPH",0,0,0,0,0,0,0]
["55 MPH",{"$f":"SUM(D388:H388)","v":4},0.33333333333333331,2,0,1,1,0,"55 MPH",{"$f":"SUM(L388:P388)","v":18},0.23076923076923078,5,5,3,4,1]
["60 MPH",1,8.3333333333333329E-2,0,0,1,0,0,"60 MPH",2,2.564102564102564E-2,0,0,1,1,0]
["65 MPH",0,0,0,0,0,0,0,"65 MPH",1,1.282051282051282E-2,0,0,0,1,0]
["70 MPH",2,0.16666666666666666,1,0,0,1,0,"70 MPH",14,0.17948717948717949,2,2,6,4,0]
["Unknown",0,0,0,0,0,0,0,"Unknown",13,{"$f":"J392/SUM(J$378:J$392)","v":0.16666666666666666},2,5,4,1,1]
[{"$f":"CONCATENATE(\"Fatal and Serious Injury Crashes Only - \",A394, \"\n\",Instructions!$B$9)","v":"Fatal and Serious Injury Crashes Only - Traffic Way\nTest County"},null,null,null,null,null,null,null,{"$f":"CONCATENATE(\"Total Crashes - \",I394, \"\n\",Instructions!$B$9)","v":"Total Crashes - Traffic Way\nTest County"}]
["Traffic Way","Number of Crashes","Percent of Crashes","Year 5 Crashes","Year 4 Crashes","Year 3 Crashes","Year 2 Crashes","Year 1 Crashes","Traffic Way","Number of Crashes","Percent of Crashes","Year 5 Crashes","Year 4 Crashes","Year 3 Crashes","Year 2 Crashes","Year 1 Crashes"]
["One-Way",{"$f":"SUM(D395:H395)","v":7},{"$f":"B395/SUM(B$395:B$396)","v":0.58333333333333337},2,1,2,2,0,{"$f":"A395","v":"One-Way"},{"$f":"SUM(L395:P395)","v":40},{"$f":"J395/SUM(J$395:J$396)","v":0.51282051282051277},5,9,14,8,4]
["Two-Way",5,{"$f":"B396/SUM(B$395:B$396)","v":0.41666666666666669},1,0,1,1,2,{"$f":"A396","v":"Two-Way"},38,{"$f":"J396/SUM(J$395:J$396)","v":0.48717948717948717},6,8,10,8,6]
[{"$f":"CONCATENATE(\"Fatal and Serious Injury Crashes Only - \",A398, \"\n\",Instructions!$B$9)","v":"Fatal and Serious Injury Crashes Only - Median Type\nTest County"},null,null,null,null,null,null,null,{"$f":"CONCATENATE(\"Total Crashes - \",I398, \"\n\",Instructions!$B$9)","v":"Total Crashes - Median Type\nTest County"}]
["Median Type","Number of Crashes","Percent of Crashes","Year 5 Crashes","Year 4 Crashes","Year 3 Crashes","Year 2 Crashes","Year 1 Crashes","Median Type","Number of Crashes","Percent of Crashes","Year 5 Crashes","Year 4 Crashes","Year 3 Crashes","Year 2 Crashes","Year 1 Crashes"]
["Not Divided",2,{"$f":"B399/SUM(B$399:B$404)","v":0.22222222222222221},0,1,0,1,0,{"$f":"A399","v":"Not Divided"},18,{"$f":"J399/SUM(J$399:J$404)","v":0.23076923076923078},0,4,9,4,1]
["Continuous Left-Turn Lane",0,0,0,0,0,0,0,"Continuous Left-Turn Lane",0,{"$f":"J400/SUM(J$399:J$404)","v":0},0,0,0,0,0]
["Divided with Flush Median",2,0.22222222222222221,0,0,1,1,0,"Divided with Flush Median",17,0.21794871794871795,2,5,5,3,2]
["Divided with Raised Median",0,0,0,0,0,0,0,"Divided with Raised Median",1,1.282051282051282E-2,0,0,1,0,0]
["Divided with Depressed Median",4,0.44444444444444442,2,0,2,0,0,"Divided with Depressed Median",16,0.20512820512820512,4,1,4,5,2]
["Unknown",1,0.1111111111111111,1,0,0,0,0,"Unknown",26,0.33333333333333331,5,7,5,4,5]
[{"$f":"CONCATENATE(\"Fatal and Serious Injury Crashes Only - \",A406, \"\n\",Instructions!$B$9)","v":"Fatal and Serious Injury Crashes Only - Barrier Type\nTest County"},null,null,null,null,null,null,null,{"$f":"CONCATENATE(\"Total Crashes - \",I406, \" \n\",Instructions!$B$9)","v":"Total Crashes - Barrier Type \nTest County"}]
["Barrier Type","Number of Crashes","Percent of Crashes","Year 5 Crashes","Year 4 Crashes","Year 3 Crashes","Year 2 Crashes","Year 1 Crashes","Barrier Type","Number of Crashes","Percent of Crashes","Year 5 Crashes","Year 4 Crashes","Year 3 Crashes","Year 2 Crashes","Year 1 Crashes"]
["No Barrier",1,{"$f":"B407/SUM(B$407:B$413)","v":0.1},0,0,0,1,0,{"$f":"A407","v":"No Barrier"},2,{"$f":"J407/SUM(J$407:J$413)","v":2.564102564102564E-2},1,0,0,1,0]
["Cable Barrier",0,0,0,0,0,0,0,"Cable Barrier",0,{"$f":"J408/SUM(J$407:J$413)","v":0},0,0,0,0,0]
["Concrete Barrier",{"$f":"SUM(D409:H409)","v":9},0.9,3,1,3,2,0,"Concrete Barrier",{"$f":"SUM(L409:P409)","v":76},0.97435897435897434,10,17,24,15,10]
["Earth Embankment",0,0,0,0,0,0,0,"Earth Embankment",0,0,0,0,0,0,0]
["Guardrail",0,0,0,0,0,0,0,"Guardrail",0,0,0,0,0,0,0]
["Box Barrier",0,0,0,0,0,0,0,"Box Barrier",0,0,0,0,0,0,0]
["Other Barrier",{"$f":"SUM(D413:H413)","v":0},0,0,0,0,0,0,"Other Barrier",{"$f":"SUM(L413:P413)","v":0},0,0,0,0,0,0]
[{"$f":"CONCATENATE(\"Fatal and Serious Injury Crashes Only - \",A415, \"\n\",Instructions!$B$9)","v":"Fatal and Serious Injury Crashes Only - Number of Lanes\nTest County"},null,null,null,null,null,null,null,{"$f":"CONCATENATE(\"Total Crashes - \",I415, \"\n\",Instructions!$B$9)","v":"Total Crashes - Number of Lanes\nTest County"}]
["Number of Lanes","Number of Crashes","Percent of Crashes","Year 5 Crashes","Year 4 Crashes","Year 3 Crashes","Year 2 Crashes","Year 1 Crashes","Number of Lanes","Number of Crashes","Percent of Crashes","Year 5 Crashes","Year 4 Crashes","Year 3 Crashes","Year 2 Crashes","Year 1 Crashes"]
["One",1,{"$f":"B416/SUM(B$416:B$426)","v":0.1},0,1,0,0,0,{"$f":"A416","v":"One"},2,{"$f":"J416/SUM(J$416:J$426)","v":2.564102564102564E-2},1,1,0,0,0]
["Two",0,0,0,0,0,0,0,"Two",0,{"$f":"J417/SUM(J$416:J$426)","v":0},0,0,0,0,0]
["Three",0,0,0,0,0,0,0,"Three",0,0,0,0,0,0,0]
["Four",1,0.1,0,0,1,0,0,"Four",7,8.9743589743589744E-2,2,2,2,0,1]
["Five",0,0,0,0,0,0,0,"Five",5,6.4102564102564097E-2,0,1,0,2,2]
["Six",0,0,0,0,0,0,0,"Six",4,5.128205128205128E-2,0,1,2,1,0]
["Seven",0,0,0,0,0,0,0,"Seven",0,0,0,0,0,0,0]
["Eight",0,0,0,0,0,0,0,"Eight",0,0,0,0,0,0,0]
["Nine",7,0.7,2,0,2,3,0,"Nine",43,0.55128205128205132,4,8,14,11,6]
["Ten or More",0,0,0,0,0,0,0,"Ten or More",0,0,0,0,0,0,0]
["Unknown",1,0.1,1,0,0,0,0,"Unknown",17,0.21794871794871795,4,4,6,2,1]
[{"$f":"CONCATENATE(\"Fatal and Serious Injury Crashes Only - \",A428, \"\n\",Instructions!$B$9)","v":"Fatal and Serious Injury Crashes Only - Motor Vehicle Maneuver Prior to Crash\nTest County"},null,null,null,null,null,null,null,{"$f":"CONCATENATE(\"Total Crashes - \",I428, \"\n\",Instructions!$B$9)","v":"Total Crashes - Motor Vehicle Maneuver Prior to Crash\nTest County"}]
["Motor Vehicle Maneuver Prior to Crash","Number of Crashes","Percent of Crashes","Year 5 Crashes","Year 4 Crashes","Year 3 Crashes","Year 2 Crashes","Year 1 Crashes","Motor Vehicle Maneuver Prior to Crash","Number of Crashes","Percent of Crashes","Year 5 Crashes","Year 4 Crashes","Year 3 Crashes","Year 2 Crashes","Year 1 Crashes"]
["Backing",{"$f":"SUM(D429:H429)","v":0},{"$f":"B429/SUM(B$429:B$443)","v":0},0,0,0,0,0,{"$f":"A429","v":"Backing"},{"$f":"SUM(L429:P429)","v":1},{"$f":"J429/SUM(J$429:J$443)","v":1.282051282051282E-2},0,0,0,1,0]
["Changing Lanes",{"$f":"SUM(D430:H430)","v":0},0,0,0,0,0,0,"Changing Lanes",{"$f":"SUM(L430:P430)","v":7},{"$f":"J430/SUM(J$429:J$443)","v":8.9743589743589744E-2},0,1,4,1,1]
["Entering Traffic Lane",{"$f":"SUM(D431:H431)","v":0},0,0,0,0,0,0,"Entering Traffic Lane",{"$f":"SUM(L431:P431)","v":0},0,0,0,0,0,0]
["Leaving Traffic Lane",{"$f":"SUM(D432:H432)","v":0},0,0,0,0,0,0,"Leaving Traffic Lane",{"$f":"SUM(L432:P432)","v":1},1.282051282051282E-2,0,0,1,0,0]
["Making U-Turn",{"$f":"SUM(D433:H433)","v":4},0.4,2,1,0,1,0,"Making U-Turn",{"$f":"SUM(L433:P433)","v":26},0.33333333333333331,5,5,6,7,3]
["Movements Essentially Straight Ahead",0,0,0,0,0,0,0,"Movements Essentially Straight Ahead",8,0.10256410256410256,0,1,2,2,3]
["Negotiating a Curve",2,0.2,0,0,2,0,0,"Negotiating a Curve",9,0.11538461538461539,1,4,3,1,0]
["Overtaking/Passing",0,0,0,0,0,0,0,"Overtaking/Passing",1,1.282051282051282E-2,1,0,0,0,0]
["Parked",3,0.3,0,0,1,2,0,"Parked",8,0.10256410256410256,1,2,3,2,0]
["Slowing",0,0,0,0,0,0,0,"Slowing",8,0.10256410256410256,1,2,4,1,0]
["Stopped in Traffic",{"$f":"SUM(D439:H439)","v":0},0,0,0,0,0,0,"Stopped in Traffic",{"$f":"SUM(L439:P439)","v":2},2.564102564102564E-2,0,1,1,0,0]
["Turning Left",{"$f":"SUM(D440:H440)","v":1},0.1,1,0,0,0,0,"Turning Left",{"$f":"SUM(L440:P440)","v":1},1.282051282051282E-2,1,0,0,0,0]
["Turning Right",0,0,0,0,0,0,0,"Turning Right",4,5.128205128205128E-2,0,0,0,1,3]
["Other",0,0,0,0,0,0,0,"Other",1,1.282051282051282E-2,0,1,0,0,0]
["Unknown",0,0,0,0,0,0,0,"Unknown",1,1.282051282051282E-2,1,0,0,0,0]
[{"$f":"CONCATENATE(\"Fatal and Serious Injury Crashes Only - \",A445, \"\n\",Instructions!$B$9)","v":"Fatal and Serious Injury Crashes Only - Most Harmful Event\nTest County"},null,null,null,null,null,null,null,{"$f":"CONCATENATE(\"Total Crashes - \",I445, \"\n\",Instructions!$B$9)","v":"Total Crashes - Most Harmful Event\nTest County"}]
["Most Harmful Event","Number of Crashes","Percent of Crashes","Year 5 Crashes","Year 4 Crashes","Year 3 Crashes","Year 2 Crashes","Year 1 Crashes","Most Harmful Event","Number of Crashes","Percent of Crashes","Year 5 Crashes","Year 4 Crashes","Year 3 Crashes","Year 2 Crashes","Year 1 Crashes"]
["Cargo/Equipment Loss or Shift",{"$f":"SUM(D446:H446)","v":0},{"$f":"B446/SUM(B$446:B$487)","v":0},0,0,0,0,0,{"$f":"A446","v":"Cargo/Equipment Loss or Shift"},{"$f":"SUM(L446:P446)","v":0},{"$f":"J446/SUM(J$446:J$487)","v":0},0,0,0,0,0]
["Fell/Jumped from Motor Vehicle",0,0,0,0,0,0,0,"Fell/Jumped from Motor Vehicle",0,{"$f":"J447/SUM(J$446:J$487)","v":0},0,0,0,0,0]
["Fire/Explosion",0,0,0,0,0,0,0,"Fire/Explosion",0,0,0,0,0,0,0]
["Immersion, Full or Partial",0,0,0,0,0,0,0,"Immersion, Full or Partial",1,1.282051282051282E-2,0,1,0,0,0]
["Jackknife",0,0,0,0,0,0,0,"Jackknife",4,5.128205128205128E-2,0,1,0,0,3]
["Other Non-Collision",0,0,0,0,0,0,0,"Other Non-Collision",0,0,0,0,0,0,0]
["Overturn/Rollover",0,0,0,0,0,0,0,"Overturn/Rollover",0,0,0,0,0,0,0]
["Thrown or Falling Object",0,0,0,0,0,0,0,"Thrown or Falling Object",0,0,0,0,0,0,0]
["Collision with Animal",0,0,0,0,0,0,0,"Collision with Animal",0,0,0,0,0,0,0]
["Collision with Construction Equipment",0,0,0,0,0,0,0,"Collision with Construction Equipment",1,1.282051282051282E-2,0,0,1,0,0]
["Collision with Farm Equipment",0,0,0,0,0,0,0,"Collision with Farm Equipment",0,0,0,0,0,0,0]
["Collision with Motor Vehicle in Transport",0,0,0,0,0,0,0,"Collision with Motor Vehicle in Transport",1,1.282051282051282E-2,0,0,1,0,0]
["Collision with Other Non-Fixed Object",0,0,0,0,0,0,0,"Collision with Other Non-Fixed Object",0,0,0,0,0,0,0]
["Collision with Other Non-motorist",1,0.1111111111111111,0,0,0,1,0,"Collision with Other Non-motorist",0,0,0,0,0,0,0]
["Collision with Parked Motor Vehicle",0,0,0,0,0,0,0,"Collision with Parked Motor Vehicle",0,0,0,0,0,0,0]
["Collision with Pedalcycle",0,0,0,0,0,0,0,"Collision with Pedalcycle",1,1.282051282051282E-2,0,1,0,0,0]
["Collision with Pedestrian",0,0,0,0,0,0,0,"Collision with Pedestrian",0,0,0,0,0,0,0]
["Collision with Railway Vehicle",0,0,0,0,0,0,0,"Collision with Railway Vehicle",0,0,0,0,0,0,0]
["Strikes Object ar Rest from MV in Transport",0,0,0,0,0,0,0,"Strikes Object ar Rest from MV in Transport",0,0,0,0,0,0,0]
["Struck by Falling, Shifting Cargo, or Anything Set in Motion by Motor Vehicle",0,0,0,0,0,0,0,"Struck by Falling, Shifting Cargo, or Anything Set in Motion by Motor Vehicle",0,0,0,0,0,0,0]
["Collision with Bridge Overhead Structure",0,0,0,0,0,0,0,"Collision with Bridge Overhead Structure",5,6.4102564102564097E-2,0,0,3,2,0]
["Collision with Bridge Pier or Support",0,0,0,0,0,0,0,"Collision with Bridge Pier or Support",1,1.282051282051282E-2,1,0,0,0,0]
["Collision with Bridge Rail",0,0,0,0,0,0,0,"Collision with Bridge Rail",1,1.282051282051282E-2,1,0,0,0,0]
["Collision with Cable Barrier",3,0.33333333333333331,1,0,1,1,0,"Collision with Cable Barrier",7,8.9743589743589744E-2,2,2,1,2,0]
["Collision with Concrete Traffic Barrier",0,0,0,0,0,0,0,"Collision with Concrete Traffic Barrier",8,0.10256410256410256,1,2,4,1,0]
["Collision with Culvert",1,0.1111111111111111,0,0,0,1,0,"Collision with Culvert",1,1.282051282051282E-2,0,0,0,1,0]
["Collision with Curb",0,0,0,0,0,0,0,"Collision with Curb",0,0,0,0,0,0,0]
["Collision with Ditch",1,0.1111111111111111,1,0,0,0,0,"Collision with Ditch",8,0.10256410256410256,1,0,1,4,2]
["Collision with Embankment",0,0,0,0,0,0,0,"Collision with Embankment",0,0,0,0,0,0,0]
["Collision with Fence",1,0.1111111111111111,1,0,0,0,0,"Collision with Fence",0,0,0,0,0,0,0]
["Collision with Guardrail End Terminal",1,0.1111111111111111,0,0,1,0,0,"Collision with Guardrail End Terminal",5,6.4102564102564097E-2,0,3,2,0,0]
["Collision with Guardrail Face",0,0,0,0,0,0,0,"Collision with Guardrail Face",3,3.8461538461538464E-2,1,0,2,0,0]
["Collision with Impact Attenuator/Crash Cushion",0,0,0,0,0,0,0,"Collision with Impact Attenuator/Crash Cushion",0,0,0,0,0,0,0]
["Collision with Mailbox",0,0,0,0,0,0,0,"Collision with Mailbox",0,0,0,0,0,0,0]
["Collision with Other Fixed Object",1,0.1111111111111111,0,0,1,0,0,"Collision with Other Fixed Object",0,0,0,0,0,0,0]
["Collision with Other Post, Pole, or Support",0,0,0,0,0,0,0,"Collision with Other Post, Pole, or Support",0,0,0,0,0,0,0]
["Collision with Other Traffic Barrier",0,0,0,0,0,0,0,"Collision with Other Traffic Barrier",0,0,0,0,0,0,0]
["Collision with Traffic Sign Support",0,0,0,0,0,0,0,"Collision with Traffic Sign Support",3,3.8461538461538464E-2,1,0,2,0,0]
["Collision with Traffic Signal Support",0,0,0,0,0,0,0,"Collision with Traffic Signal Support",0,0,0,0,0,0,0]
["Collision with Tree",0,0,0,0,0,0,0,"Collision with Tree",0,0,0,0,0,0,0]
["Collision with Utility Pole or Light Support",0,0,0,0,0,0,0,"Collision with Utility Pole or Light Support",0,0,0,0,0,0,0]
["Unknown",0,0,0,0,0,0,0,"Unknown",28,0.35897435897435898,3,7,7,6,5]
[{"$f":"CONCATENATE(\"Fatal and Serious Injury Crashes Only - \",A489, \"\n\",Instructions!$B$9)","v":"Fatal and Serious Injury Crashes Only - Contributing Circumstance, Vehicle\nTest County"},null,null,null,null,null,null,null,{"$f":"CONCATENATE(\"Total Crashes - \",I489, \"\n\",Instructions!$B$9)","v":"Total Crashes - Contributing Circumstance, Vehicle\nTest County"}]
["Contributing Circumstance, Vehicle","Number of Crashes","Percent of Crashes","Year 5 Crashes","Year 4 Crashes","Year 3 Crashes","Year 2 Crashes","Year 1 Crashes","Contributing Circumstance, Vehicle","Number of Crashes","Percent of Crashes","Year 5 Crashes","Year 4 Crashes","Year 3 Crashes","Year 2 Crashes","Year 1 Crashes"]
["None",0,{"$f":"B490/SUM(B$490:B$505)","v":0},0,0,0,0,0,{"$f":"A490","v":"None"},0,{"$f":"J490/SUM(J$490:J$505)","v":0},0,0,0,0,0]
["Brakes",0,0,0,0,0,0,0,"Brakes",1,{"$f":"J491/SUM(J$490:J$505)","v":1.282051282051282E-2},0,0,1,0,0]
["Exhaust System",0,0,0,0,0,0,0,"Exhaust System",0,0,0,0,0,0,0]
["Body or Doors",0,0,0,0,0,0,0,"Body or Doors",0,0,0,0,0,0,0]
["Steering",4,0.4,2,1,0,1,0,"Steering",0,0,0,0,0,0,0]
["Power Train",0,0,0,0,0,0,0,"Power Train",0,0,0,0,0,0,0]
["Suspension",2,0.2,0,0,2,0,0,"Suspension",2,2.564102564102564E-2,0,0,1,1,0]
["Tires",0,0,0,0,0,0,0,"Tires",27,0.34615384615384615,2,5,8,4,8]
["Wheels",3,0.3,0,0,1,2,0,"Wheels",0,0,0,0,0,0,0]
["Lights (head, signal, tail)",0,0,0,0,0,0,0,"Lights (head, signal, tail)",18,0.23076923076923078,5,5,3,4,1]
["Windows or Windshield",0,0,0,0,0,0,0,"Windows or Windshield",2,2.564102564102564E-2,0,0,1,1,0]
["Mirrors",1,0.1,1,0,0,0,0,"Mirrors",1,1.282051282051282E-2,0,0,0,1,0]
["Wipers",0,0,0,0,0,0,0,"Wipers",14,0.17948717948717949,2,2,6,4,0]
["Truck Coupling, Tailer Hitch, Safety Chains",0,0,0,0,0,0,0,"Truck Coupling, Tailer Hitch, Safety Chains",0,0,0,0,0,0,0]
["Other",0,0,0,0,0,0,0,"Other",13,0.16666666666666666,2,5,4,1,1]
["Unknown",0,0,0,0,0,0,0,"Unknown",0,0,0,0,0,0,0]
["Person-Level Data"]
[{"$f":"CONCATENATE(\"Fatal and Serious Injury Crashes Only - \",A508, \"\n\",Instructions!$B$9)","v":"Fatal and Serious Injury Crashes Only - Person Type\nTest County"},null,null,null,null,null,null,null,{"$f":"CONCATENATE(\"Total Crashes - \",I508, \"\n\",Instructions!$B$9)","v":"Total Crashes - Person Type\nTest County"}]
["Person Type","Number of Crashes","Percent of Crashes","Year 5 Crashes","Year 4 Crashes","Year 3 Crashes","Year 2 Crashes","Year 1 Crashes","Person Type","Number of Crashes","Percent of Crashes","Year 5 Crashes","Year 4 Crashes","Year 3 Crashes","Year 2 Crashes","Year 1 Crashes"]
["Driver",{"$f":"SUM(D509:H509)","v":1},{"$f":"B509/SUM(B$509:B$516)","v":7.1428571428571425E-2},0,0,0,1,0,{"$f":"A509","v":"Driver"},{"$f":"SUM(L509:P509)","v":18},{"$f":"J509/SUM(J$509:J$516)","v":0.16981132075471697},0,4,9,4,1]
["Passenger",0,0,0,0,0,0,0,"Passenger",0,{"$f":"J510/SUM(J$509:J$516)","v":0},0,0,0,0,0]
["Occupant of Motor Vehicle Not in Transport",2,0.14285714285714285,0,1,0,1,0,"Occupant of Motor Vehicle Not in Transport",17,0.16037735849056603,2,5,5,3,2]
["Bicyclist",4,0.2857142857142857,1,1,1,1,0,"Bicyclist",1,9.433962264150943E-3,0,0,1,0,0]
["Other Cyclist",2,0.14285714285714285,0,0,1,1,0,"Other Cyclist",16,0.15094339622641509,4,1,4,5,2]
["Pedestrian",0,0,0,0,0,0,0,"Pedestrian",0,0,0,0,0,0,0]
["Wheelchair, Person in a Building, Skater, Personal Conveyance, etc.",4,0.2857142857142857,2,0,2,0,0,"Wheelchair, Person in a Building, Skater, Personal Conveyance, etc.",25,0.23584905660377359,4,7,5,4,5]
["Unknown",1,7.1428571428571425E-2,1,0,0,0,0,"Unknown",29,0.27358490566037735,5,5,12,3,4]
[{"$f":"CONCATENATE(\"Fatal and Serious Injury Crashes Only - \",A518, \"\n\",Instructions!$B$9)","v":"Fatal and Serious Injury Crashes Only - Restraint Use\nTest County"},null,null,null,null,null,null,null,{"$f":"CONCATENATE(\"Total Crashes - \",I518, \"\n\",Instructions!$B$9)","v":"Total Crashes - Restraint Use\nTest County"}]
["Restraint Use","Number of Crashes","Percent of Crashes","Year 5 Crashes","Year 4 Crashes","Year 3 Crashes","Year 2 Crashes","Year 1 Crashes","Restraint Use","Number of Crashes","Percent of Crashes","Year 5 Crashes","Year 4 Crashes","Year 3 Crashes","Year 2 Crashes","Year 1 Crashes"]
["Booster Seat",0,{"$f":"B519/SUM(B$519:B$536)","v":0},0,0,0,0,0,{"$f":"A519","v":"Booster Seat"},0,{"$f":"J519/SUM(J$519:J$536)","v":0},0,0,0,0,0]
["Child Restraint System - Forward Facing",0,0,0,0,0,0,0,"Child Restraint System - Forward Facing",0,{"$f":"J520/SUM(J$519:J$536)","v":0},0,0,0,0,0]
["Child Restraint System - Rear Facing",1,7.1428571428571425E-2,0,1,0,0,0,"Child Restraint System - Rear Facing",1,9.433962264150943E-3,0,0,1,0,0]
["Child Restraint - Type Unknown",0,0,0,0,0,0,0,"Child Restraint - Type Unknown",0,0,0,0,0,0,0]
["Lap Belt Only Used",2,0.14285714285714285,1,0,0,1,0,"Lap Belt Only Used",0,0,0,0,0,0,0]
["None Used - Motor Vehicle Occupant",0,0,0,0,0,0,0,"None Used - Motor Vehicle Occupant",0,0,0,0,0,0,0]
["Restraint Used - Type Unknown",1,7.1428571428571425E-2,0,0,1,0,0,"Restraint Used - Type Unknown",0,0,0,0,0,0,0]
["Shoulder and Lap Belt Used",1,7.1428571428571425E-2,0,0,0,1,0,"Shoulder and Lap Belt Used",2,1.8867924528301886E-2,0,0,1,1,0]
["Shoulder Belt Only Used",1,7.1428571428571425E-2,0,0,1,0,0,"Shoulder Belt Only Used",27,0.25471698113207547,2,5,8,4,8]
["Stretcher",0,0,0,0,0,0,0,"Stretcher",0,0,0,0,0,0,0]
["Wheelchair",4,0.2857142857142857,2,0,1,1,0,"Wheelchair",18,0.16981132075471697,5,5,3,4,1]
["DOT-Compliant Motorcycle Helmet",0,0,0,0,0,0,0,"DOT-Compliant Motorcycle Helmet",2,1.8867924528301886E-2,0,0,1,1,0]
["Not DOT-Compliant Motorcycle Helmet",0,0,0,0,0,0,0,"Not DOT-Compliant Motorcycle Helmet",1,9.433962264150943E-3,0,0,0,1,0]
["Unknown if DOT-Compliant Motorcycle Helmet",2,0.14285714285714285,1,0,0,1,0,"Unknown if DOT-Compliant Motorcycle Helmet",14,0.13207547169811321,2,2,6,4,0]
["No Helmet",0,0,0,0,0,0,0,"No Helmet",0,0,0,0,0,0,0]
["Not Applicable",2,0.14285714285714285,0,1,1,0,0,"Not Applicable",13,0.12264150943396226,2,5,4,1,1]
["Other",0,0,0,0,0,0,0,"Other",0,0,0,0,0,0,0]
["Unknown",0,0,0,0,0,0,0,"Unknown",28,0.26415094339622641,4,5,12,3,4]
[{"$f":"CONCATENATE(\"Fatal and Serious Injury Crashes Only - \",A538, \"\n\",Instructions!$B$9)","v":"Fatal and Serious Injury Crashes Only - Driver Actions at Time of Crash, Selection 1\nTest County"},null,null,null,null,null,null,null,{"$f":"CONCATENATE(\"Total Crashes - \",I538, \"\",Instructions!$B$9)","v":"Total Crashes - Driver Actions at Time of Crash, Selection 1Test County"}]
["Driver Actions at Time of Crash, Selection 1","Number of Crashes","Percent of Crashes","Year 5 Crashes","Year 4 Crashes","Year 3 Crashes","Year 2 Crashes","Year 1 Crashes","Driver Actions at Time of Crash, Selection 1","Number of Crashes","Percent of Crashes","Year 5 Crashes","Year 4 Crashes","Year 3 Crashes","Year 2 Crashes","Year 1 Crashes"]
["No Contributing Action",4,{"$f":"B539/SUM(B$539:B$557)","v":0.2857142857142857},2,0,1,1,0,{"$f":"A539","v":"No Contributing Action"},18,{"$f":"J539/SUM(J$539:J$557)","v":0.16981132075471697},5,5,3,4,1]
["Disregarded Other Road Markings",0,0,0,0,0,0,0,"Disregarded Other Road Markings",2,{"$f":"J540/SUM(J$539:J$557)","v":1.8867924528301886E-2},0,0,1,1,0]
["Disregarded Other Traffic Sign",0,0,0,0,0,0,0,"Disregarded Other Traffic Sign",1,9.433962264150943E-3,0,0,0,1,0]
["Failed to Keep in Proper Lane",2,0.14285714285714285,1,0,0,1,0,"Failed to Keep in Proper Lane",14,0.13207547169811321,2,2,6,4,0]
["Failed to Yield Right-of-Way",0,0,0,0,0,0,0,"Failed to Yield Right-of-Way",0,0,0,0,0,0,0]
["Followed Too Closely",2,0.14285714285714285,0,1,1,0,0,"Followed Too Closely",13,0.12264150943396226,2,5,4,1,1]
["Improper Backing",0,0,0,0,0,0,0,"Improper Backing",0,0,0,0,0,0,0]
["Improper Passing",0,0,0,0,0,0,0,"Improper Passing",28,0.26415094339622641,4,5,12,3,4]
["Improper Turn",0,0,0,0,0,0,0,"Improper Turn",0,0,0,0,0,0,0]
["Operated Motor Vehicle in Inattentive, Careless, Negligent, or Erratic Manner",0,0,0,0,0,0,0,"Operated Motor Vehicle in Inattentive, Careless, Negligent, or Erratic Manner",0,0,0,0,0,0,0]
["Operated Motor Vehicle in Reckless or Aggressive Manner",1,7.1428571428571425E-2,0,1,0,0,0,"Operated Motor Vehicle in Reckless or Aggressive Manner",1,9.433962264150943E-3,0,0,1,0,0]
["Over-Correcting/Over-Steering",0,0,0,0,0,0,0,"Over-Correcting/Over-Steering",0,0,0,0,0,0,0]
["Ran Off Roadway",2,0.14285714285714285,1,0,0,1,0,"Ran Off Roadway",0,0,0,0,0,0,0]
["Ran Red Light",0,0,0,0,0,0,0,"Ran Red Light",0,0,0,0,0,0,0]
["Ran Stop Sign",1,7.1428571428571425E-2,0,0,1,0,0,"Ran Stop Sign",0,0,0,0,0,0,0]
["Swerve or Avoided Due to Wind, Slippery Surface, Motor Vehicle, Object, Non-Motorist in Roadway, etc.",1,7.1428571428571425E-2,0,0,0,1,0,"Swerve or Avoided Due to Wind, Slippery Surface, Motor Vehicle, Object, Non-Motorist in Roadway, etc.",2,1.8867924528301886E-2,0,0,1,1,0]
["Wrong Side or Wrong Way",1,7.1428571428571425E-2,0,0,1,0,0,"Wrong Side or Wrong Way",27,0.25471698113207547,2,5,8,4,8]
["Other Contributing Action",0,0,0,0,0,0,0,"Other Contributing Action",0,0,0,0,0,0,0]
["Unknown",0,0,0,0,0,0,0,"Unknown",0,0,0,0,0,0,0]
[{"$f":"CONCATENATE(\"Fatal and Serious Injury Crashes Only - \",A559, \"\n\",Instructions!$B$9)","v":"Fatal and Serious Injury Crashes Only - Driver Actions at Time of Crash, Selection 2\nTest County"},null,null,null,null,null,null,null,{"$f":"CONCATENATE(\"Total Crashes - \",I559, \"\n\",Instructions!$B$9)","v":"Total Crashes - Driver Actions at Time of Crash, Selection 2\nTest County"}]
["Driver Actions at Time of Crash, Selection 2","Number of Crashes","Percent of Crashes","Year 5 Crashes","Year 4 Crashes","Year 3 Crashes","Year 2 Crashes","Year 1 Crashes","Driver Actions at Time of Crash, Selection 2","Number of Crashes","Percent of Crashes","Year 5 Crashes","Year 4 Crashes","Year 3 Crashes","Year 2 Crashes","Year 1 Crashes"]
["No Contributing Action",{"$f":"SUM(D560:H560)","v":0},{"$f":"B560/SUM(B$560:B$578)","v":0},0,0,0,0,0,{"$f":"A560","v":"No Contributing Action"},{"$f":"SUM(L560:P560)","v":10},{"$f":"J560/SUM(J$560:J$578)","v":9.4339622641509441E-2},1,2,5,2,0]
["Disregarded Other Road Markings",2,0.14285714285714285,1,0,1,0,0,"Disregarded Other Road Markings",8,{"$f":"J561/SUM(J$560:J$578)","v":7.5471698113207544E-2},2,1,2,1,2]
["Disregarded Other Traffic Sign",0,0,0,0,0,0,0,"Disregarded Other Traffic Sign",14,0.13207547169811321,3,3,4,1,3]
["Failed to Keep in Proper Lane",0,0,0,0,0,0,0,"Failed to Keep in Proper Lane",10,9.4339622641509441E-2,1,3,4,1,1]
["Failed to Yield Right-of-Way",4,0.2857142857142857,0,0,2,2,0,"Failed to Yield Right-of-Way",11,0.10377358490566038,1,1,4,4,1]
["Followed Too Closely",2,0.14285714285714285,1,1,0,0,0,"Followed Too Closely",13,0.12264150943396226,1,4,4,3,1]
["Improper Backing",0,0,0,0,0,0,0,"Improper Backing",7,6.6037735849056603E-2,1,2,1,2,1]
["Improper Passing",1,7.1428571428571425E-2,0,0,0,1,0,"Improper Passing",3,2.8301886792452831E-2,0,1,0,2,0]
["Improper Turn",1,7.1428571428571425E-2,1,0,0,0,0,"Improper Turn",2,1.8867924528301886E-2,1,0,0,0,1]
["Operated Motor Vehicle in Inattentive, Careless, Negligent, or Erratic Manner",0,0,0,0,0,0,0,"Operated Motor Vehicle in Inattentive, Careless, Negligent, or Erratic Manner",0,0,0,0,0,0,0]
["Operated Motor Vehicle in Reckless or Aggressive Manner",0,0,0,0,0,0,0,"Operated Motor Vehicle in Reckless or Aggressive Manner",4,3.7735849056603772E-2,0,0,2,1,1]
["Over-Correcting/Over-Steering",0,0,0,0,0,0,0,"Over-Correcting/Over-Steering",0,0,0,0,0,0,0]
["Ran Off Roadway",1,7.1428571428571425E-2,1,0,0,0,0,"Ran Off Roadway",10,9.4339622641509441E-2,0,1,6,1,2]
["Ran Red Light",1,7.1428571428571425E-2,0,0,1,0,0,"Ran Red Light",0,0,0,0,0,0,0]
["Ran Stop Sign",1,7.1428571428571425E-2,0,0,0,1,0,"Ran Stop Sign",8,7.5471698113207544E-2,2,3,3,0,0]
["Swerve or Avoided Due to Wind, Slippery Surface, Motor Vehicle, Object, Non-Motorist in Roadway, etc.",1,7.1428571428571425E-2,0,1,0,0,0,"Swerve or Avoided Due to Wind, Slippery Surface, Motor Vehicle, Object, Non-Motorist in Roadway, etc.",0,0,0,0,0,0,0]
["Wrong Side or Wrong Way",0,0,0,0,0,0,0,"Wrong Side or Wrong Way",0,0,0,0,0,0,0]
["Other Contributing Action",0,0,0,0,0,0,0,"Other Contributing Action",0,0,0,0,0,0,0]
["Unknown",0,0,0,0,0,0,0,"Unknown",6,5.6603773584905662E-2,2,1,1,1,1]
[{"$f":"CONCATENATE(\"Fatal and Serious Injury Crashes Only - \",A580, \"\n\",Instructions!$B$9)","v":"Fatal and Serious Injury Crashes Only - Driver Actions at Time of Crash, Selection 3\nTest County"},null,null,null,null,null,null,null,{"$f":"CONCATENATE(\"Total Crashes - \",I580, \"\n\",Instructions!$B$9)","v":"Total Crashes - Driver Actions at Time of Crash, Selection 3\nTest County"}]
["Driver Actions at Time of Crash, Selection 3","Number of Crashes","Percent of Crashes","Year 5 Crashes","Year 4 Crashes","Year 3 Crashes","Year 2 Crashes","Year 1 Crashes","Driver Actions at Time of Crash, Selection 3","Number of Crashes","Percent of Crashes","Year 5 Crashes","Year 4 Crashes","Year 3 Crashes","Year 2 Crashes","Year 1 Crashes"]
["No Contributing Action",{"$f":"SUM(D581:H581)","v":1},{"$f":"B581/SUM(B$581:B$599)","v":7.1428571428571425E-2},0,0,1,0,0,{"$f":"A581","v":"No Contributing Action"},{"$f":"SUM(L581:P581)","v":8},{"$f":"J581/SUM(J$581:J$599)","v":7.5471698113207544E-2},2,3,3,0,0]
["Disregarded Other Road Markings",1,7.1428571428571425E-2,0,0,0,1,0,"Disregarded Other Road Markings",0,{"$f":"J582/SUM(J$581:J$599)","v":0},0,0,0,0,0]
["Disregarded Other Traffic Sign",1,7.1428571428571425E-2,0,1,0,0,0,"Disregarded Other Traffic Sign",0,0,0,0,0,0,0]
["Failed to Keep in Proper Lane",0,0,0,0,0,0,0,"Failed to Keep in Proper Lane",0,0,0,0,0,0,0]
["Failed to Yield Right-of-Way",0,0,0,0,0,0,0,"Failed to Yield Right-of-Way",6,5.6603773584905662E-2,2,1,1,1,1]
["Followed Too Closely",0,0,0,0,0,0,0,"Followed Too Closely",10,9.4339622641509441E-2,1,2,5,2,0]
["Improper Backing",0,0,0,0,0,0,0,"Improper Backing",8,7.5471698113207544E-2,2,1,2,1,2]
["Improper Passing",2,0.14285714285714285,1,0,1,0,0,"Improper Passing",14,0.13207547169811321,3,3,4,1,3]
["Improper Turn",0,0,0,0,0,0,0,"Improper Turn",10,9.4339622641509441E-2,1,3,4,1,1]
["Operated Motor Vehicle in Inattentive, Careless, Negligent, or Erratic Manner",0,0,0,0,0,0,0,"Operated Motor Vehicle in Inattentive, Careless, Negligent, or Erratic Manner",11,0.10377358490566038,1,1,4,4,1]
["Operated Motor Vehicle in Reckless or Aggressive Manner",4,0.2857142857142857,0,0,2,2,0,"Operated Motor Vehicle in Reckless or Aggressive Manner",13,0.12264150943396226,1,4,4,3,1]
["Over-Correcting/Over-Steering",2,0.14285714285714285,1,1,0,0,0,"Over-Correcting/Over-Steering",7,6.6037735849056603E-2,1,2,1,2,1]
["Ran Off Roadway",0,0,0,0,0,0,0,"Ran Off Roadway",3,2.8301886792452831E-2,0,1,0,2,0]
["Ran Red Light",1,7.1428571428571425E-2,0,0,0,1,0,"Ran Red Light",2,1.8867924528301886E-2,1,0,0,0,1]
["Ran Stop Sign",1,7.1428571428571425E-2,1,0,0,0,0,"Ran Stop Sign",0,0,0,0,0,0,0]
["Swerve or Avoided Due to Wind, Slippery Surface, Motor Vehicle, Object, Non-Motorist in Roadway, etc.",0,0,0,0,0,0,0,"Swerve or Avoided Due to Wind, Slippery Surface, Motor Vehicle, Object, Non-Motorist in Roadway, etc.",4,3.7735849056603772E-2,0,0,2,1,1]
["Wrong Side or Wrong Way",0,0,0,0,0,0,0,"Wrong Side or Wrong Way",0,0,0,0,0,0,0]
["Other Contributing Action",0,0,0,0,0,0,0,"Other Contributing Action",10,9.4339622641509441E-2,0,1,6,1,2]
["Unknown",1,7.1428571428571425E-2,1,0,0,0,0,"Unknown",0,0,0,0,0,0,0]
[{"$f":"CONCATENATE(\"Fatal and Serious Injury Crashes Only - \",A601, \"\n\",Instructions!$B$9)","v":"Fatal and Serious Injury Crashes Only - Driver Actions at Time of Crash, Selection 4\nTest County"},null,null,null,null,null,null,null,{"$f":"CONCATENATE(\"Total Crashes - \",I601, \"\n\",Instructions!$B$9)","v":"Total Crashes - Driver Actions at Time of Crash, Selection 4\nTest County"}]
["Driver Actions at Time of Crash, Selection 4","Number of Crashes","Percent of Crashes","Year 5 Crashes","Year 4 Crashes","Year 3 Crashes","Year 2 Crashes","Year 1 Crashes","Driver Actions at Time of Crash, Selection 4","Number of Crashes","Percent of Crashes","Year 5 Crashes","Year 4 Crashes","Year 3 Crashes","Year 2 Crashes","Year 1 Crashes"]
["No Contributing Action",{"$f":"SUM(D602:H602)","v":0},{"$f":"B602/SUM(B$602:B$620)","v":0},0,0,0,0,0,{"$f":"A602","v":"No Contributing Action"},{"$f":"SUM(L602:P602)","v":12},{"$f":"J602/SUM(J$602:J$620)","v":0.11320754716981132},3,5,4,0,0]
["Disregarded Other Road Markings",1,7.1428571428571425E-2,0,0,1,0,0,"Disregarded Other Road Markings",0,{"$f":"J603/SUM(J$602:J$620)","v":0},0,0,0,0,0]
["Disregarded Other Traffic Sign",2,0.14285714285714285,0,1,0,1,0,"Disregarded Other Traffic Sign",0,0,0,0,0,0,0]
["Failed to Keep in Proper Lane",0,0,0,0,0,0,0,"Failed to Keep in Proper Lane",0,0,0,0,0,0,0]
["Failed to Yield Right-of-Way",0,0,0,0,0,0,0,"Failed to Yield Right-of-Way",5,4.716981132075472E-2,1,1,1,1,1]
["Followed Too Closely",0,0,0,0,0,0,0,"Followed Too Closely",4,3.7735849056603772E-2,1,0,1,2,0]
["Improper Backing",0,0,0,0,0,0,0,"Improper Backing",17,0.16037735849056603,5,1,6,3,2]
["Improper Passing",2,0.14285714285714285,1,0,1,0,0,"Improper Passing",12,0.11320754716981132,3,3,2,1,3]
["Improper Turn",0,0,0,0,0,0,0,"Improper Turn",10,9.4339622641509441E-2,1,3,4,1,1]
["Operated Motor Vehicle in Inattentive, Careless, Negligent, or Erratic Manner",1,7.1428571428571425E-2,0,0,1,0,0,"Operated Motor Vehicle in Inattentive, Careless, Negligent, or Erratic Manner",7,6.6037735849056603E-2,0,1,2,3,1]
["Operated Motor Vehicle in Reckless or Aggressive Manner",3,0.21428571428571427,0,0,1,2,0,"Operated Motor Vehicle in Reckless or Aggressive Manner",12,0.11320754716981132,0,4,4,3,1]
["Over-Correcting/Over-Steering",2,0.14285714285714285,1,1,0,0,0,"Over-Correcting/Over-Steering",5,4.716981132075472E-2,0,2,1,1,1]
["Ran Off Roadway",0,0,0,0,0,0,0,"Ran Off Roadway",3,2.8301886792452831E-2,0,1,0,2,0]
["Ran Red Light",1,7.1428571428571425E-2,0,0,0,1,0,"Ran Red Light",2,1.8867924528301886E-2,1,0,0,0,1]
["Ran Stop Sign",1,7.1428571428571425E-2,1,0,0,0,0,"Ran Stop Sign",0,0,0,0,0,0,0]
["Swerve or Avoided Due to Wind, Slippery Surface, Motor Vehicle, Object, Non-Motorist in Roadway, etc.",0,0,0,0,0,0,0,"Swerve or Avoided Due to Wind, Slippery Surface, Motor Vehicle, Object, Non-Motorist in Roadway, etc.",4,3.7735849056603772E-2,0,0,2,1,1]
["Wrong Side or Wrong Way",0,0,0,0,0,0,0,"Wrong Side or Wrong Way",0,0,0,0,0,0,0]
["Other Contributing Action",0,0,0,0,0,0,0,"Other Contributing Action",10,9.4339622641509441E-2,0,1,6,1,2]
["Unknown",1,7.1428571428571425E-2,1,0,0,0,0,"Unknown",3,2.8301886792452831E-2,0,0,3,0,0]

{"sheet":"Comparison Group 1","index":3,"n_rows":577,"n_cols":15,"rows_kept":577,"cut":false,"hidden":false,"merged":[[2,8,2,14],[0,0,0,14],[1,0,3,0],[1,1,1,7],[1,8,1,14],[2,1,2,7]]}
["Crash Data Summary Template"]
["Year 1 - Year 5 Comparison Group 1 Data","Fatal and Serious Injury Crashes",null,null,null,null,null,null,"All Crashes"]
[null,{"$f":"Instructions!B10","v":"Test Group 1"},null,null,null,null,null,null,{"$f":"Instructions!B10","v":"Test Group 1"}]
[null,"Year 1 - Year 5","%","Year 5","Year 4","Year 3","Year 2","Year 1","Year 1 - Year 5","%","Year 5","Year 4","Year 3","Year 2","Year 1"]
["Overall Numbers"]
["Total # of Collisions",{"$f":"SUM(D6:H6)","v":117},"N/A",27,28,23,27,12,{"$f":"SUM(K6:O6)","v":4567},"N/A",1028,1057,936,726,820]
["# of Fatal Collisions",{"$f":"SUM(D7:H7)","v":20},{"$f":"B7/B6","v":0.17094017094017094},5,6,4,4,1,{"$f":"SUM(K7:O7)","v":20},{"$f":"I7/I6","v":4.3792423910663453E-3},5,6,4,4,1]
["# of Serious Injury Collisions",97,{"$f":"B8/B6","v":0.82905982905982911},22,22,19,23,11,97,{"$f":"I8/I6","v":2.1239325596671774E-2},22,22,19,23,11]
["# of Alcohol-Related Collisions",33,{"$f":"B9/B6","v":0.28205128205128205},6,5,6,14,2,432,{"$f":"I9/I6","v":9.4591635647033059E-2},91,92,73,86,90]
["Total # of Fatalities",21,"N/A",5,6,4,4,2,21,"N/A",5,6,4,4,2]
["Total # of Serious Injuries",178,"N/A",41,43,30,38,26,1896,"N/A",412,418,371,300,395]
["Most Severe Injury Reported"]
["5 (K)",{"$f":"SUM(D13:H13)","v":20},{"$f":"B13/SUM(B$13:B$17)","v":0.17094017094017094},5,6,4,4,1,{"$f":"SUM(K13:O13)","v":20},{"$f":"I13/SUM(I$13:I$17)","v":4.3792423910663453E-3},5,6,4,4,1]
["4 (A)",{"$f":"SUM(D14:H14)","v":97},{"$f":"B14/SUM(B$13:B$17)","v":0.82905982905982911},22,22,19,23,11,{"$f":"SUM(K14:O14)","v":97},{"$f":"I14/SUM(I$13:I$17)","v":2.1239325596671774E-2},22,22,19,23,11]
["3 (B)","N/A","N/A","N/A","N/A","N/A","N/A","N/A",{"$f":"SUM(K15:O15)","v":306},{"$f":"I15/SUM(I$13:I$17)","v":6.700240858331509E-2},68,55,55,56,72]
["2 (C)","N/A","N/A","N/A","N/A","N/A","N/A","N/A",{"$f":"SUM(K16:O16)","v":996},0.218086271075104,211,232,206,148,199]
["1 (O)","N/A","N/A","N/A","N/A","N/A","N/A","N/A",{"$f":"SUM(K17:O17)","v":3148},0.6892927523538428,722,742,652,495,537]
["Property"]
["Public",{"$f":"SUM(D19:H19)","v":80},{"$f":"B19/SUM(B$19:B$20)","v":0.68376068376068377},19,19,18,17,7,{"$f":"SUM(K19:O19)","v":3561},{"$f":"I19/SUM(I$19:I$20)","v":0.77972410772936285},823,799,719,573,647]
["Private",37,{"$f":"B20/SUM(B$19:B$20)","v":0.31623931623931623},8,9,5,10,5,1006,{"$f":"I20/SUM(I$19:I$20)","v":0.22027589227063718},205,258,217,153,173]
["Location"]
["Trafficway, On Road",{"$f":"SUM(D22:H22)","v":19},{"$f":"B22/SUM(B$22:B$24)","v":0.1623931623931624},4,5,4,5,1,{"$f":"SUM(K22:O22)","v":633},{"$f":"I22/SUM(I$22:I$24)","v":0.13860302167724983},111,160,137,105,120]
["Trafficway, Not on Road",{"$f":"SUM(D23:H23)","v":84},{"$f":"B23/SUM(B$22:B$24)","v":0.71794871794871795},23,21,12,17,11,{"$f":"SUM(K23:O23)","v":3477},{"$f":"I23/SUM(I$22:I$24)","v":0.76133128968688413},815,795,694,549,624]
["Non-Trafficway",{"$f":"SUM(D24:H24)","v":14},{"$f":"B24/SUM(B$22:B$24)","v":0.11965811965811966},0,2,7,5,0,{"$f":"SUM(K24:O24)","v":457},{"$f":"I24/SUM(I$22:I$24)","v":0.100065688635866},102,102,105,72,76]
["By Weekday"]
["Sunday",{"$f":"SUM(D26:H26)","v":19},{"$f":"B26/SUM(B$26:B$32)","v":0.1623931623931624},2,7,3,5,2,{"$f":"SUM(K26:O26)","v":494},{"$f":"I26/SUM(I$26:I$32)","v":0.10816728705933873},118,101,87,94,94]
["Monday",11,{"$f":"B27/SUM(B$26:B$32)","v":9.4017094017094016E-2},4,2,2,2,1,663,{"$f":"I27/SUM(I$26:I$32)","v":0.14517188526384936},139,153,156,98,117]
["Tuesday",13,0.1111111111111111,2,1,4,3,3,655,0.14342018830742281,145,155,126,110,119]
["Wednesday",19,0.1623931623931624,4,6,5,2,2,700,0.1532734836873221,166,169,156,105,104]
["Thursday",14,0.11965811965811966,5,3,0,5,1,695,0.15217867308955552,149,177,132,112,125]
["Friday",18,0.15384615384615385,6,4,3,3,2,763,0.16706809721918109,180,162,163,100,158]
["Saturday",23,0.19658119658119658,4,5,6,7,1,597,0.13072038537333042,131,140,116,107,103]
["Crash Hour"]
["12:00 AM - 12:59 AM",{"$f":"SUM(D34:H34)","v":5},{"$f":"B34/SUM(B$34:B$58)","v":4.2735042735042736E-2},0,0,2,3,0,{"$f":"SUM(K34:O34)","v":115},{"$f":"I34/SUM(I$34:I$58)","v":2.5180643748631486E-2},27,19,23,27,19]
["1:00 AM - 1:59 AM",2,{"$f":"B35/SUM(B$34:B$58)","v":1.7094017094017096E-2},0,1,0,1,0,92,{"$f":"I35/SUM(I$34:I$58)","v":2.014451499890519E-2},17,22,21,17,15]
["2:00 AM - 2:59 AM",5,4.2735042735042736E-2,1,1,0,3,0,100,2.1896211955331729E-2,21,31,12,21,15]
["3:00 AM - 3:59 AM",4,3.4188034188034191E-2,2,1,1,0,0,75,1.6422158966498797E-2,17,21,13,10,14]
["4:00 AM - 4:59 AM",1,8.5470085470085479E-3,0,1,0,0,0,53,1.1604992336325816E-2,8,12,13,7,13]
["5:00 AM - 5:59 AM",3,2.564102564102564E-2,0,2,0,1,0,72,1.5765272607838846E-2,18,14,16,9,15]
["6:00 AM - 6:59 AM",4,3.4188034188034191E-2,2,0,2,0,0,165,3.612874972629735E-2,44,30,39,24,28]
["7:00 AM - 7:59 AM",2,1.7094017094017096E-2,0,0,1,1,0,312,6.8316181300634993E-2,63,73,62,62,52]
["8:00 AM - 8:59 AM",2,1.7094017094017096E-2,0,1,0,1,0,256,5.6054302605649226E-2,58,63,50,42,43]
["9:00 AM - 9:59 AM",0,0,0,0,0,0,0,142,3.1092620976571055E-2,34,33,29,24,22]
["10:00 AM - 10:59 AM",5,4.2735042735042736E-2,3,0,1,0,1,139,3.04357346179111E-2,35,30,33,16,25]
["11:00 AM - 11:59 AM",1,8.5470085470085479E-3,0,0,0,1,0,176,3.8537333041383841E-2,39,37,34,37,29]
["12:00 PM - 12:59 PM",4,3.4188034188034191E-2,0,0,1,2,1,202,4.4230348149770088E-2,52,44,34,30,42]
["1:00 PM - 1:59 PM",9,7.6923076923076927E-2,2,2,1,2,2,230,5.0361287497262971E-2,49,60,45,38,38]
["2:00 PM - 2:59 PM",4,3.4188034188034191E-2,1,0,2,0,1,252,5.5178454127435952E-2,59,54,53,44,42]
["3:00 PM - 3:59 PM",8,6.8376068376068383E-2,1,4,2,1,0,362,7.9264287278300857E-2,91,82,66,53,70]
["4:00 PM - 4:59 PM",6,5.128205128205128E-2,0,1,2,2,1,349,7.6417779724107723E-2,68,88,74,58,61]
["5:00 PM - 5:59 PM",11,9.4017094017094016E-2,5,1,4,0,1,483,0.10575870374425224,102,120,98,66,97]
["6:00 PM - 6:59 PM",10,8.5470085470085472E-2,2,5,0,1,2,272,5.9557696518502297E-2,60,75,52,38,47]
["7:00 PM - 7:59 PM",6,5.128205128205128E-2,1,2,1,2,0,159,3.4814977008977448E-2,36,33,38,27,25]
["8:00 PM - 8:59 PM",11,9.4017094017094016E-2,4,2,2,1,2,169,3.7004598204510616E-2,41,43,33,18,34]
["9:00 PM - 9:59 PM",7,5.9829059829059832E-2,2,2,1,1,1,161,3.5252901248084084E-2,39,30,37,26,29]
["10:00 PM - 10:59 PM",5,4.2735042735042736E-2,1,1,0,3,0,125,2.7370264944164658E-2,26,23,42,13,21]
["11:00 PM - 11:59 PM",2,1.7094017094017096E-2,0,1,0,1,0,106,2.3209984672651632E-2,24,20,19,19,24]
["Unknown",0,0,0,0,0,0,0,0,0,0,0,0,0,0]
["Crash Month"]
["January",{"$f":"SUM(D60:H60)","v":10},{"$f":"B60/SUM(B$60:B$71)","v":8.5470085470085472E-2},1,4,1,3,1,{"$f":"SUM(K60:O60)","v":410},{"$f":"I60/SUM(I$60:I$71)","v":8.9774469016860078E-2},97,100,77,72,64]
["February",6,{"$f":"B61/SUM(B$60:B$71)","v":5.128205128205128E-2},1,2,1,0,2,347,{"$f":"I61/SUM(I$60:I$71)","v":7.5979855485001094E-2},84,83,59,59,62]
["March",8,6.8376068376068383E-2,3,1,1,3,0,347,7.5979855485001094E-2,70,70,69,70,68]
["April",5,4.2735042735042736E-2,2,1,0,1,1,387,8.4738340267133783E-2,79,84,74,62,88]
["May",14,0.11965811965811966,4,4,1,2,3,354,7.7512590321874311E-2,72,82,74,64,62]
["June",9,7.6923076923076927E-2,3,2,2,2,0,359,7.8607400919640899E-2,75,74,81,55,74]
["July",7,5.9829059829059832E-2,2,3,2,0,0,359,7.8607400919640899E-2,79,94,77,51,58]
["August",9,7.6923076923076927E-2,1,2,2,4,0,391,8.5614188745347056E-2,87,96,77,63,68]
["September",13,0.1111111111111111,2,2,5,3,1,411,8.9993431136413407E-2,83,90,91,76,71]
["October",16,0.13675213675213677,3,3,4,4,2,450,9.8532953798992781E-2,107,96,102,74,71]
["November",13,0.1111111111111111,3,1,3,4,2,379,8.298664331070725E-2,85,94,83,52,65]
["December",7,5.9829059829059832E-2,2,3,1,1,0,373,8.1672870593387348E-2,110,94,72,28,69]
["Crash Jurisdiction"]
["A",{"$f":"SUM(D73:H73)","v":11},{"$f":"B73/SUM(B$73:B$77)","v":9.4017094017094016E-2},0,1,5,5,0,{"$f":"SUM(K73:O73)","v":61},{"$f":"I73/SUM(I$73:I$77)","v":1.3356689292752353E-2},13,14,12,10,12]
["B",{"$f":"SUM(D74:H74)","v":19},{"$f":"B74/SUM(B$73:B$77)","v":0.1623931623931624},4,5,4,5,1,{"$f":"SUM(K74:O74)","v":6},{"$f":"I74/SUM(I$73:I$77)","v":1.3137727173199037E-3},1,3,0,0,2]
["C",{"$f":"SUM(D75:H75)","v":84},0.71794871794871795,23,21,12,17,11,{"$f":"SUM(K75:O75)","v":375},8.2110794832493977E-2,82,81,88,62,62]
["D",{"$f":"SUM(D76:H76)","v":1},8.5470085470085479E-3,0,0,1,0,0,{"$f":"SUM(K76:O76)","v":633},0.13860302167724983,111,160,137,105,120]
["E",{"$f":"SUM(D77:H77)","v":2},1.7094017094017096E-2,0,1,1,0,0,{"$f":"SUM(K77:O77)","v":3492},0.76461572148018397,821,799,699,549,624]
["First Harmful Event"]
["Cargo/Equipment Loss or Shift",{"$f":"SUM(D79:H79)","v":0},{"$f":"B79/SUM(B$79:B$120)","v":0},0,0,0,0,0,{"$f":"SUM(K79:O79)","v":0},{"$f":"I79/SUM(I$79:I$120)","v":0},0,0,0,0,0]
["Fell/Jumped from Motor Vehicle",8,{"$f":"B80/SUM(B$79:B$120)","v":6.8376068376068383E-2},3,1,2,1,1,269,{"$f":"I80/SUM(I$79:I$120)","v":5.8900810159842346E-2},60,62,53,46,48]
["Fire/Explosion",0,0,0,0,0,0,0,1,2.1896211955331729E-4,0,0,0,1,0]
["Immersion, Full or Partial",3,2.564102564102564E-2,2,0,1,0,0,47,1.0291219619005912E-2,11,6,11,8,11]
["Jackknife",0,0,0,0,0,0,0,12,2.6275454346398074E-3,0,4,3,3,2]
["Other Non-Collision",5,4.2735042735042736E-2,3,1,0,1,0,636,0.13925990803590979,161,146,134,95,100]
["Overturn/Rollover",0,0,0,0,0,0,0,0,0,0,0,0,0,0]
["Thrown or Falling Object",1,8.5470085470085479E-3,1,0,0,0,0,26,5.6930151083862488E-3,4,9,2,6,5]
["Collision with Animal",0,0,0,0,0,0,0,1,2.1896211955331729E-4,0,0,1,0,0]
["Collision with Construction Equipment",4,3.4188034188034191E-2,0,2,0,2,0,24,5.2550908692796149E-3,6,7,0,6,5]
["Collision with Farm Equipment",1,8.5470085470085479E-3,0,0,0,1,0,28,6.1309393474928836E-3,6,4,7,7,4]
["Collision with Motor Vehicle in Transport",0,0,0,0,0,0,0,6,1.3137727173199037E-3,0,1,2,2,1]
["Collision with Other Non-Fixed Object",0,0,0,0,0,0,0,25,5.4740529888329323E-3,5,3,6,6,5]
["Collision with Other Non-motorist",3,2.564102564102564E-2,1,0,1,1,0,91,1.9925552879351872E-2,21,20,25,18,7]
["Collision with Parked Motor Vehicle",1,8.5470085470085479E-3,0,0,1,0,0,191,4.1821764834683597E-2,32,50,45,31,33]
["Collision with Pedalcycle",2,1.7094017094017096E-2,1,1,0,0,0,26,5.6930151083862488E-3,3,6,7,6,4]
["Collision with Pedestrian",3,2.564102564102564E-2,0,3,0,0,0,37,8.1015984234727393E-3,13,10,4,8,2]
["Collision with Railway Vehicle",1,8.5470085470085479E-3,1,0,0,0,0,39,8.5395226625793741E-3,12,12,2,7,6]
["Strikes Object ar Rest from MV in Transport",0,0,0,0,0,0,0,16,3.5033939128530766E-3,2,6,4,1,3]
["Struck by Falling, Shifting Cargo, or Anything Set in Motion by Motor Vehicle",3,2.564102564102564E-2,1,0,0,1,1,119,2.6056492226844755E-2,25,30,22,19,23]
["Collision with Bridge Overhead Structure",0,0,0,0,0,0,0,20,4.3792423910663453E-3,5,4,7,2,2]
["Collision with Bridge Pier or Support",2,1.7094017094017096E-2,0,0,2,0,0,52,1.1386030216772498E-2,7,13,13,5,14]
["Collision with Bridge Rail",0,0,0,0,0,0,0,3,6.5688635865995186E-4,0,1,0,0,2]
["Collision with Cable Barrier",3,2.564102564102564E-2,0,0,0,2,1,56,1.2261878694985767E-2,10,5,12,17,12]
["Collision with Concrete Traffic Barrier",24,0.20512820512820512,3,5,7,5,4,276,6.043354499671557E-2,52,51,65,39,69]
["Collision with Culvert",3,2.564102564102564E-2,0,0,1,2,0,539,0.11802058243923801,165,110,84,82,98]
["Collision with Curb",19,0.1623931623931624,5,5,2,5,2,78,1.7079045325158748E-2,17,20,9,14,18]
["Collision with Ditch",0,0,0,0,0,0,0,3,6.5688635865995186E-4,1,1,0,1,0]
["Collision with Embankment",5,4.2735042735042736E-2,0,2,1,1,1,1053,0.2305671118896431,218,251,233,159,192]
["Collision with Fence",0,0,0,0,0,0,0,3,6.5688635865995186E-4,0,1,0,0,2]
["Collision with Guardrail End Terminal",1,8.5470085470085479E-3,0,1,0,0,0,97,2.1239325596671774E-2,27,23,20,11,16]
["Collision with Guardrail Face",4,3.4188034188034191E-2,1,1,1,0,1,338,7.4009196409021233E-2,75,87,71,53,52]
["Collision with Impact Attenuator/Crash Cushion",0,0,0,0,0,0,0,39,8.5395226625793741E-3,10,8,11,5,5]
["Collision with Mailbox",0,0,0,0,0,0,0,9,1.9706590759798557E-3,0,5,0,2,2]
["Collision with Other Fixed Object",3,2.564102564102564E-2,0,1,0,2,0,74,1.6203196846945479E-2,21,14,18,14,7]
["Collision with Other Post, Pole, or Support",16,0.13675213675213677,5,4,4,2,1,220,4.8171666301729803E-2,40,65,45,30,40]
["Collision with Other Traffic Barrier",1,8.5470085470085479E-3,0,0,0,1,0,14,3.0654696737464418E-3,1,1,3,4,5]
["Collision with Traffic Sign Support",1,8.5470085470085479E-3,0,1,0,0,0,38,8.3205605430260558E-3,6,10,5,9,8]
["Collision with Traffic Signal Support",0,0,0,0,0,0,0,16,3.5033939128530766E-3,3,3,3,1,6]
["Collision with Tree",0,0,0,0,0,0,0,29,6.349901467046201E-3,6,5,5,8,5]
["Collision with Utility Pole or Light Support",0,0,0,0,0,0,0,16,3.5033939128530766E-3,3,3,4,0,6]
["Unknown",0,0,0,0,0,0,0,0,0,0,0,0,0,0]
["Location of First Harmful Event"]
["Gore",{"$f":"SUM(D122:H122)","v":108},{"$f":"B122/SUM(B$122:B$132)","v":0.92307692307692313},26,24,20,26,12,{"$f":"SUM(K122:O122)","v":3854},{"$f":"I122/SUM(I$122:I$132)","v":0.84388000875848479},882,863,768,599,742]
["In Parking Lane or Zone",{"$f":"SUM(D123:H123)","v":0},{"$f":"B123/SUM(B$122:B$132)","v":0},0,0,0,0,0,{"$f":"SUM(K123:O123)","v":4},{"$f":"I123/SUM(I$122:I$132)","v":8.7584847821326915E-4},3,1,0,0,0]
["Median",{"$f":"SUM(D124:H124)","v":0},0,0,0,0,0,0,{"$f":"SUM(K124:O124)","v":1},2.1896211955331729E-4,0,0,0,0,1]
["Off-Roadway, Location Unknown",{"$f":"SUM(D125:H125)","v":3},2.564102564102564E-2,0,2,1,0,0,{"$f":"SUM(K125:O125)","v":210},4.5982045106196627E-2,36,61,55,36,22]
["On Roadway",0,0,0,0,0,0,0,5,1.0948105977665863E-3,3,2,0,0,0]
["On Shoulder, Left Side",0,0,0,0,0,0,0,12,2.6275454346398074E-3,2,4,5,0,1]
["On Shoulder, Right Side",0,0,0,0,0,0,0,24,5.2550908692796149E-3,9,5,3,5,2]
["Outside Road/Right-of-Way",0,0,0,0,0,0,0,0,0,0,0,0,0,0]
["Roadside",1,8.5470085470085479E-3,0,0,1,0,0,142,3.1092620976571055E-2,35,36,32,24,15]
["Separator/Traffic Island",1,8.5470085470085479E-3,0,1,0,0,0,2,4.3792423910663457E-4,0,2,0,0,0]
["Unknown",{"$f":"SUM(D132:H132)","v":4},3.4188034188034191E-2,1,1,1,1,0,{"$f":"SUM(K132:O132)","v":313},6.8535143420188308E-2,58,83,73,62,37]
["Manner of Crash"]
["Not a Collision Between Two Motor Vehicles",{"$f":"SUM(D134:H134)","v":10},{"$f":"B134/SUM(B$134:B$143)","v":8.5470085470085472E-2},1,4,1,3,1,{"$f":"SUM(K134:O134)","v":410},{"$f":"I134/SUM(I$134:I$143)","v":8.9774469016860078E-2},97,100,77,72,64]
["Angle",6,{"$f":"B135/SUM(B$134:B$143)","v":5.128205128205128E-2},1,2,1,0,2,347,{"$f":"I135/SUM(I$134:I$143)","v":7.5979855485001094E-2},84,83,59,59,62]
["Front to Front",8,6.8376068376068383E-2,3,1,1,3,0,347,7.5979855485001094E-2,70,70,69,70,68]
["Front to Rear",5,4.2735042735042736E-2,2,1,0,1,1,387,8.4738340267133783E-2,79,84,74,62,88]
["Rear to Rear",14,0.11965811965811966,4,4,1,2,3,354,7.7512590321874311E-2,72,82,74,64,62]
["Rear to Side",9,7.6923076923076927E-2,3,2,2,2,0,359,7.8607400919640899E-2,75,74,81,55,74]
["Sideswipe, Opposite Direction",7,5.9829059829059832E-2,2,3,2,0,0,359,7.8607400919640899E-2,79,94,77,51,58]
["Sideswipe, Same Direction",9,7.6923076923076927E-2,1,2,2,4,0,391,8.5614188745347056E-2,87,96,77,63,68]
["Other",13,0.1111111111111111,2,2,5,3,1,411,8.9993431136413407E-2,83,90,91,76,71]
["Unknown",36,0.30769230769230771,8,7,8,9,4,1202,0.26319246770308735,302,284,257,154,205]
["Weather"]
["Blowing Sand, Soil, Dirt",{"$f":"SUM(D145:H145)","v":34},{"$f":"B145/SUM(B$145:B$156)","v":0.29059829059829062},4,8,10,8,4,{"$f":"SUM(K145:O145)","v":1067},{"$f":"I145/SUM(I$145:I$156)","v":0.23363258156338954},192,252,238,184,201]
["Blowing Snow",67,{"$f":"B146/SUM(B$145:B$156)","v":0.57264957264957261},18,16,10,15,8,3162,{"$f":"I146/SUM(I$145:I$156)","v":0.69235822202758923},758,710,644,495,555]
["Clear",11,9.4017094017094016E-2,5,3,2,1,0,286,6.2623166192248739E-2,66,83,43,38,56]
["Cloudy",3,2.564102564102564E-2,0,1,0,2,0,41,8.9774469016860089E-3,9,10,8,6,8]
["Fog, Smog, Smoke",1,8.5470085470085479E-3,0,0,0,1,0,8,1.7516969564265383E-3,3,1,2,2,0]
["Freezing Rain or Freezing Drizzle",1,8.5470085470085479E-3,0,0,1,0,0,3,6.5688635865995186E-4,0,1,1,1,0]
["Rain",0,0,0,0,0,0,0,0,0,0,0,0,0,0]
["Severe Crosswinds",0,0,0,0,0,0,0,0,0,0,0,0,0,0]
["Sleet or Hail",0,0,0,0,0,0,0,0,0,0,0,0,0,0]
["Snow",0,0,0,0,0,0,0,0,0,0,0,0,0,0]
["Other",0,0,0,0,0,0,0,0,0,0,0,0,0,0]
["Unknown",0,0,0,0,0,0,0,0,0,0,0,0,0,0]
["Light Conditions"]
["Daylight",{"$f":"SUM(D158:H158)","v":8},{"$f":"B158/SUM(B$158:B$164)","v":6.8376068376068383E-2},1,1,3,2,1,{"$f":"SUM(K158:O158)","v":512},{"$f":"I158/SUM(I$158:I$164)","v":0.11210860521129845},122,100,115,90,85]
["Dawn/Dusk",{"$f":"SUM(D159:H159)","v":39},{"$f":"B159/SUM(B$158:B$164)","v":0.33333333333333331},11,9,8,6,5,{"$f":"SUM(K159:O159)","v":1340},{"$f":"I159/SUM(I$158:I$164)","v":0.29340924020144515},317,317,285,194,227]
["Dark - Lighted",0,0,0,0,0,0,0,5,1.0948105977665863E-3,1,1,0,1,2]
["Dark - Not Lighted",9,7.6923076923076927E-2,2,3,2,1,1,687,0.15042697613312897,137,181,141,107,121]
["Dark - Unknown Lighting",61,0.5213675213675214,13,15,10,18,5,2010,0.4401138603021677,448,455,392,331,384]
["Other",0,0,0,0,0,0,0,5,1.0948105977665863E-3,3,1,0,1,0]
["Unknown",0,0,0,0,0,0,0,8,1.7516969564265383E-3,0,2,3,2,1]
["Road Surface Condition"]
["Dry",{"$f":"SUM(D166:H166)","v":108},{"$f":"B166/SUM(B$166:B$176)","v":0.92307692307692313},26,24,20,26,12,{"$f":"SUM(K166:O166)","v":3854},{"$f":"I166/SUM(I$166:I$176)","v":0.84388000875848479},882,863,768,599,742]
["Ice/Frost",0,{"$f":"B167/SUM(B$166:B$176)","v":0},0,0,0,0,0,4,{"$f":"I167/SUM(I$166:I$176)","v":8.7584847821326915E-4},3,1,0,0,0]
["Mud, Dirt, Gravel",0,0,0,0,0,0,0,1,2.1896211955331729E-4,0,0,0,0,1]
["Oil",3,2.564102564102564E-2,0,2,1,0,0,210,4.5982045106196627E-2,36,61,55,36,22]
["Sand",0,0,0,0,0,0,0,5,1.0948105977665863E-3,3,2,0,0,0]
["Sluch",0,0,0,0,0,0,0,12,2.6275454346398074E-3,2,4,5,0,1]
["Snow",0,0,0,0,0,0,0,24,5.2550908692796149E-3,9,5,3,5,2]
["Water (Standing, Moving)",0,0,0,0,0,0,0,0,0,0,0,0,0,0]
["Wet",1,8.5470085470085479E-3,0,0,1,0,0,142,3.1092620976571055E-2,35,36,32,24,15]
["Other",1,8.5470085470085479E-3,0,1,0,0,0,2,4.3792423910663457E-4,0,2,0,0,0]
["Unknown",4,3.4188034188034191E-2,1,1,1,1,0,313,6.8535143420188308E-2,58,83,73,62,37]
["Contributing Circumstances - Roadway Environment, Selection 1"]
["None",{"$f":"SUM(D178:H178)","v":5},{"$f":"B178/SUM(B$178:B$200)","v":4.2735042735042736E-2},0,0,2,3,0,{"$f":"SUM(K178:O178)","v":115},{"$f":"I178/SUM(I$178:I$200)","v":2.5180643748631486E-2},27,19,23,27,19]
["Animal(s)",2,{"$f":"B179/SUM(B$178:B$200)","v":1.7094017094017096E-2},0,1,0,1,0,92,{"$f":"I179/SUM(I$178:I$200)","v":2.014451499890519E-2},17,22,21,17,15]
["Debris",5,4.2735042735042736E-2,1,1,0,3,0,100,2.1896211955331729E-2,21,31,12,21,15]
["Glare",4,3.4188034188034191E-2,2,1,1,0,0,75,1.6422158966498797E-2,17,21,13,10,14]
["Non-Highway Work",1,8.5470085470085479E-3,0,1,0,0,0,53,1.1604992336325816E-2,8,12,13,7,13]
["Obstructed Crosswalks",3,2.564102564102564E-2,0,2,0,1,0,72,1.5765272607838846E-2,18,14,16,9,15]
["Obstruction in Roadway",4,3.4188034188034191E-2,2,0,2,0,0,165,3.612874972629735E-2,44,30,39,24,28]
["Prior Crash",2,1.7094017094017096E-2,0,0,1,1,0,312,6.8316181300634993E-2,63,73,62,62,52]
["Prior Non-Recurring Incident",2,1.7094017094017096E-2,0,1,0,1,0,256,5.6054302605649226E-2,58,63,50,42,43]
["Regular Congestion",0,0,0,0,0,0,0,142,3.1092620976571055E-2,34,33,29,24,22]
["Related to a Bus Stop",5,4.2735042735042736E-2,3,0,1,0,1,139,3.04357346179111E-2,35,30,33,16,25]
["Road Surface Condition (wet, icy, snow, slush, etc.)",1,8.5470085470085479E-3,0,0,0,1,0,176,3.8537333041383841E-2,39,37,34,37,29]
["Ruts, Holes, Bumps",4,3.4188034188034191E-2,0,0,1,2,1,202,4.4230348149770088E-2,52,44,34,30,42]
["Shoulders (none, low, soft, high)",9,7.6923076923076927E-2,2,2,1,2,2,230,5.0361287497262971E-2,49,60,45,38,38]
["Toll Booth/Plaza Related",4,3.4188034188034191E-2,1,0,2,0,1,252,5.5178454127435952E-2,59,54,53,44,42]
["Traffic Control Device",8,6.8376068376068383E-2,1,4,2,1,0,362,7.9264287278300857E-2,91,82,66,53,70]
["Traffic Incident",6,5.128205128205128E-2,0,1,2,2,1,349,7.6417779724107723E-2,68,88,74,58,61]
["Visual Obstruction(s)",11,9.4017094017094016E-2,5,1,4,0,1,483,0.10575870374425224,102,120,98,66,97]
["Weather Conditions",10,8.5470085470085472E-2,2,5,0,1,2,272,5.9557696518502297E-2,60,75,52,38,47]
["Work Zone (construction/maintenance/utility)",6,5.128205128205128E-2,1,2,1,2,0,159,3.4814977008977448E-2,36,33,38,27,25]
["Worn, Travel-polished Surface",11,9.4017094017094016E-2,4,2,2,1,2,169,3.7004598204510616E-2,41,43,33,18,34]
["Other",7,5.9829059829059832E-2,2,2,1,1,1,161,3.5252901248084084E-2,39,30,37,26,29]
["Unknown",7,5.9829059829059832E-2,1,2,0,4,0,231,5.0580249616816293E-2,50,43,61,32,45]
["Contributing Circumstances - Roadway Environment, Selection 2"]
["None",{"$f":"SUM(D202:H202)","v":9},{"$f":"B202/SUM(B$202:B$224)","v":7.6923076923076927E-2},2,2,1,2,2,{"$f":"SUM(K202:O202)","v":230},{"$f":"I202/SUM(I$202:I$224)","v":5.0361287497262971E-2},49,60,45,38,38]
["Animal(s)",4,{"$f":"B203/SUM(B$202:B$224)","v":3.4188034188034191E-2},1,0,2,0,1,252,{"$f":"I203/SUM(I$202:I$224)","v":5.5178454127435952E-2},59,54,53,44,42]
["Debris",8,6.8376068376068383E-2,1,4,2,1,0,362,7.9264287278300857E-2,91,82,66,53,70]
["Glare",6,5.128205128205128E-2,0,1,2,2,1,349,7.6417779724107723E-2,68,88,74,58,61]
["Non-Highway Work",11,9.4017094017094016E-2,5,1,4,0,1,483,0.10575870374425224,102,120,98,66,97]
["Obstructed Crosswalks",10,8.5470085470085472E-2,2,5,0,1,2,272,5.9557696518502297E-2,60,75,52,38,47]
["Obstruction in Roadway",6,5.128205128205128E-2,1,2,1,2,0,159,3.4814977008977448E-2,36,33,38,27,25]
["Prior Crash",11,9.4017094017094016E-2,4,2,2,1,2,169,3.7004598204510616E-2,41,43,33,18,34]
["Prior Non-Recurring Incident",7,5.9829059829059832E-2,2,2,1,1,1,161,3.5252901248084084E-2,39,30,37,26,29]
["Regular Congestion",7,5.9829059829059832E-2,1,2,0,4,0,231,5.0580249616816293E-2,50,43,61,32,45]
["Related to a Bus Stop",5,4.2735042735042736E-2,0,0,2,3,0,115,2.5180643748631486E-2,27,19,23,27,19]
["Road Surface Condition (wet, icy, snow, slush, etc.)",2,1.7094017094017096E-2,0,1,0,1,0,92,2.014451499890519E-2,17,22,21,17,15]
["Ruts, Holes, Bumps",5,4.2735042735042736E-2,1,1,0,3,0,100,2.1896211955331729E-2,21,31,12,21,15]
["Shoulders (none, low, soft, high)",4,3.4188034188034191E-2,2,1,1,0,0,75,1.6422158966498797E-2,17,21,13,10,14]
["Toll Booth/Plaza Related",1,8.5470085470085479E-3,0,1,0,0,0,53,1.1604992336325816E-2,8,12,13,7,13]
["Traffic Control Device",3,2.564102564102564E-2,0,2,0,1,0,72,1.5765272607838846E-2,18,14,16,9,15]
["Traffic Incident",4,3.4188034188034191E-2,2,0,2,0,0,165,3.612874972629735E-2,44,30,39,24,28]
["Visual Obstruction(s)",2,1.7094017094017096E-2,0,0,1,1,0,312,6.8316181300634993E-2,63,73,62,62,52]
["Weather Conditions",2,1.7094017094017096E-2,0,1,0,1,0,256,5.6054302605649226E-2,58,63,50,42,43]
["Work Zone (construction/maintenance/utility)",0,0,0,0,0,0,0,142,3.1092620976571055E-2,34,33,29,24,22]
["Worn, Travel-polished Surface",5,4.2735042735042736E-2,3,0,1,0,1,139,3.04357346179111E-2,35,30,33,16,25]
["Other",1,8.5470085470085479E-3,0,0,0,1,0,176,3.8537333041383841E-2,39,37,34,37,29]
["Unknown",4,3.4188034188034191E-2,0,0,1,2,1,202,4.4230348149770088E-2,52,44,34,30,42]
["Within Interchange Area"]
["No",{"$f":"SUM(D226:H226)","v":21},{"$f":"B226/SUM(B$226:B$228)","v":0.17948717948717949},5,5,3,7,1,{"$f":"SUM(K226:O226)","v":627},{"$f":"I226/SUM(I$226:I$228)","v":0.13728924895992994},124,170,144,91,98]
["Yes",80,{"$f":"B227/SUM(B$226:B$228)","v":0.68376068376068377},19,19,18,17,7,3561,{"$f":"I227/SUM(I$226:I$228)","v":0.77972410772936285},823,799,719,573,647]
["Unknown",16,0.13675213675213677,3,4,2,3,4,379,8.298664331070725E-2,81,88,73,62,75]
["Relation to Junction"]
["Acceleration/Deceleration Lane",34,{"$f":"B230/SUM(B$230:B$240)","v":0.29059829059829062},4,8,10,8,4,1067,{"$f":"I230/SUM(I$230:I$240)","v":0.23363258156338954},192,252,238,184,201]
["Crossover-Related",67,{"$f":"B231/SUM(B$230:B$240)","v":0.57264957264957261},18,16,10,15,8,3162,{"$f":"I231/SUM(I$230:I$240)","v":0.69235822202758923},758,710,644,495,555]
["Driveway Access or Related",11,9.4017094017094016E-2,5,3,2,1,0,286,6.2623166192248739E-2,66,83,43,38,56]
["Entrance/Exit Ramp or Related",3,2.564102564102564E-2,0,1,0,2,0,41,8.9774469016860089E-3,9,10,8,6,8]
["Intersection or Related",1,8.5470085470085479E-3,0,0,0,1,0,8,1.7516969564265383E-3,3,1,2,2,0]
["Non-Junction",1,8.5470085470085479E-3,0,0,1,0,0,3,6.5688635865995186E-4,0,1,1,1,0]
["Railway Grade Crossing",0,0,0,0,0,0,0,0,0,0,0,0,0,0]
["Shared-Use Path or Trail",0,0,0,0,0,0,0,0,0,0,0,0,0,0]
["Through Roadway",0,0,0,0,0,0,0,0,0,0,0,0,0,0]
["Other",0,0,0,0,0,0,0,0,0,0,0,0,0,0]
["Unknown",0,0,0,0,0,0,0,0,0,0,0,0,0,0]
["Type of Intersection"]
["Not at Intersection",0,{"$f":"B242/SUM(B$242:B$246)","v":0},0,0,0,0,0,5,{"$f":"I242/SUM(I$242:I$246)","v":1.0948105977665863E-3},0,1,1,3,0]
["Two-Leg",21,{"$f":"B243/SUM(B$242:B$246)","v":0.17948717948717949},5,5,3,7,1,627,{"$f":"I243/SUM(I$242:I$246)","v":0.13728924895992994},124,170,144,91,98]
["Three-Leg",80,0.68376068376068377,19,19,18,17,7,3561,0.77972410772936285,823,799,719,573,647]
["Four-Leg",0,0,0,0,0,0,0,0,0,0,0,0,0,0]
["Five or More Legs",16,0.13675213675213677,3,4,2,3,4,374,8.1891832712940663E-2,81,87,72,59,75]
["Intersection Geometry"]
["Angled or Skewed",11,{"$f":"B248/SUM(B$248:B$251)","v":9.4017094017094016E-2},5,3,2,1,0,286,{"$f":"I248/SUM(I$248:I$251)","v":6.2623166192248739E-2},66,83,43,38,56]
["Roundabout or Traffic Circle",5,{"$f":"B249/SUM(B$248:B$251)","v":4.2735042735042736E-2},0,1,1,3,0,52,{"$f":"I249/SUM(I$248:I$251)","v":1.1386030216772498E-2},12,12,11,9,8]
["Perpindicular",34,0.29059829059829062,4,8,10,8,4,1067,0.23363258156338954,192,252,238,184,201]
["Not at Intersection",67,0.57264957264957261,18,16,10,15,8,3162,0.69235822202758923,758,710,644,495,555]
["Traffic Control Device"]
["Signalized",2,{"$f":"B253/SUM(B$253:B$258)","v":1.7094017094017096E-2},0,1,1,0,0,61,{"$f":"I253/SUM(I$253:I$258)","v":1.3356689292752353E-2},13,14,12,10,12]
["Stop - All Way",0,{"$f":"B254/SUM(B$253:B$258)","v":0},0,0,0,0,0,6,{"$f":"I254/SUM(I$253:I$258)","v":1.3137727173199037E-3},1,3,0,0,2]
["Stop - Partial",11,9.4017094017094016E-2,0,1,5,5,0,375,8.2110794832493977E-2,82,81,88,62,62]
["Yield",19,0.1623931623931624,4,5,4,5,1,633,0.13860302167724983,111,160,137,105,120]
["No Controls",84,0.71794871794871795,23,21,12,17,11,3477,0.76133128968688413,815,795,694,549,624]
["Not an Intersection",1,8.5470085470085479E-3,0,0,1,0,0,15,3.2844317932997592E-3,6,4,5,0,0]
["Crash in Work Zone"]
["Yes",{"$f":"SUM(D260:H260)","v":80},{"$f":"B260/SUM(B$260:B$262)","v":0.68376068376068377},19,19,18,17,7,{"$f":"SUM(K260:O260)","v":3561},{"$f":"I260/SUM(I$260:I$262)","v":0.77972410772936285},823,799,719,573,647]
["No",16,{"$f":"B261/SUM(B$260:B$262)","v":0.13675213675213677},3,4,2,3,4,379,{"$f":"I261/SUM(I$260:I$262)","v":8.298664331070725E-2},81,88,73,62,75]
["Unknown",21,0.17948717948717949,5,5,3,7,1,627,0.13728924895992994,124,170,144,91,98]
["Number of Motor Vehicles Involved"]
["One",34,{"$f":"B264/SUM(B$264:B$267)","v":0.29059829059829062},4,8,10,8,4,1067,{"$f":"I264/SUM(I$264:I$267)","v":0.23363258156338954},192,252,238,184,201]
["Two",67,{"$f":"B265/SUM(B$264:B$267)","v":0.57264957264957261},18,16,10,15,8,3162,{"$f":"I265/SUM(I$264:I$267)","v":0.69235822202758923},758,710,644,495,555]
["Three",11,9.4017094017094016E-2,5,3,2,1,0,286,6.2623166192248739E-2,66,83,43,38,56]
["Four or More",5,4.2735042735042736E-2,0,1,1,3,0,52,1.1386030216772498E-2,12,12,11,9,8]
["Horizontal Alignment"]
["Straight",{"$f":"SUM(D269:H269)","v":34},{"$f":"B269/SUM(B$269:B$271)","v":0.29059829059829062},4,8,10,8,4,{"$f":"SUM(K269:O269)","v":1067},{"$f":"I269/SUM(I$269:I$271)","v":0.23363258156338954},192,252,238,184,201]
["Horizontal Curve Left",67,{"$f":"B270/SUM(B$269:B$271)","v":0.57264957264957261},18,16,10,15,8,3162,{"$f":"I270/SUM(I$269:I$271)","v":0.69235822202758923},758,710,644,495,555]
["Horizontal Curve Right",16,0.13675213675213677,5,4,3,4,0,338,7.4009196409021233E-2,78,95,54,47,64]
["Vertical Alignment"]
["Level",2,{"$f":"B273/SUM(B$273:B$278)","v":1.7094017094017096E-2},1,1,0,0,0,122,{"$f":"I273/SUM(I$273:I$278)","v":2.6713378585504707E-2},30,30,22,19,21]
["Uphill",14,{"$f":"B274/SUM(B$273:B$278)","v":0.11965811965811966},2,3,2,3,4,252,{"$f":"I274/SUM(I$273:I$278)","v":5.5178454127435952E-2},51,57,50,40,54]
["Hillcrest",0,0,0,0,0,0,0,5,1.0948105977665863E-3,0,1,1,3,0]
["Downhill",21,0.17948717948717949,5,5,3,7,1,627,0.13728924895992994,124,170,144,91,98]
["Sag",80,0.68376068376068377,19,19,18,17,7,3561,0.77972410772936285,823,799,719,573,647]
["Unknown",0,0,0,0,0,0,0,0,0,0,0,0,0,0]
["Roadway Owner"]
["State",{"$f":"SUM(D280:H280)","v":19},{"$f":"B280/SUM(B$280:B$285)","v":0.1623931623931624},4,5,4,5,1,{"$f":"SUM(K280:O280)","v":633},{"$f":"I280/SUM(I$280:I$285)","v":0.13860302167724983},111,160,137,105,120]
["County",84,{"$f":"B281/SUM(B$280:B$285)","v":0.71794871794871795},23,21,12,17,11,3477,{"$f":"I281/SUM(I$280:I$285)","v":0.76133128968688413},815,795,694,549,624]
["Municipality",0,0,0,0,0,0,0,6,1.3137727173199037E-3,1,3,0,0,2]
["Federal",11,9.4017094017094016E-2,0,1,5,5,0,375,8.2110794832493977E-2,82,81,88,62,62]
["Tribal",1,8.5470085470085479E-3,0,0,1,0,0,15,3.2844317932997592E-3,6,4,5,0,0]
["Unknown",2,1.7094017094017096E-2,0,1,1,0,0,61,1.3356689292752353E-2,13,14,12,10,12]
["Area Type"]
["Urban",{"$f":"SUM(D287:H287)","v":103},{"$f":"B287/SUM(B$287:B$289)","v":0.88034188034188032},14,28,23,26,12,{"$f":"SUM(K287:O287)","v":4086},{"$f":"I287/SUM(I$287:I$289)","v":0.89467922049485438},563,1057,932,720,814]
["Rural",1,{"$f":"B288/SUM(B$287:B$289)","v":8.5470085470085479E-3},0,0,0,1,0,11,{"$f":"I288/SUM(I$287:I$289)","v":2.4085833150864901E-3},0,0,0,5,6]
["Unknown",13,0.1111111111111111,13,0,0,0,0,470,0.10291219619005912,465,0,4,1,0]
["Functional Class"]
["Interstate",{"$f":"SUM(D291:H291)","v":19},{"$f":"B291/SUM(B$291:B$297)","v":0.1623931623931624},4,6,5,2,2,{"$f":"SUM(K291:O291)","v":700},{"$f":"I291/SUM(I$291:I$297)","v":0.1532734836873221},166,169,156,105,104]
["Principal Arterial - Other Freeway or Expressway",14,{"$f":"B292/SUM(B$291:B$297)","v":0.11965811965811966},5,3,0,5,1,695,{"$f":"I292/SUM(I$291:I$297)","v":0.15217867308955552},149,177,132,112,125]
["Principal Arterial - Other",18,0.15384615384615385,6,4,3,3,2,763,0.16706809721918109,180,162,163,100,158]
["Minor Arterial",23,0.19658119658119658,4,5,6,7,1,597,0.13072038537333042,131,140,116,107,103]
["Collector",19,0.1623931623931624,2,7,3,5,2,494,0.10816728705933873,118,101,87,94,94]
["Local",11,9.4017094017094016E-2,4,2,2,2,1,663,0.14517188526384936,139,153,156,98,117]
["Unknown",13,0.1111111111111111,2,1,4,3,3,655,0.14342018830742281,145,155,126,110,119]
["Access Control"]
["No Access Control",67,{"$f":"B299/SUM(B$299:B$301)","v":0.57264957264957261},18,16,10,15,8,3162,{"$f":"I299/SUM(I$299:I$301)","v":0.69235822202758923},758,710,644,495,555]
["Partial Access Control",16,{"$f":"B300/SUM(B$299:B$301)","v":0.13675213675213677},5,4,3,4,0,338,{"$f":"I300/SUM(I$299:I$301)","v":7.4009196409021233E-2},78,95,54,47,64]
["Full Access Control",34,{"$f":"B301/SUM(B$299:B$301)","v":0.29059829059829062},4,8,10,8,4,1067,{"$f":"I301/SUM(I$299:I$301)","v":0.23363258156338954},192,252,238,184,201]
["Roadway Lighting"]
["Continuous Lighting on Both Sides",25,{"$f":"B303/SUM(B$303:B$307)","v":0.21367521367521367},5,6,2,10,2,835,{"$f":"I303/SUM(I$303:I$307)","v":0.18283336982701992},178,190,188,129,150]
["Continuous Lighting on One Side",29,{"$f":"B304/SUM(B$303:B$307)","v":0.24786324786324787},7,10,5,6,1,510,{"$f":"I304/SUM(I$303:I$307)","v":0.11167068097219181},134,107,108,77,84]
["No Lighting",10,8.5470085470085472E-2,1,1,5,1,2,151,3.3063280052550909E-2,28,32,45,25,21]
["Spot Illumination on Both Sides",53,0.45299145299145299,14,11,11,10,7,3071,0.67243266914823741,688,728,595,495,565]
["Spot Illumination on One Side",0,0,0,0,0,0,0,0,0,0,0,0,0,0]
["Alcohol Involvement"]
["Yes",19,{"$f":"B309/SUM(B$309:B$311)","v":0.1623931623931624},4,5,4,5,1,633,{"$f":"I309/SUM(I$309:I$311)","v":0.13860302167724983},111,160,137,105,120]
["No",84,{"$f":"B310/SUM(B$309:B$311)","v":0.71794871794871795},23,21,12,17,11,3477,{"$f":"I310/SUM(I$309:I$311)","v":0.76133128968688413},815,795,694,549,624]
["Unknown",14,{"$f":"B311/SUM(B$309:B$311)","v":0.11965811965811966},0,2,7,5,0,457,{"$f":"I311/SUM(I$309:I$311)","v":0.100065688635866},102,102,105,72,76]
["Drug Involvement"]
["Yes",103,{"$f":"B313/SUM(B$313:B$315)","v":0.88034188034188032},14,28,23,26,12,4086,{"$f":"I313/SUM(I$313:I$315)","v":0.89467922049485438},563,1057,932,720,814]
["No",1,{"$f":"B314/SUM(B$313:B$315)","v":8.5470085470085479E-3},0,0,0,1,0,11,{"$f":"I314/SUM(I$313:I$315)","v":2.4085833150864901E-3},0,0,0,5,6]
["Unknown",13,{"$f":"B315/SUM(B$313:B$315)","v":0.1111111111111111},13,0,0,0,0,470,{"$f":"I315/SUM(I$313:I$315)","v":0.10291219619005912},465,0,4,1,0]
["Vehicle Data"]
["Motor Vehicle Body Type"]
["All-Terrain Vehicle",110,{"$f":"B318/SUM(B$318:B$346)","v":0.5092592592592593},24,27,22,25,12,4496,{"$f":"I318/SUM(I$318:I$346)","v":0.53491969066032119},1003,1041,929,720,803]
["Golf Cart",0,{"$f":"B319/SUM(B$318:B$346)","v":0},0,0,0,0,0,0,{"$f":"I319/SUM(I$318:I$346)","v":0},0,0,0,0,0]
["Snowmobile",0,0,0,0,0,0,0,0,0,0,0,0,0,0]
["Low Speed Vehicle",0,0,0,0,0,0,0,0,0,0,0,0,0,0]
["Moped or motorized bicycle",0,0,0,0,0,0,0,0,0,0,0,0,0,0]
["Recreational Off-Highway Vehicles",0,0,0,0,0,0,0,0,0,0,0,0,0,0]
["2-Wheeled Motorcycle",0,0,0,0,0,0,0,2,2.379535990481856E-4,1,1,0,0,0]
["3-Wheeled Motorcycle",0,0,0,0,0,0,0,0,0,0,0,0,0,0]
["Autocycle",0,0,0,0,0,0,0,0,0,0,0,0,0,0]
["Passenger Car",1,4.6296296296296294E-3,1,0,0,0,0,4,4.759071980963712E-4,3,1,0,0,0]
["Passenger Van",0,0,0,0,0,0,0,9,1.0707911957168353E-3,3,2,0,0,4]
["Sport Utility Vehicle",{"$f":"SUM(D329:H329)","v":0},0,0,0,0,0,0,{"$f":"SUM(K329:O329)","v":0},0,0,0,0,0,0]
["Pickup",0,0,0,0,0,0,0,2,2.379535990481856E-4,0,1,0,0,1]
["Cargo Van",0,0,0,0,0,0,0,0,0,0,0,0,0,0]
["Construction Equipment",0,0,0,0,0,0,0,4,4.759071980963712E-4,2,0,0,0,2]
["Farm Equipment",0,0,0,0,0,0,0,0,0,0,0,0,0,0]
["Single-Unit Truck",0,0,0,0,0,0,0,1,1.189767995240928E-4,0,0,0,1,0]
["Truck Tractor",0,0,0,0,0,0,0,0,0,0,0,0,0,0]
["Motor Home",2,9.2592592592592587E-3,2,0,0,0,0,15,1.784651992861392E-3,6,2,2,1,4]
["9- or 12-Passenger Van",2,9.2592592592592587E-3,0,0,0,2,0,20,2.3795359904818562E-3,7,4,4,3,2]
["15-Passenger Van",0,0,0,0,0,0,0,1,1.189767995240928E-4,1,0,0,0,0]
["Large Limo",0,0,0,0,0,0,0,0,0,0,0,0,0,0]
["Mini-bus",0,0,0,0,0,0,0,1,1.189767995240928E-4,0,1,0,0,0]
["School Bus",0,0,0,0,0,0,0,2,2.379535990481856E-4,1,0,0,0,1]
["Transit Bus",1,4.6296296296296294E-3,0,0,1,0,0,1,1.189767995240928E-4,0,0,1,0,0]
["Motorcoach",0,0,0,0,0,0,0,5,5.9488399762046404E-4,1,3,0,1,0]
["Other Bus Type",0,0,0,0,0,0,0,1,1.189767995240928E-4,0,0,0,0,1]
["Other Trucks",0,0,0,0,0,0,0,0,0,0,0,0,0,0]
["Other",100,0.46296296296296297,28,25,16,23,8,3841,0.45698988697204046,914,901,752,589,685]
["Posted Speed Limit"]
["5 MPH",3,{"$f":"B348/SUM(B$348:B$362)","v":1.3888888888888888E-2},0,0,1,0,2,153,{"$f":"I348/SUM(I$348:I$362)","v":1.8203450327186198E-2},29,43,28,19,34]
["10 MPH",0,{"$f":"B349/SUM(B$348:B$362)","v":0},0,0,0,0,0,60,{"$f":"I349/SUM(I$348:I$362)","v":7.138607971445568E-3},13,18,14,8,7]
["15 MPH",111,0.51388888888888884,35,29,17,21,9,3612,0.42974419988102319,835,848,722,560,647]
["20 MPH",21,9.7222222222222224E-2,6,3,5,3,4,874,0.10398572278405711,208,200,178,149,139]
["25 MPH",2,9.2592592592592587E-3,1,0,0,1,0,320,3.8072575847709698E-2,74,73,72,62,39]
["30 MPH",5,2.3148148148148147E-2,1,0,1,2,1,100,1.1897679952409279E-2,13,18,30,19,20]
["35 MPH",35,0.16203703703703703,6,10,7,9,3,580,6.9006543723973829E-2,129,126,118,92,115]
["40 MPH",8,3.7037037037037035E-2,0,0,1,7,0,676,8.0428316478286729E-2,207,139,102,102,126]
["45 MPH",4,1.8518518518518517E-2,3,0,1,0,0,101,1.2016656751933374E-2,26,22,26,13,14]
["50 MPH",6,2.7777777777777776E-2,1,3,1,1,0,316,3.7596668649613328E-2,64,79,58,60,55]
["55 MPH",7,3.2407407407407406E-2,1,2,1,2,1,1175,0.13979773944080903,242,292,246,167,228]
["60 MPH",3,1.3888888888888888E-2,0,0,2,1,0,29,3.4503271861986914E-3,5,5,18,1,0]
["65 MPH",3,1.3888888888888888E-2,0,0,1,2,0,110,1.3087447947650209E-2,17,29,19,22,23]
["70 MPH",4,1.8518518518518517E-2,1,3,0,0,0,19,2.2605591909577631E-3,5,5,2,2,5]
["Unknown",4,{"$f":"B362/SUM(B$348:B$362)","v":1.8518518518518517E-2},0,2,1,1,0,280,{"$f":"I362/SUM(I$348:I$362)","v":3.3313503866745982E-2},75,60,55,39,51]
["Traffic Way"]
["One-Way",{"$f":"SUM(D364:H364)","v":146},{"$f":"B364/SUM(B$364:B$365)","v":0.67592592592592593},36,33,33,33,11,{"$f":"SUM(K364:O364)","v":4388},{"$f":"I364/SUM(I$364:I$365)","v":0.52207019631171925},959,1038,910,711,770]
["Two-Way",70,{"$f":"B365/SUM(B$364:B$365)","v":0.32407407407407407},19,19,6,17,9,4017,{"$f":"I365/SUM(I$364:I$365)","v":0.47792980368828081},983,919,778,604,733]
["Median Type"]
["Not Divided",68,{"$f":"B367/SUM(B$367:B$372)","v":0.31481481481481483},18,16,11,18,5,2496,{"$f":"I367/SUM(I$367:I$372)","v":0.29696609161213561},542,569,493,404,488]
["Continuous Left-Turn Lane",0,{"$f":"B368/SUM(B$367:B$372)","v":0},0,0,0,0,0,17,{"$f":"I368/SUM(I$367:I$372)","v":2.0226055919095776E-3},7,5,4,0,1]
["Divided with Flush Median",52,0.24074074074074073,13,12,12,10,5,1919,0.2283164782867341,470,416,409,294,330]
["Divided with Raised Median",0,0,0,0,0,0,0,29,3.4503271861986914E-3,6,10,4,2,7]
["Divided with Depressed Median",59,0.27314814814814814,14,15,9,14,7,2227,0.26496133254015469,538,522,408,372,387]
["Unknown",37,0.17129629629629631,10,9,7,8,3,1717,0.20428316478286734,379,435,370,243,290]
["Barrier Type"]
["No Barrier",2,{"$f":"B374/SUM(B$374:B$380)","v":9.2592592592592587E-3},1,0,0,1,0,182,{"$f":"I374/SUM(I$374:I$380)","v":2.1653777513384889E-2},45,37,43,36,21]
["Cable Barrier",1,{"$f":"B375/SUM(B$374:B$380)","v":4.6296296296296294E-3},1,0,0,0,0,7,{"$f":"I375/SUM(I$374:I$380)","v":8.3283759666864961E-4},2,1,1,1,2]
["Concrete Barrier",2,9.2592592592592587E-3,0,1,0,1,0,46,5.4729327781082686E-3,11,6,9,12,8]
["Earth Embankment",101,0.46759259259259262,26,27,16,22,10,3079,0.36632956573468173,679,586,584,390,840]
["Guardrail",0,0,0,0,0,0,0,0,0,0,0,0,0,0]
["Box Barrier",91,0.42129629629629628,23,20,20,19,9,3897,0.46365258774538964,940,1064,819,680,394]
["Other Barrier",19,8.7962962962962965E-2,4,4,3,7,1,1194,0.14205829863176681,265,263,232,196,238]
["Number of Lanes"]
["One",20,{"$f":"B382/SUM(B$382:B$392)","v":9.2592592592592587E-2},6,3,2,9,0,1300,{"$f":"I382/SUM(I$382:I$392)","v":0.15466983938132065},379,282,228,182,229]
["Two",24,{"$f":"B383/SUM(B$382:B$392)","v":0.1111111111111111},6,5,4,5,4,761,{"$f":"I383/SUM(I$382:I$392)","v":9.0541344437834625E-2},158,188,170,126,119]
["Three",44,0.20370370370370369,10,9,10,10,5,1915,0.22784057108863773,423,456,395,288,353]
["Four",48,0.22222222222222221,9,16,7,11,5,1540,0.18322427126710292,333,392,297,241,277]
["Five",25,0.11574074074074074,6,7,6,4,2,1161,0.13813206424747174,247,256,231,210,217]
["Six",24,0.1111111111111111,9,4,6,3,2,1008,0.11992861392028555,238,216,216,167,171]
["Seven",20,9.2592592592592587E-2,6,4,2,6,2,458,5.4491374182034501E-2,110,106,93,63,86]
["Eight",6,2.7777777777777776E-2,1,3,1,1,0,183,2.1772754312908982E-2,31,49,37,30,36]
["Nine",5,2.3148148148148147E-2,2,1,1,1,0,36,4.2831647828673412E-3,10,6,9,4,7]
["Ten or More",0,0,0,0,0,0,0,7,8.3283759666864961E-4,3,1,2,0,1]
["Unknown",0,0,0,0,0,0,0,36,4.2831647828673412E-3,10,5,10,4,7]
["Motor Vehicle Maneuver Prior to Crash"]
["Backing",{"$f":"SUM(D394:H394)","v":3},{"$f":"B394/SUM(B$394:B$408)","v":1.3888888888888888E-2},0,1,1,1,0,{"$f":"SUM(K394:O394)","v":41},{"$f":"I394/SUM(I$394:I$408)","v":4.8780487804878049E-3},10,12,7,6,6]
["Changing Lanes",{"$f":"SUM(D395:H395)","v":1},{"$f":"B395/SUM(B$394:B$408)","v":4.6296296296296294E-3},0,1,0,0,0,{"$f":"SUM(K395:O395)","v":239},{"$f":"I395/SUM(I$394:I$408)","v":2.843545508625818E-2},65,48,48,33,45]
["Entering Traffic Lane",{"$f":"SUM(D396:H396)","v":3},1.3888888888888888E-2,0,0,1,0,2,{"$f":"SUM(K396:O396)","v":153},1.8203450327186198E-2,29,43,28,19,34]
["Leaving Traffic Lane",{"$f":"SUM(D397:H397)","v":0},0,0,0,0,0,0,{"$f":"SUM(K397:O397)","v":60},7.138607971445568E-3,13,18,14,8,7]
["Making U-Turn",{"$f":"SUM(D398:H398)","v":111},0.51388888888888884,35,29,17,21,9,{"$f":"SUM(K398:O398)","v":3612},0.42974419988102319,835,848,722,560,647]
["Movements Essentially Straight Ahead",21,9.7222222222222224E-2,6,3,5,3,4,874,0.10398572278405711,208,200,178,149,139]
["Negotiating a Curve",2,9.2592592592592587E-3,1,0,0,1,0,320,3.8072575847709698E-2,74,73,72,62,39]
["Overtaking/Passing",5,2.3148148148148147E-2,1,0,1,2,1,100,1.1897679952409279E-2,13,18,30,19,20]
["Parked",35,0.16203703703703703,6,10,7,9,3,580,6.9006543723973829E-2,129,126,118,92,115]
["Slowing",8,3.7037037037037035E-2,0,0,1,7,0,676,8.0428316478286729E-2,207,139,102,102,126]
["Stopped in Traffic",{"$f":"SUM(D404:H404)","v":4},1.8518518518518517E-2,3,0,1,0,0,{"$f":"SUM(K404:O404)","v":101},1.2016656751933374E-2,26,22,26,13,14]
["Turning Left",{"$f":"SUM(D405:H405)","v":6},2.7777777777777776E-2,1,3,1,1,0,{"$f":"SUM(K405:O405)","v":316},3.7596668649613328E-2,64,79,58,60,55]
["Turning Right",7,3.2407407407407406E-2,1,2,1,2,1,1175,0.13979773944080903,242,292,246,167,228]
["Other",3,1.3888888888888888E-2,0,0,2,1,0,29,3.4503271861986914E-3,5,5,18,1,0]
["Unknown",7,3.2407407407407406E-2,1,3,1,2,0,129,1.5348007138607971E-2,22,34,21,24,28]
["Most Harmful Event"]
["Cargo/Equipment Loss or Shift",{"$f":"SUM(D410:H410)","v":0},{"$f":"B410/SUM(B$410:B$451)","v":0},0,0,0,0,0,{"$f":"SUM(K410:O410)","v":0},{"$f":"I410/SUM(I$410:I$451)","v":0},0,0,0,0,0]
["Fell/Jumped from Motor Vehicle",8,{"$f":"B411/SUM(B$410:B$451)","v":3.7037037037037035E-2},3,1,2,1,1,269,{"$f":"I411/SUM(I$410:I$451)","v":3.2004759071980964E-2},60,62,53,46,48]
["Fire/Explosion",0,0,0,0,0,0,0,1,1.189767995240928E-4,0,0,0,1,0]
["Immersion, Full or Partial",3,1.3888888888888888E-2,2,0,1,0,0,47,5.591909577632362E-3,11,6,11,8,11]
["Jackknife",0,0,0,0,0,0,0,12,1.4277215942891136E-3,0,4,3,3,2]
["Other Non-Collision",5,2.3148148148148147E-2,3,1,0,1,0,636,7.5669244497323027E-2,161,146,134,95,100]
["Overturn/Rollover",0,0,0,0,0,0,0,0,0,0,0,0,0,0]
["Thrown or Falling Object",1,4.6296296296296294E-3,1,0,0,0,0,26,3.0933967876264129E-3,4,9,2,6,5]
["Collision with Animal",0,0,0,0,0,0,0,1,1.189767995240928E-4,0,0,1,0,0]
["Collision with Construction Equipment",4,1.8518518518518517E-2,0,2,0,2,0,24,2.8554431885782273E-3,6,7,0,6,5]
["Collision with Farm Equipment",1,4.6296296296296294E-3,0,0,0,1,0,28,3.3313503866745984E-3,6,4,7,7,4]
["Collision with Motor Vehicle in Transport",0,0,0,0,0,0,0,6,7.1386079714455682E-4,0,1,2,2,1]
["Collision with Other Non-Fixed Object",0,0,0,0,0,0,0,25,2.9744199881023199E-3,5,3,6,6,5]
["Collision with Other Non-motorist",3,1.3888888888888888E-2,1,0,1,1,0,91,1.0826888756692445E-2,21,20,25,18,7]
["Collision with Parked Motor Vehicle",1,4.6296296296296294E-3,0,0,1,0,0,191,2.2724568709101726E-2,32,50,45,31,33]
["Collision with Pedalcycle",2,9.2592592592592587E-3,1,1,0,0,0,26,3.0933967876264129E-3,3,6,7,6,4]
["Collision with Pedestrian",3,1.3888888888888888E-2,0,3,0,0,0,37,4.4021415823914337E-3,13,10,4,8,2]
["Collision with Railway Vehicle",1,4.6296296296296294E-3,1,0,0,0,0,39,4.6400951814396189E-3,12,12,2,7,6]
["Strikes Object ar Rest from MV in Transport",0,0,0,0,0,0,0,16,1.9036287923854848E-3,2,6,4,1,3]
["Struck by Falling, Shifting Cargo, or Anything Set in Motion by Motor Vehicle",3,1.3888888888888888E-2,1,0,0,1,1,119,1.4158239143367043E-2,25,30,22,19,23]
["Collision with Bridge Overhead Structure",0,0,0,0,0,0,0,20,2.3795359904818562E-3,5,4,7,2,2]
["Collision with Bridge Pier or Support",2,9.2592592592592587E-3,0,0,2,0,0,52,6.1867935752528257E-3,7,13,13,5,14]
["Collision with Bridge Rail",0,0,0,0,0,0,0,3,3.5693039857227841E-4,0,1,0,0,2]
["Collision with Cable Barrier",3,1.3888888888888888E-2,0,0,0,2,1,56,6.6627007733491969E-3,10,5,12,17,12]
["Collision with Concrete Traffic Barrier",24,0.1111111111111111,3,5,7,5,4,276,3.2837596668649612E-2,52,51,65,39,69]
["Collision with Culvert",3,1.3888888888888888E-2,0,0,1,2,0,539,6.412849494348602E-2,165,110,84,82,98]
["Collision with Curb",19,8.7962962962962965E-2,5,5,2,5,2,78,9.2801903628792377E-3,17,20,9,14,18]
["Collision with Ditch",0,0,0,0,0,0,0,3,3.5693039857227841E-4,1,1,0,1,0]
["Collision with Embankment",5,2.3148148148148147E-2,0,2,1,1,1,1053,0.12528256989886971,218,251,233,159,192]
["Collision with Fence",0,0,0,0,0,0,0,3,3.5693039857227841E-4,0,1,0,0,2]
["Collision with Guardrail End Terminal",1,4.6296296296296294E-3,0,1,0,0,0,97,1.1540749553837002E-2,27,23,20,11,16]
["Collision with Guardrail Face",4,1.8518518518518517E-2,1,1,1,0,1,338,4.0214158239143365E-2,75,87,71,53,52]
["Collision with Impact Attenuator/Crash Cushion",0,0,0,0,0,0,0,39,4.6400951814396189E-3,10,8,11,5,5]
["Collision with Mailbox",0,0,0,0,0,0,0,9,1.0707911957168353E-3,0,5,0,2,2]
["Collision with Other Fixed Object",3,1.3888888888888888E-2,0,1,0,2,0,74,8.8042831647828675E-3,21,14,18,14,7]
["Collision with Other Post, Pole, or Support",16,7.407407407407407E-2,5,4,4,2,1,249,2.9625223081499109E-2,46,70,50,38,45]
["Collision with Other Traffic Barrier",1,4.6296296296296294E-3,0,0,0,1,0,14,1.6656751933372992E-3,1,1,3,4,5]
["Collision with Traffic Sign Support",1,4.6296296296296294E-3,0,1,0,0,0,38,4.5211183819155263E-3,6,10,5,9,8]
["Collision with Traffic Signal Support",0,0,0,0,0,0,0,32,3.8072575847709696E-3,6,6,7,1,12]
["Collision with Tree",14,6.4814814814814811E-2,2,1,3,6,2,1306,0.1553837001784652,245,269,301,250,241]
["Collision with Utility Pole or Light Support",23,0.10648148148148148,8,6,5,3,1,1407,0.16740035693039856,336,351,320,280,120]
["Unknown",62,0.28703703703703703,18,17,8,14,5,1125,0.1338488994646044,333,280,131,59,322]
["Contributing Circumstance, Vehicle"]
["None",3,{"$f":"B453/SUM(B$453:B$468)","v":1.3888888888888888E-2},0,1,1,1,0,41,{"$f":"I453/SUM(I$453:I$468)","v":4.8780487804878049E-3},10,12,7,6,6]
["Brakes",1,{"$f":"B454/SUM(B$453:B$468)","v":4.6296296296296294E-3},0,1,0,0,0,239,{"$f":"I454/SUM(I$453:I$468)","v":2.843545508625818E-2},65,48,48,33,45]
["Exhaust System",3,1.3888888888888888E-2,0,0,1,0,2,153,1.8203450327186198E-2,29,43,28,19,34]
["Body or Doors",0,0,0,0,0,0,0,60,7.138607971445568E-3,13,18,14,8,7]
["Steering",111,0.51388888888888884,35,29,17,21,9,3612,0.42974419988102319,835,848,722,560,647]
["Power Train",21,9.7222222222222224E-2,6,3,5,3,4,874,0.10398572278405711,208,200,178,149,139]
["Suspension",2,9.2592592592592587E-3,1,0,0,1,0,320,3.8072575847709698E-2,74,73,72,62,39]
["Tires",5,2.3148148148148147E-2,1,0,1,2,1,100,1.1897679952409279E-2,13,18,30,19,20]
["Wheels",35,0.16203703703703703,6,10,7,9,3,580,6.9006543723973829E-2,129,126,118,92,115]
["Lights (head, signal, tail)",8,3.7037037037037035E-2,0,0,1,7,0,676,8.0428316478286729E-2,207,139,102,102,126]
["Windows or Windshield",4,1.8518518518518517E-2,3,0,1,0,0,101,1.2016656751933374E-2,26,22,26,13,14]
["Mirrors",6,2.7777777777777776E-2,1,3,1,1,0,316,3.7596668649613328E-2,64,79,58,60,55]
["Wipers",7,3.2407407407407406E-2,1,2,1,2,1,1175,0.13979773944080903,242,292,246,167,228]
["Truck Coupling, Tailer Hitch, Safety Chains",3,1.3888888888888888E-2,0,0,2,1,0,29,3.4503271861986914E-3,5,5,18,1,0]
["Other",3,1.3888888888888888E-2,0,0,1,2,0,110,1.3087447947650209E-2,17,29,19,22,23]
["Unknown",4,1.8518518518518517E-2,1,3,0,0,0,19,2.2605591909577631E-3,5,5,2,2,5]
["Person-Level Data"]
["Person Type"]
["Driver",{"$f":"SUM(D471:H471)","v":68},{"$f":"B471/SUM(B$471:B$478)","v":0.23287671232876711},18,16,11,18,5,{"$f":"SUM(K471:O471)","v":2496},{"$f":"I471/SUM(I$471:I$478)","v":0.21747843513113183},542,569,493,404,488]
["Passenger",0,{"$f":"B472/SUM(B$471:B$478)","v":0},0,0,0,0,0,17,{"$f":"I472/SUM(I$471:I$478)","v":1.4812233161976126E-3},7,5,4,0,1]
["Occupant of Motor Vehicle Not in Transport",52,0.17808219178082191,13,12,12,10,5,1919,0.16720397316371874,470,416,409,294,330]
["Bicyclist",0,0,0,0,0,0,0,29,2.5267927158665157E-3,6,10,4,2,7]
["Other Cyclist",59,0.20205479452054795,14,15,9,14,7,2227,0.19404025442188724,538,522,408,372,387]
["Pedestrian",0,0,0,0,0,0,0,11,9.5843861636316107E-4,3,2,3,0,3]
["Wheelchair, Person in a Building, Skater, Personal Conveyance, etc.",34,0.11643835616438356,10,8,6,7,3,1588,0.13836368388951817,345,383,335,240,285]
["Unknown",79,0.27054794520547948,22,17,21,11,8,3190,0.2779471987453167,808,637,876,266,603]
["Restraint Use"]
["Booster Seat",35,{"$f":"B480/SUM(B$480:B$497)","v":0.11986301369863013},6,10,7,9,3,580,{"$f":"I480/SUM(I$480:I$497)","v":5.0535854317330313E-2},129,126,118,92,115]
["Child Restraint System - Forward Facing",8,{"$f":"B481/SUM(B$480:B$497)","v":2.7397260273972601E-2},0,0,1,7,0,676,{"$f":"I481/SUM(I$480:I$497)","v":5.8900409514681534E-2},207,139,102,102,126]
["Child Restraint System - Rear Facing",4,1.3698630136986301E-2,3,0,1,0,0,101,8.8002091138799331E-3,26,22,26,13,14]
["Child Restraint - Type Unknown",6,2.0547945205479451E-2,1,3,1,1,0,316,2.7533327524614445E-2,64,79,58,60,55]
["Lap Belt Only Used",7,2.3972602739726026E-2,1,2,1,2,1,1175,0.10237867038424675,242,292,246,167,228]
["None Used - Motor Vehicle Occupant",3,1.0273972602739725E-2,0,0,2,1,0,29,2.5267927158665157E-3,5,5,18,1,0]
["Restraint Used - Type Unknown",3,1.0273972602739725E-2,0,0,1,2,0,110,9.5843861636316103E-3,17,29,19,22,23]
["Shoulder and Lap Belt Used",4,1.3698630136986301E-2,1,3,0,0,0,19,1.6554848828090965E-3,5,5,2,2,5]
["Shoulder Belt Only Used",3,1.0273972602739725E-2,0,1,1,1,0,41,3.5723621155354188E-3,10,12,7,6,6]
["Stretcher",1,3.4246575342465752E-3,0,1,0,0,0,239,2.0824257210072319E-2,65,48,48,33,45]
["Wheelchair",3,1.0273972602739725E-2,0,0,1,0,2,153,1.3331009845778513E-2,29,43,28,19,34]
["DOT-Compliant Motorcycle Helmet",0,0,0,0,0,0,0,60,5.2278469983445151E-3,13,18,14,8,7]
["Not DOT-Compliant Motorcycle Helmet",111,0.38013698630136988,35,29,17,21,9,3612,0.31471638930033979,835,848,722,560,647]
["Unknown if DOT-Compliant Motorcycle Helmet",21,7.1917808219178078E-2,6,3,5,3,4,874,7.6152304609218444E-2,208,200,178,149,139]
["No Helmet",2,6.8493150684931503E-3,1,0,0,1,0,320,2.7881850657837413E-2,74,73,72,62,39]
["Not Applicable",18,6.1643835616438353E-2,6,4,3,1,4,219,1.908164154395748E-2,54,60,45,10,50]
["Other",26,8.9041095890410954E-2,8,5,6,4,3,1627,0.14176178443844209,301,270,245,251,560]
["Unknown",37,0.12671232876712329,9,7,12,7,2,1326,0.11553541866341378,435,275,584,21,11]
["Driver Actions at Time of Crash, Selection 1"]
["No Contributing Action",26,{"$f":"B499/SUM(B$499:B$517)","v":8.9041095890410954E-2},8,5,6,4,3,1555,{"$f":"I499/SUM(I$499:I$517)","v":0.13548836804042869},280,270,245,230,530]
["Disregarded Other Road Markings",33,{"$f":"B500/SUM(B$499:B$517)","v":0.11301369863013698},9,7,8,7,2,1267,{"$f":"I500/SUM(I$499:I$517)","v":0.11039470244837502},330,265,337,120,215]
["Disregarded Other Traffic Sign",30,0.10273972602739725,6,5,7,9,3,571,4.9751677267578634E-2,129,126,109,92,115]
["Failed to Keep in Proper Lane",8,2.7397260273972601E-2,0,0,1,7,0,676,5.8900409514681534E-2,207,139,102,102,126]
["Failed to Yield Right-of-Way",4,1.3698630136986301E-2,3,0,1,0,0,101,8.8002091138799331E-3,26,22,26,13,14]
["Followed Too Closely",6,2.0547945205479451E-2,1,3,1,1,0,296,2.5790711858499609E-2,64,79,58,40,55]
["Improper Backing",7,2.3972602739726026E-2,1,2,1,2,1,1038,9.0441753071360112E-2,242,280,246,120,150]
["Improper Passing",26,8.9041095890410954E-2,5,2,11,7,1,364,3.171560512329006E-2,110,15,228,7,4]
["Improper Turn",3,1.0273972602739725E-2,0,0,1,2,0,108,9.4101245970201267E-3,17,29,19,20,23]
["Operated Motor Vehicle in Inattentive, Careless, Negligent, or Erratic Manner",4,1.3698630136986301E-2,1,3,0,0,0,19,1.6554848828090965E-3,5,5,2,2,5]
["Operated Motor Vehicle in Reckless or Aggressive Manner",3,1.0273972602739725E-2,0,1,1,1,0,41,3.5723621155354188E-3,10,12,7,6,6]
["Over-Correcting/Over-Steering",1,3.4246575342465752E-3,0,1,0,0,0,229,1.99529493770149E-2,55,48,48,33,45]
["Ran Off Roadway",3,1.0273972602739725E-2,0,0,1,0,2,153,1.3331009845778513E-2,29,43,28,19,34]
["Ran Red Light",0,0,0,0,0,0,0,60,5.2278469983445151E-3,13,18,14,8,7]
["Ran Stop Sign",0,0,0,0,0,0,0,128,1.1152740263134965E-2,26,12,46,7,37]
["Swerve or Avoided Due to Wind, Slippery Surface, Motor Vehicle, Object, Non-Motorist in Roadway, etc.",97,0.3321917808219178,30,32,12,15,8,3480,0.30321512590398186,840,848,722,560,510]
["Wrong Side or Wrong Way",21,7.1917808219178078E-2,6,3,5,3,4,874,7.6152304609218444E-2,208,200,178,149,139]
["Other Contributing Action",2,6.8493150684931503E-3,1,0,0,1,0,298,2.5964973425111091E-2,74,73,72,40,39]
["Unknown",18,6.1643835616438353E-2,6,4,3,1,4,219,1.908164154395748E-2,54,60,45,10,50]
["Driver Actions at Time of Crash, Selection 2"]
["No Contributing Action",{"$f":"SUM(D519:H519)","v":111},{"$f":"B519/SUM(B$519:B$537)","v":0.38013698630136988},35,29,17,21,9,{"$f":"SUM(K519:O519)","v":3580},{"$f":"I519/SUM(I$519:I$537)","v":0.31192820423455608},840,848,722,560,610]
["Disregarded Other Road Markings",21,{"$f":"B520/SUM(B$519:B$537)","v":7.1917808219178078E-2},6,3,5,3,4,874,{"$f":"I520/SUM(I$519:I$537)","v":7.6152304609218444E-2},208,200,178,149,139]
["Disregarded Other Traffic Sign",2,6.8493150684931503E-3,1,0,0,1,0,313,2.7271935174697219E-2,74,73,72,55,39]
["Failed to Keep in Proper Lane",18,6.1643835616438353E-2,6,4,3,1,4,219,1.908164154395748E-2,54,60,45,10,50]
["Failed to Yield Right-of-Way",26,8.9041095890410954E-2,8,5,6,4,3,1606,0.13993203798902151,280,270,245,251,560]
["Followed Too Closely",37,0.12671232876712329,9,7,12,7,2,1289,0.11231157968110134,435,275,547,21,11]
["Improper Backing",35,0.11986301369863013,6,10,7,9,3,571,4.9751677267578634E-2,129,126,109,92,115]
["Improper Passing",8,2.7397260273972601E-2,0,0,1,7,0,676,5.8900409514681534E-2,207,139,102,102,126]
["Improper Turn",4,1.3698630136986301E-2,3,0,1,0,0,101,8.8002091138799331E-3,26,22,26,13,14]
["Operated Motor Vehicle in Inattentive, Careless, Negligent, or Erratic Manner",6,2.0547945205479451E-2,1,3,1,1,0,316,2.7533327524614445E-2,64,79,58,60,55]
["Operated Motor Vehicle in Reckless or Aggressive Manner",7,2.3972602739726026E-2,1,2,1,2,1,1163,0.10133310098457785,242,280,246,167,228]
["Over-Correcting/Over-Steering",3,1.0273972602739725E-2,0,0,2,1,0,29,2.5267927158665157E-3,5,5,18,1,0]
["Ran Off Roadway",3,1.0273972602739725E-2,0,0,1,2,0,110,9.5843861636316103E-3,17,29,19,22,23]
["Ran Red Light",4,1.3698630136986301E-2,1,3,0,0,0,19,1.6554848828090965E-3,5,5,2,2,5]
["Ran Stop Sign",3,1.0273972602739725E-2,0,1,1,1,0,41,3.5723621155354188E-3,10,12,7,6,6]
["Swerve or Avoided Due to Wind, Slippery Surface, Motor Vehicle, Object, Non-Motorist in Roadway, etc.",1,3.4246575342465752E-3,0,1,0,0,0,229,1.99529493770149E-2,55,48,48,33,45]
["Wrong Side or Wrong Way",3,1.0273972602739725E-2,0,0,1,0,2,153,1.3331009845778513E-2,29,43,28,19,34]
["Other Contributing Action",0,0,0,0,0,0,0,60,5.2278469983445151E-3,13,18,14,8,7]
["Unknown",0,0,0,0,0,0,0,128,1.1152740263134965E-2,26,12,46,7,37]
["Driver Actions at Time of Crash, Selection 3"]
["No Contributing Action",{"$f":"SUM(D539:H539)","v":3},{"$f":"B539/SUM(B$539:B$557)","v":1.0273972602739725E-2},0,1,1,1,0,{"$f":"SUM(K539:O539)","v":41},{"$f":"I539/SUM(I$539:I$557)","v":3.5723621155354188E-3},10,12,7,6,6]
["Disregarded Other Road Markings",1,{"$f":"B540/SUM(B$539:B$557)","v":3.4246575342465752E-3},0,1,0,0,0,239,{"$f":"I540/SUM(I$539:I$557)","v":2.0824257210072319E-2},65,48,48,33,45]
["Disregarded Other Traffic Sign",3,1.0273972602739725E-2,0,0,1,0,2,153,1.3331009845778513E-2,29,43,28,19,34]
["Failed to Keep in Proper Lane",0,0,0,0,0,0,0,60,5.2278469983445151E-3,13,18,14,8,7]
["Failed to Yield Right-of-Way",111,0.38013698630136988,35,29,17,21,9,3612,0.31471638930033979,835,848,722,560,647]
["Followed Too Closely",21,7.1917808219178078E-2,6,3,5,3,4,874,7.6152304609218444E-2,208,200,178,149,139]
["Improper Backing",2,6.8493150684931503E-3,1,0,0,1,0,320,2.7881850657837413E-2,74,73,72,62,39]
["Improper Passing",5,1.7123287671232876E-2,1,0,1,2,1,100,8.7130783305741921E-3,13,18,30,19,20]
["Improper Turn",35,0.11986301369863013,6,10,7,9,3,580,5.0535854317330313E-2,129,126,118,92,115]
["Operated Motor Vehicle in Inattentive, Careless, Negligent, or Erratic Manner",8,2.7397260273972601E-2,0,0,1,7,0,676,5.8900409514681534E-2,207,139,102,102,126]
["Operated Motor Vehicle in Reckless or Aggressive Manner",4,1.3698630136986301E-2,3,0,1,0,0,101,8.8002091138799331E-3,26,22,26,13,14]
["Over-Correcting/Over-Steering",6,2.0547945205479451E-2,1,3,1,1,0,316,2.7533327524614445E-2,64,79,58,60,55]
["Ran Off Roadway",7,2.3972602739726026E-2,1,2,1,2,1,1175,0.10237867038424675,242,292,246,167,228]
["Ran Red Light",3,1.0273972602739725E-2,0,0,2,1,0,29,2.5267927158665157E-3,5,5,18,1,0]
["Ran Stop Sign",3,1.0273972602739725E-2,0,0,1,2,0,110,9.5843861636316103E-3,17,29,19,22,23]
["Swerve or Avoided Due to Wind, Slippery Surface, Motor Vehicle, Object, Non-Motorist in Roadway, etc.",4,1.3698630136986301E-2,1,3,0,0,0,19,1.6554848828090965E-3,5,5,2,2,5]
["Wrong Side or Wrong Way",28,9.5890410958904104E-2,5,8,9,4,2,132,1.1501263396357934E-2,10,15,21,56,30]
["Other Contributing Action",6,2.0547945205479451E-2,2,1,2,1,0,96,8.3645551973512249E-3,14,21,19,17,25]
["Unknown",42,0.14383561643835616,15,7,9,5,6,2844,0.24779994772153002,753,551,804,190,546]
["Driver Actions at Time of Crash, Selection 4"]
["No Contributing Action",{"$f":"SUM(D559:H559)","v":3},{"$f":"B559/SUM(B$559:B$577)","v":1.0273972602739725E-2},0,0,1,2,0,{"$f":"SUM(K559:O559)","v":108},{"$f":"I559/SUM(I$559:I$577)","v":9.4101245970201267E-3},17,29,19,20,23]
["Disregarded Other Road Markings",4,{"$f":"B560/SUM(B$559:B$577)","v":1.3698630136986301E-2},1,3,0,0,0,19,{"$f":"I560/SUM(I$559:I$577)","v":1.6554848828090965E-3},5,5,2,2,5]
["Disregarded Other Traffic Sign",3,1.0273972602739725E-2,0,1,1,1,0,41,3.5723621155354188E-3,10,12,7,6,6]
["Failed to Keep in Proper Lane",1,3.4246575342465752E-3,0,1,0,0,0,229,1.99529493770149E-2,55,48,48,33,45]
["Failed to Yield Right-of-Way",3,1.0273972602739725E-2,0,0,1,0,2,153,1.3331009845778513E-2,29,43,28,19,34]
["Followed Too Closely",0,0,0,0,0,0,0,60,5.2278469983445151E-3,13,18,14,8,7]
["Improper Backing",0,0,0,0,0,0,0,128,1.1152740263134965E-2,26,12,46,7,37]
["Improper Passing",97,0.3321917808219178,30,32,12,15,8,3480,0.30321512590398186,840,848,722,560,510]
["Improper Turn",21,7.1917808219178078E-2,6,3,5,3,4,874,7.6152304609218444E-2,208,200,178,149,139]
["Operated Motor Vehicle in Inattentive, Careless, Negligent, or Erratic Manner",2,6.8493150684931503E-3,1,0,0,1,0,298,2.5964973425111091E-2,74,73,72,40,39]
["Operated Motor Vehicle in Reckless or Aggressive Manner",18,6.1643835616438353E-2,6,4,3,1,4,219,1.908164154395748E-2,54,60,45,10,50]
["Over-Correcting/Over-Steering",26,8.9041095890410954E-2,8,5,6,4,3,1555,0.13548836804042869,280,270,245,230,530]
["Ran Off Roadway",33,0.11301369863013698,9,7,8,7,2,1267,0.11039470244837502,330,265,337,120,215]
["Ran Red Light",30,0.10273972602739725,6,5,7,9,3,571,4.9751677267578634E-2,129,126,109,92,115]
["Ran Stop Sign",8,2.7397260273972601E-2,0,0,1,7,0,676,5.8900409514681534E-2,207,139,102,102,126]
["Swerve or Avoided Due to Wind, Slippery Surface, Motor Vehicle, Object, Non-Motorist in Roadway, etc.",4,1.3698630136986301E-2,3,0,1,0,0,101,8.8002091138799331E-3,26,22,26,13,14]
["Wrong Side or Wrong Way",6,2.0547945205479451E-2,1,3,1,1,0,296,2.5790711858499609E-2,64,79,58,40,55]
["Other Contributing Action",7,2.3972602739726026E-2,1,2,1,2,1,1038,9.0441753071360112E-2,242,280,246,120,150]
["Unknown",26,8.9041095890410954E-2,5,2,11,7,1,364,3.171560512329006E-2,110,15,228,7,4]

{"sheet":"Comparison Group 1 Accessible","index":4,"n_rows":620,"n_cols":16,"rows_kept":620,"cut":false,"hidden":true,"merged":[[516,0,516,7],[516,8,516,15],[599,0,599,7],[599,8,599,15],[536,0,536,7],[536,8,536,15],[557,0,557,7],[557,8,557,15],[578,0,578,7],[578,8,578,15],[443,0,443,7],[443,8,443,15],[487,0,487,7],[487,8,487,15],[506,0,506,7],[506,8,506,15],[404,0,404,7],[404,8,404,15],[413,0,413,7],[413,8,413,15],[426,0,426,7],[426,8,426,15],[375,0,375,7],[375,8,375,15],[392,0,392,7],[392,8,392,15],[396,0,396,7],[396,8,396,15],[333,0,333,7],[333,8,333,15],[338,0,338,7],[338,8,338,15],[344,0,344,7],[344,8,344,15],[312,0,312,7],[312,8,312,15],[321,0,321,7],[321,8,321,15],[326,0,326,7],[326,8,326,15],[291,0,291,7],[291,8,291,15],[299,0,299,7],[299,8,299,15],[307,0,307,7],[307,8,307,15],[275,0,275,7],[275,8,275,15],[280,0,280,7],[280,8,280,15],[286,0,286,7],[286,8,286,15],[254,0,254,7],[254,8,254,15],[261,0,261,7],[261,8,261,15],[267,0,267,7],[267,8,267,15],[211,0,211,7],[211,8,211,15],[236,0,236,7],[236,8,236,15],[241,0,241,7],[241,8,241,15],[164,0,164,7],[164,8,164,15],[173,0,173,7],[173,8,173,15],[186,0,186,7],[186,8,186,15],[125,0,125,7],[125,8,125,15],[138,0,138,7],[138,8,138,15],[150,0,150,7],[150,8,150,15],[60,0,60,7],[60,8,60,15],[74,0,74,7],[74,8,74,15],[81,0,81,7],[81,8,81,15],[19,0,19,7],[19,8,19,15],[24,0,24,7],[24,8,24,15],[33,0,33,7],[33,8,33,15],[0,0,0,7],[0,8,0,15],[8,0,8,7],[8,8,8,15],[15,0,15,7],[15,8,15,15]]}
[{"$f":"CONCATENATE(\"Fatal and Serious Injury Crashes Only - \",A2, \"\n\",Instructions!$B$10)","v":"Fatal and Serious Injury Crashes Only - Overall Numbers\nTest Group 1"},null,null,null,null,null,null,null,{"$f":"CONCATENATE(\"Total Crashes - \",I2, \"\n\",Instructions!$B$10)","v":"Total Crashes - Overall Numbers\nTest Group 1"}]
["Overall Numbers","Number of Crashes","Percent of Crashes","Year 5 Crashes","Year 4 Crashes","Year 3 Crashes","Year 2 Crashes","Year 1 Crashes","Overall Numbers","Number of Crashes","Percent of Crashes","Year 5 Crashes","Year 4 Crashes","Year 3 Crashes","Year 2 Crashes","Year 1 Crashes"]
["Total # of Collisions",{"$f":"SUM(D3:H3)","v":117},"N/A",27,28,23,27,12,{"$f":"A3","v":"Total # of Collisions"},{"$f":"SUM(L3:P3)","v":4567},"N/A",1028,1057,936,726,820]
["# of Fatal Collisions",20,{"$f":"B4/B3","v":0.17094017094017094},5,6,4,4,1,"# of Fatal Collisions",20,{"$f":"J4/J3","v":4.3792423910663453E-3},5,6,4,4,1]
["# of Serious Injury Collisions",97,{"$f":"B5/B3","v":0.82905982905982911},22,22,19,23,11,"# of Serious Injury Collisions",97,{"$f":"J5/J3","v":2.1239325596671774E-2},22,22,19,23,11]
["# of Alcohol-Related Collisions",33,{"$f":"B6/B3","v":0.28205128205128205},6,5,6,14,2,"# of Alcohol-Related Collisions",432,{"$f":"J6/J3","v":9.4591635647033059E-2},91,92,73,86,90]
["Total # of Fatalities",21,"N/A",5,6,4,4,2,"Total # of Fatalities",21,"N/A",5,6,4,4,2]
["Total # of Serious Injuries",178,"N/A",41,43,30,38,26,"Total # of Serious Injuries",1896,"N/A",412,418,371,300,395]
[{"$f":"CONCATENATE(\"Fatal and Serious Injury Crashes Only - \",A10, \"\n\",Instructions!$B$10)","v":"Fatal and Serious Injury Crashes Only - Most Severe Injury Reported\nTest Group 1"},null,null,null,null,null,null,null,{"$f":"CONCATENATE(\"Total Crashes - \",I10, \"\n\",Instructions!$B$10)","v":"Total Crashes - Most Severe Injury Reported\nTest Group 1"}]
["Most Severe Injury Reported","Number of Crashes","Percent of Crashes","Year 5 Crashes","Year 4 Crashes","Year 3 Crashes","Year 2 Crashes","Year 1 Crashes","Most Severe Injury Reported","Number of Crashes","Percent of Crashes","Year 5 Crashes","Year 4 Crashes","Year 3 Crashes","Year 2 Crashes","Year 1 Crashes"]
["5 (K)",{"$f":"SUM(D11:H11)","v":20},{"$f":"B11/SUM(B$11:B$15)","v":0.17094017094017094},5,6,4,4,1,"5 (K)",{"$f":"SUM(L11:P11)","v":20},{"$f":"J11/SUM(J$11:J$15)","v":4.3792423910663453E-3},5,6,4,4,1]
["4 (A)",{"$f":"SUM(D12:H12)","v":97},{"$f":"B12/SUM(B$11:B$15)","v":0.82905982905982911},22,22,19,23,11,"4 (A)",{"$f":"SUM(L12:P12)","v":97},{"$f":"J12/SUM(J$11:J$15)","v":2.1239325596671774E-2},22,22,19,23,11]
["3 (B)","N/A","N/A","N/A","N/A","N/A","N/A","N/A","3 (B)",{"$f":"SUM(L13:P13)","v":306},{"$f":"J13/SUM(J$11:J$15)","v":6.700240858331509E-2},68,55,55,56,72]
["2 (C)","N/A","N/A","N/A","N/A","N/A","N/A","N/A","2 (C)",{"$f":"SUM(L14:P14)","v":996},0.218086271075104,211,232,206,148,199]
["1 (O)","N/A","N/A","N/A","N/A","N/A","N/A","N/A","1 (O)",{"$f":"SUM(L15:P15)","v":3148},0.6892927523538428,722,742,652,495,537]
[{"$f":"CONCATENATE(\"Fatal and Serious Injury Crashes Only - \",A17, \"\n\",Instructions!$B$10)","v":"Fatal and Serious Injury Crashes Only - Property\nTest Group 1"},null,null,null,null,null,null,null,{"$f":"CONCATENATE(\"Total Crashes - \",I17, \"\n\",Instructions!$B$10)","v":"Total Crashes - Property\nTest Group 1"}]
["Property","Number of Crashes","Percent of Crashes","Year 5 Crashes","Year 4 Crashes","Year 3 Crashes","Year 2 Crashes","Year 1 Crashes","Property","Number of Crashes","Percent of Crashes","Year 5 Crashes","Year 4 Crashes","Year 3 Crashes","Year 2 Crashes","Year 1 Crashes"]
["Public",{"$f":"SUM(D18:H18)","v":80},{"$f":"B18/SUM(B$18:B$19)","v":0.68376068376068377},19,19,18,17,7,"Public",{"$f":"SUM(L18:P18)","v":3561},{"$f":"J18/SUM(J$18:J$19)","v":0.77972410772936285},823,799,719,573,647]
["Private",37,{"$f":"B19/SUM(B$18:B$19)","v":0.31623931623931623},8,9,5,10,5,"Private",1006,{"$f":"J19/SUM(J$18:J$19)","v":0.22027589227063718},205,258,217,153,173]
[{"$f":"CONCATENATE(\"Fatal and Serious Injury Crashes Only - \",A21, \"\n\",Instructions!$B$10)","v":"Fatal and Serious Injury Crashes Only - Location\nTest Group 1"},null,null,null,null,null,null,null,{"$f":"CONCATENATE(\"Total Crashes - \",I21, \"\n\",Instructions!$B$10)","v":"Total Crashes - Location\nTest Group 1"}]
["Location","Number of Crashes","Percent of Crashes","Year 5 Crashes","Year 4 Crashes","Year 3 Crashes","Year 2 Crashes","Year 1 Crashes","Location","Number of Crashes","Percent of Crashes","Year 5 Crashes","Year 4 Crashes","Year 3 Crashes","Year 2 Crashes","Year 1 Crashes"]
["Trafficway, On Road",{"$f":"SUM(D22:H22)","v":19},{"$f":"B22/SUM(B$22:B$24)","v":0.1623931623931624},4,5,4,5,1,"Trafficway, On Road",{"$f":"SUM(L22:P22)","v":633},{"$f":"J22/SUM(J$22:J$24)","v":0.13860302167724983},111,160,137,105,120]
["Trafficway, Not on Road",{"$f":"SUM(D23:H23)","v":84},{"$f":"B23/SUM(B$22:B$24)","v":0.71794871794871795},23,21,12,17,11,"Trafficway, Not on Road",{"$f":"SUM(L23:P23)","v":3477},{"$f":"J23/SUM(J$22:J$24)","v":0.76133128968688413},815,795,694,549,624]
["Non-Trafficway",{"$f":"SUM(D24:H24)","v":14},{"$f":"B24/SUM(B$22:B$24)","v":0.11965811965811966},0,2,7,5,0,"Non-Trafficway",{"$f":"SUM(L24:P24)","v":457},{"$f":"J24/SUM(J$22:J$24)","v":0.100065688635866},102,102,105,72,76]
[{"$f":"CONCATENATE(\"Fatal and Serious Injury Crashes Only - \",A26, \"\n\",Instructions!$B$10)","v":"Fatal and Serious Injury Crashes Only - By Weekday\nTest Group 1"},null,null,null,null,null,null,null,{"$f":"CONCATENATE(\"Total Crashes - \",I26, \"\n\",Instructions!$B$10)","v":"Total Crashes - By Weekday\nTest Group 1"}]
["By Weekday","Number of Crashes","Percent of Crashes","Year 5 Crashes","Year 4 Crashes","Year 3 Crashes","Year 2 Crashes","Year 1 Crashes","By Weekday","Number of Crashes","Percent of Crashes","Year 5 Crashes","Year 4 Crashes","Year 3 Crashes","Year 2 Crashes","Year 1 Crashes"]
["Sunday",{"$f":"SUM(D27:H27)","v":19},{"$f":"B27/SUM(B$27:B$33)","v":0.1623931623931624},2,7,3,5,2,"Sunday",{"$f":"SUM(L27:P27)","v":494},{"$f":"J27/SUM(J$27:J$33)","v":0.10816728705933873},118,101,87,94,94]
["Monday",11,{"$f":"B28/SUM(B$27:B$33)","v":9.4017094017094016E-2},4,2,2,2,1,"Monday",663,{"$f":"J28/SUM(J$27:J$33)","v":0.14517188526384936},139,153,156,98,117]
["Tuesday",13,0.1111111111111111,2,1,4,3,3,"Tuesday",655,0.14342018830742281,145,155,126,110,119]
["Wednesday",19,0.1623931623931624,4,6,5,2,2,"Wednesday",700,0.1532734836873221,166,169,156,105,104]
["Thursday",14,0.11965811965811966,5,3,0,5,1,"Thursday",695,0.15217867308955552,149,177,132,112,125]
["Friday",18,0.15384615384615385,6,4,3,3,2,"Friday",763,0.16706809721918109,180,162,163,100,158]
["Saturday",23,0.19658119658119658,4,5,6,7,1,"Saturday",597,0.13072038537333042,131,140,116,107,103]
[{"$f":"CONCATENATE(\"Fatal and Serious Injury Crashes Only - \",A35, \"\n\",Instructions!$B$10)","v":"Fatal and Serious Injury Crashes Only - Crash Hour\nTest Group 1"},null,null,null,null,null,null,null,{"$f":"CONCATENATE(\"Total Crashes - \",I35, \"\n\",Instructions!$B$10)","v":"Total Crashes - Crash Hour\nTest Group 1"}]
["Crash Hour","Number of Crashes","Percent of Crashes","Year 5 Crashes","Year 4 Crashes","Year 3 Crashes","Year 2 Crashes","Year 1 Crashes","Crash Hour","Number of Crashes","Percent of Crashes","Year 5 Crashes","Year 4 Crashes","Year 3 Crashes","Year 2 Crashes","Year 1 Crashes"]
["12:00 AM - 12:59 AM",{"$f":"SUM(D36:H36)","v":5},{"$f":"B36/SUM(B$36:B$60)","v":4.2735042735042736E-2},0,0,2,3,0,"12:00 AM - 12:59 AM",{"$f":"SUM(L36:P36)","v":115},{"$f":"J36/SUM(J$36:J$60)","v":2.5180643748631486E-2},27,19,23,27,19]
["1:00 AM - 1:59 AM",2,{"$f":"B37/SUM(B$36:B$60)","v":1.7094017094017096E-2},0,1,0,1,0,"1:00 AM - 1:59 AM",92,{"$f":"J37/SUM(J$36:J$60)","v":2.014451499890519E-2},17,22,21,17,15]
["2:00 AM - 2:59 AM",5,4.2735042735042736E-2,1,1,0,3,0,"2:00 AM - 2:59 AM",100,2.1896211955331729E-2,21,31,12,21,15]
["3:00 AM - 3:59 AM",4,3.4188034188034191E-2,2,1,1,0,0,"3:00 AM - 3:59 AM",75,1.6422158966498797E-2,17,21,13,10,14]
["4:00 AM - 4:59 AM",1,8.5470085470085479E-3,0,1,0,0,0,"4:00 AM - 4:59 AM",53,1.1604992336325816E-2,8,12,13,7,13]
["5:00 AM - 5:59 AM",3,2.564102564102564E-2,0,2,0,1,0,"5:00 AM - 5:59 AM",72,1.5765272607838846E-2,18,14,16,9,15]
["6:00 AM - 6:59 AM",4,3.4188034188034191E-2,2,0,2,0,0,"6:00 AM - 6:59 AM",165,3.612874972629735E-2,44,30,39,24,28]
["7:00 AM - 7:59 AM",2,1.7094017094017096E-2,0,0,1,1,0,"7:00 AM - 7:59 AM",312,6.8316181300634993E-2,63,73,62,62,52]
["8:00 AM - 8:59 AM",2,1.7094017094017096E-2,0,1,0,1,0,"8:00 AM - 8:59 AM",256,5.6054302605649226E-2,58,63,50,42,43]
["9:00 AM - 9:59 AM",0,0,0,0,0,0,0,"9:00 AM - 9:59 AM",142,3.1092620976571055E-2,34,33,29,24,22]
["10:00 AM - 10:59 AM",5,4.2735042735042736E-2,3,0,1,0,1,"10:00 AM - 10:59 AM",139,3.04357346179111E-2,35,30,33,16,25]
["11:00 AM - 11:59 AM",1,8.5470085470085479E-3,0,0,0,1,0,"11:00 AM - 11:59 AM",176,3.8537333041383841E-2,39,37,34,37,29]
["12:00 PM - 12:59 PM",4,3.4188034188034191E-2,0,0,1,2,1,"12:00 PM - 12:59 PM",202,4.4230348149770088E-2,52,44,34,30,42]
["1:00 PM - 1:59 PM",9,7.6923076923076927E-2,2,2,1,2,2,"1:00 PM - 1:59 PM",230,5.0361287497262971E-2,49,60,45,38,38]
["2:00 PM - 2:59 PM",4,3.4188034188034191E-2,1,0,2,0,1,"2:00 PM - 2:59 PM",252,5.5178454127435952E-2,59,54,53,44,42]
["3:00 PM - 3:59 PM",8,6.8376068376068383E-2,1,4,2,1,0,"3:00 PM - 3:59 PM",362,7.9264287278300857E-2,91,82,66,53,70]
["4:00 PM - 4:59 PM",6,5.128205128205128E-2,0,1,2,2,1,"4:00 PM - 4:59 PM",349,7.6417779724107723E-2,68,88,74,58,61]
["5:00 PM - 5:59 PM",11,9.4017094017094016E-2,5,1,4,0,1,"5:00 PM - 5:59 PM",483,0.10575870374425224,102,120,98,66,97]
["6:00 PM - 6:59 PM",10,8.5470085470085472E-2,2,5,0,1,2,"6:00 PM - 6:59 PM",272,5.9557696518502297E-2,60,75,52,38,47]
["7:00 PM - 7:59 PM",6,5.128205128205128E-2,1,2,1,2,0,"7:00 PM - 7:59 PM",159,3.4814977008977448E-2,36,33,38,27,25]
["8:00 PM - 8:59 PM",11,9.4017094017094016E-2,4,2,2,1,2,"8:00 PM - 8:59 PM",169,3.7004598204510616E-2,41,43,33,18,34]
["9:00 PM - 9:59 PM",7,5.9829059829059832E-2,2,2,1,1,1,"9:00 PM - 9:59 PM",161,3.5252901248084084E-2,39,30,37,26,29]
["10:00 PM - 10:59 PM",5,4.2735042735042736E-2,1,1,0,3,0,"10:00 PM - 10:59 PM",125,2.7370264944164658E-2,26,23,42,13,21]
["11:00 PM - 11:59 PM",2,1.7094017094017096E-2,0,1,0,1,0,"11:00 PM - 11:59 PM",106,2.3209984672651632E-2,24,20,19,19,24]
["Unknown",0,0,0,0,0,0,0,"Unknown",0,0,0,0,0,0,0]
[{"$f":"CONCATENATE(\"Fatal and Serious Injury Crashes Only - \",A62, \"\n\",Instructions!$B$10)","v":"Fatal and Serious Injury Crashes Only - Crash Month\nTest Group 1"},null,null,null,null,null,null,null,{"$f":"CONCATENATE(\"Total Crashes - \",I62, \"\n\",Instructions!$B$10)","v":"Total Crashes - Crash Month\nTest Group 1"}]
["Crash Month","Number of Crashes","Percent of Crashes","Year 5 Crashes","Year 4 Crashes","Year 3 Crashes","Year 2 Crashes","Year 1 Crashes","Crash Month","Number of Crashes","Percent of Crashes","Year 5 Crashes","Year 4 Crashes","Year 3 Crashes","Year 2 Crashes","Year 1 Crashes"]
["January",{"$f":"SUM(D63:H63)","v":10},{"$f":"B63/SUM(B$63:B$74)","v":8.5470085470085472E-2},1,4,1,3,1,"January",{"$f":"SUM(L63:P63)","v":410},{"$f":"J63/SUM(J$63:J$74)","v":8.9774469016860078E-2},97,100,77,72,64]
["February",6,{"$f":"B64/SUM(B$63:B$74)","v":5.128205128205128E-2},1,2,1,0,2,"February",347,{"$f":"J64/SUM(J$63:J$74)","v":7.5979855485001094E-2},84,83,59,59,62]
["March",8,6.8376068376068383E-2,3,1,1,3,0,"March",347,7.5979855485001094E-2,70,70,69,70,68]
["April",5,4.2735042735042736E-2,2,1,0,1,1,"April",387,8.4738340267133783E-2,79,84,74,62,88]
["May",14,0.11965811965811966,4,4,1,2,3,"May",354,7.7512590321874311E-2,72,82,74,64,62]
["June",9,7.6923076923076927E-2,3,2,2,2,0,"June",359,7.8607400919640899E-2,75,74,81,55,74]
["July",7,5.9829059829059832E-2,2,3,2,0,0,"July",359,7.8607400919640899E-2,79,94,77,51,58]
["August",9,7.6923076923076927E-2,1,2,2,4,0,"August",391,8.5614188745347056E-2,87,96,77,63,68]
["September",13,0.1111111111111111,2,2,5,3,1,"September",411,8.9993431136413407E-2,83,90,91,76,71]
["October",16,0.13675213675213677,3,3,4,4,2,"October",450,9.8532953798992781E-2,107,96,102,74,71]
["November",13,0.1111111111111111,3,1,3,4,2,{"$f":"A73","v":"November"},379,8.298664331070725E-2,85,94,83,52,65]
["December",7,5.9829059829059832E-2,2,3,1,1,0,"December",373,8.1672870593387348E-2,110,94,72,28,69]
[{"$f":"CONCATENATE(\"Fatal and Serious Injury Crashes Only - \",A76, \"\n\",Instructions!$B$10)","v":"Fatal and Serious Injury Crashes Only - Crash Jurisdiction\nTest Group 1"},null,null,null,null,null,null,null,{"$f":"CONCATENATE(\"Total Crashes - \",I76, \"\n\",Instructions!$B$10)","v":"Total Crashes - Crash Jurisdiction\nTest Group 1"}]
["Crash Jurisdiction","Number of Crashes","Percent of Crashes","Year 5 Crashes","Year 4 Crashes","Year 3 Crashes","Year 2 Crashes","Year 1 Crashes","Crash Jurisdiction","Number of Crashes","Percent of Crashes","Year 5 Crashes","Year 4 Crashes","Year 3 Crashes","Year 2 Crashes","Year 1 Crashes"]
["A",{"$f":"SUM(D77:H77)","v":11},{"$f":"B77/SUM(B$77:B$81)","v":9.4017094017094016E-2},0,1,5,5,0,"A",{"$f":"SUM(L77:P77)","v":61},{"$f":"J77/SUM(J$77:J$81)","v":1.3356689292752353E-2},13,14,12,10,12]
["B",{"$f":"SUM(D78:H78)","v":19},{"$f":"B78/SUM(B$77:B$81)","v":0.1623931623931624},4,5,4,5,1,"B",{"$f":"SUM(L78:P78)","v":6},{"$f":"J78/SUM(J$77:J$81)","v":1.3137727173199037E-3},1,3,0,0,2]
["C",{"$f":"SUM(D79:H79)","v":84},0.71794871794871795,23,21,12,17,11,"C",{"$f":"SUM(L79:P79)","v":375},8.2110794832493977E-2,82,81,88,62,62]
["D",{"$f":"SUM(D80:H80)","v":1},8.5470085470085479E-3,0,0,1,0,0,"D",{"$f":"SUM(L80:P80)","v":633},0.13860302167724983,111,160,137,105,120]
["E",{"$f":"SUM(D81:H81)","v":2},1.7094017094017096E-2,0,1,1,0,0,"E",{"$f":"SUM(L81:P81)","v":3492},0.76461572148018397,821,799,699,549,624]
[{"$f":"CONCATENATE(\"Fatal and Serious Injury Crashes Only - \",A83, \"\n\",Instructions!$B$10)","v":"Fatal and Serious Injury Crashes Only - First Harmful Event\nTest Group 1"},null,null,null,null,null,null,null,{"$f":"CONCATENATE(\"Total Crashes - \",I83, \"\n\",Instructions!$B$10)","v":"Total Crashes - First Harmful Event\nTest Group 1"}]
["First Harmful Event","Number of Crashes","Percent of Crashes","Year 5 Crashes","Year 4 Crashes","Year 3 Crashes","Year 2 Crashes","Year 1 Crashes","First Harmful Event","Number of Crashes","Percent of Crashes","Year 5 Crashes","Year 4 Crashes","Year 3 Crashes","Year 2 Crashes","Year 1 Crashes"]
["Cargo/Equipment Loss or Shift",{"$f":"SUM(D84:H84)","v":0},{"$f":"B84/SUM(B$84:B$125)","v":0},0,0,0,0,0,"Cargo/Equipment Loss or Shift",{"$f":"SUM(L84:P84)","v":0},{"$f":"J84/SUM(J$84:J$125)","v":0},0,0,0,0,0]
["Fell/Jumped from Motor Vehicle",8,{"$f":"B85/SUM(B$84:B$125)","v":6.8376068376068383E-2},3,1,2,1,1,"Fell/Jumped from Motor Vehicle",269,{"$f":"J85/SUM(J$84:J$125)","v":5.8900810159842346E-2},60,62,53,46,48]
["Fire/Explosion",0,0,0,0,0,0,0,"Fire/Explosion",1,2.1896211955331729E-4,0,0,0,1,0]
["Immersion, Full or Partial",3,2.564102564102564E-2,2,0,1,0,0,"Immersion, Full or Partial",47,1.0291219619005912E-2,11,6,11,8,11]
["Jackknife",0,0,0,0,0,0,0,"Jackknife",12,2.6275454346398074E-3,0,4,3,3,2]
["Other Non-Collision",5,4.2735042735042736E-2,3,1,0,1,0,"Other Non-Collision",636,0.13925990803590979,161,146,134,95,100]
["Overturn/Rollover",0,0,0,0,0,0,0,"Overturn/Rollover",0,0,0,0,0,0,0]
["Thrown or Falling Object",1,8.5470085470085479E-3,1,0,0,0,0,"Thrown or Falling Object",26,5.6930151083862488E-3,4,9,2,6,5]
["Collision with Animal",0,0,0,0,0,0,0,"Collision with Animal",1,2.1896211955331729E-4,0,0,1,0,0]
["Collision with Construction Equipment",4,3.4188034188034191E-2,0,2,0,2,0,"Collision with Construction Equipment",24,5.2550908692796149E-3,6,7,0,6,5]
["Collision with Farm Equipment",1,8.5470085470085479E-3,0,0,0,1,0,"Collision with Farm Equipment",28,6.1309393474928836E-3,6,4,7,7,4]
["Collision with Motor Vehicle in Transport",0,0,0,0,0,0,0,"Collision with Motor Vehicle in Transport",6,1.3137727173199037E-3,0,1,2,2,1]
["Collision with Other Non-Fixed Object",0,0,0,0,0,0,0,"Collision with Other Non-Fixed Object",25,5.4740529888329323E-3,5,3,6,6,5]
["Collision with Other Non-motorist",3,2.564102564102564E-2,1,0,1,1,0,"Collision with Other Non-motorist",91,1.9925552879351872E-2,21,20,25,18,7]
["Collision with Parked Motor Vehicle",1,8.5470085470085479E-3,0,0,1,0,0,"Collision with Parked Motor Vehicle",191,4.1821764834683597E-2,32,50,45,31,33]
["Collision with Pedalcycle",2,1.7094017094017096E-2,1,1,0,0,0,"Collision with Pedalcycle",26,5.6930151083862488E-3,3,6,7,6,4]
["Collision with Pedestrian",3,2.564102564102564E-2,0,3,0,0,0,"Collision with Pedestrian",37,8.1015984234727393E-3,13,10,4,8,2]
["Collision with Railway Vehicle",1,8.5470085470085479E-3,1,0,0,0,0,"Collision with Railway Vehicle",39,8.5395226625793741E-3,12,12,2,7,6]
["Strikes Object ar Rest from MV in Transport",0,0,0,0,0,0,0,"Strikes Object ar Rest from MV in Transport",16,3.5033939128530766E-3,2,6,4,1,3]
["Struck by Falling, Shifting Cargo, or Anything Set in Motion by Motor Vehicle",3,2.564102564102564E-2,1,0,0,1,1,"Struck by Falling, Shifting Cargo, or Anything Set in Motion by Motor Vehicle",119,2.6056492226844755E-2,25,30,22,19,23]
["Collision with Bridge Overhead Structure",0,0,0,0,0,0,0,"Collision with Bridge Overhead Structure",20,4.3792423910663453E-3,5,4,7,2,2]
["Collision with Bridge Pier or Support",2,1.7094017094017096E-2,0,0,2,0,0,"Collision with Bridge Pier or Support",52,1.1386030216772498E-2,7,13,13,5,14]
["Collision with Bridge Rail",0,0,0,0,0,0,0,"Collision with Bridge Rail",3,6.5688635865995186E-4,0,1,0,0,2]
["Collision with Cable Barrier",3,2.564102564102564E-2,0,0,0,2,1,"Collision with Cable Barrier",56,1.2261878694985767E-2,10,5,12,17,12]
["Collision with Concrete Traffic Barrier",24,0.20512820512820512,3,5,7,5,4,"Collision with Concrete Traffic Barrier",276,6.043354499671557E-2,52,51,65,39,69]
["Collision with Culvert",3,2.564102564102564E-2,0,0,1,2,0,"Collision with Culvert",539,0.11802058243923801,165,110,84,82,98]
["Collision with Curb",19,0.1623931623931624,5,5,2,5,2,"Collision with Curb",78,1.7079045325158748E-2,17,20,9,14,18]
["Collision with Ditch",0,0,0,0,0,0,0,"Collision with Ditch",3,6.5688635865995186E-4,1,1,0,1,0]
["Collision with Embankment",5,4.2735042735042736E-2,0,2,1,1,1,"Collision with Embankment",1053,0.2305671118896431,218,251,233,159,192]
["Collision with Fence",0,0,0,0,0,0,0,"Collision with Fence",3,6.5688635865995186E-4,0,1,0,0,2]
["Collision with Guardrail End Terminal",1,8.5470085470085479E-3,0,1,0,0,0,"Collision with Guardrail End Terminal",97,2.1239325596671774E-2,27,23,20,11,16]
["Collision with Guardrail Face",4,3.4188034188034191E-2,1,1,1,0,1,"Collision with Guardrail Face",338,7.4009196409021233E-2,75,87,71,53,52]
["Collision with Impact Attenuator/Crash Cushion",0,0,0,0,0,0,0,"Collision with Impact Attenuator/Crash Cushion",39,8.5395226625793741E-3,10,8,11,5,5]
["Collision with Mailbox",0,0,0,0,0,0,0,"Collision with Mailbox",9,1.9706590759798557E-3,0,5,0,2,2]
["Collision with Other Fixed Object",3,2.564102564102564E-2,0,1,0,2,0,"Collision with Other Fixed Object",74,1.6203196846945479E-2,21,14,18,14,7]
["Collision with Other Post, Pole, or Support",16,0.13675213675213677,5,4,4,2,1,"Collision with Other Post, Pole, or Support",220,4.8171666301729803E-2,40,65,45,30,40]
["Collision with Other Traffic Barrier",1,8.5470085470085479E-3,0,0,0,1,0,"Collision with Other Traffic Barrier",14,3.0654696737464418E-3,1,1,3,4,5]
["Collision with Traffic Sign Support",1,8.5470085470085479E-3,0,1,0,0,0,"Collision with Traffic Sign Support",38,8.3205605430260558E-3,6,10,5,9,8]
["Collision with Traffic Signal Support",0,0,0,0,0,0,0,"Collision with Traffic Signal Support",16,3.5033939128530766E-3,3,3,3,1,6]
["Collision with Tree",0,0,0,0,0,0,0,"Collision with Tree",29,6.349901467046201E-3,6,5,5,8,5]
["Collision with Utility Pole or Light Support",0,0,0,0,0,0,0,"Collision with Utility Pole or Light Support",16,3.5033939128530766E-3,3,3,4,0,6]
["Unknown",0,0,0,0,0,0,0,"Unknown",0,0,0,0,0,0,0]
[{"$f":"CONCATENATE(\"Fatal and Serious Injury Crashes Only - \",A127, \"\n\",Instructions!$B$10)","v":"Fatal and Serious Injury Crashes Only - Location of First Harmful Event\nTest Group 1"},null,null,null,null,null,null,null,{"$f":"CONCATENATE(\"Total Crashes - \",I127, \"\n\",Instructions!$B$10)","v":"Total Crashes - Location of First Harmful Event\nTest Group 1"}]
["Location of First Harmful Event","Number of Crashes","Percent of Crashes","Year 5 Crashes","Year 4 Crashes","Year 3 Crashes","Year 2 Crashes","Year 1 Crashes","Location of First Harmful Event","Number of Crashes","Percent of Crashes","Year 5 Crashes","Year 4 Crashes","Year 3 Crashes","Year 2 Crashes","Year 1 Crashes"]
["Gore",{"$f":"SUM(D128:H128)","v":108},{"$f":"B128/SUM(B$128:B$138)","v":0.92307692307692313},26,24,20,26,12,"Gore",{"$f":"SUM(L128:P128)","v":3854},{"$f":"J128/SUM(J$128:J$138)","v":0.84388000875848479},882,863,768,599,742]
["In Parking Lane or Zone",{"$f":"SUM(D129:H129)","v":0},{"$f":"B129/SUM(B$128:B$138)","v":0},0,0,0,0,0,"In Parking Lane or Zone",{"$f":"SUM(L129:P129)","v":4},{"$f":"J129/SUM(J$128:J$138)","v":8.7584847821326915E-4},3,1,0,0,0]
["Median",{"$f":"SUM(D130:H130)","v":0},0,0,0,0,0,0,"Median",{"$f":"SUM(L130:P130)","v":1},2.1896211955331729E-4,0,0,0,0,1]
["Off-Roadway, Location Unknown",{"$f":"SUM(D131:H131)","v":3},2.564102564102564E-2,0,2,1,0,0,"Off-Roadway, Location Unknown",{"$f":"SUM(L131:P131)","v":210},4.5982045106196627E-2,36,61,55,36,22]
["On Roadway",0,0,0,0,0,0,0,"On Roadway",5,1.0948105977665863E-3,3,2,0,0,0]
["On Shoulder, Left Side",0,0,0,0,0,0,0,"On Shoulder, Left Side",12,2.6275454346398074E-3,2,4,5,0,1]
["On Shoulder, Right Side",0,0,0,0,0,0,0,"On Shoulder, Right Side",24,5.2550908692796149E-3,9,5,3,5,2]
["Outside Road/Right-of-Way",0,0,0,0,0,0,0,"Outside Road/Right-of-Way",0,0,0,0,0,0,0]
["Roadside",1,8.5470085470085479E-3,0,0,1,0,0,"Roadside",142,3.1092620976571055E-2,35,36,32,24,15]
["Separator/Traffic Island",1,8.5470085470085479E-3,0,1,0,0,0,"Separator/Traffic Island",2,4.3792423910663457E-4,0,2,0,0,0]
["Unknown",{"$f":"SUM(D138:H138)","v":4},3.4188034188034191E-2,1,1,1,1,0,"Unknown",{"$f":"SUM(L138:P138)","v":313},6.8535143420188308E-2,58,83,73,62,37]
[{"$f":"CONCATENATE(\"Fatal and Serious Injury Crashes Only - \",A140, \"\n\",Instructions!$B$10)","v":"Fatal and Serious Injury Crashes Only - Manner of Crash\nTest Group 1"},null,null,null,null,null,null,null,{"$f":"CONCATENATE(\"Total Crashes - \",I140, \"\n\",Instructions!$B$10)","v":"Total Crashes - Manner of Crash\nTest Group 1"}]
["Manner of Crash","Number of Crashes","Percent of Crashes","Year 5 Crashes","Year 4 Crashes","Year 3 Crashes","Year 2 Crashes","Year 1 Crashes","Manner of Crash","Number of Crashes","Percent of Crashes","Year 5 Crashes","Year 4 Crashes","Year 3 Crashes","Year 2 Crashes","Year 1 Crashes"]
["Not a Collision Between Two Motor Vehicles",{"$f":"SUM(D141:H141)","v":10},{"$f":"B141/SUM(B$141:B$150)","v":8.5470085470085472E-2},1,4,1,3,1,{"$f":"A141","v":"Not a Collision Between Two Motor Vehicles"},{"$f":"SUM(L141:P141)","v":410},{"$f":"J141/SUM(J$141:J$150)","v":8.9774469016860078E-2},97,100,77,72,64]
["Angle",6,{"$f":"B142/SUM(B$141:B$150)","v":5.128205128205128E-2},1,2,1,0,2,"Angle",347,{"$f":"J142/SUM(J$141:J$150)","v":7.5979855485001094E-2},84,83,59,59,62]
["Front to Front",8,6.8376068376068383E-2,3,1,1,3,0,"Front to Front",347,7.5979855485001094E-2,70,70,69,70,68]
["Front to Rear",5,4.2735042735042736E-2,2,1,0,1,1,"Front to Rear",387,8.4738340267133783E-2,79,84,74,62,88]
["Rear to Rear",14,0.11965811965811966,4,4,1,2,3,"Rear to Rear",354,7.7512590321874311E-2,72,82,74,64,62]
["Rear to Side",9,7.6923076923076927E-2,3,2,2,2,0,"Rear to Side",359,7.8607400919640899E-2,75,74,81,55,74]
["Sideswipe, Opposite Direction",7,5.9829059829059832E-2,2,3,2,0,0,"Sideswipe, Opposite Direction",359,7.8607400919640899E-2,79,94,77,51,58]
["Sideswipe, Same Direction",9,7.6923076923076927E-2,1,2,2,4,0,"Sideswipe, Same Direction",391,8.5614188745347056E-2,87,96,77,63,68]
["Other",13,0.1111111111111111,2,2,5,3,1,"Other",411,8.9993431136413407E-2,83,90,91,76,71]
["Unknown",36,0.30769230769230771,8,7,8,9,4,"Unknown",1202,0.26319246770308735,302,284,257,154,205]
[{"$f":"CONCATENATE(\"Fatal and Serious Injury Crashes Only - \",A152, \"\n\",Instructions!$B$10)","v":"Fatal and Serious Injury Crashes Only - Weather\nTest Group 1"},null,null,null,null,null,null,null,{"$f":"CONCATENATE(\"Total Crashes - \",I152, \"\n\",Instructions!$B$10)","v":"Total Crashes - Weather\nTest Group 1"}]
["Weather","Number of Crashes","Percent of Crashes","Year 5 Crashes","Year 4 Crashes","Year 3 Crashes","Year 2 Crashes","Year 1 Crashes","Weather","Number of Crashes","Percent of Crashes","Year 5 Crashes","Year 4 Crashes","Year 3 Crashes","Year 2 Crashes","Year 1 Crashes"]
["Blowing Sand, Soil, Dirt",{"$f":"SUM(D153:H153)","v":34},{"$f":"B153/SUM(B$153:B$164)","v":0.29059829059829062},4,8,10,8,4,"Blowing Sand, Soil, Dirt",{"$f":"SUM(L153:P153)","v":1067},{"$f":"J153/SUM(J$153:J$164)","v":0.23363258156338954},192,252,238,184,201]
["Blowing Snow",67,{"$f":"B154/SUM(B$153:B$164)","v":0.57264957264957261},18,16,10,15,8,"Blowing Snow",3162,{"$f":"J154/SUM(J$153:J$164)","v":0.69235822202758923},758,710,644,495,555]
["Clear",11,9.4017094017094016E-2,5,3,2,1,0,"Clear",286,6.2623166192248739E-2,66,83,43,38,56]
["Cloudy",3,2.564102564102564E-2,0,1,0,2,0,"Cloudy",41,8.9774469016860089E-3,9,10,8,6,8]
["Fog, Smog, Smoke",1,8.5470085470085479E-3,0,0,0,1,0,"Fog, Smog, Smoke",8,1.7516969564265383E-3,3,1,2,2,0]
["Freezing Rain or Freezing Drizzle",1,8.5470085470085479E-3,0,0,1,0,0,"Freezing Rain or Freezing Drizzle",3,6.5688635865995186E-4,0,1,1,1,0]
["Rain",0,0,0,0,0,0,0,"Rain",0,0,0,0,0,0,0]
["Severe Crosswinds",0,0,0,0,0,0,0,"Severe Crosswinds",0,0,0,0,0,0,0]
["Sleet or Hail",0,0,0,0,0,0,0,"Sleet or Hail",0,0,0,0,0,0,0]
["Snow",0,0,0,0,0,0,0,"Snow",0,0,0,0,0,0,0]
["Other",0,0,0,0,0,0,0,"Other",0,0,0,0,0,0,0]
["Unknown",0,0,0,0,0,0,0,"Unknown",0,0,0,0,0,0,0]
[{"$f":"CONCATENATE(\"Fatal and Serious Injury Crashes Only - \",A166, \"\n\",Instructions!$B$10)","v":"Fatal and Serious Injury Crashes Only - Light Conditions\nTest Group 1"},null,null,null,null,null,null,null,{"$f":"CONCATENATE(\"Total Crashes - \",I166, \"\n\",Instructions!$B$10)","v":"Total Crashes - Light Conditions\nTest Group 1"}]
["Light Conditions","Number of Crashes","Percent of Crashes","Year 5 Crashes","Year 4 Crashes","Year 3 Crashes","Year 2 Crashes","Year 1 Crashes","Light Conditions","Number of Crashes","Percent of Crashes","Year 5 Crashes","Year 4 Crashes","Year 3 Crashes","Year 2 Crashes","Year 1 Crashes"]
["Daylight",{"$f":"SUM(D167:H167)","v":8},{"$f":"B167/SUM(B$167:B$173)","v":6.8376068376068383E-2},1,1,3,2,1,"Daylight",{"$f":"SUM(L167:P167)","v":512},{"$f":"J167/SUM(J$167:J$173)","v":0.11210860521129845},122,100,115,90,85]
["Dawn/Dusk",{"$f":"SUM(D168:H168)","v":39},{"$f":"B168/SUM(B$167:B$173)","v":0.33333333333333331},11,9,8,6,5,"Dawn/Dusk",{"$f":"SUM(L168:P168)","v":1340},{"$f":"J168/SUM(J$167:J$173)","v":0.29340924020144515},317,317,285,194,227]
["Dark - Lighted",0,0,0,0,0,0,0,"Dark - Lighted",5,1.0948105977665863E-3,1,1,0,1,2]
["Dark - Not Lighted",9,7.6923076923076927E-2,2,3,2,1,1,"Dark - Not Lighted",687,0.15042697613312897,137,181,141,107,121]
["Dark - Unknown Lighting",61,0.5213675213675214,13,15,10,18,5,"Dark - Unknown Lighting",2010,0.4401138603021677,448,455,392,331,384]
["Other",0,0,0,0,0,0,0,"Other",5,1.0948105977665863E-3,3,1,0,1,0]
["Unknown",0,0,0,0,0,0,0,"Unknown",8,1.7516969564265383E-3,0,2,3,2,1]
[{"$f":"CONCATENATE(\"Fatal and Serious Injury Crashes Only - \",A175, \"\n\",Instructions!$B$10)","v":"Fatal and Serious Injury Crashes Only - Road Surface Condition\nTest Group 1"},null,null,null,null,null,null,null,{"$f":"CONCATENATE(\"Total Crashes - \",I175, \"\n\",Instructions!$B$10)","v":"Total Crashes - Road Surface Condition\nTest Group 1"}]
["Road Surface Condition","Number of Crashes","Percent of Crashes","Year 5 Crashes","Year 4 Crashes","Year 3 Crashes","Year 2 Crashes","Year 1 Crashes","Road Surface Condition","Number of Crashes","Percent of Crashes","Year 5 Crashes","Year 4 Crashes","Year 3 Crashes","Year 2 Crashes","Year 1 Crashes"]
["Dry",{"$f":"SUM(D176:H176)","v":108},{"$f":"B176/SUM(B$176:B$186)","v":0.92307692307692313},26,24,20,26,12,"Dry",{"$f":"SUM(L176:P176)","v":3854},{"$f":"J176/SUM(J$176:J$186)","v":0.84388000875848479},882,863,768,599,742]
["Ice/Frost",0,{"$f":"B177/SUM(B$176:B$186)","v":0},0,0,0,0,0,"Ice/Frost",4,{"$f":"J177/SUM(J$176:J$186)","v":8.7584847821326915E-4},3,1,0,0,0]
["Mud, Dirt, Gravel",0,0,0,0,0,0,0,"Mud, Dirt, Gravel",1,2.1896211955331729E-4,0,0,0,0,1]
["Oil",3,2.564102564102564E-2,0,2,1,0,0,"Oil",210,4.5982045106196627E-2,36,61,55,36,22]
["Sand",0,0,0,0,0,0,0,"Sand",5,1.0948105977665863E-3,3,2,0,0,0]
["Sluch",0,0,0,0,0,0,0,"Sluch",12,2.6275454346398074E-3,2,4,5,0,1]
["Snow",0,0,0,0,0,0,0,"Snow",24,5.2550908692796149E-3,9,5,3,5,2]
["Water (Standing, Moving)",0,0,0,0,0,0,0,"Water (Standing, Moving)",0,0,0,0,0,0,0]
["Wet",1,8.5470085470085479E-3,0,0,1,0,0,"Wet",142,3.1092620976571055E-2,35,36,32,24,15]
["Other",1,8.5470085470085479E-3,0,1,0,0,0,"Other",2,4.3792423910663457E-4,0,2,0,0,0]
["Unknown",4,3.4188034188034191E-2,1,1,1,1,0,"Unknown",313,6.8535143420188308E-2,58,83,73,62,37]
[{"$f":"CONCATENATE(\"Fatal and Serious Injury Crashes Only - \",A188, \"\n\",Instructions!$B$10)","v":"Fatal and Serious Injury Crashes Only - Contributing Circumstances - Roadway Environment, Selection 1\nTest Group 1"},null,null,null,null,null,null,null,{"$f":"CONCATENATE(\"Total Crashes - \",I188, \"\n\",Instructions!$B$10)","v":"Total Crashes - Contributing Circumstances - Roadway Environment, Selection 1\nTest Group 1"}]
["Contributing Circumstances - Roadway Environment, Selection 1","Number of Crashes","Percent of Crashes","Year 5 Crashes","Year 4 Crashes","Year 3 Crashes","Year 2 Crashes","Year 1 Crashes","Contributing Circumstances - Roadway Environment, Selection 1","Number of Crashes","Percent of Crashes","Year 5 Crashes","Year 4 Crashes","Year 3 Crashes","Year 2 Crashes","Year 1 Crashes"]
["None",{"$f":"SUM(D189:H189)","v":5},{"$f":"B189/SUM(B$189:B$211)","v":4.2735042735042736E-2},0,0,2,3,0,"None",{"$f":"SUM(L189:P189)","v":115},{"$f":"J189/SUM(J$189:J$211)","v":2.5180643748631486E-2},27,19,23,27,19]
["Animal(s)",2,{"$f":"B190/SUM(B$189:B$211)","v":1.7094017094017096E-2},0,1,0,1,0,"Animal(s)",92,{"$f":"J190/SUM(J$189:J$211)","v":2.014451499890519E-2},17,22,21,17,15]
["Debris",5,4.2735042735042736E-2,1,1,0,3,0,"Debris",100,2.1896211955331729E-2,21,31,12,21,15]
["Glare",4,3.4188034188034191E-2,2,1,1,0,0,"Glare",75,1.6422158966498797E-2,17,21,13,10,14]
["Non-Highway Work",1,8.5470085470085479E-3,0,1,0,0,0,"Non-Highway Work",53,1.1604992336325816E-2,8,12,13,7,13]
["Obstructed Crosswalks",3,2.564102564102564E-2,0,2,0,1,0,"Obstructed Crosswalks",72,1.5765272607838846E-2,18,14,16,9,15]
["Obstruction in Roadway",4,3.4188034188034191E-2,2,0,2,0,0,"Obstruction in Roadway",165,3.612874972629735E-2,44,30,39,24,28]
["Prior Crash",2,1.7094017094017096E-2,0,0,1,1,0,"Prior Crash",312,6.8316181300634993E-2,63,73,62,62,52]
["Prior Non-Recurring Incident",2,1.7094017094017096E-2,0,1,0,1,0,"Prior Non-Recurring Incident",256,5.6054302605649226E-2,58,63,50,42,43]
["Regular Congestion",0,0,0,0,0,0,0,"Regular Congestion",142,3.1092620976571055E-2,34,33,29,24,22]
["Related to a Bus Stop",5,4.2735042735042736E-2,3,0,1,0,1,"Related to a Bus Stop",139,3.04357346179111E-2,35,30,33,16,25]
["Road Surface Condition (wet, icy, snow, slush, etc.)",1,8.5470085470085479E-3,0,0,0,1,0,"Road Surface Condition (wet, icy, snow, slush, etc.)",176,3.8537333041383841E-2,39,37,34,37,29]
["Ruts, Holes, Bumps",4,3.4188034188034191E-2,0,0,1,2,1,"Ruts, Holes, Bumps",202,4.4230348149770088E-2,52,44,34,30,42]
["Shoulders (none, low, soft, high)",9,7.6923076923076927E-2,2,2,1,2,2,"Shoulders (none, low, soft, high)",230,5.0361287497262971E-2,49,60,45,38,38]
["Toll Booth/Plaza Related",4,3.4188034188034191E-2,1,0,2,0,1,"Toll Booth/Plaza Related",252,5.5178454127435952E-2,59,54,53,44,42]
["Traffic Control Device",8,6.8376068376068383E-2,1,4,2,1,0,"Traffic Control Device",362,7.9264287278300857E-2,91,82,66,53,70]
["Traffic Incident",6,5.128205128205128E-2,0,1,2,2,1,"Traffic Incident",349,7.6417779724107723E-2,68,88,74,58,61]
["Visual Obstruction(s)",11,9.4017094017094016E-2,5,1,4,0,1,"Visual Obstruction(s)",483,0.10575870374425224,102,120,98,66,97]
["Weather Conditions",10,8.5470085470085472E-2,2,5,0,1,2,"Weather Conditions",272,5.9557696518502297E-2,60,75,52,38,47]
["Work Zone (construction/maintenance/utility)",6,5.128205128205128E-2,1,2,1,2,0,"Work Zone (construction/maintenance/utility)",159,3.4814977008977448E-2,36,33,38,27,25]
["Worn, Travel-polished Surface",11,9.4017094017094016E-2,4,2,2,1,2,{"$f":"A209","v":"Worn, Travel-polished Surface"},169,3.7004598204510616E-2,41,43,33,18,34]
["Other",7,5.9829059829059832E-2,2,2,1,1,1,"Other",161,3.5252901248084084E-2,39,30,37,26,29]
["Unknown",7,5.9829059829059832E-2,1,2,0,4,0,"Unknown",231,5.0580249616816293E-2,50,43,61,32,45]
[{"$f":"CONCATENATE(\"Fatal and Serious Injury Crashes Only - \",A213, \"\n\",Instructions!$B$10)","v":"Fatal and Serious Injury Crashes Only - Contributing Circumstances - Roadway Environment, Selection 2\nTest Group 1"},null,null,null,null,null,null,null,{"$f":"CONCATENATE(\"Total Crashes - \",I213, \"\n\",Instructions!$B$10)","v":"Total Crashes - Contributing Circumstances - Roadway Environment, Selection 2\nTest Group 1"}]
["Contributing Circumstances - Roadway Environment, Selection 2","Number of Crashes","Percent of Crashes","Year 5 Crashes","Year 4 Crashes","Year 3 Crashes","Year 2 Crashes","Year 1 Crashes","Contributing Circumstances - Roadway Environment, Selection 2","Number of Crashes","Percent of Crashes","Year 5 Crashes","Year 4 Crashes","Year 3 Crashes","Year 2 Crashes","Year 1 Crashes"]
["None",{"$f":"SUM(D214:H214)","v":9},{"$f":"B214/SUM(B$214:B$236)","v":7.6923076923076927E-2},2,2,1,2,2,"None",{"$f":"SUM(L214:P214)","v":230},{"$f":"J214/SUM(J$214:J$236)","v":5.0361287497262971E-2},49,60,45,38,38]
["Animal(s)",4,{"$f":"B215/SUM(B$214:B$236)","v":3.4188034188034191E-2},1,0,2,0,1,"Animal(s)",252,{"$f":"J215/SUM(J$214:J$236)","v":5.5178454127435952E-2},59,54,53,44,42]
["Debris",8,6.8376068376068383E-2,1,4,2,1,0,"Debris",362,7.9264287278300857E-2,91,82,66,53,70]
["Glare",6,5.128205128205128E-2,0,1,2,2,1,"Glare",349,7.6417779724107723E-2,68,88,74,58,61]
["Non-Highway Work",11,9.4017094017094016E-2,5,1,4,0,1,"Non-Highway Work",483,0.10575870374425224,102,120,98,66,97]
["Obstructed Crosswalks",10,8.5470085470085472E-2,2,5,0,1,2,"Obstructed Crosswalks",272,5.9557696518502297E-2,60,75,52,38,47]
["Obstruction in Roadway",6,5.128205128205128E-2,1,2,1,2,0,"Obstruction in Roadway",159,3.4814977008977448E-2,36,33,38,27,25]
["Prior Crash",11,9.4017094017094016E-2,4,2,2,1,2,"Prior Crash",169,3.7004598204510616E-2,41,43,33,18,34]
["Prior Non-Recurring Incident",7,5.9829059829059832E-2,2,2,1,1,1,"Prior Non-Recurring Incident",161,3.5252901248084084E-2,39,30,37,26,29]
["Regular Congestion",7,5.9829059829059832E-2,1,2,0,4,0,"Regular Congestion",231,5.0580249616816293E-2,50,43,61,32,45]
["Related to a Bus Stop",5,4.2735042735042736E-2,0,0,2,3,0,"Related to a Bus Stop",115,2.5180643748631486E-2,27,19,23,27,19]
["Road Surface Condition (wet, icy, snow, slush, etc.)",2,1.7094017094017096E-2,0,1,0,1,0,"Road Surface Condition (wet, icy, snow, slush, etc.)",92,2.014451499890519E-2,17,22,21,17,15]
["Ruts, Holes, Bumps",5,4.2735042735042736E-2,1,1,0,3,0,"Ruts, Holes, Bumps",100,2.1896211955331729E-2,21,31,12,21,15]
["Shoulders (none, low, soft, high)",4,3.4188034188034191E-2,2,1,1,0,0,"Shoulders (none, low, soft, high)",75,1.6422158966498797E-2,17,21,13,10,14]
["Toll Booth/Plaza Related",1,8.5470085470085479E-3,0,1,0,0,0,"Toll Booth/Plaza Related",53,1.1604992336325816E-2,8,12,13,7,13]
["Traffic Control Device",3,2.564102564102564E-2,0,2,0,1,0,"Traffic Control Device",72,1.5765272607838846E-2,18,14,16,9,15]
["Traffic Incident",4,3.4188034188034191E-2,2,0,2,0,0,"Traffic Incident",165,3.612874972629735E-2,44,30,39,24,28]
["Visual Obstruction(s)",2,1.7094017094017096E-2,0,0,1,1,0,"Visual Obstruction(s)",312,6.8316181300634993E-2,63,73,62,62,52]
["Weather Conditions",2,1.7094017094017096E-2,0,1,0,1,0,"Weather Conditions",256,5.6054302605649226E-2,58,63,50,42,43]
["Work Zone (construction/maintenance/utility)",0,0,0,0,0,0,0,"Work Zone (construction/maintenance/utility)",142,3.1092620976571055E-2,34,33,29,24,22]
["Worn, Travel-polished Surface",5,4.2735042735042736E-2,3,0,1,0,1,"Worn, Travel-polished Surface",139,3.04357346179111E-2,35,30,33,16,25]
["Other",1,8.5470085470085479E-3,0,0,0,1,0,"Other",176,3.8537333041383841E-2,39,37,34,37,29]
["Unknown",4,3.4188034188034191E-2,0,0,1,2,1,"Unknown",202,4.4230348149770088E-2,52,44,34,30,42]
[{"$f":"CONCATENATE(\"Fatal and Serious Injury Crashes Only - \",A238, \"\n\",Instructions!$B$10)","v":"Fatal and Serious Injury Crashes Only - Within Interchange Area\nTest Group 1"},null,null,null,null,null,null,null,{"$f":"CONCATENATE(\"Total Crashes - \",I238, \"\n\",Instructions!$B$10)","v":"Total Crashes - Within Interchange Area\nTest Group 1"}]
["Within Interchange Area","Number of Crashes","Percent of Crashes","Year 5 Crashes","Year 4 Crashes","Year 3 Crashes","Year 2 Crashes","Year 1 Crashes","Within Interchange Area","Number of Crashes","Percent of Crashes","Year 5 Crashes","Year 4 Crashes","Year 3 Crashes","Year 2 Crashes","Year 1 Crashes"]
["No",{"$f":"SUM(D239:H239)","v":21},{"$f":"B239/SUM(B$239:B$241)","v":0.17948717948717949},5,5,3,7,1,"No",{"$f":"SUM(L239:P239)","v":627},{"$f":"J239/SUM(J$239:J$241)","v":0.13728924895992994},124,170,144,91,98]
["Yes",80,{"$f":"B240/SUM(B$239:B$241)","v":0.68376068376068377},19,19,18,17,7,"Yes",3561,{"$f":"J240/SUM(J$239:J$241)","v":0.77972410772936285},823,799,719,573,647]
["Unknown",16,0.13675213675213677,3,4,2,3,4,"Unknown",379,8.298664331070725E-2,81,88,73,62,75]
[{"$f":"CONCATENATE(\"Fatal and Serious Injury Crashes Only - \",A243, \"\n\",Instructions!$B$10)","v":"Fatal and Serious Injury Crashes Only - Relation to Junction\nTest Group 1"},null,null,null,null,null,null,null,{"$f":"CONCATENATE(\"Total Crashes - \",I243, \"\n\",Instructions!$B$10)","v":"Total Crashes - Relation to Junction\nTest Group 1"}]
["Relation to Junction","Number of Crashes","Percent of Crashes","Year 5 Crashes","Year 4 Crashes","Year 3 Crashes","Year 2 Crashes","Year 1 Crashes","Relation to Junction","Number of Crashes","Percent of Crashes","Year 5 Crashes","Year 4 Crashes","Year 3 Crashes","Year 2 Crashes","Year 1 Crashes"]
["Acceleration/Deceleration Lane",34,{"$f":"B244/SUM(B$244:B$254)","v":0.29059829059829062},4,8,10,8,4,"Acceleration/Deceleration Lane",1067,{"$f":"J244/SUM(J$244:J$254)","v":0.23363258156338954},192,252,238,184,201]
["Crossover-Related",67,{"$f":"B245/SUM(B$244:B$254)","v":0.57264957264957261},18,16,10,15,8,"Crossover-Related",3162,{"$f":"J245/SUM(J$244:J$254)","v":0.69235822202758923},758,710,644,495,555]
["Driveway Access or Related",11,9.4017094017094016E-2,5,3,2,1,0,"Driveway Access or Related",286,6.2623166192248739E-2,66,83,43,38,56]
["Entrance/Exit Ramp or Related",3,2.564102564102564E-2,0,1,0,2,0,"Entrance/Exit Ramp or Related",41,8.9774469016860089E-3,9,10,8,6,8]
["Intersection or Related",1,8.5470085470085479E-3,0,0,0,1,0,"Intersection or Related",8,1.7516969564265383E-3,3,1,2,2,0]
["Non-Junction",1,8.5470085470085479E-3,0,0,1,0,0,"Non-Junction",3,6.5688635865995186E-4,0,1,1,1,0]
["Railway Grade Crossing",0,0,0,0,0,0,0,"Railway Grade Crossing",0,0,0,0,0,0,0]
["Shared-Use Path or Trail",0,0,0,0,0,0,0,"Shared-Use Path or Trail",0,0,0,0,0,0,0]
["Through Roadway",0,0,0,0,0,0,0,"Through Roadway",0,0,0,0,0,0,0]
["Other",0,0,0,0,0,0,0,"Other",0,0,0,0,0,0,0]
["Unknown",0,0,0,0,0,0,0,"Unknown",0,0,0,0,0,0,0]
[{"$f":"CONCATENATE(\"Fatal and Serious Injury Crashes Only - \",A256, \"\n\",Instructions!$B$10)","v":"Fatal and Serious Injury Crashes Only - Type of Intersection\nTest Group 1"},null,null,null,null,null,null,null,{"$f":"CONCATENATE(\"Total Crashes - \",I256, \"\n\",Instructions!$B$10)","v":"Total Crashes - Type of Intersection\nTest Group 1"}]
["Type of Intersection","Number of Crashes","Percent of Crashes","Year 5 Crashes","Year 4 Crashes","Year 3 Crashes","Year 2 Crashes","Year 1 Crashes","Type of Intersection","Number of Crashes","Percent of Crashes","Year 5 Crashes","Year 4 Crashes","Year 3 Crashes","Year 2 Crashes","Year 1 Crashes"]
["Not at Intersection",0,{"$f":"B257/SUM(B$257:B$261)","v":0},0,0,0,0,0,"Not at Intersection",5,{"$f":"J257/SUM(J$257:J$261)","v":1.0948105977665863E-3},0,1,1,3,0]
["Two-Leg",21,{"$f":"B258/SUM(B$257:B$261)","v":0.17948717948717949},5,5,3,7,1,"Two-Leg",627,{"$f":"J258/SUM(J$257:J$261)","v":0.13728924895992994},124,170,144,91,98]
["Three-Leg",80,0.68376068376068377,19,19,18,17,7,"Three-Leg",3561,0.77972410772936285,823,799,719,573,647]
["Four-Leg",0,0,0,0,0,0,0,"Four-Leg",0,0,0,0,0,0,0]
["Five or More Legs",16,0.13675213675213677,3,4,2,3,4,"Five or More Legs",374,8.1891832712940663E-2,81,87,72,59,75]
[{"$f":"CONCATENATE(\"Fatal and Serious Injury Crashes Only - \",A263, \"\n\",Instructions!$B$10)","v":"Fatal and Serious Injury Crashes Only - Intersection Geometry\nTest Group 1"},null,null,null,null,null,null,null,{"$f":"CONCATENATE(\"Total Crashes - \",I263, \"\n\",Instructions!$B$10)","v":"Total Crashes - Intersection Geometry\nTest Group 1"}]
["Intersection Geometry","Number of Crashes","Percent of Crashes","Year 5 Crashes","Year 4 Crashes","Year 3 Crashes","Year 2 Crashes","Year 1 Crashes","Intersection Geometry","Number of Crashes","Percent of Crashes","Year 5 Crashes","Year 4 Crashes","Year 3 Crashes","Year 2 Crashes","Year 1 Crashes"]
["Angled or Skewed",11,{"$f":"B264/SUM(B$264:B$267)","v":9.4017094017094016E-2},5,3,2,1,0,"Angled or Skewed",286,{"$f":"J264/SUM(J$264:J$267)","v":6.2623166192248739E-2},66,83,43,38,56]
["Roundabout or Traffic Circle",5,{"$f":"B265/SUM(B$264:B$267)","v":4.2735042735042736E-2},0,1,1,3,0,"Roundabout or Traffic Circle",52,{"$f":"J265/SUM(J$264:J$267)","v":1.1386030216772498E-2},12,12,11,9,8]
["Perpindicular",34,0.29059829059829062,4,8,10,8,4,"Perpindicular",1067,0.23363258156338954,192,252,238,184,201]
["Not at Intersection",67,0.57264957264957261,18,16,10,15,8,"Not at Intersection",3162,0.69235822202758923,758,710,644,495,555]
[{"$f":"CONCATENATE(\"Fatal and Serious Injury Crashes Only - \",A269, \"\n\",Instructions!$B$10)","v":"Fatal and Serious Injury Crashes Only - Traffic Control Device\nTest Group 1"},null,null,null,null,null,null,null,{"$f":"CONCATENATE(\"Total Crashes - \",I269, \"\n\",Instructions!$B$10)","v":"Total Crashes - Traffic Control Device\nTest Group 1"}]
["Traffic Control Device","Number of Crashes","Percent of Crashes","Year 5 Crashes","Year 4 Crashes","Year 3 Crashes","Year 2 Crashes","Year 1 Crashes","Traffic Control Device","Number of Crashes","Percent of Crashes","Year 5 Crashes","Year 4 Crashes","Year 3 Crashes","Year 2 Crashes","Year 1 Crashes"]
["Signalized",2,{"$f":"B270/SUM(B$270:B$275)","v":1.7094017094017096E-2},0,1,1,0,0,"Signalized",61,{"$f":"J270/SUM(J$270:J$275)","v":1.3356689292752353E-2},13,14,12,10,12]
["Stop - All Way",0,{"$f":"B271/SUM(B$270:B$275)","v":0},0,0,0,0,0,"Stop - All Way",6,{"$f":"J271/SUM(J$270:J$275)","v":1.3137727173199037E-3},1,3,0,0,2]
["Stop - Partial",11,9.4017094017094016E-2,0,1,5,5,0,"Stop - Partial",375,8.2110794832493977E-2,82,81,88,62,62]
["Yield",19,0.1623931623931624,4,5,4,5,1,"Yield",633,0.13860302167724983,111,160,137,105,120]
["No Controls",84,0.71794871794871795,23,21,12,17,11,"No Controls",3477,0.76133128968688413,815,795,694,549,624]
["Not an Intersection",1,8.5470085470085479E-3,0,0,1,0,0,"Not an Intersection",15,3.2844317932997592E-3,6,4,5,0,0]
[{"$f":"CONCATENATE(\"Fatal and Serious Injury Crashes Only - \",A277, \"\n\",Instructions!$B$10)","v":"Fatal and Serious Injury Crashes Only - Crash in Work Zone\nTest Group 1"},null,null,null,null,null,null,null,{"$f":"CONCATENATE(\"Total Crashes - \",I277, \"\n\",Instructions!$B$10)","v":"Total Crashes - Crash in Work Zone\nTest Group 1"}]
["Crash in Work Zone","Number of Crashes","Percent of Crashes","Year 5 Crashes","Year 4 Crashes","Year 3 Crashes","Year 2 Crashes","Year 1 Crashes","Crash in Work Zone","Number of Crashes","Percent of Crashes","Year 5 Crashes","Year 4 Crashes","Year 3 Crashes","Year 2 Crashes","Year 1 Crashes"]
["Yes",{"$f":"SUM(D278:H278)","v":80},{"$f":"B278/SUM(B$278:B$280)","v":0.68376068376068377},19,19,18,17,7,"Yes",{"$f":"SUM(L278:P278)","v":3561},{"$f":"J278/SUM(J$278:J$280)","v":0.77972410772936285},823,799,719,573,647]
["No",16,{"$f":"B279/SUM(B$278:B$280)","v":0.13675213675213677},3,4,2,3,4,"No",379,{"$f":"J279/SUM(J$278:J$280)","v":8.298664331070725E-2},81,88,73,62,75]
["Unknown",21,0.17948717948717949,5,5,3,7,1,{"$f":"A280","v":"Unknown"},627,0.13728924895992994,124,170,144,91,98]
[{"$f":"CONCATENATE(\"Fatal and Serious Injury Crashes Only - \",A282, \"\n\",Instructions!$B$10)","v":"Fatal and Serious Injury Crashes Only - Number of Motor Vehicles Involved\nTest Group 1"},null,null,null,null,null,null,null,{"$f":"CONCATENATE(\"Total Crashes - \",I282, \"\n\",Instructions!$B$10)","v":"Total Crashes - Number of Motor Vehicles Involved\nTest Group 1"}]
["Number of Motor Vehicles Involved","Number of Crashes","Percent of Crashes","Year 5 Crashes","Year 4 Crashes","Year 3 Crashes","Year 2 Crashes","Year 1 Crashes","Number of Motor Vehicles Involved","Number of Crashes","Percent of Crashes","Year 5 Crashes","Year 4 Crashes","Year 3 Crashes","Year 2 Crashes","Year 1 Crashes"]
["One",34,{"$f":"B283/SUM(B$283:B$286)","v":0.29059829059829062},4,8,10,8,4,"One",1067,{"$f":"J283/SUM(J$283:J$286)","v":0.23363258156338954},192,252,238,184,201]
["Two",67,{"$f":"B284/SUM(B$283:B$286)","v":0.57264957264957261},18,16,10,15,8,"Two",3162,{"$f":"J284/SUM(J$283:J$286)","v":0.69235822202758923},758,710,644,495,555]
["Three",11,9.4017094017094016E-2,5,3,2,1,0,"Three",286,6.2623166192248739E-2,66,83,43,38,56]
["Four or More",5,4.2735042735042736E-2,0,1,1,3,0,"Four or More",52,1.1386030216772498E-2,12,12,11,9,8]
[{"$f":"CONCATENATE(\"Fatal and Serious Injury Crashes Only - \",A288, \"\n\",Instructions!$B$10)","v":"Fatal and Serious Injury Crashes Only - Horizontal Alignment\nTest Group 1"},null,null,null,null,null,null,null,{"$f":"CONCATENATE(\"Total Crashes - \",I288, \"\n\",Instructions!$B$10)","v":"Total Crashes - Horizontal Alignment\nTest Group 1"}]
["Horizontal Alignment","Number of Crashes","Percent of Crashes","Year 5 Crashes","Year 4 Crashes","Year 3 Crashes","Year 2 Crashes","Year 1 Crashes","Horizontal Alignment","Number of Crashes","Percent of Crashes","Year 5 Crashes","Year 4 Crashes","Year 3 Crashes","Year 2 Crashes","Year 1 Crashes"]
["Straight",{"$f":"SUM(D289:H289)","v":34},{"$f":"B289/SUM(B$289:B$291)","v":0.29059829059829062},4,8,10,8,4,"Straight",{"$f":"SUM(L289:P289)","v":1067},{"$f":"J289/SUM(J$289:J$291)","v":0.23363258156338954},192,252,238,184,201]
["Horizontal Curve Left",67,{"$f":"B290/SUM(B$289:B$291)","v":0.57264957264957261},18,16,10,15,8,"Horizontal Curve Left",3162,{"$f":"J290/SUM(J$289:J$291)","v":0.69235822202758923},758,710,644,495,555]
["Horizontal Curve Right",16,0.13675213675213677,5,4,3,4,0,"Horizontal Curve Right",338,7.4009196409021233E-2,78,95,54,47,64]
[{"$f":"CONCATENATE(\"Fatal and Serious Injury Crashes Only - \",A293, \"\n\",Instructions!$B$10)","v":"Fatal and Serious Injury Crashes Only - Vertical Alignment\nTest Group 1"},null,null,null,null,null,null,null,{"$f":"CONCATENATE(\"Total Crashes - \",I293, \"\n\",Instructions!$B$10)","v":"Total Crashes - Vertical Alignment\nTest Group 1"}]
["Vertical Alignment","Number of Crashes","Percent of Crashes","Year 5 Crashes","Year 4 Crashes","Year 3 Crashes","Year 2 Crashes","Year 1 Crashes","Vertical Alignment","Number of Crashes","Percent of Crashes","Year 5 Crashes","Year 4 Crashes","Year 3 Crashes","Year 2 Crashes","Year 1 Crashes"]
["Level",2,{"$f":"B294/SUM(B$294:B$299)","v":1.7094017094017096E-2},1,1,0,0,0,"Level",122,{"$f":"J294/SUM(J$294:J$299)","v":2.6713378585504707E-2},30,30,22,19,21]
["Uphill",14,{"$f":"B295/SUM(B$294:B$299)","v":0.11965811965811966},2,3,2,3,4,"Uphill",252,{"$f":"J295/SUM(J$294:J$299)","v":5.5178454127435952E-2},51,57,50,40,54]
["Hillcrest",0,0,0,0,0,0,0,"Hillcrest",5,1.0948105977665863E-3,0,1,1,3,0]
["Downhill",21,0.17948717948717949,5,5,3,7,1,"Downhill",627,0.13728924895992994,124,170,144,91,98]
["Sag",80,0.68376068376068377,19,19,18,17,7,"Sag",3561,0.77972410772936285,823,799,719,573,647]
["Unknown",0,0,0,0,0,0,0,"Unknown",0,0,0,0,0,0,0]
[{"$f":"CONCATENATE(\"Fatal and Serious Injury Crashes Only - \",A301, \"\n\",Instructions!$B$10)","v":"Fatal and Serious Injury Crashes Only - Roadway Owner\nTest Group 1"},null,null,null,null,null,null,null,{"$f":"CONCATENATE(\"Total Crashes - \",I301, \"\n\",Instructions!$B$10)","v":"Total Crashes - Roadway Owner\nTest Group 1"}]
["Roadway Owner","Number of Crashes","Percent of Crashes","Year 5 Crashes","Year 4 Crashes","Year 3 Crashes","Year 2 Crashes","Year 1 Crashes","Roadway Owner","Number of Crashes","Percent of Crashes","Year 5 Crashes","Year 4 Crashes","Year 3 Crashes","Year 2 Crashes","Year 1 Crashes"]
["State",{"$f":"SUM(D302:H302)","v":19},{"$f":"B302/SUM(B$302:B$307)","v":0.1623931623931624},4,5,4,5,1,"State",{"$f":"SUM(L302:P302)","v":633},{"$f":"J302/SUM(J$302:J$307)","v":0.13860302167724983},111,160,137,105,120]
["County",84,{"$f":"B303/SUM(B$302:B$307)","v":0.71794871794871795},23,21,12,17,11,"County",3477,{"$f":"J303/SUM(J$302:J$307)","v":0.76133128968688413},815,795,694,549,624]
["Municipality",0,0,0,0,0,0,0,"Municipality",6,1.3137727173199037E-3,1,3,0,0,2]
["Federal",11,9.4017094017094016E-2,0,1,5,5,0,"Federal",375,8.2110794832493977E-2,82,81,88,62,62]
["Tribal",1,8.5470085470085479E-3,0,0,1,0,0,"Tribal",15,3.2844317932997592E-3,6,4,5,0,0]
["Unknown",2,1.7094017094017096E-2,0,1,1,0,0,"Unknown",61,1.3356689292752353E-2,13,14,12,10,12]
[{"$f":"CONCATENATE(\"Fatal and Serious Injury Crashes Only - \",A309, \"\n\",Instructions!$B$10)","v":"Fatal and Serious Injury Crashes Only - Area Type\nTest Group 1"},null,null,null,null,null,null,null,{"$f":"CONCATENATE(\"Total Crashes - \",I309, \"\n\",Instructions!$B$10)","v":"Total Crashes - Area Type\nTest Group 1"}]
["Area Type","Number of Crashes","Percent of Crashes","Year 5 Crashes","Year 4 Crashes","Year 3 Crashes","Year 2 Crashes","Year 1 Crashes","Area Type","Number of Crashes","Percent of Crashes","Year 5 Crashes","Year 4 Crashes","Year 3 Crashes","Year 2 Crashes","Year 1 Crashes"]
["Urban",{"$f":"SUM(D310:H310)","v":103},{"$f":"B310/SUM(B$310:B$312)","v":0.88034188034188032},14,28,23,26,12,"Urban",{"$f":"SUM(L310:P310)","v":4086},{"$f":"J310/SUM(J$310:J$312)","v":0.89467922049485438},563,1057,932,720,814]
["Rural",1,{"$f":"B311/SUM(B$310:B$312)","v":8.5470085470085479E-3},0,0,0,1,0,"Rural",11,{"$f":"J311/SUM(J$310:J$312)","v":2.4085833150864901E-3},0,0,0,5,6]
["Unknown",13,0.1111111111111111,13,0,0,0,0,"Unknown",470,0.10291219619005912,465,0,4,1,0]
[{"$f":"CONCATENATE(\"Fatal and Serious Injury Crashes Only - \",A314, \"\n\",Instructions!$B$10)","v":"Fatal and Serious Injury Crashes Only - Functional Class\nTest Group 1"},null,null,null,null,null,null,null,{"$f":"CONCATENATE(\"Total Crashes - \",I314, \"\n\",Instructions!$B$10)","v":"Total Crashes - Functional Class\nTest Group 1"}]
["Functional Class","Number of Crashes","Percent of Crashes","Year 5 Crashes","Year 4 Crashes","Year 3 Crashes","Year 2 Crashes","Year 1 Crashes","Functional Class","Number of Crashes","Percent of Crashes","Year 5 Crashes","Year 4 Crashes","Year 3 Crashes","Year 2 Crashes","Year 1 Crashes"]
["Interstate",{"$f":"SUM(D315:H315)","v":19},{"$f":"B315/SUM(B$315:B$321)","v":0.1623931623931624},4,6,5,2,2,"Interstate",{"$f":"SUM(L315:P315)","v":700},{"$f":"J315/SUM(J$315:J$321)","v":0.1532734836873221},166,169,156,105,104]
["Principal Arterial - Other Freeway or Expressway",14,{"$f":"B316/SUM(B$315:B$321)","v":0.11965811965811966},5,3,0,5,1,"Principal Arterial - Other Freeway or Expressway",695,{"$f":"J316/SUM(J$315:J$321)","v":0.15217867308955552},149,177,132,112,125]
["Principal Arterial - Other",18,0.15384615384615385,6,4,3,3,2,"Principal Arterial - Other",763,0.16706809721918109,180,162,163,100,158]
["Minor Arterial",23,0.19658119658119658,4,5,6,7,1,"Minor Arterial",597,0.13072038537333042,131,140,116,107,103]
["Collector",19,0.1623931623931624,2,7,3,5,2,"Collector",494,0.10816728705933873,118,101,87,94,94]
["Local",11,9.4017094017094016E-2,4,2,2,2,1,"Local",663,0.14517188526384936,139,153,156,98,117]
["Unknown",13,0.1111111111111111,2,1,4,3,3,"Unknown",655,0.14342018830742281,145,155,126,110,119]
[{"$f":"CONCATENATE(\"Fatal and Serious Injury Crashes Only - \",A323, \"\n\",Instructions!$B$10)","v":"Fatal and Serious Injury Crashes Only - Access Control\nTest Group 1"},null,null,null,null,null,null,null,{"$f":"CONCATENATE(\"Total Crashes - \",I323, \"\n\",Instructions!$B$10)","v":"Total Crashes - Access Control\nTest Group 1"}]
["Access Control","Number of Crashes","Percent of Crashes","Year 5 Crashes","Year 4 Crashes","Year 3 Crashes","Year 2 Crashes","Year 1 Crashes","Access Control","Number of Crashes","Percent of Crashes","Year 5 Crashes","Year 4 Crashes","Year 3 Crashes","Year 2 Crashes","Year 1 Crashes"]
["No Access Control",67,{"$f":"B324/SUM(B$324:B$326)","v":0.57264957264957261},18,16,10,15,8,"No Access Control",3162,{"$f":"J324/SUM(J$324:J$326)","v":0.69235822202758923},758,710,644,495,555]
["Partial Access Control",16,{"$f":"B325/SUM(B$324:B$326)","v":0.13675213675213677},5,4,3,4,0,"Partial Access Control",338,{"$f":"J325/SUM(J$324:J$326)","v":7.4009196409021233E-2},78,95,54,47,64]
["Full Access Control",34,{"$f":"B326/SUM(B$324:B$326)","v":0.29059829059829062},4,8,10,8,4,"Full Access Control",1067,{"$f":"J326/SUM(J$324:J$326)","v":0.23363258156338954},192,252,238,184,201]
[{"$f":"CONCATENATE(\"Fatal and Serious Injury Crashes Only - \",A328, \"\n\",Instructions!$B$10)","v":"Fatal and Serious Injury Crashes Only - Roadway Lighting\nTest Group 1"},null,null,null,null,null,null,null,{"$f":"CONCATENATE(\"Total Crashes - \",I328, \"\n\",Instructions!$B$10)","v":"Total Crashes - Roadway Lighting\nTest Group 1"}]
["Roadway Lighting","Number of Crashes","Percent of Crashes","Year 5 Crashes","Year 4 Crashes","Year 3 Crashes","Year 2 Crashes","Year 1 Crashes","Roadway Lighting","Number of Crashes","Percent of Crashes","Year 5 Crashes","Year 4 Crashes","Year 3 Crashes","Year 2 Crashes","Year 1 Crashes"]
["Continuous Lighting on Both Sides",25,{"$f":"B329/SUM(B$329:B$333)","v":0.21367521367521367},5,6,2,10,2,"Continuous Lighting on Both Sides",835,{"$f":"J329/SUM(J$329:J$333)","v":0.18283336982701992},178,190,188,129,150]
["Continuous Lighting on One Side",29,{"$f":"B330/SUM(B$329:B$333)","v":0.24786324786324787},7,10,5,6,1,"Continuous Lighting on One Side",510,{"$f":"J330/SUM(J$329:J$333)","v":0.11167068097219181},134,107,108,77,84]
["No Lighting",10,8.5470085470085472E-2,1,1,5,1,2,"No Lighting",151,3.3063280052550909E-2,28,32,45,25,21]
["Spot Illumination on Both Sides",53,0.45299145299145299,14,11,11,10,7,"Spot Illumination on Both Sides",3071,0.67243266914823741,688,728,595,495,565]
["Spot Illumination on One Side",0,0,0,0,0,0,0,"Spot Illumination on One Side",0,0,0,0,0,0,0]
[{"$f":"CONCATENATE(\"Fatal and Serious Injury Crashes Only - \",A335, \"\n\",Instructions!$B$10)","v":"Fatal and Serious Injury Crashes Only - Alcohol Involvement\nTest Group 1"},null,null,null,null,null,null,null,{"$f":"CONCATENATE(\"Total Crashes - \",I335, \"\n\",Instructions!$B$10)","v":"Total Crashes - Alcohol Involvement\nTest Group 1"}]
["Alcohol Involvement","Number of Crashes","Percent of Crashes","Year 5 Crashes","Year 4 Crashes","Year 3 Crashes","Year 2 Crashes","Year 1 Crashes","Alcohol Involvement","Number of Crashes","Percent of Crashes","Year 5 Crashes","Year 4 Crashes","Year 3 Crashes","Year 2 Crashes","Year 1 Crashes"]
["Yes",19,{"$f":"B336/SUM(B$336:B$338)","v":0.1623931623931624},4,5,4,5,1,"Yes",633,{"$f":"J336/SUM(J$336:J$338)","v":0.13860302167724983},111,160,137,105,120]
["No",84,{"$f":"B337/SUM(B$336:B$338)","v":0.71794871794871795},23,21,12,17,11,"No",3477,{"$f":"J337/SUM(J$336:J$338)","v":0.76133128968688413},815,795,694,549,624]
["Unknown",14,{"$f":"B338/SUM(B$336:B$338)","v":0.11965811965811966},0,2,7,5,0,"Unknown",457,{"$f":"J338/SUM(J$336:J$338)","v":0.100065688635866},102,102,105,72,76]
[{"$f":"CONCATENATE(\"Fatal and Serious Injury Crashes Only - \",A340, \"\n\",Instructions!$B$10)","v":"Fatal and Serious Injury Crashes Only - Drug Involvement\nTest Group 1"},null,null,null,null,null,null,null,{"$f":"CONCATENATE(\"Total Crashes - \",I340, \"\n\",Instructions!$B$10)","v":"Total Crashes - Drug Involvement\nTest Group 1"}]
["Drug Involvement","Number of Crashes","Percent of Crashes","Year 5 Crashes","Year 4 Crashes","Year 3 Crashes","Year 2 Crashes","Year 1 Crashes","Drug Involvement","Number of Crashes","Percent of Crashes","Year 5 Crashes","Year 4 Crashes","Year 3 Crashes","Year 2 Crashes","Year 1 Crashes"]
["Yes",103,{"$f":"B341/SUM(B$341:B$343)","v":0.88034188034188032},14,28,23,26,12,"Yes",4086,{"$f":"J341/SUM(J$341:J$343)","v":0.89467922049485438},563,1057,932,720,814]
["No",1,{"$f":"B342/SUM(B$341:B$343)","v":8.5470085470085479E-3},0,0,0,1,0,"No",11,{"$f":"J342/SUM(J$341:J$343)","v":2.4085833150864901E-3},0,0,0,5,6]
["Unknown",13,{"$f":"B343/SUM(B$341:B$343)","v":0.1111111111111111},13,0,0,0,0,"Unknown",470,{"$f":"J343/SUM(J$341:J$343)","v":0.10291219619005912},465,0,4,1,0]
["Vehicle Data",null,null,null,null,null,null,null,"Vehicle Data"]
[{"$f":"CONCATENATE(\"Fatal and Serious Injury Crashes Only - \",A346, \"\n\",Instructions!$B$10)","v":"Fatal and Serious Injury Crashes Only - Motor Vehicle Body Type\nTest Group 1"},null,null,null,null,null,null,null,{"$f":"CONCATENATE(\"Total Crashes - \",I346, \"\n\",Instructions!$B$10)","v":"Total Crashes - Motor Vehicle Body Type\nTest Group 1"}]
["Motor Vehicle Body Type","Number of Crashes","Percent of Crashes","Year 5 Crashes","Year 4 Crashes","Year 3 Crashes","Year 2 Crashes","Year 1 Crashes","Motor Vehicle Body Type","Number of Crashes","Percent of Crashes","Year 5 Crashes","Year 4 Crashes","Year 3 Crashes","Year 2 Crashes","Year 1 Crashes"]
["All-Terrain Vehicle",110,{"$f":"B347/SUM(B$347:B$375)","v":0.5092592592592593},24,27,22,25,12,"All-Terrain Vehicle",4496,{"$f":"J347/SUM(J$347:J$375)","v":0.53491969066032119},1003,1041,929,720,803]
["Golf Cart",0,{"$f":"B348/SUM(B$347:B$375)","v":0},0,0,0,0,0,"Golf Cart",0,{"$f":"J348/SUM(J$347:J$375)","v":0},0,0,0,0,0]
["Snowmobile",0,0,0,0,0,0,0,"Snowmobile",0,0,0,0,0,0,0]
["Low Speed Vehicle",0,0,0,0,0,0,0,"Low Speed Vehicle",0,0,0,0,0,0,0]
["Moped or motorized bicycle",0,0,0,0,0,0,0,"Moped or motorized bicycle",0,0,0,0,0,0,0]
["Recreational Off-Highway Vehicles",0,0,0,0,0,0,0,"Recreational Off-Highway Vehicles",0,0,0,0,0,0,0]
["2-Wheeled Motorcycle",0,0,0,0,0,0,0,"2-Wheeled Motorcycle",2,2.379535990481856E-4,1,1,0,0,0]
["3-Wheeled Motorcycle",0,0,0,0,0,0,0,"3-Wheeled Motorcycle",0,0,0,0,0,0,0]
["Autocycle",0,0,0,0,0,0,0,{"$f":"A355","v":"Autocycle"},0,0,0,0,0,0,0]
["Passenger Car",1,4.6296296296296294E-3,1,0,0,0,0,"Passenger Car",4,4.759071980963712E-4,3,1,0,0,0]
["Passenger Van",0,0,0,0,0,0,0,"Passenger Van",9,1.0707911957168353E-3,3,2,0,0,4]
["Sport Utility Vehicle",{"$f":"SUM(D358:H358)","v":0},0,0,0,0,0,0,"Sport Utility Vehicle",{"$f":"SUM(L358:P358)","v":0},0,0,0,0,0,0]
["Pickup",0,0,0,0,0,0,0,"Pickup",2,2.379535990481856E-4,0,1,0,0,1]
["Cargo Van",0,0,0,0,0,0,0,"Cargo Van",0,0,0,0,0,0,0]
["Construction Equipment",0,0,0,0,0,0,0,"Construction Equipment",4,4.759071980963712E-4,2,0,0,0,2]
["Farm Equipment",0,0,0,0,0,0,0,"Farm Equipment",0,0,0,0,0,0,0]
["Single-Unit Truck",0,0,0,0,0,0,0,"Single-Unit Truck",1,1.189767995240928E-4,0,0,0,1,0]
["Truck Tractor",0,0,0,0,0,0,0,"Truck Tractor",0,0,0,0,0,0,0]
["Motor Home",2,9.2592592592592587E-3,2,0,0,0,0,"Motor Home",15,1.784651992861392E-3,6,2,2,1,4]
["9- or 12-Passenger Van",2,9.2592592592592587E-3,0,0,0,2,0,"9- or 12-Passenger Van",20,2.3795359904818562E-3,7,4,4,3,2]
["15-Passenger Van",0,0,0,0,0,0,0,"15-Passenger Van",1,1.189767995240928E-4,1,0,0,0,0]
["Large Limo",0,0,0,0,0,0,0,"Large Limo",0,0,0,0,0,0,0]
["Mini-bus",0,0,0,0,0,0,0,"Mini-bus",1,1.189767995240928E-4,0,1,0,0,0]
["School Bus",0,0,0,0,0,0,0,"School Bus",2,2.379535990481856E-4,1,0,0,0,1]
["Transit Bus",1,4.6296296296296294E-3,0,0,1,0,0,"Transit Bus",1,1.189767995240928E-4,0,0,1,0,0]
["Motorcoach",0,0,0,0,0,0,0,"Motorcoach",5,5.9488399762046404E-4,1,3,0,1,0]
["Other Bus Type",0,0,0,0,0,0,0,"Other Bus Type",1,1.189767995240928E-4,0,0,0,0,1]
["Other Trucks",0,0,0,0,0,0,0,"Other Trucks",0,0,0,0,0,0,0]
["Other",100,0.46296296296296297,28,25,16,23,8,"Other",3841,0.45698988697204046,914,901,752,589,685]
[{"$f":"CONCATENATE(\"Fatal and Serious Injury Crashes Only - \",A377, \"\n\",Instructions!$B$10)","v":"Fatal and Serious Injury Crashes Only - Posted Speed Limit\nTest Group 1"},null,null,null,null,null,null,null,{"$f":"CONCATENATE(\"Total Crashes - \",I377, \"\n\",Instructions!$B$10)","v":"Total Crashes - Posted Speed Limit\nTest Group 1"}]
["Posted Speed Limit","Number of Crashes","Percent of Crashes","Year 5 Crashes","Year 4 Crashes","Year 3 Crashes","Year 2 Crashes","Year 1 Crashes","Posted Speed Limit","Number of Crashes","Percent of Crashes","Year 5 Crashes","Year 4 Crashes","Year 3 Crashes","Year 2 Crashes","Year 1 Crashes"]
["5 MPH",3,{"$f":"B378/SUM(B$378:B$392)","v":1.3888888888888888E-2},0,0,1,0,2,"5 MPH",153,{"$f":"J378/SUM(J$378:J$392)","v":1.8203450327186198E-2},29,43,28,19,34]
["10 MPH",0,{"$f":"B379/SUM(B$378:B$392)","v":0},0,0,0,0,0,"10 MPH",60,{"$f":"J379/SUM(J$378:J$392)","v":7.138607971445568E-3},13,18,14,8,7]
["15 MPH",111,0.51388888888888884,35,29,17,21,9,"15 MPH",3612,0.42974419988102319,835,848,722,560,647]
["20 MPH",21,9.7222222222222224E-2,6,3,5,3,4,"20 MPH",874,0.10398572278405711,208,200,178,149,139]
["25 MPH",2,9.2592592592592587E-3,1,0,0,1,0,"25 MPH",320,3.8072575847709698E-2,74,73,72,62,39]
["30 MPH",5,2.3148148148148147E-2,1,0,1,2,1,"30 MPH",100,1.1897679952409279E-2,13,18,30,19,20]
["35 MPH",35,0.16203703703703703,6,10,7,9,3,"35 MPH",580,6.9006543723973829E-2,129,126,118,92,115]
["40 MPH",8,3.7037037037037035E-2,0,0,1,7,0,"40 MPH",676,8.0428316478286729E-2,207,139,102,102,126]
["45 MPH",4,1.8518518518518517E-2,3,0,1,0,0,"45 MPH",101,1.2016656751933374E-2,26,22,26,13,14]
["50 MPH",6,2.7777777777777776E-2,1,3,1,1,0,"50 MPH",316,3.7596668649613328E-2,64,79,58,60,55]
["55 MPH",7,3.2407407407407406E-2,1,2,1,2,1,"55 MPH",1175,0.13979773944080903,242,292,246,167,228]
["60 MPH",3,1.3888888888888888E-2,0,0,2,1,0,"60 MPH",29,3.4503271861986914E-3,5,5,18,1,0]
["65 MPH",3,1.3888888888888888E-2,0,0,1,2,0,"65 MPH",110,1.3087447947650209E-2,17,29,19,22,23]
["70 MPH",4,1.8518518518518517E-2,1,3,0,0,0,"70 MPH",19,2.2605591909577631E-3,5,5,2,2,5]
["Unknown",4,{"$f":"B392/SUM(B$378:B$392)","v":1.8518518518518517E-2},0,2,1,1,0,"Unknown",280,{"$f":"J392/SUM(J$378:J$392)","v":3.3313503866745982E-2},75,60,55,39,51]
[{"$f":"CONCATENATE(\"Fatal and Serious Injury Crashes Only - \",A394, \"\n\",Instructions!$B$10)","v":"Fatal and Serious Injury Crashes Only - Traffic Way\nTest Group 1"},null,null,null,null,null,null,null,{"$f":"CONCATENATE(\"Total Crashes - \",I394, \"\n\",Instructions!$B$10)","v":"Total Crashes - Traffic Way\nTest Group 1"}]
["Traffic Way","Number of Crashes","Percent of Crashes","Year 5 Crashes","Year 4 Crashes","Year 3 Crashes","Year 2 Crashes","Year 1 Crashes","Traffic Way","Number of Crashes","Percent of Crashes","Year 5 Crashes","Year 4 Crashes","Year 3 Crashes","Year 2 Crashes","Year 1 Crashes"]
["One-Way",{"$f":"SUM(D395:H395)","v":146},{"$f":"B395/SUM(B$395:B$396)","v":0.67592592592592593},36,33,33,33,11,"One-Way",{"$f":"SUM(L395:P395)","v":4388},{"$f":"J395/SUM(J$395:J$396)","v":0.52207019631171925},959,1038,910,711,770]
["Two-Way",70,{"$f":"B396/SUM(B$395:B$396)","v":0.32407407407407407},19,19,6,17,9,"Two-Way",4017,{"$f":"J396/SUM(J$395:J$396)","v":0.47792980368828081},983,919,778,604,733]
[{"$f":"CONCATENATE(\"Fatal and Serious Injury Crashes Only - \",A398, \"\n\",Instructions!$B$10)","v":"Fatal and Serious Injury Crashes Only - Median Type\nTest Group 1"},null,null,null,null,null,null,null,{"$f":"CONCATENATE(\"Total Crashes - \",I398, \"\n\",Instructions!$B$10)","v":"Total Crashes - Median Type\nTest Group 1"}]
["Median Type","Number of Crashes","Percent of Crashes","Year 5 Crashes","Year 4 Crashes","Year 3 Crashes","Year 2 Crashes","Year 1 Crashes","Median Type","Number of Crashes","Percent of Crashes","Year 5 Crashes","Year 4 Crashes","Year 3 Crashes","Year 2 Crashes","Year 1 Crashes"]
["Not Divided",68,{"$f":"B399/SUM(B$399:B$404)","v":0.31481481481481483},18,16,11,18,5,"Not Divided",2496,{"$f":"J399/SUM(J$399:J$404)","v":0.29696609161213561},542,569,493,404,488]
["Continuous Left-Turn Lane",0,{"$f":"B400/SUM(B$399:B$404)","v":0},0,0,0,0,0,"Continuous Left-Turn Lane",17,{"$f":"J400/SUM(J$399:J$404)","v":2.0226055919095776E-3},7,5,4,0,1]
["Divided with Flush Median",52,0.24074074074074073,13,12,12,10,5,"Divided with Flush Median",1919,0.2283164782867341,470,416,409,294,330]
["Divided with Raised Median",0,0,0,0,0,0,0,"Divided with Raised Median",29,3.4503271861986914E-3,6,10,4,2,7]
["Divided with Depressed Median",59,0.27314814814814814,14,15,9,14,7,"Divided with Depressed Median",2227,0.26496133254015469,538,522,408,372,387]
["Unknown",37,0.17129629629629631,10,9,7,8,3,"Unknown",1717,0.20428316478286734,379,435,370,243,290]
[{"$f":"CONCATENATE(\"Fatal and Serious Injury Crashes Only - \",A406, \"\n\",Instructions!$B$10)","v":"Fatal and Serious Injury Crashes Only - Barrier Type\nTest Group 1"},null,null,null,null,null,null,null,{"$f":"CONCATENATE(\"Total Crashes - \",I406, \"\n\",Instructions!$B$10)","v":"Total Crashes - Barrier Type\nTest Group 1"}]
["Barrier Type","Number of Crashes","Percent of Crashes","Year 5 Crashes","Year 4 Crashes","Year 3 Crashes","Year 2 Crashes","Year 1 Crashes","Barrier Type","Number of Crashes","Percent of Crashes","Year 5 Crashes","Year 4 Crashes","Year 3 Crashes","Year 2 Crashes","Year 1 Crashes"]
["No Barrier",2,{"$f":"B407/SUM(B$407:B$413)","v":9.2592592592592587E-3},1,0,0,1,0,"No Barrier",182,{"$f":"J407/SUM(J$407:J$413)","v":2.1653777513384889E-2},45,37,43,36,21]
["Cable Barrier",1,{"$f":"B408/SUM(B$407:B$413)","v":4.6296296296296294E-3},1,0,0,0,0,"Cable Barrier",7,{"$f":"J408/SUM(J$407:J$413)","v":8.3283759666864961E-4},2,1,1,1,2]
["Concrete Barrier",2,9.2592592592592587E-3,0,1,0,1,0,"Concrete Barrier",46,5.4729327781082686E-3,11,6,9,12,8]
["Earth Embankment",101,0.46759259259259262,26,27,16,22,10,"Earth Embankment",3079,0.36632956573468173,679,586,584,390,840]
["Guardrail",0,0,0,0,0,0,0,"Guardrail",0,0,0,0,0,0,0]
["Box Barrier",91,0.42129629629629628,23,20,20,19,9,"Box Barrier",3897,0.46365258774538964,940,1064,819,680,394]
["Other Barrier",19,8.7962962962962965E-2,4,4,3,7,1,"Other Barrier",1194,0.14205829863176681,265,263,232,196,238]
[{"$f":"CONCATENATE(\"Fatal and Serious Injury Crashes Only - \",A415, \"\n\",Instructions!$B$10)","v":"Fatal and Serious Injury Crashes Only - Number of Lanes\nTest Group 1"},null,null,null,null,null,null,null,{"$f":"CONCATENATE(\"Total Crashes - \",I415, \"\n\",Instructions!$B$10)","v":"Total Crashes - Number of Lanes\nTest Group 1"}]
["Number of Lanes","Number of Crashes","Percent of Crashes","Year 5 Crashes","Year 4 Crashes","Year 3 Crashes","Year 2 Crashes","Year 1 Crashes","Number of Lanes","Number of Crashes","Percent of Crashes","Year 5 Crashes","Year 4 Crashes","Year 3 Crashes","Year 2 Crashes","Year 1 Crashes"]
["One",20,{"$f":"B416/SUM(B$416:B$426)","v":9.2592592592592587E-2},6,3,2,9,0,"One",1300,{"$f":"J416/SUM(J$416:J$426)","v":0.15466983938132065},379,282,228,182,229]
["Two",24,{"$f":"B417/SUM(B$416:B$426)","v":0.1111111111111111},6,5,4,5,4,"Two",761,{"$f":"J417/SUM(J$416:J$426)","v":9.0541344437834625E-2},158,188,170,126,119]
["Three",44,0.20370370370370369,10,9,10,10,5,"Three",1915,0.22784057108863773,423,456,395,288,353]
["Four",48,0.22222222222222221,9,16,7,11,5,"Four",1540,0.18322427126710292,333,392,297,241,277]
["Five",25,0.11574074074074074,6,7,6,4,2,"Five",1161,0.13813206424747174,247,256,231,210,217]
["Six",24,0.1111111111111111,9,4,6,3,2,"Six",1008,0.11992861392028555,238,216,216,167,171]
["Seven",20,9.2592592592592587E-2,6,4,2,6,2,"Seven",458,5.4491374182034501E-2,110,106,93,63,86]
["Eight",6,2.7777777777777776E-2,1,3,1,1,0,"Eight",183,2.1772754312908982E-2,31,49,37,30,36]
["Nine",5,2.3148148148148147E-2,2,1,1,1,0,{"$f":"A424","v":"Nine"},36,4.2831647828673412E-3,10,6,9,4,7]
["Ten or More",0,0,0,0,0,0,0,"Ten or More",7,8.3283759666864961E-4,3,1,2,0,1]
["Unknown",0,0,0,0,0,0,0,"Unknown",36,4.2831647828673412E-3,10,5,10,4,7]
[{"$f":"CONCATENATE(\"Fatal and Serious Injury Crashes Only - \",A428, \"\n\",Instructions!$B$10)","v":"Fatal and Serious Injury Crashes Only - Motor Vehicle Maneuver Prior to Crash\nTest Group 1"},null,null,null,null,null,null,null,{"$f":"CONCATENATE(\"Total Crashes - \",I428, \"\n\",Instructions!$B$10)","v":"Total Crashes - Motor Vehicle Maneuver Prior to Crash\nTest Group 1"}]
["Motor Vehicle Maneuver Prior to Crash","Number of Crashes","Percent of Crashes","Year 5 Crashes","Year 4 Crashes","Year 3 Crashes","Year 2 Crashes","Year 1 Crashes","Motor Vehicle Maneuver Prior to Crash","Number of Crashes","Percent of Crashes","Year 5 Crashes","Year 4 Crashes","Year 3 Crashes","Year 2 Crashes","Year 1 Crashes"]
["Backing",{"$f":"SUM(D429:H429)","v":3},{"$f":"B429/SUM(B$429:B$443)","v":1.3888888888888888E-2},0,1,1,1,0,"Backing",{"$f":"SUM(L429:P429)","v":41},{"$f":"J429/SUM(J$429:J$443)","v":4.8780487804878049E-3},10,12,7,6,6]
["Changing Lanes",{"$f":"SUM(D430:H430)","v":1},{"$f":"B430/SUM(B$429:B$443)","v":4.6296296296296294E-3},0,1,0,0,0,"Changing Lanes",{"$f":"SUM(L430:P430)","v":239},{"$f":"J430/SUM(J$429:J$443)","v":2.843545508625818E-2},65,48,48,33,45]
["Entering Traffic Lane",{"$f":"SUM(D431:H431)","v":3},1.3888888888888888E-2,0,0,1,0,2,"Entering Traffic Lane",{"$f":"SUM(L431:P431)","v":153},1.8203450327186198E-2,29,43,28,19,34]
["Leaving Traffic Lane",{"$f":"SUM(D432:H432)","v":0},0,0,0,0,0,0,"Leaving Traffic Lane",{"$f":"SUM(L432:P432)","v":60},7.138607971445568E-3,13,18,14,8,7]
["Making U-Turn",{"$f":"SUM(D433:H433)","v":111},0.51388888888888884,35,29,17,21,9,"Making U-Turn",{"$f":"SUM(L433:P433)","v":3612},0.42974419988102319,835,848,722,560,647]
["Movements Essentially Straight Ahead",21,9.7222222222222224E-2,6,3,5,3,4,"Movements Essentially Straight Ahead",874,0.10398572278405711,208,200,178,149,139]
["Negotiating a Curve",2,9.2592592592592587E-3,1,0,0,1,0,"Negotiating a Curve",320,3.8072575847709698E-2,74,73,72,62,39]
["Overtaking/Passing",5,2.3148148148148147E-2,1,0,1,2,1,"Overtaking/Passing",100,1.1897679952409279E-2,13,18,30,19,20]
["Parked",35,0.16203703703703703,6,10,7,9,3,"Parked",580,6.9006543723973829E-2,129,126,118,92,115]
["Slowing",8,3.7037037037037035E-2,0,0,1,7,0,"Slowing",676,8.0428316478286729E-2,207,139,102,102,126]
["Stopped in Traffic",{"$f":"SUM(D439:H439)","v":4},1.8518518518518517E-2,3,0,1,0,0,"Stopped in Traffic",{"$f":"SUM(L439:P439)","v":101},1.2016656751933374E-2,26,22,26,13,14]
["Turning Left",{"$f":"SUM(D440:H440)","v":6},2.7777777777777776E-2,1,3,1,1,0,"Turning Left",{"$f":"SUM(L440:P440)","v":316},3.7596668649613328E-2,64,79,58,60,55]
["Turning Right",7,3.2407407407407406E-2,1,2,1,2,1,"Turning Right",1175,0.13979773944080903,242,292,246,167,228]
["Other",3,1.3888888888888888E-2,0,0,2,1,0,"Other",29,3.4503271861986914E-3,5,5,18,1,0]
["Unknown",7,3.2407407407407406E-2,1,3,1,2,0,"Unknown",129,1.5348007138607971E-2,22,34,21,24,28]
[{"$f":"CONCATENATE(\"Fatal and Serious Injury Crashes Only - \",A445, \"\n\",Instructions!$B$10)","v":"Fatal and Serious Injury Crashes Only - Most Harmful Event\nTest Group 1"},null,null,null,null,null,null,null,{"$f":"CONCATENATE(\"Total Crashes - \",I445, \"\n\",Instructions!$B$10)","v":"Total Crashes - Most Harmful Event\nTest Group 1"}]
["Most Harmful Event","Number of Crashes","Percent of Crashes","Year 5 Crashes","Year 4 Crashes","Year 3 Crashes","Year 2 Crashes","Year 1 Crashes","Most Harmful Event","Number of Crashes","Percent of Crashes","Year 5 Crashes","Year 4 Crashes","Year 3 Crashes","Year 2 Crashes","Year 1 Crashes"]
["Cargo/Equipment Loss or Shift",{"$f":"SUM(D446:H446)","v":0},{"$f":"B446/SUM(B$446:B$487)","v":0},0,0,0,0,0,"Cargo/Equipment Loss or Shift",{"$f":"SUM(L446:P446)","v":0},{"$f":"J446/SUM(J$446:J$487)","v":0},0,0,0,0,0]
["Fell/Jumped from Motor Vehicle",8,{"$f":"B447/SUM(B$446:B$487)","v":3.7037037037037035E-2},3,1,2,1,1,"Fell/Jumped from Motor Vehicle",269,{"$f":"J447/SUM(J$446:J$487)","v":3.2004759071980964E-2},60,62,53,46,48]
["Fire/Explosion",0,0,0,0,0,0,0,"Fire/Explosion",1,1.189767995240928E-4,0,0,0,1,0]
["Immersion, Full or Partial",3,1.3888888888888888E-2,2,0,1,0,0,"Immersion, Full or Partial",47,5.591909577632362E-3,11,6,11,8,11]
["Jackknife",0,0,0,0,0,0,0,"Jackknife",12,1.4277215942891136E-3,0,4,3,3,2]
["Other Non-Collision",5,2.3148148148148147E-2,3,1,0,1,0,"Other Non-Collision",636,7.5669244497323027E-2,161,146,134,95,100]
["Overturn/Rollover",0,0,0,0,0,0,0,"Overturn/Rollover",0,0,0,0,0,0,0]
["Thrown or Falling Object",1,4.6296296296296294E-3,1,0,0,0,0,"Thrown or Falling Object",26,3.0933967876264129E-3,4,9,2,6,5]
["Collision with Animal",0,0,0,0,0,0,0,"Collision with Animal",1,1.189767995240928E-4,0,0,1,0,0]
["Collision with Construction Equipment",4,1.8518518518518517E-2,0,2,0,2,0,"Collision with Construction Equipment",24,2.8554431885782273E-3,6,7,0,6,5]
["Collision with Farm Equipment",1,4.6296296296296294E-3,0,0,0,1,0,"Collision with Farm Equipment",28,3.3313503866745984E-3,6,4,7,7,4]
["Collision with Motor Vehicle in Transport",0,0,0,0,0,0,0,"Collision with Motor Vehicle in Transport",6,7.1386079714455682E-4,0,1,2,2,1]
["Collision with Other Non-Fixed Object",0,0,0,0,0,0,0,"Collision with Other Non-Fixed Object",25,2.9744199881023199E-3,5,3,6,6,5]
["Collision with Other Non-motorist",3,1.3888888888888888E-2,1,0,1,1,0,"Collision with Other Non-motorist",91,1.0826888756692445E-2,21,20,25,18,7]
["Collision with Parked Motor Vehicle",1,4.6296296296296294E-3,0,0,1,0,0,"Collision with Parked Motor Vehicle",191,2.2724568709101726E-2,32,50,45,31,33]
["Collision with Pedalcycle",2,9.2592592592592587E-3,1,1,0,0,0,"Collision with Pedalcycle",26,3.0933967876264129E-3,3,6,7,6,4]
["Collision with Pedestrian",3,1.3888888888888888E-2,0,3,0,0,0,"Collision with Pedestrian",37,4.4021415823914337E-3,13,10,4,8,2]
["Collision with Railway Vehicle",1,4.6296296296296294E-3,1,0,0,0,0,"Collision with Railway Vehicle",39,4.6400951814396189E-3,12,12,2,7,6]
["Strikes Object ar Rest from MV in Transport",0,0,0,0,0,0,0,"Strikes Object ar Rest from MV in Transport",16,1.9036287923854848E-3,2,6,4,1,3]
["Struck by Falling, Shifting Cargo, or Anything Set in Motion by Motor Vehicle",3,1.3888888888888888E-2,1,0,0,1,1,"Struck by Falling, Shifting Cargo, or Anything Set in Motion by Motor Vehicle",119,1.4158239143367043E-2,25,30,22,19,23]
["Collision with Bridge Overhead Structure",0,0,0,0,0,0,0,"Collision with Bridge Overhead Structure",20,2.3795359904818562E-3,5,4,7,2,2]
["Collision with Bridge Pier or Support",2,9.2592592592592587E-3,0,0,2,0,0,"Collision with Bridge Pier or Support",52,6.1867935752528257E-3,7,13,13,5,14]
["Collision with Bridge Rail",0,0,0,0,0,0,0,"Collision with Bridge Rail",3,3.5693039857227841E-4,0,1,0,0,2]
["Collision with Cable Barrier",3,1.3888888888888888E-2,0,0,0,2,1,"Collision with Cable Barrier",56,6.6627007733491969E-3,10,5,12,17,12]
["Collision with Concrete Traffic Barrier",24,0.1111111111111111,3,5,7,5,4,"Collision with Concrete Traffic Barrier",276,3.2837596668649612E-2,52,51,65,39,69]
["Collision with Culvert",3,1.3888888888888888E-2,0,0,1,2,0,"Collision with Culvert",539,6.412849494348602E-2,165,110,84,82,98]
["Collision with Curb",19,8.7962962962962965E-2,5,5,2,5,2,"Collision with Curb",78,9.2801903628792377E-3,17,20,9,14,18]
["Collision with Ditch",0,0,0,0,0,0,0,"Collision with Ditch",3,3.5693039857227841E-4,1,1,0,1,0]
["Collision with Embankment",5,2.3148148148148147E-2,0,2,1,1,1,"Collision with Embankment",1053,0.12528256989886971,218,251,233,159,192]
["Collision with Fence",0,0,0,0,0,0,0,"Collision with Fence",3,3.5693039857227841E-4,0,1,0,0,2]
["Collision with Guardrail End Terminal",1,4.6296296296296294E-3,0,1,0,0,0,"Collision with Guardrail End Terminal",97,1.1540749553837002E-2,27,23,20,11,16]
["Collision with Guardrail Face",4,1.8518518518518517E-2,1,1,1,0,1,"Collision with Guardrail Face",338,4.0214158239143365E-2,75,87,71,53,52]
["Collision with Impact Attenuator/Crash Cushion",0,0,0,0,0,0,0,"Collision with Impact Attenuator/Crash Cushion",39,4.6400951814396189E-3,10,8,11,5,5]
["Collision with Mailbox",0,0,0,0,0,0,0,"Collision with Mailbox",9,1.0707911957168353E-3,0,5,0,2,2]
["Collision with Other Fixed Object",3,1.3888888888888888E-2,0,1,0,2,0,"Collision with Other Fixed Object",74,8.8042831647828675E-3,21,14,18,14,7]
["Collision with Other Post, Pole, or Support",16,7.407407407407407E-2,5,4,4,2,1,"Collision with Other Post, Pole, or Support",249,2.9625223081499109E-2,46,70,50,38,45]
["Collision with Other Traffic Barrier",1,4.6296296296296294E-3,0,0,0,1,0,"Collision with Other Traffic Barrier",14,1.6656751933372992E-3,1,1,3,4,5]
["Collision with Traffic Sign Support",1,4.6296296296296294E-3,0,1,0,0,0,"Collision with Traffic Sign Support",38,4.5211183819155263E-3,6,10,5,9,8]
["Collision with Traffic Signal Support",0,0,0,0,0,0,0,"Collision with Traffic Signal Support",32,3.8072575847709696E-3,6,6,7,1,12]
["Collision with Tree",14,6.4814814814814811E-2,2,1,3,6,2,"Collision with Tree",1306,0.1553837001784652,245,269,301,250,241]
["Collision with Utility Pole or Light Support",23,0.10648148148148148,8,6,5,3,1,"Collision with Utility Pole or Light Support",1407,0.16740035693039856,336,351,320,280,120]
["Unknown",62,0.28703703703703703,18,17,8,14,5,"Unknown",1125,0.1338488994646044,333,280,131,59,322]
[{"$f":"CONCATENATE(\"Fatal and Serious Injury Crashes Only - \",A489, \"\n\",Instructions!$B$10)","v":"Fatal and Serious Injury Crashes Only - Contributing Circumstance, Vehicle\nTest Group 1"},null,null,null,null,null,null,null,{"$f":"CONCATENATE(\"Total Crashes - \",I489, \"\n\",Instructions!$B$10)","v":"Total Crashes - Contributing Circumstance, Vehicle\nTest Group 1"}]
["Contributing Circumstance, Vehicle","Number of Crashes","Percent of Crashes","Year 5 Crashes","Year 4 Crashes","Year 3 Crashes","Year 2 Crashes","Year 1 Crashes","Contributing Circumstance, Vehicle","Number of Crashes","Percent of Crashes","Year 5 Crashes","Year 4 Crashes","Year 3 Crashes","Year 2 Crashes","Year 1 Crashes"]
["None",3,{"$f":"B490/SUM(B$490:B$505)","v":1.3888888888888888E-2},0,1,1,1,0,"None",41,{"$f":"J490/SUM(J$490:J$505)","v":4.8780487804878049E-3},10,12,7,6,6]
["Brakes",1,{"$f":"B491/SUM(B$490:B$505)","v":4.6296296296296294E-3},0,1,0,0,0,{"$f":"A491","v":"Brakes"},239,{"$f":"J491/SUM(J$490:J$505)","v":2.843545508625818E-2},65,48,48,33,45]
["Exhaust System",3,1.3888888888888888E-2,0,0,1,0,2,"Exhaust System",153,1.8203450327186198E-2,29,43,28,19,34]
["Body or Doors",0,0,0,0,0,0,0,"Body or Doors",60,7.138607971445568E-3,13,18,14,8,7]
["Steering",111,0.51388888888888884,35,29,17,21,9,"Steering",3612,0.42974419988102319,835,848,722,560,647]
["Power Train",21,9.7222222222222224E-2,6,3,5,3,4,"Power Train",874,0.10398572278405711,208,200,178,149,139]
["Suspension",2,9.2592592592592587E-3,1,0,0,1,0,"Suspension",320,3.8072575847709698E-2,74,73,72,62,39]
["Tires",5,2.3148148148148147E-2,1,0,1,2,1,"Tires",100,1.1897679952409279E-2,13,18,30,19,20]
["Wheels",35,0.16203703703703703,6,10,7,9,3,"Wheels",580,6.9006543723973829E-2,129,126,118,92,115]
["Lights (head, signal, tail)",8,3.7037037037037035E-2,0,0,1,7,0,"Lights (head, signal, tail)",676,8.0428316478286729E-2,207,139,102,102,126]
["Windows or Windshield",4,1.8518518518518517E-2,3,0,1,0,0,"Windows or Windshield",101,1.2016656751933374E-2,26,22,26,13,14]
["Mirrors",6,2.7777777777777776E-2,1,3,1,1,0,"Mirrors",316,3.7596668649613328E-2,64,79,58,60,55]
["Wipers",7,3.2407407407407406E-2,1,2,1,2,1,"Wipers",1175,0.13979773944080903,242,292,246,167,228]
["Truck Coupling, Tailer Hitch, Safety Chains",3,1.3888888888888888E-2,0,0,2,1,0,"Truck Coupling, Tailer Hitch, Safety Chains",29,3.4503271861986914E-3,5,5,18,1,0]
["Other",3,1.3888888888888888E-2,0,0,1,2,0,"Other",110,1.3087447947650209E-2,17,29,19,22,23]
["Unknown",4,1.8518518518518517E-2,1,3,0,0,0,"Unknown",19,2.2605591909577631E-3,5,5,2,2,5]
["Person-Level Data",null,null,null,null,null,null,null,"Person-Level Data"]
[{"$f":"CONCATENATE(\"Fatal and Serious Injury Crashes Only - \",A508, \"\n\",Instructions!$B$10)","v":"Fatal and Serious Injury Crashes Only - Person Type\nTest Group 1"},null,null,null,null,null,null,null,{"$f":"CONCATENATE(\"Total Crashes - \",I508, \"\n\",Instructions!$B$10)","v":"Total Crashes - Person Type\nTest Group 1"}]
["Person Type","Number of Crashes","Percent of Crashes","Year 5 Crashes","Year 4 Crashes","Year 3 Crashes","Year 2 Crashes","Year 1 Crashes","Person Type","Number of Crashes","Percent of Crashes","Year 5 Crashes","Year 4 Crashes","Year 3 Crashes","Year 2 Crashes","Year 1 Crashes"]
["Driver",{"$f":"SUM(D509:H509)","v":68},{"$f":"B509/SUM(B$509:B$516)","v":0.23287671232876711},18,16,11,18,5,"Driver",{"$f":"SUM(L509:P509)","v":2496},{"$f":"J509/SUM(J$509:J$516)","v":0.21747843513113183},542,569,493,404,488]
["Passenger",0,{"$f":"B510/SUM(B$509:B$516)","v":0},0,0,0,0,0,"Passenger",17,{"$f":"J510/SUM(J$509:J$516)","v":1.4812233161976126E-3},7,5,4,0,1]
["Occupant of Motor Vehicle Not in Transport",52,0.17808219178082191,13,12,12,10,5,"Occupant of Motor Vehicle Not in Transport",1919,0.16720397316371874,470,416,409,294,330]
["Bicyclist",0,0,0,0,0,0,0,"Bicyclist",29,2.5267927158665157E-3,6,10,4,2,7]
["Other Cyclist",59,0.20205479452054795,14,15,9,14,7,"Other Cyclist",2227,0.19404025442188724,538,522,408,372,387]
["Pedestrian",0,0,0,0,0,0,0,"Pedestrian",11,9.5843861636316107E-4,3,2,3,0,3]
["Wheelchair, Person in a Building, Skater, Personal Conveyance, etc.",34,0.11643835616438356,10,8,6,7,3,"Wheelchair, Person in a Building, Skater, Personal Conveyance, etc.",1588,0.13836368388951817,345,383,335,240,285]
["Unknown",79,0.27054794520547948,22,17,21,11,8,"Unknown",3190,0.2779471987453167,808,637,876,266,603]
[{"$f":"CONCATENATE(\"Fatal and Serious Injury Crashes Only - \",A518, \"\n\",Instructions!$B$10)","v":"Fatal and Serious Injury Crashes Only - Restraint Use\nTest Group 1"},null,null,null,null,null,null,null,{"$f":"CONCATENATE(\"Total Crashes - \",I518, \"\n\",Instructions!$B$10)","v":"Total Crashes - Restraint Use\nTest Group 1"}]
["Restraint Use","Number of Crashes","Percent of Crashes","Year 5 Crashes","Year 4 Crashes","Year 3 Crashes","Year 2 Crashes","Year 1 Crashes","Restraint Use","Number of Crashes","Percent of Crashes","Year 5 Crashes","Year 4 Crashes","Year 3 Crashes","Year 2 Crashes","Year 1 Crashes"]
["Booster Seat",35,{"$f":"B519/SUM(B$519:B$536)","v":0.11986301369863013},6,10,7,9,3,"Booster Seat",580,{"$f":"J519/SUM(J$519:J$536)","v":5.0535854317330313E-2},129,126,118,92,115]
["Child Restraint System - Forward Facing",8,{"$f":"B520/SUM(B$519:B$536)","v":2.7397260273972601E-2},0,0,1,7,0,"Child Restraint System - Forward Facing",676,{"$f":"J520/SUM(J$519:J$536)","v":5.8900409514681534E-2},207,139,102,102,126]
["Child Restraint System - Rear Facing",4,1.3698630136986301E-2,3,0,1,0,0,"Child Restraint System - Rear Facing",101,8.8002091138799331E-3,26,22,26,13,14]
["Child Restraint - Type Unknown",6,2.0547945205479451E-2,1,3,1,1,0,"Child Restraint - Type Unknown",316,2.7533327524614445E-2,64,79,58,60,55]
["Lap Belt Only Used",7,2.3972602739726026E-2,1,2,1,2,1,"Lap Belt Only Used",1175,0.10237867038424675,242,292,246,167,228]
["None Used - Motor Vehicle Occupant",3,1.0273972602739725E-2,0,0,2,1,0,"None Used - Motor Vehicle Occupant",29,2.5267927158665157E-3,5,5,18,1,0]
["Restraint Used - Type Unknown",3,1.0273972602739725E-2,0,0,1,2,0,"Restraint Used - Type Unknown",110,9.5843861636316103E-3,17,29,19,22,23]
["Shoulder and Lap Belt Used",4,1.3698630136986301E-2,1,3,0,0,0,"Shoulder and Lap Belt Used",19,1.6554848828090965E-3,5,5,2,2,5]
["Shoulder Belt Only Used",3,1.0273972602739725E-2,0,1,1,1,0,"Shoulder Belt Only Used",41,3.5723621155354188E-3,10,12,7,6,6]
["Stretcher",1,3.4246575342465752E-3,0,1,0,0,0,"Stretcher",239,2.0824257210072319E-2,65,48,48,33,45]
["Wheelchair",3,1.0273972602739725E-2,0,0,1,0,2,"Wheelchair",153,1.3331009845778513E-2,29,43,28,19,34]
["DOT-Compliant Motorcycle Helmet",0,0,0,0,0,0,0,"DOT-Compliant Motorcycle Helmet",60,5.2278469983445151E-3,13,18,14,8,7]
["Not DOT-Compliant Motorcycle Helmet",111,0.38013698630136988,35,29,17,21,9,"Not DOT-Compliant Motorcycle Helmet",3612,0.31471638930033979,835,848,722,560,647]
["Unknown if DOT-Compliant Motorcycle Helmet",21,7.1917808219178078E-2,6,3,5,3,4,"Unknown if DOT-Compliant Motorcycle Helmet",874,7.6152304609218444E-2,208,200,178,149,139]
["No Helmet",2,6.8493150684931503E-3,1,0,0,1,0,"No Helmet",320,2.7881850657837413E-2,74,73,72,62,39]
["Not Applicable",18,6.1643835616438353E-2,6,4,3,1,4,"Not Applicable",219,1.908164154395748E-2,54,60,45,10,50]
["Other",26,8.9041095890410954E-2,8,5,6,4,3,"Other",1627,0.14176178443844209,301,270,245,251,560]
["Unknown",37,0.12671232876712329,9,7,12,7,2,"Unknown",1326,0.11553541866341378,435,275,584,21,11]
[{"$f":"CONCATENATE(\"Fatal and Serious Injury Crashes Only - \",A538, \"\n\",Instructions!$B$10)","v":"Fatal and Serious Injury Crashes Only - Driver Actions at Time of Crash, Selection 1\nTest Group 1"},null,null,null,null,null,null,null,{"$f":"CONCATENATE(\"Total Crashes - \",I538, \"\n\",Instructions!$B$10)","v":"Total Crashes - Driver Actions at Time of Crash, Selection 1\nTest Group 1"}]
["Driver Actions at Time of Crash, Selection 1","Number of Crashes","Percent of Crashes","Year 5 Crashes","Year 4 Crashes","Year 3 Crashes","Year 2 Crashes","Year 1 Crashes","Driver Actions at Time of Crash, Selection 1","Number of Crashes","Percent of Crashes","Year 5 Crashes","Year 4 Crashes","Year 3 Crashes","Year 2 Crashes","Year 1 Crashes"]
["No Contributing Action",26,{"$f":"B539/SUM(B$539:B$557)","v":8.9041095890410954E-2},8,5,6,4,3,"No Contributing Action",1555,{"$f":"J539/SUM(J$539:J$557)","v":0.13548836804042869},280,270,245,230,530]
["Disregarded Other Road Markings",33,{"$f":"B540/SUM(B$539:B$557)","v":0.11301369863013698},9,7,8,7,2,"Disregarded Other Road Markings",1267,{"$f":"J540/SUM(J$539:J$557)","v":0.11039470244837502},330,265,337,120,215]
["Disregarded Other Traffic Sign",30,0.10273972602739725,6,5,7,9,3,"Disregarded Other Traffic Sign",571,4.9751677267578634E-2,129,126,109,92,115]
["Failed to Keep in Proper Lane",8,2.7397260273972601E-2,0,0,1,7,0,"Failed to Keep in Proper Lane",676,5.8900409514681534E-2,207,139,102,102,126]
["Failed to Yield Right-of-Way",4,1.3698630136986301E-2,3,0,1,0,0,"Failed to Yield Right-of-Way",101,8.8002091138799331E-3,26,22,26,13,14]
["Followed Too Closely",6,2.0547945205479451E-2,1,3,1,1,0,"Followed Too Closely",296,2.5790711858499609E-2,64,79,58,40,55]
["Improper Backing",7,2.3972602739726026E-2,1,2,1,2,1,"Improper Backing",1038,9.0441753071360112E-2,242,280,246,120,150]
["Improper Passing",26,8.9041095890410954E-2,5,2,11,7,1,"Improper Passing",364,3.171560512329006E-2,110,15,228,7,4]
["Improper Turn",3,1.0273972602739725E-2,0,0,1,2,0,"Improper Turn",108,9.4101245970201267E-3,17,29,19,20,23]
["Operated Motor Vehicle in Inattentive, Careless, Negligent, or Erratic Manner",4,1.3698630136986301E-2,1,3,0,0,0,"Operated Motor Vehicle in Inattentive, Careless, Negligent, or Erratic Manner",19,1.6554848828090965E-3,5,5,2,2,5]
["Operated Motor Vehicle in Reckless or Aggressive Manner",3,1.0273972602739725E-2,0,1,1,1,0,"Operated Motor Vehicle in Reckless or Aggressive Manner",41,3.5723621155354188E-3,10,12,7,6,6]
["Over-Correcting/Over-Steering",1,3.4246575342465752E-3,0,1,0,0,0,"Over-Correcting/Over-Steering",229,1.99529493770149E-2,55,48,48,33,45]
["Ran Off Roadway",3,1.0273972602739725E-2,0,0,1,0,2,"Ran Off Roadway",153,1.3331009845778513E-2,29,43,28,19,34]
["Ran Red Light",0,0,0,0,0,0,0,"Ran Red Light",60,5.2278469983445151E-3,13,18,14,8,7]
["Ran Stop Sign",0,0,0,0,0,0,0,"Ran Stop Sign",128,1.1152740263134965E-2,26,12,46,7,37]
["Swerve or Avoided Due to Wind, Slippery Surface, Motor Vehicle, Object, Non-Motorist in Roadway, etc.",97,0.3321917808219178,30,32,12,15,8,"Swerve or Avoided Due to Wind, Slippery Surface, Motor Vehicle, Object, Non-Motorist in Roadway, etc.",3480,0.30321512590398186,840,848,722,560,510]
["Wrong Side or Wrong Way",21,7.1917808219178078E-2,6,3,5,3,4,"Wrong Side or Wrong Way",874,7.6152304609218444E-2,208,200,178,149,139]
["Other Contributing Action",2,6.8493150684931503E-3,1,0,0,1,0,"Other Contributing Action",298,2.5964973425111091E-2,74,73,72,40,39]
["Unknown",18,6.1643835616438353E-2,6,4,3,1,4,"Unknown",219,1.908164154395748E-2,54,60,45,10,50]
[{"$f":"CONCATENATE(\"Fatal and Serious Injury Crashes Only - \",A559, \"\n\",Instructions!$B$10)","v":"Fatal and Serious Injury Crashes Only - Driver Actions at Time of Crash, Selection 2\nTest Group 1"},null,null,null,null,null,null,null,{"$f":"CONCATENATE(\"Total Crashes - \",I559, \"\n\",Instructions!$B$10)","v":"Total Crashes - Driver Actions at Time of Crash, Selection 2\nTest Group 1"}]
["Driver Actions at Time of Crash, Selection 2","Number of Crashes","Percent of Crashes","Year 5 Crashes","Year 4 Crashes","Year 3 Crashes","Year 2 Crashes","Year 1 Crashes","Driver Actions at Time of Crash, Selection 2","Number of Crashes","Percent of Crashes","Year 5 Crashes","Year 4 Crashes","Year 3 Crashes","Year 2 Crashes","Year 1 Crashes"]
["No Contributing Action",{"$f":"SUM(D560:H560)","v":111},{"$f":"B560/SUM(B$560:B$578)","v":0.38013698630136988},35,29,17,21,9,{"$f":"A560","v":"No Contributing Action"},{"$f":"SUM(L560:P560)","v":3580},{"$f":"J560/SUM(J$560:J$578)","v":0.31192820423455608},840,848,722,560,610]
["Disregarded Other Road Markings",21,{"$f":"B561/SUM(B$560:B$578)","v":7.1917808219178078E-2},6,3,5,3,4,"Disregarded Other Road Markings",874,{"$f":"J561/SUM(J$560:J$578)","v":7.6152304609218444E-2},208,200,178,149,139]
["Disregarded Other Traffic Sign",2,6.8493150684931503E-3,1,0,0,1,0,"Disregarded Other Traffic Sign",313,2.7271935174697219E-2,74,73,72,55,39]
["Failed to Keep in Proper Lane",18,6.1643835616438353E-2,6,4,3,1,4,"Failed to Keep in Proper Lane",219,1.908164154395748E-2,54,60,45,10,50]
["Failed to Yield Right-of-Way",26,8.9041095890410954E-2,8,5,6,4,3,"Failed to Yield Right-of-Way",1606,0.13993203798902151,280,270,245,251,560]
["Followed Too Closely",37,0.12671232876712329,9,7,12,7,2,"Followed Too Closely",1289,0.11231157968110134,435,275,547,21,11]
["Improper Backing",35,0.11986301369863013,6,10,7,9,3,"Improper Backing",571,4.9751677267578634E-2,129,126,109,92,115]
["Improper Passing",8,2.7397260273972601E-2,0,0,1,7,0,"Improper Passing",676,5.8900409514681534E-2,207,139,102,102,126]
["Improper Turn",4,1.3698630136986301E-2,3,0,1,0,0,"Improper Turn",101,8.8002091138799331E-3,26,22,26,13,14]
["Operated Motor Vehicle in Inattentive, Careless, Negligent, or Erratic Manner",6,2.0547945205479451E-2,1,3,1,1,0,"Operated Motor Vehicle in Inattentive, Careless, Negligent, or Erratic Manner",316,2.7533327524614445E-2,64,79,58,60,55]
["Operated Motor Vehicle in Reckless or Aggressive Manner",7,2.3972602739726026E-2,1,2,1,2,1,"Operated Motor Vehicle in Reckless or Aggressive Manner",1163,0.10133310098457785,242,280,246,167,228]
["Over-Correcting/Over-Steering",3,1.0273972602739725E-2,0,0,2,1,0,"Over-Correcting/Over-Steering",29,2.5267927158665157E-3,5,5,18,1,0]
["Ran Off Roadway",3,1.0273972602739725E-2,0,0,1,2,0,"Ran Off Roadway",110,9.5843861636316103E-3,17,29,19,22,23]
["Ran Red Light",4,1.3698630136986301E-2,1,3,0,0,0,"Ran Red Light",19,1.6554848828090965E-3,5,5,2,2,5]
["Ran Stop Sign",3,1.0273972602739725E-2,0,1,1,1,0,"Ran Stop Sign",41,3.5723621155354188E-3,10,12,7,6,6]
["Swerve or Avoided Due to Wind, Slippery Surface, Motor Vehicle, Object, Non-Motorist in Roadway, etc.",1,3.4246575342465752E-3,0,1,0,0,0,"Swerve or Avoided Due to Wind, Slippery Surface, Motor Vehicle, Object, Non-Motorist in Roadway, etc.",229,1.99529493770149E-2,55,48,48,33,45]
["Wrong Side or Wrong Way",3,1.0273972602739725E-2,0,0,1,0,2,"Wrong Side or Wrong Way",153,1.3331009845778513E-2,29,43,28,19,34]
["Other Contributing Action",0,0,0,0,0,0,0,"Other Contributing Action",60,5.2278469983445151E-3,13,18,14,8,7]
["Unknown",0,0,0,0,0,0,0,"Unknown",128,1.1152740263134965E-2,26,12,46,7,37]
[{"$f":"CONCATENATE(\"Fatal and Serious Injury Crashes Only - \",A580, \"\n\",Instructions!$B$10)","v":"Fatal and Serious Injury Crashes Only - Driver Actions at Time of Crash, Selection 3\nTest Group 1"},null,null,null,null,null,null,null,{"$f":"CONCATENATE(\"Total Crashes - \",I580, \"\n\",Instructions!$B$10)","v":"Total Crashes - Driver Actions at Time of Crash, Selection 3\nTest Group 1"}]
["Driver Actions at Time of Crash, Selection 3","Number of Crashes","Percent of Crashes","Year 5 Crashes","Year 4 Crashes","Year 3 Crashes","Year 2 Crashes","Year 1 Crashes","Driver Actions at Time of Crash, Selection 3","Number of Crashes","Percent of Crashes","Year 5 Crashes","Year 4 Crashes","Year 3 Crashes","Year 2 Crashes","Year 1 Crashes"]
["No Contributing Action",{"$f":"SUM(D581:H581)","v":3},{"$f":"B581/SUM(B$581:B$599)","v":1.0273972602739725E-2},0,1,1,1,0,"No Contributing Action",{"$f":"SUM(L581:P581)","v":41},{"$f":"J581/SUM(J$581:J$599)","v":3.5723621155354188E-3},10,12,7,6,6]
["Disregarded Other Road Markings",1,{"$f":"B582/SUM(B$581:B$599)","v":3.4246575342465752E-3},0,1,0,0,0,"Disregarded Other Road Markings",239,{"$f":"J582/SUM(J$581:J$599)","v":2.0824257210072319E-2},65,48,48,33,45]
["Disregarded Other Traffic Sign",3,1.0273972602739725E-2,0,0,1,0,2,"Disregarded Other Traffic Sign",153,1.3331009845778513E-2,29,43,28,19,34]
["Failed to Keep in Proper Lane",0,0,0,0,0,0,0,"Failed to Keep in Proper Lane",60,5.2278469983445151E-3,13,18,14,8,7]
["Failed to Yield Right-of-Way",111,0.38013698630136988,35,29,17,21,9,"Failed to Yield Right-of-Way",3612,0.31471638930033979,835,848,722,560,647]
["Followed Too Closely",21,7.1917808219178078E-2,6,3,5,3,4,"Followed Too Closely",874,7.6152304609218444E-2,208,200,178,149,139]
["Improper Backing",2,6.8493150684931503E-3,1,0,0,1,0,"Improper Backing",320,2.7881850657837413E-2,74,73,72,62,39]
["Improper Passing",5,1.7123287671232876E-2,1,0,1,2,1,"Improper Passing",100,8.7130783305741921E-3,13,18,30,19,20]
["Improper Turn",35,0.11986301369863013,6,10,7,9,3,"Improper Turn",580,5.0535854317330313E-2,129,126,118,92,115]
["Operated Motor Vehicle in Inattentive, Careless, Negligent, or Erratic Manner",8,2.7397260273972601E-2,0,0,1,7,0,"Operated Motor Vehicle in Inattentive, Careless, Negligent, or Erratic Manner",676,5.8900409514681534E-2,207,139,102,102,126]
["Operated Motor Vehicle in Reckless or Aggressive Manner",4,1.3698630136986301E-2,3,0,1,0,0,"Operated Motor Vehicle in Reckless or Aggressive Manner",101,8.8002091138799331E-3,26,22,26,13,14]
["Over-Correcting/Over-Steering",6,2.0547945205479451E-2,1,3,1,1,0,"Over-Correcting/Over-Steering",316,2.7533327524614445E-2,64,79,58,60,55]
["Ran Off Roadway",7,2.3972602739726026E-2,1,2,1,2,1,"Ran Off Roadway",1175,0.10237867038424675,242,292,246,167,228]
["Ran Red Light",3,1.0273972602739725E-2,0,0,2,1,0,"Ran Red Light",29,2.5267927158665157E-3,5,5,18,1,0]
["Ran Stop Sign",3,1.0273972602739725E-2,0,0,1,2,0,"Ran Stop Sign",110,9.5843861636316103E-3,17,29,19,22,23]
["Swerve or Avoided Due to Wind, Slippery Surface, Motor Vehicle, Object, Non-Motorist in Roadway, etc.",4,1.3698630136986301E-2,1,3,0,0,0,"Swerve or Avoided Due to Wind, Slippery Surface, Motor Vehicle, Object, Non-Motorist in Roadway, etc.",19,1.6554848828090965E-3,5,5,2,2,5]
["Wrong Side or Wrong Way",28,9.5890410958904104E-2,5,8,9,4,2,"Wrong Side or Wrong Way",132,1.1501263396357934E-2,10,15,21,56,30]
["Other Contributing Action",6,2.0547945205479451E-2,2,1,2,1,0,"Other Contributing Action",96,8.3645551973512249E-3,14,21,19,17,25]
["Unknown",42,0.14383561643835616,15,7,9,5,6,"Unknown",2844,0.24779994772153002,753,551,804,190,546]
[{"$f":"CONCATENATE(\"Fatal and Serious Injury Crashes Only - \",A601, \"\n\",Instructions!$B$10)","v":"Fatal and Serious Injury Crashes Only - Driver Actions at Time of Crash, Selection 4\nTest Group 1"},null,null,null,null,null,null,null,{"$f":"CONCATENATE(\"Total Crashes - \",I601, \"\n\",Instructions!$B$10)","v":"Total Crashes - Driver Actions at Time of Crash, Selection 4\nTest Group 1"}]
["Driver Actions at Time of Crash, Selection 4","Number of Crashes","Percent of Crashes","Year 5 Crashes","Year 4 Crashes","Year 3 Crashes","Year 2 Crashes","Year 1 Crashes","Driver Actions at Time of Crash, Selection 4","Number of Crashes","Percent of Crashes","Year 5 Crashes","Year 4 Crashes","Year 3 Crashes","Year 2 Crashes","Year 1 Crashes"]
["No Contributing Action",{"$f":"SUM(D602:H602)","v":3},{"$f":"B602/SUM(B$602:B$620)","v":1.0273972602739725E-2},0,0,1,2,0,"No Contributing Action",{"$f":"SUM(L602:P602)","v":108},{"$f":"J602/SUM(J$602:J$620)","v":9.4101245970201267E-3},17,29,19,20,23]
["Disregarded Other Road Markings",4,{"$f":"B603/SUM(B$602:B$620)","v":1.3698630136986301E-2},1,3,0,0,0,"Disregarded Other Road Markings",19,{"$f":"J603/SUM(J$602:J$620)","v":1.6554848828090965E-3},5,5,2,2,5]
["Disregarded Other Traffic Sign",3,1.0273972602739725E-2,0,1,1,1,0,"Disregarded Other Traffic Sign",41,3.5723621155354188E-3,10,12,7,6,6]
["Failed to Keep in Proper Lane",1,3.4246575342465752E-3,0,1,0,0,0,"Failed to Keep in Proper Lane",229,1.99529493770149E-2,55,48,48,33,45]
["Failed to Yield Right-of-Way",3,1.0273972602739725E-2,0,0,1,0,2,"Failed to Yield Right-of-Way",153,1.3331009845778513E-2,29,43,28,19,34]
["Followed Too Closely",0,0,0,0,0,0,0,"Followed Too Closely",60,5.2278469983445151E-3,13,18,14,8,7]
["Improper Backing",0,0,0,0,0,0,0,"Improper Backing",128,1.1152740263134965E-2,26,12,46,7,37]
["Improper Passing",97,0.3321917808219178,30,32,12,15,8,"Improper Passing",3480,0.30321512590398186,840,848,722,560,510]
["Improper Turn",21,7.1917808219178078E-2,6,3,5,3,4,"Improper Turn",874,7.6152304609218444E-2,208,200,178,149,139]
["Operated Motor Vehicle in Inattentive, Careless, Negligent, or Erratic Manner",2,6.8493150684931503E-3,1,0,0,1,0,"Operated Motor Vehicle in Inattentive, Careless, Negligent, or Erratic Manner",298,2.5964973425111091E-2,74,73,72,40,39]
["Operated Motor Vehicle in Reckless or Aggressive Manner",18,6.1643835616438353E-2,6,4,3,1,4,"Operated Motor Vehicle in Reckless or Aggressive Manner",219,1.908164154395748E-2,54,60,45,10,50]
["Over-Correcting/Over-Steering",26,8.9041095890410954E-2,8,5,6,4,3,"Over-Correcting/Over-Steering",1555,0.13548836804042869,280,270,245,230,530]
["Ran Off Roadway",33,0.11301369863013698,9,7,8,7,2,"Ran Off Roadway",1267,0.11039470244837502,330,265,337,120,215]
["Ran Red Light",30,0.10273972602739725,6,5,7,9,3,"Ran Red Light",571,4.9751677267578634E-2,129,126,109,92,115]
["Ran Stop Sign",8,2.7397260273972601E-2,0,0,1,7,0,"Ran Stop Sign",676,5.8900409514681534E-2,207,139,102,102,126]
["Swerve or Avoided Due to Wind, Slippery Surface, Motor Vehicle, Object, Non-Motorist in Roadway, etc.",4,1.3698630136986301E-2,3,0,1,0,0,"Swerve or Avoided Due to Wind, Slippery Surface, Motor Vehicle, Object, Non-Motorist in Roadway, etc.",101,8.8002091138799331E-3,26,22,26,13,14]
["Wrong Side or Wrong Way",6,2.0547945205479451E-2,1,3,1,1,0,"Wrong Side or Wrong Way",296,2.5790711858499609E-2,64,79,58,40,55]
["Other Contributing Action",7,2.3972602739726026E-2,1,2,1,2,1,"Other Contributing Action",1038,9.0441753071360112E-2,242,280,246,120,150]
["Unknown",26,8.9041095890410954E-2,5,2,11,7,1,"Unknown",364,3.171560512329006E-2,110,15,228,7,4]

{"sheet":"Comparison Group 2","index":5,"n_rows":577,"n_cols":15,"rows_kept":577,"cut":false,"hidden":false,"merged":[[2,8,2,14],[0,0,0,14],[1,0,3,0],[1,1,1,7],[1,8,1,14],[2,1,2,7]]}
["Crash Data Summary Template"]
["Year 1 - Year 5 Comparison Group 2 Data","Fatal and Serious Injury Crashes",null,null,null,null,null,null,"All Crashes"]
[null,{"$f":"Instructions!B11","v":"Test Group 2"},null,null,null,null,null,null,{"$f":"Instructions!B11","v":"Test Group 2"}]
[null,"Year 1 - Year 5","%","Year 5","Year 4","Year 3","Year 2","Year 1","Year 1 - Year 5","%","Year 5","Year 4","Year 3","Year 2","Year 1"]
["Overall Numbers"]
["Total # of Collisions",{"$f":"SUM(D6:H6)","v":994},"N/A",248,205,160,199,182,{"$f":"SUM(K6:O6)","v":42588},"N/A",9347,9585,8963,7698,6995]
["# of Fatal Collisions",130,{"$f":"B7/B6","v":0.13078470824949698},41,29,19,24,17,130,{"$f":"I7/I6","v":3.0525030525030525E-3},41,29,19,24,17]
["# of Serious Injury Collisions",864,{"$f":"B8/B6","v":0.86921529175050305},207,176,141,175,165,864,{"$f":"I8/I6","v":2.0287404902789519E-2},207,176,141,175,165]
["# of Alcohol-Related Collisions",169,{"$f":"B9/B6","v":0.17002012072434608},35,36,28,37,33,2089,{"$f":"I9/I6","v":4.9051375974452895E-2},438,377,420,417,437]
["Total # of Fatalities",140,"N/A",43,33,19,25,20,140,"N/A",43,33,19,25,20]
["Total # of Serious Injuries",1515,"N/A",386,305,239,327,258,13460,"N/A",3121,2837,2797,2442,2263]
["Most Severe Injury Reported"]
["5 (K)",{"$f":"SUM(D13:H13)","v":130},{"$f":"B13/SUM(B$13:B$17)","v":0.13078470824949698},41,29,19,24,17,{"$f":"SUM(K13:O13)","v":130},{"$f":"I13/SUM(I$13:I$17)","v":3.0525030525030525E-3},41,29,19,24,17]
["4 (A)",{"$f":"SUM(D14:H14)","v":864},{"$f":"B14/SUM(B$13:B$17)","v":0.86921529175050305},207,176,141,175,165,{"$f":"SUM(K14:O14)","v":864},{"$f":"I14/SUM(I$13:I$17)","v":2.0287404902789519E-2},207,176,141,175,165]
["3 (B)","N/A","N/A","N/A","N/A","N/A","N/A","N/A",{"$f":"SUM(K15:O15)","v":2292},{"$f":"I15/SUM(I$13:I$17)","v":5.381797689489997E-2},494,453,475,442,428]
["2 (C)","N/A","N/A","N/A","N/A","N/A","N/A","N/A",{"$f":"SUM(K16:O16)","v":6486},0.15229642152719075,1493,1429,1379,1144,1041]
["1 (O)","N/A","N/A","N/A","N/A","N/A","N/A","N/A",{"$f":"SUM(K17:O17)","v":32816},0.77054569362261671,7112,7498,6949,5913,5344]
["Property"]
["Public",{"$f":"SUM(D19:H19)","v":651},{"$f":"B19/SUM(B$19:B$20)","v":0.65492957746478875},179,134,103,121,114,{"$f":"SUM(K19:O19)","v":32859},{"$f":"I19/SUM(I$19:I$20)","v":0.77155536770921385},7317,7420,6912,5804,5406]
["Private",343,{"$f":"B20/SUM(B$19:B$20)","v":0.34507042253521125},69,71,57,78,68,9729,{"$f":"I20/SUM(I$19:I$20)","v":0.22844463229078613},2030,2165,2051,1894,1589]
["Location"]
["Trafficway, On Road",{"$f":"SUM(D22:H22)","v":1},{"$f":"B22/SUM(B$22:B$24)","v":1.006036217303823E-3},1,0,0,0,0,{"$f":"SUM(K22:O22)","v":140},{"$f":"I22/SUM(I$22:I$24)","v":3.2873109796186721E-3},93,0,47,0,0]
["Trafficway, Not on Road",{"$f":"SUM(D23:H23)","v":838},{"$f":"B23/SUM(B$22:B$24)","v":0.84305835010060359},92,205,160,199,182,{"$f":"SUM(K23:O23)","v":36340},{"$f":"I23/SUM(I$22:I$24)","v":0.853292007138161},3151,9585,8914,7698,6992]
["Non-Trafficway",{"$f":"SUM(D24:H24)","v":155},{"$f":"B24/SUM(B$22:B$24)","v":0.15593561368209255},155,0,0,0,0,{"$f":"SUM(K24:O24)","v":6108},{"$f":"I24/SUM(I$22:I$24)","v":0.14342068188222035},6103,0,2,0,3]
["By Weekday"]
["Sunday",{"$f":"SUM(D26:H26)","v":102},{"$f":"B26/SUM(B$26:B$32)","v":0.10261569416498995},29,22,14,18,19,{"$f":"SUM(K26:O26)","v":3945},{"$f":"I26/SUM(I$26:I$32)","v":9.2631727247111856E-2},875,855,785,723,707]
["Monday",134,{"$f":"B27/SUM(B$26:B$32)","v":0.13480885311871227},24,33,27,25,25,6088,{"$f":"I27/SUM(I$26:I$32)","v":0.1429510660279891},1312,1394,1274,1136,972]
["Tuesday",138,0.13883299798792756,31,24,25,34,24,6384,0.14990138067061143,1310,1436,1359,1177,1102]
["Wednesday",129,0.12977867203219315,32,30,18,26,23,6531,0.15335305719921105,1462,1443,1415,1193,1018]
["Thursday",184,0.18511066398390341,38,41,35,38,32,6560,0.15403400018784635,1451,1493,1368,1187,1061]
["Friday",156,0.15694164989939638,53,30,17,30,26,7353,0.17265426880811496,1724,1703,1502,1256,1168]
["Saturday",151,0.15191146881287726,41,25,24,28,33,5727,0.13447449985911525,1213,1261,1260,1026,967]
["Crash Hour"]
["12:00 AM - 12:59 AM",{"$f":"SUM(D34:H34)","v":25},{"$f":"B34/SUM(B$34:B$58)","v":2.5150905432595575E-2},5,5,4,6,5,{"$f":"SUM(K34:O34)","v":622},{"$f":"I34/SUM(I$34:I$58)","v":1.4605053066591529E-2},141,141,111,119,110]
["1:00 AM - 1:59 AM",26,{"$f":"B35/SUM(B$34:B$58)","v":2.6156941649899398E-2},6,8,3,5,4,513,{"$f":"I35/SUM(I$34:I$58)","v":1.2045646661031277E-2},86,123,100,103,101]
["2:00 AM - 2:59 AM",20,2.0120724346076459E-2,6,2,3,5,4,494,1.15995115995116E-2,93,89,101,99,112]
["3:00 AM - 3:59 AM",8,8.0482897384305842E-3,2,1,2,0,3,337,7.9130271437963754E-3,75,74,67,66,55]
["4:00 AM - 4:59 AM",14,1.4084507042253521E-2,4,2,4,1,3,309,7.2555649478726406E-3,63,72,72,50,52]
["5:00 AM - 5:59 AM",16,1.6096579476861168E-2,6,2,2,2,4,617,1.4487649103033719E-2,143,154,138,90,92]
["6:00 AM - 6:59 AM",38,3.8229376257545272E-2,12,10,8,5,3,1675,3.9330327791866251E-2,398,367,370,308,232]
["7:00 AM - 7:59 AM",51,5.1307847082494973E-2,11,12,12,10,6,2929,6.8775241852164923E-2,670,626,615,543,475]
["8:00 AM - 8:59 AM",44,4.4265593561368208E-2,11,10,5,12,6,2321,5.4498919883535266E-2,522,535,497,412,355]
["9:00 AM - 9:59 AM",35,3.5211267605633804E-2,7,8,2,8,10,1677,3.9377289377289376E-2,364,408,351,296,258]
["10:00 AM - 10:59 AM",33,3.3199195171026159E-2,12,5,4,5,7,1687,3.9612097304405E-2,359,400,352,302,274]
["11:00 AM - 11:59 AM",46,4.6277665995975853E-2,7,13,9,9,8,1986,4.6632854325162017E-2,387,453,414,392,340]
["12:00 PM - 12:59 PM",56,5.6338028169014086E-2,24,10,8,2,12,2401,5.6377383300460222E-2,527,537,512,420,405]
["1:00 PM - 1:59 PM",48,4.8289738430583498E-2,7,8,13,11,9,2439,5.7269653423499579E-2,510,546,532,431,420]
["2:00 PM - 2:59 PM",48,4.8289738430583498E-2,12,12,5,6,13,2672,6.2740678125293506E-2,614,595,568,440,455]
["3:00 PM - 3:59 PM",64,6.4386317907444673E-2,16,9,10,16,13,3363,7.8965905888982807E-2,759,749,686,621,548]
["4:00 PM - 4:59 PM",73,7.344064386317907E-2,17,15,12,14,15,3586,8.420212266366113E-2,790,856,783,624,533]
["5:00 PM - 5:59 PM",62,6.2374245472837021E-2,12,16,11,14,9,4109,9.6482577251808019E-2,858,898,881,738,734]
["6:00 PM - 6:59 PM",71,7.1428571428571425E-2,20,11,11,16,13,2823,6.6286277824739365E-2,651,586,577,540,469]
["7:00 PM - 7:59 PM",52,5.2313883299798795E-2,13,9,8,12,10,1651,3.8766788766788768E-2,393,375,344,300,239]
["8:00 PM - 8:59 PM",62,6.2374245472837021E-2,17,12,9,18,6,1418,3.3295764064994834E-2,286,324,299,282,227]
["9:00 PM - 9:59 PM",43,4.3259557344064385E-2,8,11,7,9,8,1197,2.8106508875739646E-2,260,274,246,207,210]
["10:00 PM - 10:59 PM",31,3.1187122736418511E-2,7,10,4,5,5,984,2.310510002817695E-2,222,235,198,151,178]
["11:00 PM - 11:59 PM",27,2.716297786720322E-2,6,4,4,7,6,752,1.7657556119094579E-2,175,164,143,154,116]
["Unknown",1,1.006036217303823E-3,0,0,0,1,0,26,6.105006105006105E-4,1,4,6,10,5]
["Crash Month"]
["January",{"$f":"SUM(D60:H60)","v":62},{"$f":"B60/SUM(B$60:B$71)","v":6.2374245472837021E-2},22,9,7,12,12,{"$f":"SUM(K60:O60)","v":3468},{"$f":"I60/SUM(I$60:I$71)","v":8.143138912369681E-2},782,793,735,643,515]
["February",58,{"$f":"B61/SUM(B$60:B$71)","v":5.8350100603621731E-2},16,11,9,9,13,3283,{"$f":"I61/SUM(I$60:I$71)","v":7.7087442472057857E-2},715,751,661,554,602]
["March",96,9.6579476861166996E-2,30,13,15,17,21,3209,7.5349863811402268E-2,784,646,676,599,504]
["April",81,8.1488933601609664E-2,19,15,15,20,12,3291,7.7275288813750356E-2,718,749,637,633,554]
["May",92,9.2555331991951706E-2,23,20,14,21,14,3476,8.1619235465389309E-2,782,787,737,567,603]
["June",88,8.8531187122736416E-2,21,22,14,14,17,3462,8.1290504367427449E-2,796,787,748,575,556]
["July",90,9.0543259557344061E-2,19,23,15,14,19,3376,7.9271156194233111E-2,724,791,694,606,561]
["August",104,0.10462776659959759,26,18,9,30,21,3608,8.4718700103315489E-2,776,757,785,683,607]
["September",97,9.7585513078470826E-2,24,23,20,14,16,3640,8.5470085470085472E-2,784,839,798,670,549]
["October",80,8.0482897384305835E-2,14,21,14,19,12,3950,9.2749131210669675E-2,836,920,806,707,681]
["November",84,8.4507042253521125E-2,17,17,16,16,18,3793,8.9062646754954441E-2,816,897,826,681,573]
["December",62,6.2374245472837021E-2,17,13,12,13,7,4032,9.4674556213017749E-2,834,868,860,780,690]
["Crash Jurisdiction"]
["A",{"$f":"SUM(D73:H73)","v":9},{"$f":"B73/SUM(B$73:B$77)","v":9.0543259557344068E-3},3,2,2,1,1,{"$f":"SUM(K73:O73)","v":81},{"$f":"I73/SUM(I$73:I$77)","v":1.9019442096365174E-3},18,29,16,10,8]
["B",{"$f":"SUM(D74:H74)","v":64},{"$f":"B74/SUM(B$73:B$77)","v":6.4386317907444673E-2},9,12,10,13,20,{"$f":"SUM(K74:O74)","v":2068},{"$f":"I74/SUM(I$73:I$77)","v":4.8558279327510098E-2},397,454,436,448,333]
["C",{"$f":"SUM(D75:H75)","v":99},9.9597585513078471E-2,19,23,18,16,23,{"$f":"SUM(K75:O75)","v":2714},6.3726871419179112E-2,498,612,550,554,500]
["D",{"$f":"SUM(D76:H76)","v":815},0.81991951710261568,217,166,127,168,137,{"$f":"SUM(K76:O76)","v":37556},0.88184465107542032,8408,8455,7911,6654,6128]
["E",{"$f":"SUM(D77:H77)","v":7},7.0422535211267607E-3,0,2,3,1,1,{"$f":"SUM(K77:O77)","v":169},3.968253968253968E-3,26,35,50,32,26]
["First Harmful Event"]
["Cargo/Equipment Loss or Shift",{"$f":"SUM(D79:H79)","v":0},{"$f":"B79/SUM(B$79:B$120)","v":0},0,0,0,0,0,{"$f":"SUM(K79:O79)","v":9},{"$f":"I79/SUM(I$79:I$120)","v":2.1120811039143902E-4},1,0,4,4,0]
["Fell/Jumped from Motor Vehicle",103,{"$f":"B80/SUM(B$79:B$120)","v":0.10362173038229376},32,12,17,27,15,2978,{"$f":"I80/SUM(I$79:I$120)","v":6.9886416971745052E-2},657,657,616,544,504]
["Fire/Explosion",1,1.006036217303823E-3,0,0,0,0,1,30,7.0402703463813012E-4,10,7,6,2,5]
["Immersion, Full or Partial",35,3.5211267605633804E-2,6,9,5,10,5,406,9.5278325354360271E-3,82,81,78,96,69]
["Jackknife",3,3.0181086519114686E-3,1,1,1,0,0,71,1.6661973153102411E-3,12,17,13,14,15]
["Other Non-Collision",122,0.1227364185110664,36,25,20,15,26,4873,0.11435745799305359,1151,1087,1006,848,781]
["Overturn/Rollover",1,1.006036217303823E-3,1,0,0,0,0,188,4.4119027503989484E-3,34,41,41,47,25]
["Thrown or Falling Object",27,2.716297786720322E-2,5,5,5,7,5,625,1.4667229888294378E-2,116,121,172,130,86]
["Collision with Animal",2,2.012072434607646E-3,1,0,0,1,0,41,9.6217028067211113E-4,11,6,8,7,9]
["Collision with Construction Equipment",6,6.0362173038229373E-3,1,1,2,1,1,60,1.4080540692762602E-3,9,17,12,11,11]
["Collision with Farm Equipment",5,5.0301810865191147E-3,2,1,1,1,0,495,1.1616446071529146E-2,92,117,83,120,83]
["Collision with Motor Vehicle in Transport",0,0,0,0,0,0,0,29,6.8055946681685911E-4,6,6,6,6,5]
["Collision with Other Non-Fixed Object",1,1.006036217303823E-3,0,0,0,0,1,38,8.917675772082981E-4,6,7,8,9,8]
["Collision with Other Non-motorist",4,4.0241448692152921E-3,1,1,1,0,1,165,3.8721486905097155E-3,39,42,31,31,22]
["Collision with Parked Motor Vehicle",6,6.0362173038229373E-3,1,1,3,1,0,515,1.2085797427954566E-2,85,105,105,131,89]
["Collision with Pedalcycle",14,1.4084507042253521E-2,1,3,4,2,4,347,8.1432460339810383E-3,74,71,70,74,58]
["Collision with Pedestrian",16,1.6096579476861168E-2,6,6,2,1,1,174,4.0833568009011542E-3,36,44,42,36,16]
["Collision with Railway Vehicle",5,5.0301810865191147E-3,1,1,2,1,0,210,4.9281892424669106E-3,45,46,51,37,31]
["Strikes Object ar Rest from MV in Transport",2,2.012072434607646E-3,1,1,0,0,0,60,1.4080540692762602E-3,12,17,7,9,15]
["Struck by Falling, Shifting Cargo, or Anything Set in Motion by Motor Vehicle",22,2.2132796780684104E-2,4,6,4,1,7,539,1.2649019055665071E-2,120,126,103,99,91]
["Collision with Bridge Overhead Structure",1,1.006036217303823E-3,0,0,0,0,1,39,9.1523514502956911E-4,5,12,9,9,4]
["Collision with Bridge Pier or Support",6,6.0362173038229373E-3,1,1,2,0,2,340,7.9789730592321403E-3,55,86,70,71,58]
["Collision with Bridge Rail",9,9.0543259557344068E-3,3,1,1,2,2,84,1.9712756969867645E-3,19,21,13,17,14]
["Collision with Cable Barrier",5,5.0301810865191147E-3,0,1,1,3,0,263,6.1719703369942742E-3,54,75,49,44,41]
["Collision with Concrete Traffic Barrier",108,0.10865191146881288,22,16,12,25,33,708,1.6615038017459869E-2,153,141,120,148,146]
["Collision with Culvert",18,1.8108651911468814E-2,8,2,2,3,3,2976,6.9839481836102502E-2,641,626,638,554,517]
["Collision with Curb",145,0.14587525150905434,38,27,25,32,23,574,1.3470383929409555E-2,132,103,125,114,100]
["Collision with Ditch",0,0,0,0,0,0,0,7,1.6427297474889702E-4,0,2,1,1,3]
["Collision with Embankment",93,9.3561368209255535E-2,21,26,14,17,15,15157,0.35569792546700457,3358,3538,3158,2610,2493]
["Collision with Fence",0,0,0,0,0,0,0,13,3.0507838167652304E-4,2,1,6,2,2]
["Collision with Guardrail End Terminal",8,8.0482897384305842E-3,3,2,2,0,1,371,8.7064676616915426E-3,93,97,83,53,45]
["Collision with Guardrail Face",17,1.7102615694164991E-2,4,5,2,4,2,4888,0.11470947151037267,1070,1155,1087,823,753]
["Collision with Impact Attenuator/Crash Cushion",1,1.006036217303823E-3,0,0,0,1,0,591,1.3869332582371163E-2,104,135,120,111,121]
["Collision with Mailbox",8,8.0482897384305842E-3,3,2,0,2,1,102,2.3936919177696423E-3,19,27,19,17,20]
["Collision with Other Fixed Object",16,1.6096579476861168E-2,1,4,5,2,4,294,6.8994649394536747E-3,47,58,60,58,71]
["Collision with Other Post, Pole, or Support",171,0.17203219315895371,41,41,25,36,28,3824,8.9739979348540319E-2,900,800,800,700,624]
["Collision with Other Traffic Barrier",7,7.0422535211267607E-3,2,3,0,2,0,169,3.9660189617947992E-3,37,40,34,29,29]
["Collision with Traffic Sign Support",6,6.0362173038229373E-3,1,1,2,2,0,133,3.1211865202290436E-3,19,26,28,37,23]
["Collision with Traffic Signal Support",0,0,0,0,0,0,0,75,1.7600675865953252E-3,15,24,16,12,8]
["Collision with Tree",0,0,0,0,0,0,0,151,3.5436027410119214E-3,26,3,65,33,24]
["Collision with Utility Pole or Light Support",0,0,0,0,0,0,0,0,0,0,0,0,0,0]
["Unknown",0,0,0,0,0,0,0,0,0,0,0,0,0,0]
["Location of First Harmful Event"]
["Gore",{"$f":"SUM(D122:H122)","v":150},{"$f":"B122/SUM(B$122:B$132)","v":0.15090543259557343},44,23,20,38,25,{"$f":"SUM(K122:O122)","v":3463},{"$f":"I122/SUM(I$122:I$132)","v":8.1313985160139005E-2},777,759,714,621,592]
["In Parking Lane or Zone",{"$f":"SUM(D123:H123)","v":180},{"$f":"B123/SUM(B$122:B$132)","v":0.18108651911468812},49,39,31,26,35,{"$f":"SUM(K123:O123)","v":5695},{"$f":"I123/SUM(I$122:I$132)","v":0.13372311449234525},1334,1290,1194,997,880]
["Median",{"$f":"SUM(D124:H124)","v":7},7.0422535211267607E-3,1,0,4,2,0,{"$f":"SUM(K124:O124)","v":517},1.2139569831877525E-2,92,101,113,125,86]
["Off-Roadway, Location Unknown",{"$f":"SUM(D125:H125)","v":18},1.8108651911468814E-2,1,4,5,3,5,{"$f":"SUM(K125:O125)","v":348},8.1713158636235565E-3,66,72,74,73,63]
["On Roadway",25,2.5150905432595575E-2,8,8,4,3,2,223,5.236216774678313E-3,50,52,51,46,24]
["On Shoulder, Left Side",5,5.0301810865191147E-3,0,1,2,1,1,222,5.2127359819667514E-3,48,50,48,41,35]
["On Shoulder, Right Side",77,7.746478873239436E-2,11,11,9,21,25,528,1.2397858551704706E-2,97,102,84,133,112]
["Outside Road/Right-of-Way",19,1.9114688128772636E-2,9,2,2,3,3,2945,6.9150934535549921E-2,631,622,630,546,516]
["Roadside",144,0.14486921529175051,39,24,26,31,24,574,1.3477975016436555E-2,134,101,125,113,101]
["Separator/Traffic Island",155,0.15593561368209255,38,40,23,29,25,17847,0.41906170752324601,3995,4040,3746,3124,2942]
["Unknown",{"$f":"SUM(D132:H132)","v":214},0.2152917505030181,48,53,34,42,37,{"$f":"SUM(K132:O132)","v":10226},0.24011458626843243,2123,2396,2184,1879,1644]
["Manner of Crash"]
["Not a Collision Between Two Motor Vehicles",{"$f":"SUM(D134:H134)","v":896},{"$f":"B134/SUM(B$134:B$143)","v":0.90140845070422537},224,187,141,180,164,{"$f":"SUM(K134:O134)","v":35853},{"$f":"I134/SUM(I$134:I$143)","v":0.84185686108763036},8168,7752,7373,6368,6192]
["Angle",1,{"$f":"B135/SUM(B$134:B$143)","v":1.006036217303823E-3},1,0,0,0,0,18,{"$f":"I135/SUM(I$134:I$143)","v":4.2265426880811494E-4},7,11,0,0,0]
["Front to Front",4,4.0241448692152921E-3,1,0,0,1,2,23,5.4005823236592462E-4,5,3,5,3,7]
["Front to Rear",16,1.6096579476861168E-2,3,3,4,4,2,1673,3.9283366206443127E-2,241,455,466,343,168]
["Rear to Rear",0,0,0,0,0,0,0,39,9.1575091575091575E-4,17,22,0,0,0]
["Rear to Side",0,0,0,0,0,0,0,6,1.4088475626937165E-4,1,1,1,1,2]
["Sideswipe, Opposite Direction",2,2.012072434607646E-3,0,1,0,1,0,290,6.8094298863529629E-3,51,86,59,53,41]
["Sideswipe, Same Direction",0,0,0,0,0,0,0,12,2.8176951253874329E-4,6,6,0,0,0]
["Other",11,1.1066398390342052E-2,5,3,1,1,1,1231,2.890485582793275E-2,241,301,284,250,155]
["Unknown",64,6.4386317907444673E-2,14,11,14,12,13,3443,8.0844369305907771E-2,610,948,775,680,430]
["Weather"]
["Blowing Sand, Soil, Dirt",{"$f":"SUM(D145:H145)","v":204},{"$f":"B145/SUM(B$145:B$156)","v":0.20523138832997989},35,38,37,43,51,{"$f":"SUM(K145:O145)","v":5164},{"$f":"I145/SUM(I$145:I$156)","v":0.12125481356250586},951,1139,1053,1103,918]
["Blowing Snow",651,{"$f":"B146/SUM(B$145:B$156)","v":0.65492957746478875},179,134,103,121,114,32859,{"$f":"I146/SUM(I$145:I$156)","v":0.77155536770921385},7317,7420,6912,5804,5406]
["Clear",101,0.10160965794768612,23,22,16,28,12,3816,8.960270498732037E-2,872,870,832,661,581]
["Cloudy",29,2.9175050301810865E-2,7,8,4,5,5,629,1.4769418615572462E-2,170,132,140,110,77]
["Fog, Smog, Smoke",6,6.0362173038229373E-3,4,2,0,0,0,93,2.1837137221752605E-3,28,18,22,15,10]
["Freezing Rain or Freezing Drizzle",0,0,0,0,0,0,0,17,3.9917347609655303E-4,5,4,4,3,1]
["Rain",1,1.006036217303823E-3,0,0,0,1,0,5,1.1740396355780971E-4,2,0,0,1,2]
["Severe Crosswinds",0,0,0,0,0,0,0,1,2.3480792711561942E-5,1,0,0,0,0]
["Sleet or Hail",1,1.006036217303823E-3,0,1,0,0,0,2,4.6961585423123884E-5,0,2,0,0,0]
["Snow",0,0,0,0,0,0,0,0,0,0,0,0,0,0]
["Other",0,0,0,0,0,0,0,1,2.3480792711561942E-5,1,0,0,0,0]
["Unknown",1,1.006036217303823E-3,0,0,0,1,0,1,2.3480792711561942E-5,0,0,0,1,0]
["Light Conditions"]
["Daylight",{"$f":"SUM(D158:H158)","v":184},{"$f":"B158/SUM(B$158:B$164)","v":0.18511066398390341},38,41,35,38,32,{"$f":"SUM(K158:O158)","v":6560},{"$f":"I158/SUM(I$158:I$164)","v":0.15403400018784635},1451,1493,1368,1187,1061]
["Dawn/Dusk",{"$f":"SUM(D159:H159)","v":156},{"$f":"B159/SUM(B$158:B$164)","v":0.15694164989939638},53,30,17,30,26,{"$f":"SUM(K159:O159)","v":7353},{"$f":"I159/SUM(I$158:I$164)","v":0.17265426880811496},1724,1703,1502,1256,1168]
["Dark - Lighted",151,0.15191146881287726,41,25,24,28,33,5727,0.13447449985911525,1213,1261,1260,1026,967]
["Dark - Not Lighted",102,0.10261569416498995,29,22,14,18,19,3945,9.2631727247111856E-2,875,855,785,723,707]
["Dark - Unknown Lighting",134,0.13480885311871227,24,33,27,25,25,6088,0.1429510660279891,1312,1394,1274,1136,972]
["Other",138,0.13883299798792756,31,24,25,34,24,6384,0.14990138067061143,1310,1436,1359,1177,1102]
["Unknown",129,0.12977867203219315,32,30,18,26,23,6531,0.15335305719921105,1462,1443,1415,1193,1018]
["Road Surface Condition"]
["Dry",{"$f":"SUM(D166:H166)","v":204},{"$f":"B166/SUM(B$166:B$176)","v":0.20523138832997989},35,38,37,43,51,{"$f":"SUM(K166:O166)","v":5164},{"$f":"I166/SUM(I$166:I$176)","v":0.12125481356250586},951,1139,1053,1103,918]
["Ice/Frost",651,{"$f":"B167/SUM(B$166:B$176)","v":0.65492957746478875},179,134,103,121,114,32859,{"$f":"I167/SUM(I$166:I$176)","v":0.77155536770921385},7317,7420,6912,5804,5406]
["Mud, Dirt, Gravel",101,0.10160965794768612,23,22,16,28,12,3816,8.960270498732037E-2,872,870,832,661,581]
["Oil",29,2.9175050301810865E-2,7,8,4,5,5,629,1.4769418615572462E-2,170,132,140,110,77]
["Sand",6,6.0362173038229373E-3,4,2,0,0,0,93,2.1837137221752605E-3,28,18,22,15,10]
["Sluch",0,0,0,0,0,0,0,17,3.9917347609655303E-4,5,4,4,3,1]
["Snow",1,1.006036217303823E-3,0,0,0,1,0,5,1.1740396355780971E-4,2,0,0,1,2]
["Water (Standing, Moving)",0,0,0,0,0,0,0,1,2.3480792711561942E-5,1,0,0,0,0]
["Wet",1,1.006036217303823E-3,0,1,0,0,0,2,4.6961585423123884E-5,0,2,0,0,0]
["Other",0,0,0,0,0,0,0,0,0,0,0,0,0,0]
["Unknown",1,1.006036217303823E-3,0,0,0,1,0,2,4.6961585423123884E-5,1,0,0,1,0]
["Contributing Circumstances - Roadway Environment, Selection 1"]
["None",{"$f":"SUM(D178:H178)","v":0},{"$f":"B178/SUM(B$178:B$200)","v":0},0,0,0,0,0,{"$f":"SUM(K178:O178)","v":9},{"$f":"I178/SUM(I$178:I$200)","v":2.1132713440405747E-4},1,0,4,4,0]
["Animal(s)",103,{"$f":"B179/SUM(B$178:B$200)","v":0.10362173038229376},32,12,17,27,15,2978,{"$f":"I179/SUM(I$178:I$200)","v":6.9925800695031459E-2},657,657,616,544,504]
["Debris",1,1.006036217303823E-3,0,0,0,0,1,30,7.0442378134685823E-4,10,7,6,2,5]
["Glare",35,3.5211267605633804E-2,6,9,5,10,5,406,9.5332018408941493E-3,82,81,78,96,69]
["Non-Highway Work",3,3.0181086519114686E-3,1,1,1,0,0,71,1.667136282520898E-3,12,17,13,14,15]
["Obstructed Crosswalks",122,0.1227364185110664,36,25,20,15,26,4873,0.11442190288344134,1151,1087,1006,848,781]
["Obstruction in Roadway",1,1.006036217303823E-3,1,0,0,0,0,188,4.4143890297736448E-3,34,41,41,47,25]
["Prior Crash",27,2.716297786720322E-2,5,5,5,7,5,625,1.4675495444726214E-2,116,121,172,130,86]
["Prior Non-Recurring Incident",2,2.012072434607646E-3,1,0,0,1,0,41,9.6271250117403967E-4,11,6,8,7,9]
["Regular Congestion",6,6.0362173038229373E-3,1,1,2,1,1,60,1.4088475626937165E-3,9,17,12,11,11]
["Related to a Bus Stop",5,5.0301810865191147E-3,2,1,1,1,0,495,1.1622992392223161E-2,92,117,83,120,83]
["Road Surface Condition (wet, icy, snow, slush, etc.)",0,0,0,0,0,0,0,29,6.8094298863529638E-4,6,6,6,6,5]
["Ruts, Holes, Bumps",1,1.006036217303823E-3,0,0,0,0,1,38,8.9227012303935379E-4,6,7,8,9,8]
["Shoulders (none, low, soft, high)",4,4.0241448692152921E-3,1,1,1,0,1,165,3.8743307974077206E-3,39,42,31,31,22]
["Toll Booth/Plaza Related",6,6.0362173038229373E-3,1,1,3,1,0,515,1.20926082464544E-2,85,105,105,131,89]
["Traffic Control Device",14,1.4084507042253521E-2,1,3,4,2,4,347,8.1478350709119941E-3,74,71,70,74,58]
["Traffic Incident",16,1.6096579476861168E-2,6,6,2,1,1,174,4.0856579318117783E-3,36,44,42,36,16]
["Visual Obstruction(s)",5,5.0301810865191147E-3,1,1,2,1,0,210,4.9309664694280079E-3,45,46,51,37,31]
["Weather Conditions",2,2.012072434607646E-3,1,1,0,0,0,60,1.4088475626937165E-3,12,17,7,9,15]
["Work Zone (construction/maintenance/utility)",22,2.2132796780684104E-2,4,6,4,1,7,539,1.2656147271531887E-2,120,126,103,99,91]
["Worn, Travel-polished Surface",1,1.006036217303823E-3,0,0,0,0,1,39,9.1575091575091575E-4,5,12,9,9,4]
["Other",6,6.0362173038229373E-3,1,1,2,0,2,340,7.9834695219310609E-3,55,86,70,71,58]
["Unknown",612,0.61569416498993967,147,131,91,131,112,30356,0.71278294355217431,6689,6872,6422,5363,5010]
["Contributing Circumstances - Roadway Environment, Selection 2"]
["None",{"$f":"SUM(D202:H202)","v":150},{"$f":"B202/SUM(B$202:B$224)","v":0.15090543259557343},44,23,20,38,25,{"$f":"SUM(K202:O202)","v":3463},{"$f":"I202/SUM(I$202:I$224)","v":8.1313985160139005E-2},777,759,714,621,592]
["Animal(s)",1,{"$f":"B203/SUM(B$202:B$224)","v":1.006036217303823E-3},0,0,0,0,1,26,{"$f":"I203/SUM(I$202:I$224)","v":6.105006105006105E-4},9,5,6,2,4]
["Debris",35,3.5211267605633804E-2,6,9,5,10,5,409,9.6036442190288347E-3,83,81,79,96,70]
["Glare",3,3.0181086519114686E-3,1,1,1,0,0,68,1.5966939043862121E-3,9,20,12,12,15]
["Non-Highway Work",180,0.18108651911468812,49,39,31,26,35,5695,0.13372311449234525,1334,1290,1194,997,880]
["Obstructed Crosswalks",1,1.006036217303823E-3,1,0,0,0,0,183,4.2969850662158355E-3,32,42,41,46,22]
["Obstruction in Roadway",12,1.2072434607645875E-2,2,2,1,4,3,534,1.2538743307974077E-2,100,90,157,115,72]
["Prior Crash",2,2.012072434607646E-3,1,0,0,1,0,47,1.1035972574434112E-3,14,6,11,8,8]
["Prior Non-Recurring Incident",155,0.15593561368209255,38,40,23,29,25,17847,0.41906170752324601,3995,4040,3746,3124,2942]
["Regular Congestion",8,8.0482897384305842E-3,3,2,0,3,0,476,1.1176857330703484E-2,118,109,72,108,69]
["Related to a Bus Stop",0,0,0,0,0,0,0,20,4.6961585423123885E-4,5,5,4,2,4]
["Road Surface Condition (wet, icy, snow, slush, etc.)",1,1.006036217303823E-3,0,0,0,0,1,51,1.197520428289659E-3,11,10,9,12,9]
["Ruts, Holes, Bumps",6,6.0362173038229373E-3,2,1,1,0,2,182,4.2735042735042739E-3,38,48,34,35,27]
["Shoulders (none, low, soft, high)",7,7.0422535211267607E-3,1,0,4,2,0,517,1.2139569831877525E-2,92,101,113,125,86]
["Toll Booth/Plaza Related",18,1.8108651911468814E-2,1,4,5,3,5,348,8.1713158636235565E-3,66,72,74,73,63]
["Traffic Control Device",25,2.5150905432595575E-2,8,8,4,3,2,223,5.236216774678313E-3,50,52,51,46,24]
["Traffic Incident",5,5.0301810865191147E-3,0,1,2,1,1,222,5.2127359819667514E-3,48,50,48,41,35]
["Visual Obstruction(s)",3,3.0181086519114686E-3,2,1,0,0,0,64,1.5027707335399643E-3,11,17,11,11,14]
["Weather Conditions",17,1.7102615694164991E-2,2,4,5,0,6,496,1.1646473184934723E-2,95,116,98,96,91]
["Work Zone (construction/maintenance/utility)",2,2.012072434607646E-3,0,0,0,1,1,50,1.1740396355780971E-3,8,13,11,13,5]
["Worn, Travel-polished Surface",13,1.3078470824949699E-2,1,4,2,2,4,325,7.631257631257631E-3,51,85,59,71,59]
["Other",9,9.0543259557344068E-3,2,1,1,3,2,146,3.4281957358880434E-3,26,51,32,22,15]
["Unknown",341,0.34305835010060365,84,65,55,73,64,11196,0.26289095519864752,2375,2523,2387,2022,1889]
["Within Interchange Area"]
["No",{"$f":"SUM(D226:H226)","v":838},{"$f":"B226/SUM(B$226:B$228)","v":0.84305835010060359},92,205,160,199,182,{"$f":"SUM(K226:O226)","v":36340},{"$f":"I226/SUM(I$226:I$228)","v":0.853292007138161},3151,9585,8914,7698,6992]
["Yes",155,{"$f":"B227/SUM(B$226:B$228)","v":0.15593561368209255},155,0,0,0,0,6108,{"$f":"I227/SUM(I$226:I$228)","v":0.14342068188222035},6103,0,2,0,3]
["Unknown",1,1.006036217303823E-3,1,0,0,0,0,140,3.2873109796186721E-3,93,0,47,0,0]
["Relation to Junction"]
["Acceleration/Deceleration Lane",651,{"$f":"B230/SUM(B$230:B$240)","v":0.65492957746478875},179,134,103,121,114,32859,{"$f":"I230/SUM(I$230:I$240)","v":0.77155536770921385},7317,7420,6912,5804,5406]
["Crossover-Related",101,{"$f":"B231/SUM(B$230:B$240)","v":0.10160965794768612},23,22,16,28,12,3816,{"$f":"I231/SUM(I$230:I$240)","v":8.960270498732037E-2},872,870,832,661,581]
["Driveway Access or Related",29,2.9175050301810865E-2,7,8,4,5,5,629,1.4769418615572462E-2,170,132,140,110,77]
["Entrance/Exit Ramp or Related",6,6.0362173038229373E-3,4,2,0,0,0,93,2.1837137221752605E-3,28,18,22,15,10]
["Intersection or Related",0,0,0,0,0,0,0,17,3.9917347609655303E-4,5,4,4,3,1]
["Non-Junction",1,1.006036217303823E-3,0,0,0,1,0,5,1.1740396355780971E-4,2,0,0,1,2]
["Railway Grade Crossing",0,0,0,0,0,0,0,1,2.3480792711561942E-5,1,0,0,0,0]
["Shared-Use Path or Trail",1,1.006036217303823E-3,0,1,0,0,0,2,4.6961585423123884E-5,0,2,0,0,0]
["Through Roadway",0,0,0,0,0,0,0,0,0,0,0,0,0,0]
["Other",0,0,0,0,0,0,0,1,2.3480792711561942E-5,1,0,0,0,0]
["Unknown",205,0.20623742454728369,35,38,37,44,51,5165,0.12127829435521743,951,1139,1053,1104,918]
["Type of Intersection"]
["Not at Intersection",295,{"$f":"B242/SUM(B$242:B$246)","v":0.29678068410462777},80,61,35,68,51,8798,{"$f":"I242/SUM(I$242:I$246)","v":0.20658401427632198},1936,1938,1736,1649,1539]
["Two-Leg",58,{"$f":"B243/SUM(B$242:B$246)","v":5.8350100603621731E-2},12,11,13,11,11,1839,{"$f":"I243/SUM(I$242:I$246)","v":4.3181177796562414E-2},387,431,411,321,289]
["Three-Leg",45,4.527162977867203E-2,13,8,14,5,5,1823,4.2805485113177423E-2,382,424,394,376,247]
["Four-Leg",595,0.59859154929577463,142,125,98,115,115,30098,0.70672489903259139,6632,6778,6416,5352,4920]
["Five or More Legs",1,1.006036217303823E-3,1,0,0,0,0,30,7.0442378134685823E-4,10,14,6,0,0]
["Intersection Geometry"]
["Angled or Skewed",286,{"$f":"B248/SUM(B$248:B$251)","v":0.28772635814889336},87,54,40,51,54,11077,{"$f":"I248/SUM(I$248:I$251)","v":0.26009674086597162},2520,2568,2349,1889,1751]
["Roundabout or Traffic Circle",623,{"$f":"B249/SUM(B$248:B$251)","v":0.62676056338028174},142,138,103,135,105,28623,{"$f":"I249/SUM(I$248:I$251)","v":0.67209072978303752},6262,6412,6043,5223,4683]
["Perpindicular",29,2.9175050301810865E-2,8,9,5,7,null,1284,3.0149337841645533E-2,265,277,234,257,251]
["Not at Intersection",56,5.6338028169014086E-2,11,4,12,6,23,1604,3.7663191509345356E-2,300,328,337,329,310]
["Traffic Control Device"]
["Signalized",6,{"$f":"B253/SUM(B$253:B$258)","v":6.0362173038229373E-3},0,1,3,1,1,138,{"$f":"I253/SUM(I$253:I$258)","v":3.2403493941955482E-3},19,22,39,32,26]
["Stop - All Way",9,{"$f":"B254/SUM(B$253:B$258)","v":9.0543259557344068E-3},3,2,2,1,1,81,{"$f":"I254/SUM(I$253:I$258)","v":1.9019442096365174E-3},18,29,16,10,8]
["Stop - Partial",64,6.4386317907444673E-2,9,12,10,13,20,2068,4.8558279327510098E-2,397,454,436,448,333]
["Yield",99,9.9597585513078471E-2,19,23,18,16,23,2714,6.3726871419179112E-2,498,612,550,554,500]
["No Controls",815,0.81991951710261568,217,166,127,168,137,37556,0.88184465107542032,8408,8455,7911,6654,6128]
["Not an Intersection",1,1.006036217303823E-3,0,1,0,0,0,31,7.2790457405842019E-4,7,13,11,0,0]
["Crash in Work Zone"]
["Yes",{"$f":"SUM(D260:H260)","v":45},{"$f":"B260/SUM(B$260:B$262)","v":4.527162977867203E-2},13,8,14,5,5,{"$f":"SUM(K260:O260)","v":1823},{"$f":"I260/SUM(I$260:I$262)","v":4.2805485113177423E-2},382,424,394,376,247]
["No",595,{"$f":"B261/SUM(B$260:B$262)","v":0.59859154929577463},142,125,98,115,115,30098,{"$f":"I261/SUM(I$260:I$262)","v":0.70672489903259139},6632,6778,6416,5352,4920]
["Unknown",354,0.35613682092555332,93,72,48,79,62,10667,0.25046961585423122,2333,2383,2153,1970,1828]
["Number of Motor Vehicles Involved"]
["One",204,{"$f":"B264/SUM(B$264:B$267)","v":0.10669456066945607},35,38,37,43,51,5164,{"$f":"I264/SUM(I$264:I$267)","v":0.12125481356250586},951,1139,1053,1103,918]
["Two",651,{"$f":"B265/SUM(B$264:B$267)","v":0.34048117154811713},179,134,103,121,114,32859,{"$f":"I265/SUM(I$264:I$267)","v":0.77155536770921385},7317,7420,6912,5804,5406]
["Three",101,5.2824267782426777E-2,23,22,16,28,12,3816,8.960270498732037E-2,872,870,832,661,581]
["Four or More",956,0.5,237,194,156,192,177,749,1.7587113740959896E-2,207,156,166,130,90]
["Horizontal Alignment"]
["Straight",{"$f":"SUM(D269:H269)","v":595},{"$f":"B269/SUM(B$269:B$271)","v":0.59859154929577463},142,125,98,115,115,{"$f":"SUM(K269:O269)","v":30098},{"$f":"I269/SUM(I$269:I$271)","v":0.70672489903259139},6632,6778,6416,5352,4920]
["Horizontal Curve Left",354,{"$f":"B270/SUM(B$269:B$271)","v":0.35613682092555332},93,72,48,79,62,10667,{"$f":"I270/SUM(I$269:I$271)","v":0.25046961585423122},2333,2383,2153,1970,1828]
["Horizontal Curve Right",45,4.527162977867203E-2,13,8,14,5,5,1823,4.2805485113177423E-2,382,424,394,376,247]
["Vertical Alignment"]
["Level",9,{"$f":"B273/SUM(B$273:B$278)","v":9.0543259557344068E-3},3,2,2,1,1,81,{"$f":"I273/SUM(I$273:I$278)","v":1.9019442096365174E-3},18,29,16,10,8]
["Uphill",64,{"$f":"B274/SUM(B$273:B$278)","v":6.4386317907444673E-2},9,12,10,13,20,2068,{"$f":"I274/SUM(I$273:I$278)","v":4.8558279327510098E-2},397,454,436,448,333]
["Hillcrest",99,9.9597585513078471E-2,19,23,18,16,23,2714,6.3726871419179112E-2,498,612,550,554,500]
["Downhill",815,0.81991951710261568,217,166,127,168,137,37556,0.88184465107542032,8408,8455,7911,6654,6128]
["Sag",1,1.006036217303823E-3,0,1,0,0,0,31,7.2790457405842019E-4,7,13,11,0,0]
["Unknown",6,6.0362173038229373E-3,0,1,3,1,1,138,3.2403493941955482E-3,19,22,39,32,26]
["Roadway Owner"]
["State",{"$f":"SUM(D280:H280)","v":284},{"$f":"B280/SUM(B$280:B$285)","v":0.2857142857142857},80,50,35,68,51,{"$f":"SUM(K280:O280)","v":8798},{"$f":"I280/SUM(I$280:I$285)","v":0.20658401427632198},1936,1938,1736,1649,1539]
["County",58,{"$f":"B281/SUM(B$280:B$285)","v":5.8350100603621731E-2},12,11,13,11,11,1839,{"$f":"I281/SUM(I$280:I$285)","v":4.3181177796562414E-2},387,431,411,321,289]
["Municipality",41,4.124748490945674E-2,13,8,10,5,5,1823,4.2805485113177423E-2,382,424,394,376,247]
["Federal",488,0.49094567404426559,100,125,98,100,65,27249,0.63982812059735139,6000,6000,5797,4985,4467]
["Tribal",1,1.006036217303823E-3,1,0,0,0,0,30,7.0442378134685823E-4,10,14,6,0,0]
["Unknown",122,0.1227364185110664,42,11,4,15,50,2849,6.6896778435239973E-2,632,778,619,367,453]
["Area Type"]
["Urban",{"$f":"SUM(D287:H287)","v":1},{"$f":"B287/SUM(B$287:B$289)","v":1.006036217303823E-3},1,0,0,0,0,{"$f":"SUM(K287:O287)","v":140},{"$f":"I287/SUM(I$287:I$289)","v":3.2873109796186721E-3},93,0,47,0,0]
["Rural",838,{"$f":"B288/SUM(B$287:B$289)","v":0.84305835010060359},92,205,160,199,182,36340,{"$f":"I288/SUM(I$287:I$289)","v":0.853292007138161},3151,9585,8914,7698,6992]
["Unknown",155,0.15593561368209255,155,0,0,0,0,6108,0.14342068188222035,6103,0,2,0,3]
["Functional Class"]
["Interstate",{"$f":"SUM(D291:H291)","v":62},{"$f":"B291/SUM(B$291:B$297)","v":6.2374245472837021E-2},22,9,7,12,12,{"$f":"SUM(K291:O291)","v":3468},{"$f":"I291/SUM(I$291:I$297)","v":8.143138912369681E-2},782,793,735,643,515]
["Principal Arterial - Other Freeway or Expressway",58,{"$f":"B292/SUM(B$291:B$297)","v":5.8350100603621731E-2},16,11,9,9,13,3283,{"$f":"I292/SUM(I$291:I$297)","v":7.7087442472057857E-2},715,751,661,554,602]
["Principal Arterial - Other",96,9.6579476861166996E-2,30,13,15,17,21,3209,7.5349863811402268E-2,784,646,676,599,504]
["Minor Arterial",81,8.1488933601609664E-2,19,15,15,20,12,3291,7.7275288813750356E-2,718,749,637,633,554]
["Collector",92,9.2555331991951706E-2,23,20,14,21,14,3476,8.1619235465389309E-2,782,787,737,567,603]
["Local",104,0.10462776659959759,26,18,9,30,21,3608,8.4718700103315489E-2,776,757,785,683,607]
["Unknown",501,0.50402414486921532,112,119,91,90,89,22253,0.52251808021038793,4790,5102,4732,4019,3610]
["Access Control"]
["No Access Control",501,{"$f":"B299/SUM(B$299:B$301)","v":0.50402414486921532},112,119,91,90,89,22253,{"$f":"I299/SUM(I$299:I$301)","v":0.52251808021038793},4790,5102,4732,4019,3610]
["Partial Access Control",92,{"$f":"B300/SUM(B$299:B$301)","v":9.2555331991951706E-2},23,20,14,21,14,3476,{"$f":"I300/SUM(I$299:I$301)","v":8.1619235465389309E-2},782,787,737,567,603]
["Full Access Control",401,{"$f":"B301/SUM(B$299:B$301)","v":0.40342052313883298},113,66,55,88,79,16859,{"$f":"I301/SUM(I$299:I$301)","v":0.39586268432422278},3775,3696,3494,3112,2782]
["Roadway Lighting"]
["Continuous Lighting on Both Sides",99,{"$f":"B303/SUM(B$303:B$307)","v":9.9597585513078471E-2},19,23,18,16,23,2714,{"$f":"I303/SUM(I$303:I$307)","v":6.3726871419179112E-2},498,612,550,554,500]
["Continuous Lighting on One Side",815,{"$f":"B304/SUM(B$303:B$307)","v":0.81991951710261568},217,166,127,168,137,37556,{"$f":"I304/SUM(I$303:I$307)","v":0.88184465107542032},8408,8455,7911,6654,6128]
["No Lighting",1,1.006036217303823E-3,0,1,0,0,0,31,7.2790457405842019E-4,7,13,11,0,0]
["Spot Illumination on Both Sides",6,6.0362173038229373E-3,0,1,3,1,1,138,3.2403493941955482E-3,19,22,39,32,26]
["Spot Illumination on One Side",73,7.344064386317907E-2,12,14,12,14,21,2149,5.0460223537146617E-2,415,483,452,458,341]
["Alcohol Involvement"]
["Yes",92,{"$f":"B309/SUM(B$309:B$311)","v":9.2555331991951706E-2},23,20,14,21,14,3476,{"$f":"I309/SUM(I$309:I$311)","v":8.1619235465389309E-2},782,787,737,567,603]
["No",401,{"$f":"B310/SUM(B$309:B$311)","v":0.40342052313883298},113,66,55,88,79,16859,{"$f":"I310/SUM(I$309:I$311)","v":0.39586268432422278},3775,3696,3494,3112,2782]
["Unknown",501,{"$f":"B311/SUM(B$309:B$311)","v":0.50402414486921532},112,119,91,90,89,22253,{"$f":"I311/SUM(I$309:I$311)","v":0.52251808021038793},4790,5102,4732,4019,3610]
["Drug Involvement"]
["Yes",838,{"$f":"B313/SUM(B$313:B$315)","v":0.84305835010060359},92,205,160,199,182,36340,{"$f":"I313/SUM(I$313:I$315)","v":0.853292007138161},3151,9585,8914,7698,6992]
["No",155,{"$f":"B314/SUM(B$313:B$315)","v":0.15593561368209255},155,0,0,0,0,6108,{"$f":"I314/SUM(I$313:I$315)","v":0.14342068188222035},6103,0,2,0,3]
["Unknown",1,{"$f":"B315/SUM(B$313:B$315)","v":1.006036217303823E-3},1,0,0,0,0,140,{"$f":"I315/SUM(I$313:I$315)","v":3.2873109796186721E-3},93,0,47,0,0]
["Vehicle Data"]
["Motor Vehicle Body Type"]
["All-Terrain Vehicle",1036,{"$f":"B318/SUM(B$318:B$346)","v":0.53874154966198651},282,207,152,223,172,45956,{"$f":"I318/SUM(I$318:I$346)","v":0.54336285278503615},10461,10072,9550,8324,7549]
["Golf Cart",1,{"$f":"B319/SUM(B$318:B$346)","v":5.2002080083203334E-4},0,0,0,1,0,2,{"$f":"I319/SUM(I$318:I$346)","v":2.3647090816652283E-5},0,0,1,1,0]
["Snowmobile",1,5.2002080083203334E-4,0,0,0,1,0,3,3.5470636224978419E-5,0,0,1,2,0]
["Low Speed Vehicle",1,5.2002080083203334E-4,1,0,0,0,0,1,1.1823545408326141E-5,1,0,0,0,0]
["Moped or motorized bicycle",5,2.6001040041601664E-3,2,1,0,1,1,23,2.7194154439150122E-4,5,8,2,6,2]
["Recreational Off-Highway Vehicles",194,0.10088403536141445,39,39,29,46,41,12056,0.14254466344277994,2472,2116,2496,2659,2313]
["2-Wheeled Motorcycle",53,2.7561102444097763E-2,20,10,7,9,7,203,2.4001797178902066E-3,58,40,38,33,34]
["3-Wheeled Motorcycle",25,1.3000520020800831E-2,8,3,3,6,5,62,7.3305981531622067E-4,14,4,12,15,17]
["Autocycle",25,1.3000520020800831E-2,5,6,8,2,4,203,2.4001797178902066E-3,58,40,38,33,34]
["Passenger Car",77,4.0041601664066562E-2,20,19,18,7,13,1308,1.5465197394090592E-2,291,297,234,246,240]
["Passenger Van",2,1.0400416016640667E-3,0,1,0,1,0,14,1.6552963571656596E-4,0,2,7,3,2]
["Sport Utility Vehicle",{"$f":"SUM(D329:H329)","v":67},3.4841393655746226E-2,21,21,6,14,5,{"$f":"SUM(K329:O329)","v":3},3.5470636224978419E-5,0,1,0,1,1]
["Pickup",0,0,0,0,0,0,0,2335,2.7607978528441539E-2,337,367,428,698,505]
["Cargo Van",1,5.2002080083203334E-4,0,1,0,0,0,2,2.3647090816652283E-5,0,1,0,1,0]
["Construction Equipment",0,0,0,0,0,0,0,0,0,0,0,0,0,0]
["Farm Equipment",77,4.0041601664066562E-2,20,19,18,7,13,1074,1.2698487768542275E-2,210,251,198,200,215]
["Single-Unit Truck",0,0,0,0,0,0,0,389,4.5993591638388686E-3,50,65,98,75,101]
["Truck Tractor",64,3.3281331253250133E-2,6,8,11,14,25,10,1.1823545408326141E-4,3,6,0,1,0]
["Motor Home",0,0,0,0,0,0,0,16,1.8917672653321826E-4,6,3,3,3,1]
["9- or 12-Passenger Van",2,1.0400416016640667E-3,0,0,1,1,0,188,2.2228265367653143E-3,40,42,41,36,29]
["15-Passenger Van",0,0,0,0,0,0,0,0,0,0,0,0,0,0]
["Large Limo",26,1.3520540821632865E-2,9,2,6,7,2,1,1.1823545408326141E-5,0,0,0,1,0]
["Mini-bus",0,0,0,0,0,0,0,3337,3.9455171027584335E-2,683,644,667,692,651]
["School Bus",32,1.6640665626625067E-2,5,4,15,6,2,11,1.3005899949158754E-4,1,3,1,2,4]
["Transit Bus",0,0,0,0,0,0,0,2365,2.7962684890691324E-2,524,398,451,490,502]
["Motorcoach",12,6.2402496099843996E-3,2,3,0,1,6,366,4.3274176194473676E-3,128,94,55,47,42]
["Other Bus Type",0,0,0,0,0,0,0,1,1.1823545408326141E-5,0,0,0,0,1]
["Other Trucks",43,2.2360894435777431E-2,5,6,8,14,10,9,1.0641190867493527E-4,3,1,0,3,2]
["Other",179,9.3083723348933958E-2,50,55,21,29,24,14639,0.17308488123248639,3477,4602,3550,1512,1498]
["Posted Speed Limit"]
["5 MPH",17,{"$f":"B348/SUM(B$348:B$362)","v":8.8403536141445655E-3},5,3,3,3,3,3397,{"$f":"I348/SUM(I$348:I$362)","v":4.0164583752083899E-2},760,817,746,658,416]
["10 MPH",2,{"$f":"B349/SUM(B$348:B$362)","v":1.0400416016640667E-3},1,0,0,1,0,48,{"$f":"I349/SUM(I$348:I$362)","v":5.6753017959965471E-4},13,11,7,10,7]
["15 MPH",175,9.100364014560583E-2,43,30,33,32,37,754,8.9149532378779098E-3,152,162,149,148,143]
["20 MPH",1,5.2002080083203334E-4,0,0,1,0,0,9,1.0641190867493527E-4,1,2,3,1,2]
["25 MPH",4,2.0800832033281333E-3,1,1,0,0,2,324,3.8308287122976697E-3,89,65,68,52,50]
["30 MPH",160,8.3203328133125323E-2,41,29,27,36,27,795,9.3997185996192827E-3,183,150,161,157,144]
["35 MPH",815,0.42381695267810715,205,167,119,169,155,43798,0.51784764179386833,9459,9496,9110,8000,7733]
["40 MPH",3,1.5600624024960999E-3,1,1,0,0,1,82,9.6953072348274357E-4,15,20,16,3,28]
["45 MPH",248,0.12896515860634425,65,54,32,64,33,12633,0.14936684914338413,2845,2829,2740,2213,2006]
["50 MPH",4,2.0800832033281333E-3,3,1,0,0,0,247,2.9204157158565567E-3,43,49,35,22,98]
["55 MPH",3,1.5600624024960999E-3,1,0,1,1,0,95,1.1232368137909833E-3,13,19,22,18,23]
["60 MPH",394,0.20488819552782112,101,98,72,66,57,19659,0.2324390791822836,4695,4795,4179,3346,2644]
["65 MPH",1,5.2002080083203334E-4,1,0,0,0,0,29,3.4288281684145805E-4,3,6,6,3,11]
["70 MPH",61,3.1721268850754034E-2,21,11,11,8,10,2271,2.6851271622308666E-2,458,552,541,355,365]
["Unknown",35,{"$f":"B362/SUM(B$348:B$362)","v":1.8200728029121163E-2},6,10,4,10,5,436,{"$f":"I362/SUM(I$348:I$362)","v":5.155065798030197E-3},93,84,88,98,73]
["Traffic Way"]
["One-Way",{"$f":"SUM(D364:H364)","v":815},{"$f":"B364/SUM(B$364:B$365)","v":0.42381695267810715},205,167,119,169,155,{"$f":"SUM(K364:O364)","v":43798},{"$f":"I364/SUM(I$364:I$365)","v":0.51784764179386833},9459,9496,9110,8000,7733]
["Two-Way",1108,{"$f":"B365/SUM(B$364:B$365)","v":0.57618304732189285},290,238,184,221,175,40779,{"$f":"I365/SUM(I$364:I$365)","v":0.48215235820613167},9363,9561,8761,7084,6010]
["Median Type"]
["Not Divided",105,{"$f":"B367/SUM(B$367:B$372)","v":5.4602184087363496E-2},32,16,10,20,27,9448,{"$f":"I367/SUM(I$367:I$372)","v":0.11170885701786537},2174,2107,1943,1616,1608]
["Continuous Left-Turn Lane",152,{"$f":"B368/SUM(B$367:B$372)","v":7.9043161726469052E-2},37,35,23,33,24,7816,{"$f":"I368/SUM(I$367:I$372)","v":9.2412830911477117E-2},1767,1720,1542,1436,1351]
["Divided with Flush Median",490,0.25481019240769631,124,93,89,110,74,20110,0.23777149816143869,4649,4526,4288,3513,3134]
["Divided with Raised Median",382,0.19864794591783672,89,83,68,70,72,16013,0.1893304326235265,3565,3674,3350,2805,2619]
["Divided with Depressed Median",292,0.1518460738429537,83,62,37,63,47,12498,0.14777067051326009,2688,2745,2680,2330,2055]
["Unknown",502,0.26105044201768068,130,116,76,94,86,18692,0.22100571077243222,3979,4285,4068,3384,2976]
["Barrier Type"]
["No Barrier",548,{"$f":"B374/SUM(B$374:B$380)","v":0.28497139885595424},147,108,92,104,97,21266,{"$f":"I374/SUM(I$374:I$380)","v":0.2514395166534637},4878,4788,4421,3653,3526]
["Cable Barrier",6,{"$f":"B375/SUM(B$374:B$380)","v":3.1201248049921998E-3},3,0,1,1,1,421,{"$f":"I375/SUM(I$374:I$380)","v":4.9777126169053051E-3},97,82,98,83,61]
["Concrete Barrier",438,0.22776911076443057,114,99,74,84,67,20271,0.23967508897217921,4315,4520,4410,3674,3352]
["Earth Embankment",10,5.2002080083203327E-3,1,1,2,6,0,424,5.0131832531302833E-3,81,66,121,85,71]
["Guardrail",469,0.24388975559022361,107,113,73,101,75,21514,0.2543717559147286,5004,4963,4570,3767,3210]
["Box Barrier",4,2.0800832033281333E-3,3,1,0,0,0,337,3.9845348026059093E-3,80,71,71,66,49]
["Other Barrier",448,0.2329693187727509,120,83,61,94,90,20344,0.24053820778698701,4367,4567,4180,3756,3474]
["Number of Lanes"]
["One",105,{"$f":"B382/SUM(B$382:B$392)","v":5.4602184087363496E-2},32,16,10,20,27,9448,{"$f":"I382/SUM(I$382:I$392)","v":0.11170885701786537},2174,2107,1943,1616,1608]
["Two",152,{"$f":"B383/SUM(B$382:B$392)","v":7.9043161726469052E-2},37,35,23,33,24,7816,{"$f":"I383/SUM(I$382:I$392)","v":9.2412830911477117E-2},1767,1720,1542,1436,1351]
["Three",490,0.25481019240769631,124,93,89,110,74,20110,0.23777149816143869,4649,4526,4288,3513,3134]
["Four",382,0.19864794591783672,89,83,68,70,72,16013,0.1893304326235265,3565,3674,3350,2805,2619]
["Five",292,0.1518460738429537,83,62,37,63,47,12498,0.14777067051326009,2688,2745,2680,2330,2055]
["Six",268,0.13936557462298491,63,67,42,49,47,10059,0.11893304326235266,2110,2331,2211,1781,1626]
["Seven",131,6.812272490899636E-2,40,31,21,20,19,5801,6.8588386913699936E-2,1259,1325,1241,1053,923]
["Eight",60,3.1201248049921998E-2,16,11,7,16,10,2049,2.4226444541660262E-2,437,469,460,384,299]
["Nine",19,9.8803952158086315E-3,4,4,2,3,6,723,8.5484233302197989E-3,156,151,143,154,119]
["Ten or More",0,0,0,0,0,0,0,33,3.9017699847476267E-4,10,4,9,7,3]
["Unknown",24,1.2480499219968799E-2,7,3,4,6,4,27,3.1923572602480577E-4,7,5,4,5,6]
["Motor Vehicle Maneuver Prior to Crash"]
["Backing",{"$f":"SUM(D394:H394)","v":36},{"$f":"B394/SUM(B$394:B$408)","v":1.8720748829953199E-2},12,8,5,4,7,{"$f":"SUM(K394:O394)","v":3248},{"$f":"I394/SUM(I$394:I$408)","v":3.8402875486243306E-2},705,763,742,546,492]
["Changing Lanes",{"$f":"SUM(D395:H395)","v":2},{"$f":"B395/SUM(B$394:B$408)","v":1.0400416016640667E-3},1,0,0,0,1,{"$f":"SUM(K395:O395)","v":296},{"$f":"I395/SUM(I$394:I$408)","v":3.4997694408645378E-3},60,63,65,50,58]
["Entering Traffic Lane",{"$f":"SUM(D396:H396)","v":1076},0.55954238169526782,279,236,172,210,179,{"$f":"SUM(K396:O396)","v":38712},0.45771308984712156,8691,8703,8081,6904,6333]
["Leaving Traffic Lane",{"$f":"SUM(D397:H397)","v":264},0.13728549141965679,78,37,48,55,46,{"$f":"SUM(K397:O397)","v":8194},9.6882131075824399E-2,1784,1832,1738,1512,1328]
["Making U-Turn",{"$f":"SUM(D398:H398)","v":44},2.2880915236609463E-2,10,7,4,12,11,{"$f":"SUM(K398:O398)","v":3211},3.7965404306135236E-2,702,677,694,585,553]
["Movements Essentially Straight Ahead",14,7.2802912116484656E-3,1,2,0,6,5,472,5.580713432729938E-3,90,119,91,84,88]
["Negotiating a Curve",198,0.10296411856474259,44,35,35,47,37,3023,3.5742577769369926E-2,654,620,710,627,412]
["Overtaking/Passing",28,1.4560582423296931E-2,14,3,2,6,3,3405,4.025917211535051E-2,752,744,720,614,575]
["Parked",11,5.7202288091523657E-3,2,4,1,1,3,424,5.0131832531302833E-3,85,105,90,68,76]
["Slowing",74,3.8481539261570462E-2,18,25,9,13,9,6732,7.9596107688851572E-2,1621,1538,1375,1154,1044]
["Stopped in Traffic",{"$f":"SUM(D404:H404)","v":140},7.2802912116484653E-2,30,38,23,30,19,{"$f":"SUM(K404:O404)","v":14771},0.17464558922638543,3238,3401,3121,2567,2444]
["Turning Left",{"$f":"SUM(D405:H405)","v":2},1.0400416016640667E-3,1,1,0,0,0,{"$f":"SUM(K405:O405)","v":92},1.0877661775660049E-3,35,28,29,0,0]
["Turning Right",8,4.1601664066562667E-3,0,2,2,1,3,336,3.972711257197583E-3,74,70,68,67,57]
["Other",11,5.7202288091523657E-3,4,1,2,1,3,93,1.099589722974331E-3,17,17,19,21,19]
["Unknown",15,7.8003120124804995E-3,1,6,0,4,4,1568,1.8539319200255387E-2,314,377,328,285,264]
["Most Harmful Event"]
["Cargo/Equipment Loss or Shift",{"$f":"SUM(D410:H410)","v":10},{"$f":"B410/SUM(B$410:B$451)","v":5.2002080083203327E-3},2,3,1,3,1,{"$f":"SUM(K410:O410)","v":132},{"$f":"I410/SUM(I$410:I$451)","v":1.5607079938990507E-3},27,26,25,31,23]
["Fell/Jumped from Motor Vehicle",0,{"$f":"B411/SUM(B$410:B$451)","v":0},0,0,0,0,0,0,{"$f":"I411/SUM(I$410:I$451)","v":0},0,0,0,0,0]
["Fire/Explosion",5,2.6001040041601664E-3,1,1,1,1,1,1130,1.3360606311408538E-2,253,272,248,219,138]
["Immersion, Full or Partial",0,0,0,0,0,0,0,14,1.6552963571656596E-4,4,3,2,3,2]
["Jackknife",57,2.9641185647425898E-2,14,10,11,10,12,249,2.944062806673209E-3,50,54,49,49,47]
["Other Non-Collision",0,0,0,0,0,0,0,1,1.1823545408326141E-5,0,0,1,0,0]
["Overturn/Rollover",0,0,0,0,0,0,0,105,1.2414722678742447E-3,29,21,22,17,16]
["Thrown or Falling Object",52,2.704108164326573E-2,13,9,9,12,9,264,3.1214159877981013E-3,61,50,53,52,48]
["Collision with Animal",269,0.13988559542381696,68,55,39,56,51,9731,0.11505492036842167,2102,2110,2024,1777,1718]
["Collision with Construction Equipment",0,0,0,0,0,0,0,26,3.0741218061647963E-4,5,6,5,1,9]
["Collision with Farm Equipment",81,4.2121684867394697E-2,21,18,10,21,11,4209,4.9765302623644724E-2,948,943,913,737,668]
["Collision with Motor Vehicle in Transport",1,5.2002080083203334E-4,1,0,0,0,0,80,9.4588363266609129E-4,14,16,11,7,32]
["Collision with Other Non-Fixed Object",0,0,0,0,0,0,0,30,3.5470636224978419E-4,4,6,7,6,7]
["Collision with Other Non-motorist",130,6.7602704108164324E-2,33,32,24,22,19,4366,5.1621599252751928E-2,1043,1065,928,743,587]
["Collision with Parked Motor Vehicle",0,0,0,0,0,0,0,9,1.0641190867493527E-4,1,2,2,1,3]
["Collision with Pedalcycle",18,9.3603744149765994E-3,7,3,3,2,3,755,8.9267767832862371E-3,152,184,180,118,121]
["Collision with Pedestrian",0,0,0,0,0,0,0,9,1.0641190867493527E-4,3,1,3,1,1]
["Collision with Railway Vehicle",24,1.2480499219968799E-2,4,6,3,7,4,271,3.2041808056563841E-3,55,53,52,64,47]
["Strikes Object ar Rest from MV in Transport",0,0,0,0,0,0,0,3,3.5470636224978419E-5,0,1,2,0,0]
["Struck by Falling, Shifting Cargo, or Anything Set in Motion by Motor Vehicle",12,6.2402496099843996E-3,4,2,2,2,2,19466,0.23015713491847664,4204,4220,4049,3556,3437]
["Collision with Bridge Overhead Structure",2,1.0400416016640667E-3,1,0,0,1,0,34,4.0200054388308881E-4,9,8,5,7,5]
["Collision with Bridge Pier or Support",72,3.7441497659906398E-2,20,10,10,12,20,505,5.9708904312047008E-3,102,108,100,99,96]
["Collision with Bridge Rail",1,5.2002080083203334E-4,0,0,1,0,0,8,9.4588363266609132E-5,1,2,2,1,2]
["Collision with Cable Barrier",4,2.0800832033281333E-3,1,1,0,0,2,219,2.5893564444234248E-3,60,44,46,35,34]
["Collision with Concrete Traffic Barrier",108,5.6162246489859596E-2,28,20,18,24,18,531,6.2783026118211809E-3,122,100,108,105,96]
["Collision with Culvert",283,0.14716588663546543,56,69,45,61,52,1510,1.7853553566572474E-2,338,363,332,292,185]
["Collision with Curb",3,1.5600624024960999E-3,1,1,0,0,1,56,6.6211854286626383E-4,10,14,11,2,19]
["Collision with Ditch",167,8.6843473738949559E-2,44,36,22,43,22,5615,6.6389207467751274E-2,1264,1257,1218,984,892]
["Collision with Embankment",3,1.5600624024960999E-3,2,1,0,0,0,167,1.9745320831904656E-3,29,33,24,15,66]
["Collision with Fence",3,1.5600624024960999E-3,1,0,1,1,0,65,7.685304515411992E-4,9,13,15,12,16]
["Collision with Guardrail End Terminal",132,6.8642745709828396E-2,34,33,24,22,19,8736,0.10329049268713716,2086,2131,1857,1487,1175]
["Collision with Guardrail Face",1,5.2002080083203334E-4,1,0,0,0,0,20,2.3647090816652282E-4,2,4,4,2,8]
["Collision with Impact Attenuator/Crash Cushion",43,2.2360894435777431E-2,14,8,8,6,7,1516,1.7924494839022431E-2,306,368,361,237,244]
["Collision with Mailbox",1,5.2002080083203334E-4,0,1,0,0,0,21,2.4829445357484894E-4,8,3,6,2,2]
["Collision with Other Fixed Object",0,0,0,0,0,0,0,4866,5.7533371956914998E-2,1051,1055,1012,889,859]
["Collision with Other Post, Pole, or Support",132,6.8642745709828396E-2,34,33,24,22,19,2186,2.5846270262600942E-2,522,533,465,372,294]
["Collision with Other Traffic Barrier",46,2.3920956838273531E-2,9,10,12,10,5,757,8.950423874102888E-3,169,182,166,147,93]
["Collision with Traffic Sign Support",0,0,0,0,0,0,0,9735,0.11510221455005498,2102,2111,2025,1778,1719]
["Collision with Traffic Signal Support",213,0.11076443057722309,71,33,25,42,42,2809,3.321233905198813E-2,633,629,609,492,446]
["Collision with Tree",23,1.1960478419136765E-2,6,8,1,5,3,4238,5.0108185440486182E-2,1029,1037,900,716,556]
["Collision with Utility Pole or Light Support",0,0,0,0,0,0,0,42,4.9658890714969787E-4,5,8,14,9,6]
["Unknown",27,1.4040561622464899E-2,4,2,9,5,7,91,1.0759426321576787E-3,10,21,15,19,26]
["Contributing Circumstance, Vehicle"]
["None",34,{"$f":"B453/SUM(B$453:B$468)","v":1.7680707228289131E-2},6,9,4,10,5,403,{"$f":"I453/SUM(I$453:I$468)","v":4.764888799555435E-3},82,79,77,95,70]
["Brakes",0,{"$f":"B454/SUM(B$453:B$468)","v":0},0,0,0,0,0,3,{"$f":"I454/SUM(I$453:I$468)","v":3.5470636224978419E-5},0,1,2,0,0]
["Exhaust System",17,8.8403536141445655E-3,5,3,3,3,3,3397,4.0164583752083899E-2,760,817,746,658,416]
["Body or Doors",2,1.0400416016640667E-3,1,0,0,1,0,48,5.6753017959965471E-4,13,11,7,10,7]
["Steering",175,9.100364014560583E-2,43,30,33,32,37,754,8.9149532378779098E-3,152,162,149,148,143]
["Power Train",1,5.2002080083203334E-4,0,0,1,0,0,9,1.0641190867493527E-4,1,2,3,1,2]
["Suspension",4,2.0800832033281333E-3,1,1,0,0,2,324,3.8308287122976697E-3,89,65,68,52,50]
["Tires",160,8.3203328133125323E-2,41,29,27,36,27,795,9.3997185996192827E-3,183,150,161,157,144]
["Wheels",815,0.42381695267810715,205,167,119,169,155,43798,0.51784764179386833,9459,9496,9110,8000,7733]
["Lights (head, signal, tail)",3,1.5600624024960999E-3,1,1,0,0,1,82,9.6953072348274357E-4,15,20,16,3,28]
["Windows or Windshield",248,0.12896515860634425,65,54,32,64,33,12633,0.14936684914338413,2845,2829,2740,2213,2006]
["Mirrors",4,2.0800832033281333E-3,3,1,0,0,0,247,2.9204157158565567E-3,43,49,35,22,98]
["Wipers",3,1.5600624024960999E-3,1,0,1,1,0,95,1.1232368137909833E-3,13,19,22,18,23]
["Truck Coupling, Tailer Hitch, Safety Chains",394,0.20488819552782112,101,98,72,66,57,19659,0.2324390791822836,4695,4795,4179,3346,2644]
["Other",1,5.2002080083203334E-4,1,0,0,0,0,29,3.4288281684145805E-4,3,6,6,3,11]
["Unknown",62,3.2241289651586062E-2,21,12,11,8,10,2301,2.7205977984558451E-2,469,556,550,358,368]
["Person-Level Data"]
["Person Type"]
["Driver",{"$f":"SUM(D471:H471)","v":742},{"$f":"B471/SUM(B$471:B$478)","v":0.28494623655913981},205,140,138,124,135,{"$f":"SUM(K471:O471)","v":29003},{"$f":"I471/SUM(I$471:I$478)","v":0.25160271702827203},6829,6224,6631,4383,4936]
["Passenger",7,{"$f":"B472/SUM(B$471:B$478)","v":2.6881720430107529E-3},4,0,1,1,1,572,{"$f":"I472/SUM(I$471:I$478)","v":4.962133370346916E-3},135,106,147,99,85]
["Occupant of Motor Vehicle Not in Transport",591,0.22695852534562211,159,128,111,100,93,27632,0.239709212044451,6041,5876,6615,4408,4692]
["Bicyclist",12,4.608294930875576E-3,1,1,3,7,0,580,5.0315338370650539E-3,113,85,181,102,99]
["Other Cyclist",630,0.24193548387096775,149,146,109,121,105,29325,0.25439608581367712,7005,6451,6855,4520,4494]
["Pedestrian",5,1.9201228878648233E-3,4,1,0,0,0,457,3.9645016612736717E-3,112,92,106,79,68]
["Wheelchair, Person in a Building, Skater, Personal Conveyance, etc.",592,0.22734254992319508,162,105,88,111,126,26701,0.23163273273012761,5815,5666,5985,4422,4813]
["Unknown",24.999999999999943,9.6006144393240948E-3,9,5.5,4.5,4,1.9999999999999432,1003,8.701083514786637E-3,301,274,287,88,53]
["Restraint Use"]
["Booster Seat",44,{"$f":"B480/SUM(B$480:B$497)","v":1.6897081413210446E-2},8,11,6,12,7,543,{"$f":"I480/SUM(I$480:I$497)","v":4.7105566784936626E-3},114,102,115,114,98]
["Child Restraint System - Forward Facing",0,{"$f":"B481/SUM(B$480:B$497)","v":0},0,0,0,0,0,4,{"$f":"I481/SUM(I$480:I$497)","v":3.4700233359069342E-5},0,1,3,0,0]
["Child Restraint System - Rear Facing",21,8.0645161290322578E-3,7,3,4,3,4,4616,4.0044069296366017E-2,1064,1062,1119,789,582]
["Child Restraint - Type Unknown",2,7.6804915514592934E-4,1,0,0,1,0,63,5.4652867540534212E-4,18,14,10,12,9]
["Lap Belt Only Used",237,9.1013824884792621E-2,60,39,49,38,51,1022,8.8659096232422165E-3,212,210,223,177,200]
["None Used - Motor Vehicle Occupant",1,3.8402457757296467E-4,0,0,1,0,0,10,8.6750583397673345E-5,1,2,4,1,2]
["Restraint Used - Type Unknown",4,1.5360983102918587E-3,1,1,0,0,2,442,3.8343757861771621E-3,124,84,102,62,70]
["Shoulder and Lap Belt Used",214,8.218125960061444E-2,57,37,40,43,37,1081,9.3777380652884882E-3,256,195,241,188,201]
["Shoulder Belt Only Used",1101,0.42281105990783407,287,217,178,202,217,59677,0.51770145654229527,13242,12344,13665,9600,10826]
["Stretcher",3,1.152073732718894E-3,1,1,0,0,1,113,9.802815923937089E-4,21,26,24,3,39]
["Wheelchair",331,0.12711213517665129,91,70,48,76,46,17233,0.14949728036921048,3983,3677,4110,2655,2808]
["DOT-Compliant Motorcycle Helmet",5,1.9201228878648233E-3,4,1,0,0,0,338,2.9321697188413594E-3,60,63,52,26,137]
["Not DOT-Compliant Motorcycle Helmet",3,1.152073732718894E-3,1,0,1,1,0,128,1.1104074674902189E-3,18,24,33,21,32]
["Unknown if DOT-Compliant Motorcycle Helmet",534,0.20506912442396313,141,127,108,79,79,26790,0.23240481292236689,6573,6233,6268,4015,3701]
["No Helmet",1,3.8402457757296467E-4,1,0,0,0,0,38,3.2965221691115873E-4,4,7,9,3,15]
["Not Applicable",82,3.1490015360983101E-2,29,14,16,9,14,3106,2.6944731203317342E-2,641,717,811,426,511]
["Other",1,3.8402457757296467E-4,0,1,0,0,0,40,3.4700233359069338E-4,15,5,13,3,4]
["Unknown",19.999999999999943,7.6804915514592717E-3,4,4.5,3.5,4,3.9999999999999432,29,2.5157669185325274E-4,5,8,5,6,5]
["Driver Actions at Time of Crash, Selection 1"]
["No Contributing Action",534,{"$f":"B499/SUM(B$499:B$517)","v":0.20506912442396313},141,127,108,79,79,26790,{"$f":"I499/SUM(I$499:I$517)","v":0.23240481292236689},6573,6233,6268,4015,3701]
["Disregarded Other Road Markings",1,{"$f":"B500/SUM(B$499:B$517)","v":3.8402457757296467E-4},1,0,0,0,0,38,{"$f":"I500/SUM(I$499:I$517)","v":3.2965221691115873E-4},4,7,9,3,15]
["Disregarded Other Traffic Sign",82,3.1490015360983101E-2,29,14,16,9,14,3106,2.6944731203317342E-2,641,717,811,426,511]
["Failed to Keep in Proper Lane",1,3.8402457757296467E-4,0,1,0,0,0,40,3.4700233359069338E-4,15,5,13,3,4]
["Failed to Yield Right-of-Way",19.999999999999943,7.6804915514592717E-3,4,4.5,3.5,4,3.9999999999999432,29,2.5157669185325274E-4,5,8,5,6,5]
["Followed Too Closely",44,1.6897081413210446E-2,8,11,6,12,7,543,4.7105566784936626E-3,114,102,115,114,98]
["Improper Backing",0,0,0,0,0,0,0,4,3.4700233359069342E-5,0,1,3,0,0]
["Improper Passing",21,8.0645161290322578E-3,7,3,4,3,4,4616,4.0044069296366017E-2,1064,1062,1119,789,582]
["Improper Turn",2,7.6804915514592934E-4,1,0,0,1,0,63,5.4652867540534212E-4,18,14,10,12,9]
["Operated Motor Vehicle in Inattentive, Careless, Negligent, or Erratic Manner",237,9.1013824884792621E-2,60,39,49,38,51,1022,8.8659096232422165E-3,212,210,223,177,200]
["Operated Motor Vehicle in Reckless or Aggressive Manner",1,3.8402457757296467E-4,0,0,1,0,0,10,8.6750583397673345E-5,1,2,4,1,2]
["Over-Correcting/Over-Steering",4,1.5360983102918587E-3,1,1,0,0,2,442,3.8343757861771621E-3,124,84,102,62,70]
["Ran Off Roadway",214,8.218125960061444E-2,57,37,40,43,37,1081,9.3777380652884882E-3,256,195,241,188,201]
["Ran Red Light",1101,0.42281105990783407,287,217,178,202,217,59677,0.51770145654229527,13242,12344,13665,9600,10826]
["Ran Stop Sign",3,1.152073732718894E-3,1,1,0,0,1,113,9.802815923937089E-4,21,26,24,3,39]
["Swerve or Avoided Due to Wind, Slippery Surface, Motor Vehicle, Object, Non-Motorist in Roadway, etc.",0,0,0,0,0,0,0,405,3.5133986276057708E-3,83,77,110,55,80]
["Wrong Side or Wrong Way",331,0.12711213517665129,91,70,48,76,46,16828,0.1459838817416047,3900,3600,4000,2600,2728]
["Other Contributing Action",5,1.9201228878648233E-3,4,1,0,0,0,338,2.9321697188413594E-3,60,63,52,26,137]
["Unknown",3,1.152073732718894E-3,1,0,1,1,0,128,1.1104074674902189E-3,18,24,33,21,32]
["Driver Actions at Time of Crash, Selection 2"]
["No Contributing Action",{"$f":"SUM(D519:H519)","v":0},{"$f":"B519/SUM(B$519:B$537)","v":0},0,0,0,0,0,{"$f":"SUM(K519:O519)","v":4},{"$f":"I519/SUM(I$519:I$537)","v":3.4700233359069342E-5},0,1,3,0,0]
["Disregarded Other Road Markings",21,{"$f":"B520/SUM(B$519:B$537)","v":8.0645161290322578E-3},7,3,4,3,4,4616,{"$f":"I520/SUM(I$519:I$537)","v":4.0044069296366017E-2},1064,1062,1119,789,582]
["Disregarded Other Traffic Sign",2,7.6804915514592934E-4,1,0,0,1,0,63,5.4652867540534212E-4,18,14,10,12,9]
["Failed to Keep in Proper Lane",237,9.1013824884792621E-2,60,39,49,38,51,1022,8.8659096232422165E-3,212,210,223,177,200]
["Failed to Yield Right-of-Way",1,3.8402457757296467E-4,0,0,1,0,0,10,8.6750583397673345E-5,1,2,4,1,2]
["Followed Too Closely",4,1.5360983102918587E-3,1,1,0,0,2,442,3.8343757861771621E-3,124,84,102,62,70]
["Improper Backing",214,8.218125960061444E-2,57,37,40,43,37,1081,9.3777380652884882E-3,256,195,241,188,201]
["Improper Passing",1101,0.42281105990783407,287,217,178,202,217,59677,0.51770145654229527,13242,12344,13665,9600,10826]
["Improper Turn",3,1.152073732718894E-3,1,1,0,0,1,113,9.802815923937089E-4,21,26,24,3,39]
["Operated Motor Vehicle in Inattentive, Careless, Negligent, or Erratic Manner",0,0,0,0,0,0,0,405,3.5133986276057708E-3,83,77,110,55,80]
["Operated Motor Vehicle in Reckless or Aggressive Manner",331,0.12711213517665129,91,70,48,76,46,16828,0.1459838817416047,3900,3600,4000,2600,2728]
["Over-Correcting/Over-Steering",5,1.9201228878648233E-3,4,1,0,0,0,338,2.9321697188413594E-3,60,63,52,26,137]
["Ran Off Roadway",3,1.152073732718894E-3,1,0,1,1,0,128,1.1104074674902189E-3,18,24,33,21,32]
["Ran Red Light",534,0.20506912442396313,141,127,108,79,79,26790,0.23240481292236689,6573,6233,6268,4015,3701]
["Ran Stop Sign",1,3.8402457757296467E-4,1,0,0,0,0,38,3.2965221691115873E-4,4,7,9,3,15]
["Swerve or Avoided Due to Wind, Slippery Surface, Motor Vehicle, Object, Non-Motorist in Roadway, etc.",82,3.1490015360983101E-2,29,14,16,9,14,3106,2.6944731203317342E-2,641,717,811,426,511]
["Wrong Side or Wrong Way",1,3.8402457757296467E-4,0,1,0,0,0,40,3.4700233359069338E-4,15,5,13,3,4]
["Other Contributing Action",19.999999999999943,7.6804915514592717E-3,4,4.5,3.5,4,3.9999999999999432,29,2.5157669185325274E-4,5,8,5,6,5]
["Unknown",44,1.6897081413210446E-2,8,11,6,12,7,543,4.7105566784936626E-3,114,102,115,114,98]
["Driver Actions at Time of Crash, Selection 3"]
["No Contributing Action",{"$f":"SUM(D539:H539)","v":331},{"$f":"B539/SUM(B$539:B$557)","v":0.12711213517665129},91,70,48,76,46,{"$f":"SUM(K539:O539)","v":16828},{"$f":"I539/SUM(I$539:I$557)","v":0.1459838817416047},3900,3600,4000,2600,2728]
["Disregarded Other Road Markings",5,{"$f":"B540/SUM(B$539:B$557)","v":1.9201228878648233E-3},4,1,0,0,0,338,{"$f":"I540/SUM(I$539:I$557)","v":2.9321697188413594E-3},60,63,52,26,137]
["Disregarded Other Traffic Sign",3,1.152073732718894E-3,1,0,1,1,0,128,1.1104074674902189E-3,18,24,33,21,32]
["Failed to Keep in Proper Lane",1,3.8402457757296467E-4,0,1,0,0,0,40,3.4700233359069338E-4,15,5,13,3,4]
["Failed to Yield Right-of-Way",19.999999999999943,7.6804915514592717E-3,4,4.5,3.5,4,3.9999999999999432,29,2.5157669185325274E-4,5,8,5,6,5]
["Followed Too Closely",44,1.6897081413210446E-2,8,11,6,12,7,543,4.7105566784936626E-3,114,102,115,114,98]
["Improper Backing",237,9.1013824884792621E-2,60,39,49,38,51,1022,8.8659096232422165E-3,212,210,223,177,200]
["Improper Passing",1,3.8402457757296467E-4,0,0,1,0,0,10,8.6750583397673345E-5,1,2,4,1,2]
["Improper Turn",4,1.5360983102918587E-3,1,1,0,0,2,442,3.8343757861771621E-3,124,84,102,62,70]
["Operated Motor Vehicle in Inattentive, Careless, Negligent, or Erratic Manner",214,8.218125960061444E-2,57,37,40,43,37,1081,9.3777380652884882E-3,256,195,241,188,201]
["Operated Motor Vehicle in Reckless or Aggressive Manner",1101,0.42281105990783407,287,217,178,202,217,59677,0.51770145654229527,13242,12344,13665,9600,10826]
["Over-Correcting/Over-Steering",3,1.152073732718894E-3,1,1,0,0,1,113,9.802815923937089E-4,21,26,24,3,39]
["Ran Off Roadway",0,0,0,0,0,0,0,405,3.5133986276057708E-3,83,77,110,55,80]
["Ran Red Light",0,0,0,0,0,0,0,4,3.4700233359069342E-5,0,1,3,0,0]
["Ran Stop Sign",21,8.0645161290322578E-3,7,3,4,3,4,4616,4.0044069296366017E-2,1064,1062,1119,789,582]
["Swerve or Avoided Due to Wind, Slippery Surface, Motor Vehicle, Object, Non-Motorist in Roadway, etc.",2,7.6804915514592934E-4,1,0,0,1,0,63,5.4652867540534212E-4,18,14,10,12,9]
["Wrong Side or Wrong Way",534,0.20506912442396313,141,127,108,79,79,26790,0.23240481292236689,6573,6233,6268,4015,3701]
["Other Contributing Action",1,3.8402457757296467E-4,1,0,0,0,0,38,3.2965221691115873E-4,4,7,9,3,15]
["Unknown",82,3.1490015360983101E-2,29,14,16,9,14,3106,2.6944731203317342E-2,641,717,811,426,511]
["Driver Actions at Time of Crash, Selection 4"]
["No Contributing Action",{"$f":"SUM(D559:H559)","v":1101},{"$f":"B559/SUM(B$559:B$577)","v":0.42281105990783407},287,217,178,202,217,{"$f":"SUM(K559:O559)","v":59677},{"$f":"I559/SUM(I$559:I$577)","v":0.51770145654229527},13242,12344,13665,9600,10826]
["Disregarded Other Road Markings",3,{"$f":"B560/SUM(B$559:B$577)","v":1.152073732718894E-3},1,1,0,0,1,113,{"$f":"I560/SUM(I$559:I$577)","v":9.802815923937089E-4},21,26,24,3,39]
["Disregarded Other Traffic Sign",0,0,0,0,0,0,0,405,3.5133986276057708E-3,83,77,110,55,80]
["Failed to Keep in Proper Lane",0,0,0,0,0,0,0,4,3.4700233359069342E-5,0,1,3,0,0]
["Failed to Yield Right-of-Way",21,8.0645161290322578E-3,7,3,4,3,4,4616,4.0044069296366017E-2,1064,1062,1119,789,582]
["Followed Too Closely",2,7.6804915514592934E-4,1,0,0,1,0,63,5.4652867540534212E-4,18,14,10,12,9]
["Improper Backing",534,0.20506912442396313,141,127,108,79,79,26790,0.23240481292236689,6573,6233,6268,4015,3701]
["Improper Passing",1,3.8402457757296467E-4,1,0,0,0,0,38,3.2965221691115873E-4,4,7,9,3,15]
["Improper Turn",82,3.1490015360983101E-2,29,14,16,9,14,3106,2.6944731203317342E-2,641,717,811,426,511]
["Operated Motor Vehicle in Inattentive, Careless, Negligent, or Erratic Manner",331,0.12711213517665129,91,70,48,76,46,16828,0.1459838817416047,3900,3600,4000,2600,2728]
["Operated Motor Vehicle in Reckless or Aggressive Manner",5,1.9201228878648233E-3,4,1,0,0,0,338,2.9321697188413594E-3,60,63,52,26,137]
["Over-Correcting/Over-Steering",3,1.152073732718894E-3,1,0,1,1,0,128,1.1104074674902189E-3,18,24,33,21,32]
["Ran Off Roadway",1,3.8402457757296467E-4,0,1,0,0,0,40,3.4700233359069338E-4,15,5,13,3,4]
["Ran Red Light",19.999999999999943,7.6804915514592717E-3,4,4.5,3.5,4,3.9999999999999432,29,2.5157669185325274E-4,5,8,5,6,5]
["Ran Stop Sign",44,1.6897081413210446E-2,8,11,6,12,7,543,4.7105566784936626E-3,114,102,115,114,98]
["Swerve or Avoided Due to Wind, Slippery Surface, Motor Vehicle, Object, Non-Motorist in Roadway, etc.",237,9.1013824884792621E-2,60,39,49,38,51,1022,8.8659096232422165E-3,212,210,223,177,200]
["Wrong Side or Wrong Way",1,3.8402457757296467E-4,0,0,1,0,0,10,8.6750583397673345E-5,1,2,4,1,2]
["Other Contributing Action",4,1.5360983102918587E-3,1,1,0,0,2,442,3.8343757861771621E-3,124,84,102,62,70]
["Unknown",214,8.218125960061444E-2,57,37,40,43,37,1081,9.3777380652884882E-3,256,195,241,188,201]

{"sheet":"Comparison Group 2 Accessible","index":6,"n_rows":620,"n_cols":16,"rows_kept":620,"cut":false,"hidden":true,"merged":[[578,0,578,7],[578,8,578,15],[599,0,599,7],[599,8,599,15],[516,0,516,7],[516,8,516,15],[536,0,536,7],[536,8,536,15],[557,0,557,7],[557,8,557,15],[443,0,443,7],[443,8,443,15],[487,0,487,7],[487,8,487,15],[506,0,506,7],[506,8,506,15],[505,0,505,15],[404,0,404,7],[404,8,404,15],[413,0,413,7],[413,8,413,15],[426,0,426,7],[426,8,426,15],[375,0,375,7],[375,8,375,15],[392,0,392,7],[392,8,392,15],[396,0,396,7],[396,8,396,15],[333,0,333,7],[333,8,333,15],[338,0,338,7],[338,8,338,15],[344,0,344,7],[344,8,344,15],[343,0,343,15],[312,0,312,7],[312,8,312,15],[321,0,321,7],[321,8,321,15],[326,0,326,7],[326,8,326,15],[291,0,291,7],[291,8,291,15],[299,0,299,7],[299,8,299,15],[307,0,307,7],[307,8,307,15],[275,0,275,7],[275,8,275,15],[280,0,280,7],[280,8,280,15],[286,0,286,7],[286,8,286,15],[254,0,254,7],[254,8,254,15],[261,0,261,7],[261,8,261,15],[267,0,267,7],[267,8,267,15],[211,0,211,7],[211,8,211,15],[236,0,236,7],[236,8,236,15],[241,0,241,7],[241,8,241,15],[164,0,164,7],[164,8,164,15],[173,0,173,7],[173,8,173,15],[186,0,186,7],[186,8,186,15],[125,0,125,7],[125,8,125,15],[138,0,138,7],[138,8,138,15],[150,0,150,7],[150,8,150,15],[60,0,60,7],[60,8,60,15],[74,0,74,7],[74,8,74,15],[81,0,81,7],[81,8,81,15],[19,0,19,7],[19,8,19,15],[24,0,24,7],[24,8,24,15],[33,0,33,7],[33,8,33,15],[0,0,0,7],[0,8,0,15],[8,0,8,7],[8,8,8,15],[15,0,15,7],[15,8,15,15]]}
[{"$f":"CONCATENATE(\"Fatal and Serious Injury Crashes Only - \",A2, \"\n\",Instructions!$B$11)","v":"Fatal and Serious Injury Crashes Only - Overall Numbers\nTest Group 2"},null,null,null,null,null,null,null,{"$f":"CONCATENATE(\"Total Crashes - \",I2, \"\n\",Instructions!$B$11)","v":"Total Crashes - Overall Numbers\nTest Group 2"}]
["Overall Numbers","Number of Crashes","Percent of Crashes","Year 5 Crashes","Year 4 Crashes","Year 3 Crashes","Year 2 Crashes","Year 1 Crashes","Overall Numbers","Number of Crashes","Percent of Crashes","Year 5 Crashes","Year 4 Crashes","Year 3 Crashes","Year 2 Crashes","Year 1 Crashes"]
["Total # of Collisions",{"$f":"SUM(D3:H3)","v":994},"N/A",248,205,160,199,182,{"$f":"A3","v":"Total # of Collisions"},{"$f":"SUM(L3:P3)","v":42588},"N/A",9347,9585,8963,7698,6995]
["# of Fatal Collisions",130,{"$f":"B4/B3","v":0.13078470824949698},41,29,19,24,17,"# of Fatal Collisions",130,{"$f":"J4/J3","v":3.0525030525030525E-3},41,29,19,24,17]
["# of Serious Injury Collisions",864,{"$f":"B5/B3","v":0.86921529175050305},207,176,141,175,165,"# of Serious Injury Collisions",864,{"$f":"J5/J3","v":2.0287404902789519E-2},207,176,141,175,165]
["# of Alcohol-Related Collisions",169,{"$f":"B6/B3","v":0.17002012072434608},35,36,28,37,33,"# of Alcohol-Related Collisions",2089,{"$f":"J6/J3","v":4.9051375974452895E-2},438,377,420,417,437]
["Total # of Fatalities",140,"N/A",43,33,19,25,20,"Total # of Fatalities",140,"N/A",43,33,19,25,20]
["Total # of Serious Injuries",1515,"N/A",386,305,239,327,258,"Total # of Serious Injuries",13460,"N/A",3121,2837,2797,2442,2263]
[{"$f":"CONCATENATE(\"Fatal and Serious Injury Crashes Only - \",A10, \"\n\",Instructions!$B$11)","v":"Fatal and Serious Injury Crashes Only - Most Severe Injury Reported\nTest Group 2"},null,null,null,null,null,null,null,{"$f":"CONCATENATE(\"Total Crashes - \",I10, \"\n\",Instructions!$B$11)","v":"Total Crashes - Most Severe Injury Reported\nTest Group 2"}]
["Most Severe Injury Reported","Number of Crashes","Percent of Crashes","Year 5 Crashes","Year 4 Crashes","Year 3 Crashes","Year 2 Crashes","Year 1 Crashes","Most Severe Injury Reported","Number of Crashes","Percent of Crashes","Year 5 Crashes","Year 4 Crashes","Year 3 Crashes","Year 2 Crashes","Year 1 Crashes"]
["5 (K)",{"$f":"SUM(D11:H11)","v":130},{"$f":"B11/SUM(B$11:B$15)","v":0.13078470824949698},41,29,19,24,17,"5 (K)",{"$f":"SUM(L11:P11)","v":130},{"$f":"J11/SUM(J$11:J$15)","v":3.0525030525030525E-3},41,29,19,24,17]
["4 (A)",{"$f":"SUM(D12:H12)","v":864},{"$f":"B12/SUM(B$11:B$15)","v":0.86921529175050305},207,176,141,175,165,"4 (A)",{"$f":"SUM(L12:P12)","v":864},{"$f":"J12/SUM(J$11:J$15)","v":2.0287404902789519E-2},207,176,141,175,165]
["3 (B)","N/A","N/A","N/A","N/A","N/A","N/A","N/A","3 (B)",{"$f":"SUM(L13:P13)","v":2292},{"$f":"J13/SUM(J$11:J$15)","v":5.381797689489997E-2},494,453,475,442,428]
["2 (C)","N/A","N/A","N/A","N/A","N/A","N/A","N/A","2 (C)",{"$f":"SUM(L14:P14)","v":6486},0.15229642152719075,1493,1429,1379,1144,1041]
["1 (O)","N/A","N/A","N/A","N/A","N/A","N/A","N/A","1 (O)",{"$f":"SUM(L15:P15)","v":32816},0.77054569362261671,7112,7498,6949,5913,5344]
[{"$f":"CONCATENATE(\"Fatal and Serious Injury Crashes Only - \",A17, \"\n\",Instructions!$B$11)","v":"Fatal and Serious Injury Crashes Only - Property\nTest Group 2"},null,null,null,null,null,null,null,{"$f":"CONCATENATE(\"Total Crashes - \",I17, \"\n\",Instructions!$B$11)","v":"Total Crashes - Property\nTest Group 2"}]
["Property","Number of Crashes","Percent of Crashes","Year 5 Crashes","Year 4 Crashes","Year 3 Crashes","Year 2 Crashes","Year 1 Crashes","Property","Number of Crashes","Percent of Crashes","Year 5 Crashes","Year 4 Crashes","Year 3 Crashes","Year 2 Crashes","Year 1 Crashes"]
["Public",{"$f":"SUM(D18:H18)","v":651},{"$f":"B18/SUM(B$18:B$19)","v":0.65492957746478875},179,134,103,121,114,"Public",{"$f":"SUM(L18:P18)","v":32859},{"$f":"J18/SUM(J$18:J$19)","v":0.77155536770921385},7317,7420,6912,5804,5406]
["Private",343,{"$f":"B19/SUM(B$18:B$19)","v":0.34507042253521125},69,71,57,78,68,"Private",9729,{"$f":"J19/SUM(J$18:J$19)","v":0.22844463229078613},2030,2165,2051,1894,1589]
[{"$f":"CONCATENATE(\"Fatal and Serious Injury Crashes Only - \",A21, \"\n\",Instructions!$B$11)","v":"Fatal and Serious Injury Crashes Only - Location\nTest Group 2"},null,null,null,null,null,null,null,{"$f":"CONCATENATE(\"Total Crashes - \",I21, \"\n\",Instructions!$B$11)","v":"Total Crashes - Location\nTest Group 2"}]
["Location","Number of Crashes","Percent of Crashes","Year 5 Crashes","Year 4 Crashes","Year 3 Crashes","Year 2 Crashes","Year 1 Crashes","Location","Number of Crashes","Percent of Crashes","Year 5 Crashes","Year 4 Crashes","Year 3 Crashes","Year 2 Crashes","Year 1 Crashes"]
["Trafficway, On Road",{"$f":"SUM(D22:H22)","v":1},{"$f":"B22/SUM(B$22:B$24)","v":1.006036217303823E-3},1,0,0,0,0,"Trafficway, On Road",{"$f":"SUM(L22:P22)","v":140},{"$f":"J22/SUM(J$22:J$24)","v":3.2873109796186721E-3},93,0,47,0,0]
["Trafficway, Not on Road",{"$f":"SUM(D23:H23)","v":838},{"$f":"B23/SUM(B$22:B$24)","v":0.84305835010060359},92,205,160,199,182,"Trafficway, Not on Road",{"$f":"SUM(L23:P23)","v":36340},{"$f":"J23/SUM(J$22:J$24)","v":0.853292007138161},3151,9585,8914,7698,6992]
["Non-Trafficway",{"$f":"SUM(D24:H24)","v":155},{"$f":"B24/SUM(B$22:B$24)","v":0.15593561368209255},155,0,0,0,0,"Non-Trafficway",{"$f":"SUM(L24:P24)","v":6108},{"$f":"J24/SUM(J$22:J$24)","v":0.14342068188222035},6103,0,2,0,3]
[{"$f":"CONCATENATE(\"Fatal and Serious Injury Crashes Only - \",A26, \"\n\",Instructions!$B$11)","v":"Fatal and Serious Injury Crashes Only - By Weekday\nTest Group 2"},null,null,null,null,null,null,null,{"$f":"CONCATENATE(\"Total Crashes - \",I26, \"\n\",Instructions!$B$11)","v":"Total Crashes - By Weekday\nTest Group 2"}]
["By Weekday","Number of Crashes","Percent of Crashes","Year 5 Crashes","Year 4 Crashes","Year 3 Crashes","Year 2 Crashes","Year 1 Crashes","By Weekday","Number of Crashes","Percent of Crashes","Year 5 Crashes","Year 4 Crashes","Year 3 Crashes","Year 2 Crashes","Year 1 Crashes"]
["Sunday",{"$f":"SUM(D27:H27)","v":102},{"$f":"B27/SUM(B$27:B$33)","v":0.10261569416498995},29,22,14,18,19,"Sunday",{"$f":"SUM(L27:P27)","v":3945},{"$f":"J27/SUM(J$27:J$33)","v":9.2631727247111856E-2},875,855,785,723,707]
["Monday",134,{"$f":"B28/SUM(B$27:B$33)","v":0.13480885311871227},24,33,27,25,25,"Monday",6088,{"$f":"J28/SUM(J$27:J$33)","v":0.1429510660279891},1312,1394,1274,1136,972]
["Tuesday",138,0.13883299798792756,31,24,25,34,24,"Tuesday",6384,0.14990138067061143,1310,1436,1359,1177,1102]
["Wednesday",129,0.12977867203219315,32,30,18,26,23,"Wednesday",6531,0.15335305719921105,1462,1443,1415,1193,1018]
["Thursday",184,0.18511066398390341,38,41,35,38,32,"Thursday",6560,0.15403400018784635,1451,1493,1368,1187,1061]
["Friday",156,0.15694164989939638,53,30,17,30,26,"Friday",7353,0.17265426880811496,1724,1703,1502,1256,1168]
["Saturday",151,0.15191146881287726,41,25,24,28,33,"Saturday",5727,0.13447449985911525,1213,1261,1260,1026,967]
[{"$f":"CONCATENATE(\"Fatal and Serious Injury Crashes Only - \",A35, \"\n\",Instructions!$B$11)","v":"Fatal and Serious Injury Crashes Only - Crash Hour\nTest Group 2"},null,null,null,null,null,null,null,{"$f":"CONCATENATE(\"Total Crashes - \",I35, \"\n\",Instructions!$B$11)","v":"Total Crashes - Crash Hour\nTest Group 2"}]
["Crash Hour","Number of Crashes","Percent of Crashes","Year 5 Crashes","Year 4 Crashes","Year 3 Crashes","Year 2 Crashes","Year 1 Crashes","Crash Hour","Number of Crashes","Percent of Crashes","Year 5 Crashes","Year 4 Crashes","Year 3 Crashes","Year 2 Crashes","Year 1 Crashes"]
["12:00 AM - 12:59 AM",{"$f":"SUM(D36:H36)","v":25},{"$f":"B36/SUM(B$36:B$60)","v":2.5150905432595575E-2},5,5,4,6,5,"12:00 AM - 12:59 AM",{"$f":"SUM(L36:P36)","v":622},{"$f":"J36/SUM(J$36:J$60)","v":1.4605053066591529E-2},141,141,111,119,110]
["1:00 AM - 1:59 AM",26,{"$f":"B37/SUM(B$36:B$60)","v":2.6156941649899398E-2},6,8,3,5,4,"1:00 AM - 1:59 AM",513,{"$f":"J37/SUM(J$36:J$60)","v":1.2045646661031277E-2},86,123,100,103,101]
["2:00 AM - 2:59 AM",20,2.0120724346076459E-2,6,2,3,5,4,"2:00 AM - 2:59 AM",494,1.15995115995116E-2,93,89,101,99,112]
["3:00 AM - 3:59 AM",8,8.0482897384305842E-3,2,1,2,0,3,"3:00 AM - 3:59 AM",337,7.9130271437963754E-3,75,74,67,66,55]
["4:00 AM - 4:59 AM",14,1.4084507042253521E-2,4,2,4,1,3,"4:00 AM - 4:59 AM",309,7.2555649478726406E-3,63,72,72,50,52]
["5:00 AM - 5:59 AM",16,1.6096579476861168E-2,6,2,2,2,4,"5:00 AM - 5:59 AM",617,1.4487649103033719E-2,143,154,138,90,92]
["6:00 AM - 6:59 AM",38,3.8229376257545272E-2,12,10,8,5,3,"6:00 AM - 6:59 AM",1675,3.9330327791866251E-2,398,367,370,308,232]
["7:00 AM - 7:59 AM",51,5.1307847082494973E-2,11,12,12,10,6,"7:00 AM - 7:59 AM",2929,6.8775241852164923E-2,670,626,615,543,475]
["8:00 AM - 8:59 AM",44,4.4265593561368208E-2,11,10,5,12,6,"8:00 AM - 8:59 AM",2321,5.4498919883535266E-2,522,535,497,412,355]
["9:00 AM - 9:59 AM",35,3.5211267605633804E-2,7,8,2,8,10,"9:00 AM - 9:59 AM",1677,3.9377289377289376E-2,364,408,351,296,258]
["10:00 AM - 10:59 AM",33,3.3199195171026159E-2,12,5,4,5,7,"10:00 AM - 10:59 AM",1687,3.9612097304405E-2,359,400,352,302,274]
["11:00 AM - 11:59 AM",46,4.6277665995975853E-2,7,13,9,9,8,"11:00 AM - 11:59 AM",1986,4.6632854325162017E-2,387,453,414,392,340]
["12:00 PM - 12:59 PM",56,5.6338028169014086E-2,24,10,8,2,12,"12:00 PM - 12:59 PM",2401,5.6377383300460222E-2,527,537,512,420,405]
["1:00 PM - 1:59 PM",48,4.8289738430583498E-2,7,8,13,11,9,"1:00 PM - 1:59 PM",2439,5.7269653423499579E-2,510,546,532,431,420]
["2:00 PM - 2:59 PM",48,4.8289738430583498E-2,12,12,5,6,13,"2:00 PM - 2:59 PM",2672,6.2740678125293506E-2,614,595,568,440,455]
["3:00 PM - 3:59 PM",64,6.4386317907444673E-2,16,9,10,16,13,"3:00 PM - 3:59 PM",3363,7.8965905888982807E-2,759,749,686,621,548]
["4:00 PM - 4:59 PM",73,7.344064386317907E-2,17,15,12,14,15,"4:00 PM - 4:59 PM",3586,8.420212266366113E-2,790,856,783,624,533]
["5:00 PM - 5:59 PM",62,6.2374245472837021E-2,12,16,11,14,9,"5:00 PM - 5:59 PM",4109,9.6482577251808019E-2,858,898,881,738,734]
["6:00 PM - 6:59 PM",71,7.1428571428571425E-2,20,11,11,16,13,"6:00 PM - 6:59 PM",2823,6.6286277824739365E-2,651,586,577,540,469]
["7:00 PM - 7:59 PM",52,5.2313883299798795E-2,13,9,8,12,10,"7:00 PM - 7:59 PM",1651,3.8766788766788768E-2,393,375,344,300,239]
["8:00 PM - 8:59 PM",62,6.2374245472837021E-2,17,12,9,18,6,"8:00 PM - 8:59 PM",1418,3.3295764064994834E-2,286,324,299,282,227]
["9:00 PM - 9:59 PM",43,4.3259557344064385E-2,8,11,7,9,8,"9:00 PM - 9:59 PM",1197,2.8106508875739646E-2,260,274,246,207,210]
["10:00 PM - 10:59 PM",31,3.1187122736418511E-2,7,10,4,5,5,"10:00 PM - 10:59 PM",984,2.310510002817695E-2,222,235,198,151,178]
["11:00 PM - 11:59 PM",27,2.716297786720322E-2,6,4,4,7,6,"11:00 PM - 11:59 PM",752,1.7657556119094579E-2,175,164,143,154,116]
["Unknown",1,1.006036217303823E-3,0,0,0,1,0,"Unknown",26,6.105006105006105E-4,1,4,6,10,5]
[{"$f":"CONCATENATE(\"Fatal and Serious Injury Crashes Only - \",A62, \"\n\",Instructions!$B$11)","v":"Fatal and Serious Injury Crashes Only - Crash Month\nTest Group 2"},null,null,null,null,null,null,null,{"$f":"CONCATENATE(\"Total Crashes - \",I62, \"\n\",Instructions!$B$11)","v":"Total Crashes - Crash Month\nTest Group 2"}]
["Crash Month","Number of Crashes","Percent of Crashes","Year 5 Crashes","Year 4 Crashes","Year 3 Crashes","Year 2 Crashes","Year 1 Crashes","Crash Month","Number of Crashes","Percent of Crashes","Year 5 Crashes","Year 4 Crashes","Year 3 Crashes","Year 2 Crashes","Year 1 Crashes"]
["January",{"$f":"SUM(D63:H63)","v":62},{"$f":"B63/SUM(B$63:B$74)","v":6.2374245472837021E-2},22,9,7,12,12,"January",{"$f":"SUM(L63:P63)","v":3468},{"$f":"J63/SUM(J$63:J$74)","v":8.143138912369681E-2},782,793,735,643,515]
["February",58,{"$f":"B64/SUM(B$63:B$74)","v":5.8350100603621731E-2},16,11,9,9,13,"February",3283,{"$f":"J64/SUM(J$63:J$74)","v":7.7087442472057857E-2},715,751,661,554,602]
["March",96,9.6579476861166996E-2,30,13,15,17,21,"March",3209,7.5349863811402268E-2,784,646,676,599,504]
["April",81,8.1488933601609664E-2,19,15,15,20,12,"April",3291,7.7275288813750356E-2,718,749,637,633,554]
["May",92,9.2555331991951706E-2,23,20,14,21,14,"May",3476,8.1619235465389309E-2,782,787,737,567,603]
["June",88,8.8531187122736416E-2,21,22,14,14,17,"June",3462,8.1290504367427449E-2,796,787,748,575,556]
["July",90,9.0543259557344061E-2,19,23,15,14,19,"July",3376,7.9271156194233111E-2,724,791,694,606,561]
["August",104,0.10462776659959759,26,18,9,30,21,"August",3608,8.4718700103315489E-2,776,757,785,683,607]
["September",97,9.7585513078470826E-2,24,23,20,14,16,"September",3640,8.5470085470085472E-2,784,839,798,670,549]
["October",80,8.0482897384305835E-2,14,21,14,19,12,{"$f":"A72","v":"October"},3950,9.2749131210669675E-2,836,920,806,707,681]
["November",84,8.4507042253521125E-2,17,17,16,16,18,"November",3793,8.9062646754954441E-2,816,897,826,681,573]
["December",62,6.2374245472837021E-2,17,13,12,13,7,"December",4032,9.4674556213017749E-2,834,868,860,780,690]
[{"$f":"CONCATENATE(\"Fatal and Serious Injury Crashes Only - \",A76, \"\n\",Instructions!$B$11)","v":"Fatal and Serious Injury Crashes Only - Crash Jurisdiction\nTest Group 2"},null,null,null,null,null,null,null,{"$f":"CONCATENATE(\"Total Crashes - \",I76, \"\n\",Instructions!$B$11)","v":"Total Crashes - Crash Jurisdiction\nTest Group 2"}]
["Crash Jurisdiction","Number of Crashes","Percent of Crashes","Year 5 Crashes","Year 4 Crashes","Year 3 Crashes","Year 2 Crashes","Year 1 Crashes","Crash Jurisdiction","Number of Crashes","Percent of Crashes","Year 5 Crashes","Year 4 Crashes","Year 3 Crashes","Year 2 Crashes","Year 1 Crashes"]
["A",{"$f":"SUM(D77:H77)","v":9},{"$f":"B77/SUM(B$77:B$81)","v":9.0543259557344068E-3},3,2,2,1,1,"A",{"$f":"SUM(L77:P77)","v":81},{"$f":"J77/SUM(J$77:J$81)","v":1.9019442096365174E-3},18,29,16,10,8]
["B",{"$f":"SUM(D78:H78)","v":64},{"$f":"B78/SUM(B$77:B$81)","v":6.4386317907444673E-2},9,12,10,13,20,"B",{"$f":"SUM(L78:P78)","v":2068},{"$f":"J78/SUM(J$77:J$81)","v":4.8558279327510098E-2},397,454,436,448,333]
["C",{"$f":"SUM(D79:H79)","v":99},9.9597585513078471E-2,19,23,18,16,23,"C",{"$f":"SUM(L79:P79)","v":2714},6.3726871419179112E-2,498,612,550,554,500]
["D",{"$f":"SUM(D80:H80)","v":815},0.81991951710261568,217,166,127,168,137,"D",{"$f":"SUM(L80:P80)","v":37556},0.88184465107542032,8408,8455,7911,6654,6128]
["E",{"$f":"SUM(D81:H81)","v":7},7.0422535211267607E-3,0,2,3,1,1,"E",{"$f":"SUM(L81:P81)","v":169},3.968253968253968E-3,26,35,50,32,26]
[{"$f":"CONCATENATE(\"Fatal and Serious Injury Crashes Only - \",A83, \"\n\",Instructions!$B$11)","v":"Fatal and Serious Injury Crashes Only - First Harmful Event\nTest Group 2"},null,null,null,null,null,null,null,{"$f":"CONCATENATE(\"Total Crashes - \",I83, \"\n\",Instructions!$B$11)","v":"Total Crashes - First Harmful Event\nTest Group 2"}]
["First Harmful Event","Number of Crashes","Percent of Crashes","Year 5 Crashes","Year 4 Crashes","Year 3 Crashes","Year 2 Crashes","Year 1 Crashes","First Harmful Event","Number of Crashes","Percent of Crashes","Year 5 Crashes","Year 4 Crashes","Year 3 Crashes","Year 2 Crashes","Year 1 Crashes"]
["Cargo/Equipment Loss or Shift",{"$f":"SUM(D84:H84)","v":0},{"$f":"B84/SUM(B$84:B$125)","v":0},0,0,0,0,0,"Cargo/Equipment Loss or Shift",{"$f":"SUM(L84:P84)","v":9},{"$f":"J84/SUM(J$84:J$125)","v":2.1120811039143902E-4},1,0,4,4,0]
["Fell/Jumped from Motor Vehicle",103,{"$f":"B85/SUM(B$84:B$125)","v":0.10362173038229376},32,12,17,27,15,"Fell/Jumped from Motor Vehicle",2978,{"$f":"J85/SUM(J$84:J$125)","v":6.9886416971745052E-2},657,657,616,544,504]
["Fire/Explosion",1,1.006036217303823E-3,0,0,0,0,1,"Fire/Explosion",30,7.0402703463813012E-4,10,7,6,2,5]
["Immersion, Full or Partial",35,3.5211267605633804E-2,6,9,5,10,5,"Immersion, Full or Partial",406,9.5278325354360271E-3,82,81,78,96,69]
["Jackknife",3,3.0181086519114686E-3,1,1,1,0,0,"Jackknife",71,1.6661973153102411E-3,12,17,13,14,15]
["Other Non-Collision",122,0.1227364185110664,36,25,20,15,26,"Other Non-Collision",4873,0.11435745799305359,1151,1087,1006,848,781]
["Overturn/Rollover",1,1.006036217303823E-3,1,0,0,0,0,"Overturn/Rollover",188,4.4119027503989484E-3,34,41,41,47,25]
["Thrown or Falling Object",27,2.716297786720322E-2,5,5,5,7,5,"Thrown or Falling Object",625,1.4667229888294378E-2,116,121,172,130,86]
["Collision with Animal",2,2.012072434607646E-3,1,0,0,1,0,"Collision with Animal",41,9.6217028067211113E-4,11,6,8,7,9]
["Collision with Construction Equipment",6,6.0362173038229373E-3,1,1,2,1,1,"Collision with Construction Equipment",60,1.4080540692762602E-3,9,17,12,11,11]
["Collision with Farm Equipment",5,5.0301810865191147E-3,2,1,1,1,0,"Collision with Farm Equipment",495,1.1616446071529146E-2,92,117,83,120,83]
["Collision with Motor Vehicle in Transport",0,0,0,0,0,0,0,"Collision with Motor Vehicle in Transport",29,6.8055946681685911E-4,6,6,6,6,5]
["Collision with Other Non-Fixed Object",1,1.006036217303823E-3,0,0,0,0,1,"Collision with Other Non-Fixed Object",38,8.917675772082981E-4,6,7,8,9,8]
["Collision with Other Non-motorist",4,4.0241448692152921E-3,1,1,1,0,1,"Collision with Other Non-motorist",165,3.8721486905097155E-3,39,42,31,31,22]
["Collision with Parked Motor Vehicle",6,6.0362173038229373E-3,1,1,3,1,0,"Collision with Parked Motor Vehicle",515,1.2085797427954566E-2,85,105,105,131,89]
["Collision with Pedalcycle",14,1.4084507042253521E-2,1,3,4,2,4,"Collision with Pedalcycle",347,8.1432460339810383E-3,74,71,70,74,58]
["Collision with Pedestrian",16,1.6096579476861168E-2,6,6,2,1,1,"Collision with Pedestrian",174,4.0833568009011542E-3,36,44,42,36,16]
["Collision with Railway Vehicle",5,5.0301810865191147E-3,1,1,2,1,0,"Collision with Railway Vehicle",210,4.9281892424669106E-3,45,46,51,37,31]
["Strikes Object ar Rest from MV in Transport",2,2.012072434607646E-3,1,1,0,0,0,"Strikes Object ar Rest from MV in Transport",60,1.4080540692762602E-3,12,17,7,9,15]
["Struck by Falling, Shifting Cargo, or Anything Set in Motion by Motor Vehicle",22,2.2132796780684104E-2,4,6,4,1,7,"Struck by Falling, Shifting Cargo, or Anything Set in Motion by Motor Vehicle",539,1.2649019055665071E-2,120,126,103,99,91]
["Collision with Bridge Overhead Structure",1,1.006036217303823E-3,0,0,0,0,1,"Collision with Bridge Overhead Structure",39,9.1523514502956911E-4,5,12,9,9,4]
["Collision with Bridge Pier or Support",6,6.0362173038229373E-3,1,1,2,0,2,"Collision with Bridge Pier or Support",340,7.9789730592321403E-3,55,86,70,71,58]
["Collision with Bridge Rail",9,9.0543259557344068E-3,3,1,1,2,2,"Collision with Bridge Rail",84,1.9712756969867645E-3,19,21,13,17,14]
["Collision with Cable Barrier",5,5.0301810865191147E-3,0,1,1,3,0,"Collision with Cable Barrier",263,6.1719703369942742E-3,54,75,49,44,41]
["Collision with Concrete Traffic Barrier",108,0.10865191146881288,22,16,12,25,33,"Collision with Concrete Traffic Barrier",708,1.6615038017459869E-2,153,141,120,148,146]
["Collision with Culvert",18,1.8108651911468814E-2,8,2,2,3,3,"Collision with Culvert",2976,6.9839481836102502E-2,641,626,638,554,517]
["Collision with Curb",145,0.14587525150905434,38,27,25,32,23,"Collision with Curb",574,1.3470383929409555E-2,132,103,125,114,100]
["Collision with Ditch",0,0,0,0,0,0,0,"Collision with Ditch",7,1.6427297474889702E-4,0,2,1,1,3]
["Collision with Embankment",93,9.3561368209255535E-2,21,26,14,17,15,"Collision with Embankment",15157,0.35569792546700457,3358,3538,3158,2610,2493]
["Collision with Fence",0,0,0,0,0,0,0,"Collision with Fence",13,3.0507838167652304E-4,2,1,6,2,2]
["Collision with Guardrail End Terminal",8,8.0482897384305842E-3,3,2,2,0,1,"Collision with Guardrail End Terminal",371,8.7064676616915426E-3,93,97,83,53,45]
["Collision with Guardrail Face",17,1.7102615694164991E-2,4,5,2,4,2,"Collision with Guardrail Face",4888,0.11470947151037267,1070,1155,1087,823,753]
["Collision with Impact Attenuator/Crash Cushion",1,1.006036217303823E-3,0,0,0,1,0,"Collision with Impact Attenuator/Crash Cushion",591,1.3869332582371163E-2,104,135,120,111,121]
["Collision with Mailbox",8,8.0482897384305842E-3,3,2,0,2,1,"Collision with Mailbox",102,2.3936919177696423E-3,19,27,19,17,20]
["Collision with Other Fixed Object",16,1.6096579476861168E-2,1,4,5,2,4,"Collision with Other Fixed Object",294,6.8994649394536747E-3,47,58,60,58,71]
["Collision with Other Post, Pole, or Support",171,0.17203219315895371,41,41,25,36,28,"Collision with Other Post, Pole, or Support",3824,8.9739979348540319E-2,900,800,800,700,624]
["Collision with Other Traffic Barrier",7,7.0422535211267607E-3,2,3,0,2,0,"Collision with Other Traffic Barrier",169,3.9660189617947992E-3,37,40,34,29,29]
["Collision with Traffic Sign Support",6,6.0362173038229373E-3,1,1,2,2,0,"Collision with Traffic Sign Support",133,3.1211865202290436E-3,19,26,28,37,23]
["Collision with Traffic Signal Support",0,0,0,0,0,0,0,"Collision with Traffic Signal Support",75,1.7600675865953252E-3,15,24,16,12,8]
["Collision with Tree",0,0,0,0,0,0,0,"Collision with Tree",151,3.5436027410119214E-3,26,3,65,33,24]
["Collision with Utility Pole or Light Support",0,0,0,0,0,0,0,"Collision with Utility Pole or Light Support",0,0,0,0,0,0,0]
["Unknown",0,0,0,0,0,0,0,"Unknown",0,0,0,0,0,0,0]
[{"$f":"CONCATENATE(\"Fatal and Serious Injury Crashes Only - \",A127, \"\n\",Instructions!$B$11)","v":"Fatal and Serious Injury Crashes Only - Location of First Harmful Event\nTest Group 2"},null,null,null,null,null,null,null,{"$f":"CONCATENATE(\"Total Crashes - \",I127, \"\n\",Instructions!$B$11)","v":"Total Crashes - Location of First Harmful Event\nTest Group 2"}]
["Location of First Harmful Event","Number of Crashes","Percent of Crashes","Year 5 Crashes","Year 4 Crashes","Year 3 Crashes","Year 2 Crashes","Year 1 Crashes","Location of First Harmful Event","Number of Crashes","Percent of Crashes","Year 5 Crashes","Year 4 Crashes","Year 3 Crashes","Year 2 Crashes","Year 1 Crashes"]
["Gore",{"$f":"SUM(D128:H128)","v":150},{"$f":"B128/SUM(B$128:B$138)","v":0.15090543259557343},44,23,20,38,25,"Gore",{"$f":"SUM(L128:P128)","v":3463},{"$f":"J128/SUM(J$128:J$138)","v":8.1313985160139005E-2},777,759,714,621,592]
["In Parking Lane or Zone",{"$f":"SUM(D129:H129)","v":180},{"$f":"B129/SUM(B$128:B$138)","v":0.18108651911468812},49,39,31,26,35,"In Parking Lane or Zone",{"$f":"SUM(L129:P129)","v":5695},{"$f":"J129/SUM(J$128:J$138)","v":0.13372311449234525},1334,1290,1194,997,880]
["Median",{"$f":"SUM(D130:H130)","v":7},7.0422535211267607E-3,1,0,4,2,0,"Median",{"$f":"SUM(L130:P130)","v":517},1.2139569831877525E-2,92,101,113,125,86]
["Off-Roadway, Location Unknown",{"$f":"SUM(D131:H131)","v":18},1.8108651911468814E-2,1,4,5,3,5,"Off-Roadway, Location Unknown",{"$f":"SUM(L131:P131)","v":348},8.1713158636235565E-3,66,72,74,73,63]
["On Roadway",25,2.5150905432595575E-2,8,8,4,3,2,"On Roadway",223,5.236216774678313E-3,50,52,51,46,24]
["On Shoulder, Left Side",5,5.0301810865191147E-3,0,1,2,1,1,"On Shoulder, Left Side",222,5.2127359819667514E-3,48,50,48,41,35]
["On Shoulder, Right Side",77,7.746478873239436E-2,11,11,9,21,25,"On Shoulder, Right Side",528,1.2397858551704706E-2,97,102,84,133,112]
["Outside Road/Right-of-Way",19,1.9114688128772636E-2,9,2,2,3,3,"Outside Road/Right-of-Way",2945,6.9150934535549921E-2,631,622,630,546,516]
["Roadside",144,0.14486921529175051,39,24,26,31,24,"Roadside",574,1.3477975016436555E-2,134,101,125,113,101]
["Separator/Traffic Island",155,0.15593561368209255,38,40,23,29,25,"Separator/Traffic Island",17847,0.41906170752324601,3995,4040,3746,3124,2942]
["Unknown",{"$f":"SUM(D138:H138)","v":214},0.2152917505030181,48,53,34,42,37,"Unknown",{"$f":"SUM(L138:P138)","v":10226},0.24011458626843243,2123,2396,2184,1879,1644]
[{"$f":"CONCATENATE(\"Fatal and Serious Injury Crashes Only - \",A140, \"\n\",Instructions!$B$11)","v":"Fatal and Serious Injury Crashes Only - Manner of Crash\nTest Group 2"},null,null,null,null,null,null,null,{"$f":"CONCATENATE(\"Total Crashes - \",I140, \"\n\",Instructions!$B$11)","v":"Total Crashes - Manner of Crash\nTest Group 2"}]
["Manner of Crash","Number of Crashes","Percent of Crashes","Year 5 Crashes","Year 4 Crashes","Year 3 Crashes","Year 2 Crashes","Year 1 Crashes","Manner of Crash","Number of Crashes","Percent of Crashes","Year 5 Crashes","Year 4 Crashes","Year 3 Crashes","Year 2 Crashes","Year 1 Crashes"]
["Not a Collision Between Two Motor Vehicles",{"$f":"SUM(D141:H141)","v":896},{"$f":"B141/SUM(B$141:B$150)","v":0.90140845070422537},224,187,141,180,164,{"$f":"A141","v":"Not a Collision Between Two Motor Vehicles"},{"$f":"SUM(L141:P141)","v":35853},{"$f":"J141/SUM(J$141:J$150)","v":0.84185686108763036},8168,7752,7373,6368,6192]
["Angle",1,{"$f":"B142/SUM(B$141:B$150)","v":1.006036217303823E-3},1,0,0,0,0,"Angle",18,{"$f":"J142/SUM(J$141:J$150)","v":4.2265426880811494E-4},7,11,0,0,0]
["Front to Front",4,4.0241448692152921E-3,1,0,0,1,2,"Front to Front",23,5.4005823236592462E-4,5,3,5,3,7]
["Front to Rear",16,1.6096579476861168E-2,3,3,4,4,2,"Front to Rear",1673,3.9283366206443127E-2,241,455,466,343,168]
["Rear to Rear",0,0,0,0,0,0,0,"Rear to Rear",39,9.1575091575091575E-4,17,22,0,0,0]
["Rear to Side",0,0,0,0,0,0,0,"Rear to Side",6,1.4088475626937165E-4,1,1,1,1,2]
["Sideswipe, Opposite Direction",2,2.012072434607646E-3,0,1,0,1,0,"Sideswipe, Opposite Direction",290,6.8094298863529629E-3,51,86,59,53,41]
["Sideswipe, Same Direction",0,0,0,0,0,0,0,"Sideswipe, Same Direction",12,2.8176951253874329E-4,6,6,0,0,0]
["Other",11,1.1066398390342052E-2,5,3,1,1,1,"Other",1231,2.890485582793275E-2,241,301,284,250,155]
["Unknown",64,6.4386317907444673E-2,14,11,14,12,13,"Unknown",3443,8.0844369305907771E-2,610,948,775,680,430]
[{"$f":"CONCATENATE(\"Fatal and Serious Injury Crashes Only - \",A152, \"\n\",Instructions!$B$11)","v":"Fatal and Serious Injury Crashes Only - Weather\nTest Group 2"},null,null,null,null,null,null,null,{"$f":"CONCATENATE(\"Total Crashes - \",I152, \"\n\",Instructions!$B$11)","v":"Total Crashes - Weather\nTest Group 2"}]
["Weather","Number of Crashes","Percent of Crashes","Year 5 Crashes","Year 4 Crashes","Year 3 Crashes","Year 2 Crashes","Year 1 Crashes","Weather","Number of Crashes","Percent of Crashes","Year 5 Crashes","Year 4 Crashes","Year 3 Crashes","Year 2 Crashes","Year 1 Crashes"]
["Blowing Sand, Soil, Dirt",{"$f":"SUM(D153:H153)","v":204},{"$f":"B153/SUM(B$153:B$164)","v":0.20523138832997989},35,38,37,43,51,"Blowing Sand, Soil, Dirt",{"$f":"SUM(L153:P153)","v":5164},{"$f":"J153/SUM(J$153:J$164)","v":0.12125481356250586},951,1139,1053,1103,918]
["Blowing Snow",651,{"$f":"B154/SUM(B$153:B$164)","v":0.65492957746478875},179,134,103,121,114,"Blowing Snow",32859,{"$f":"J154/SUM(J$153:J$164)","v":0.77155536770921385},7317,7420,6912,5804,5406]
["Clear",101,0.10160965794768612,23,22,16,28,12,"Clear",3816,8.960270498732037E-2,872,870,832,661,581]
["Cloudy",29,2.9175050301810865E-2,7,8,4,5,5,"Cloudy",629,1.4769418615572462E-2,170,132,140,110,77]
["Fog, Smog, Smoke",6,6.0362173038229373E-3,4,2,0,0,0,"Fog, Smog, Smoke",93,2.1837137221752605E-3,28,18,22,15,10]
["Freezing Rain or Freezing Drizzle",0,0,0,0,0,0,0,"Freezing Rain or Freezing Drizzle",17,3.9917347609655303E-4,5,4,4,3,1]
["Rain",1,1.006036217303823E-3,0,0,0,1,0,"Rain",5,1.1740396355780971E-4,2,0,0,1,2]
["Severe Crosswinds",0,0,0,0,0,0,0,"Severe Crosswinds",1,2.3480792711561942E-5,1,0,0,0,0]
["Sleet or Hail",1,1.006036217303823E-3,0,1,0,0,0,"Sleet or Hail",2,4.6961585423123884E-5,0,2,0,0,0]
["Snow",0,0,0,0,0,0,0,"Snow",0,0,0,0,0,0,0]
["Other",0,0,0,0,0,0,0,"Other",1,2.3480792711561942E-5,1,0,0,0,0]
["Unknown",1,1.006036217303823E-3,0,0,0,1,0,"Unknown",1,2.3480792711561942E-5,0,0,0,1,0]
[{"$f":"CONCATENATE(\"Fatal and Serious Injury Crashes Only - \",A166, \"\n\",Instructions!$B$11)","v":"Fatal and Serious Injury Crashes Only - Light Conditions\nTest Group 2"},null,null,null,null,null,null,null,{"$f":"CONCATENATE(\"Total Crashes - \",I166, \"\n\",Instructions!$B$11)","v":"Total Crashes - Light Conditions\nTest Group 2"}]
["Light Conditions","Number of Crashes","Percent of Crashes","Year 5 Crashes","Year 4 Crashes","Year 3 Crashes","Year 2 Crashes","Year 1 Crashes","Light Conditions","Number of Crashes","Percent of Crashes","Year 5 Crashes","Year 4 Crashes","Year 3 Crashes","Year 2 Crashes","Year 1 Crashes"]
["Daylight",{"$f":"SUM(D167:H167)","v":184},{"$f":"B167/SUM(B$167:B$173)","v":0.18511066398390341},38,41,35,38,32,"Daylight",{"$f":"SUM(L167:P167)","v":6560},{"$f":"J167/SUM(J$167:J$173)","v":0.15403400018784635},1451,1493,1368,1187,1061]
["Dawn/Dusk",{"$f":"SUM(D168:H168)","v":156},{"$f":"B168/SUM(B$167:B$173)","v":0.15694164989939638},53,30,17,30,26,"Dawn/Dusk",{"$f":"SUM(L168:P168)","v":7353},{"$f":"J168/SUM(J$167:J$173)","v":0.17265426880811496},1724,1703,1502,1256,1168]
["Dark - Lighted",151,0.15191146881287726,41,25,24,28,33,"Dark - Lighted",5727,0.13447449985911525,1213,1261,1260,1026,967]
["Dark - Not Lighted",102,0.10261569416498995,29,22,14,18,19,"Dark - Not Lighted",3945,9.2631727247111856E-2,875,855,785,723,707]
["Dark - Unknown Lighting",134,0.13480885311871227,24,33,27,25,25,"Dark - Unknown Lighting",6088,0.1429510660279891,1312,1394,1274,1136,972]
["Other",138,0.13883299798792756,31,24,25,34,24,"Other",6384,0.14990138067061143,1310,1436,1359,1177,1102]
["Unknown",129,0.12977867203219315,32,30,18,26,23,"Unknown",6531,0.15335305719921105,1462,1443,1415,1193,1018]
[{"$f":"CONCATENATE(\"Fatal and Serious Injury Crashes Only - \",A175, \"\n\",Instructions!$B$11)","v":"Fatal and Serious Injury Crashes Only - Road Surface Condition\nTest Group 2"},null,null,null,null,null,null,null,{"$f":"CONCATENATE(\"Total Crashes - \",I175, \"\n\",Instructions!$B$11)","v":"Total Crashes - Road Surface Condition\nTest Group 2"}]
["Road Surface Condition","Number of Crashes","Percent of Crashes","Year 5 Crashes","Year 4 Crashes","Year 3 Crashes","Year 2 Crashes","Year 1 Crashes","Road Surface Condition","Number of Crashes","Percent of Crashes","Year 5 Crashes","Year 4 Crashes","Year 3 Crashes","Year 2 Crashes","Year 1 Crashes"]
["Dry",{"$f":"SUM(D176:H176)","v":204},{"$f":"B176/SUM(B$176:B$186)","v":0.20523138832997989},35,38,37,43,51,"Dry",{"$f":"SUM(L176:P176)","v":5164},{"$f":"J176/SUM(J$176:J$186)","v":0.12125481356250586},951,1139,1053,1103,918]
["Ice/Frost",651,{"$f":"B177/SUM(B$176:B$186)","v":0.65492957746478875},179,134,103,121,114,"Ice/Frost",32859,{"$f":"J177/SUM(J$176:J$186)","v":0.77155536770921385},7317,7420,6912,5804,5406]
["Mud, Dirt, Gravel",101,0.10160965794768612,23,22,16,28,12,"Mud, Dirt, Gravel",3816,8.960270498732037E-2,872,870,832,661,581]
["Oil",29,2.9175050301810865E-2,7,8,4,5,5,"Oil",629,1.4769418615572462E-2,170,132,140,110,77]
["Sand",6,6.0362173038229373E-3,4,2,0,0,0,"Sand",93,2.1837137221752605E-3,28,18,22,15,10]
["Sluch",0,0,0,0,0,0,0,"Sluch",17,3.9917347609655303E-4,5,4,4,3,1]
["Snow",1,1.006036217303823E-3,0,0,0,1,0,"Snow",5,1.1740396355780971E-4,2,0,0,1,2]
["Water (Standing, Moving)",0,0,0,0,0,0,0,"Water (Standing, Moving)",1,2.3480792711561942E-5,1,0,0,0,0]
["Wet",1,1.006036217303823E-3,0,1,0,0,0,"Wet",2,4.6961585423123884E-5,0,2,0,0,0]
["Other",0,0,0,0,0,0,0,"Other",0,0,0,0,0,0,0]
["Unknown",1,1.006036217303823E-3,0,0,0,1,0,"Unknown",2,4.6961585423123884E-5,1,0,0,1,0]
[{"$f":"CONCATENATE(\"Fatal and Serious Injury Crashes Only - \",A188, \"\n\",Instructions!$B$11)","v":"Fatal and Serious Injury Crashes Only - Contributing Circumstances - Roadway Environment, Selection 1\nTest Group 2"},null,null,null,null,null,null,null,{"$f":"CONCATENATE(\"Total Crashes - \",I188, \"\n\",Instructions!$B$11)","v":"Total Crashes - Contributing Circumstances - Roadway Environment, Selection 1\nTest Group 2"}]
["Contributing Circumstances - Roadway Environment, Selection 1","Number of Crashes","Percent of Crashes","Year 5 Crashes","Year 4 Crashes","Year 3 Crashes","Year 2 Crashes","Year 1 Crashes","Contributing Circumstances - Roadway Environment, Selection 1","Number of Crashes","Percent of Crashes","Year 5 Crashes","Year 4 Crashes","Year 3 Crashes","Year 2 Crashes","Year 1 Crashes"]
["None",{"$f":"SUM(D189:H189)","v":0},{"$f":"B189/SUM(B$189:B$211)","v":0},0,0,0,0,0,"None",{"$f":"SUM(L189:P189)","v":9},{"$f":"J189/SUM(J$189:J$211)","v":2.1132713440405747E-4},1,0,4,4,0]
["Animal(s)",103,{"$f":"B190/SUM(B$189:B$211)","v":0.10362173038229376},32,12,17,27,15,"Animal(s)",2978,{"$f":"J190/SUM(J$189:J$211)","v":6.9925800695031459E-2},657,657,616,544,504]
["Debris",1,1.006036217303823E-3,0,0,0,0,1,"Debris",30,7.0442378134685823E-4,10,7,6,2,5]
["Glare",35,3.5211267605633804E-2,6,9,5,10,5,"Glare",406,9.5332018408941493E-3,82,81,78,96,69]
["Non-Highway Work",3,3.0181086519114686E-3,1,1,1,0,0,"Non-Highway Work",71,1.667136282520898E-3,12,17,13,14,15]
["Obstructed Crosswalks",122,0.1227364185110664,36,25,20,15,26,"Obstructed Crosswalks",4873,0.11442190288344134,1151,1087,1006,848,781]
["Obstruction in Roadway",1,1.006036217303823E-3,1,0,0,0,0,"Obstruction in Roadway",188,4.4143890297736448E-3,34,41,41,47,25]
["Prior Crash",27,2.716297786720322E-2,5,5,5,7,5,"Prior Crash",625,1.4675495444726214E-2,116,121,172,130,86]
["Prior Non-Recurring Incident",2,2.012072434607646E-3,1,0,0,1,0,"Prior Non-Recurring Incident",41,9.6271250117403967E-4,11,6,8,7,9]
["Regular Congestion",6,6.0362173038229373E-3,1,1,2,1,1,"Regular Congestion",60,1.4088475626937165E-3,9,17,12,11,11]
["Related to a Bus Stop",5,5.0301810865191147E-3,2,1,1,1,0,"Related to a Bus Stop",495,1.1622992392223161E-2,92,117,83,120,83]
["Road Surface Condition (wet, icy, snow, slush, etc.)",0,0,0,0,0,0,0,"Road Surface Condition (wet, icy, snow, slush, etc.)",29,6.8094298863529638E-4,6,6,6,6,5]
["Ruts, Holes, Bumps",1,1.006036217303823E-3,0,0,0,0,1,"Ruts, Holes, Bumps",38,8.9227012303935379E-4,6,7,8,9,8]
["Shoulders (none, low, soft, high)",4,4.0241448692152921E-3,1,1,1,0,1,"Shoulders (none, low, soft, high)",165,3.8743307974077206E-3,39,42,31,31,22]
["Toll Booth/Plaza Related",6,6.0362173038229373E-3,1,1,3,1,0,"Toll Booth/Plaza Related",515,1.20926082464544E-2,85,105,105,131,89]
["Traffic Control Device",14,1.4084507042253521E-2,1,3,4,2,4,"Traffic Control Device",347,8.1478350709119941E-3,74,71,70,74,58]
["Traffic Incident",16,1.6096579476861168E-2,6,6,2,1,1,"Traffic Incident",174,4.0856579318117783E-3,36,44,42,36,16]
["Visual Obstruction(s)",5,5.0301810865191147E-3,1,1,2,1,0,"Visual Obstruction(s)",210,4.9309664694280079E-3,45,46,51,37,31]
["Weather Conditions",2,2.012072434607646E-3,1,1,0,0,0,"Weather Conditions",60,1.4088475626937165E-3,12,17,7,9,15]
["Work Zone (construction/maintenance/utility)",22,2.2132796780684104E-2,4,6,4,1,7,{"$f":"A208","v":"Work Zone (construction/maintenance/utility)"},539,1.2656147271531887E-2,120,126,103,99,91]
["Worn, Travel-polished Surface",1,1.006036217303823E-3,0,0,0,0,1,"Worn, Travel-polished Surface",39,9.1575091575091575E-4,5,12,9,9,4]
["Other",6,6.0362173038229373E-3,1,1,2,0,2,"Other",340,7.9834695219310609E-3,55,86,70,71,58]
["Unknown",612,0.61569416498993967,147,131,91,131,112,"Unknown",30356,0.71278294355217431,6689,6872,6422,5363,5010]
[{"$f":"CONCATENATE(\"Fatal and Serious Injury Crashes Only - \",A213, \"\n\",Instructions!$B$11)","v":"Fatal and Serious Injury Crashes Only - Contributing Circumstances - Roadway Environment, Selection 2\nTest Group 2"},null,null,null,null,null,null,null,{"$f":"CONCATENATE(\"Total Crashes - \",I213, \"\n \",Instructions!$B$11)","v":"Total Crashes - Contributing Circumstances - Roadway Environment, Selection 2\n Test Group 2"}]
["Contributing Circumstances - Roadway Environment, Selection 2","Number of Crashes","Percent of Crashes","Year 5 Crashes","Year 4 Crashes","Year 3 Crashes","Year 2 Crashes","Year 1 Crashes","Contributing Circumstances - Roadway Environment, Selection 2","Number of Crashes","Percent of Crashes","Year 5 Crashes","Year 4 Crashes","Year 3 Crashes","Year 2 Crashes","Year 1 Crashes"]
["None",{"$f":"SUM(D214:H214)","v":150},{"$f":"B214/SUM(B$214:B$236)","v":0.15090543259557343},44,23,20,38,25,"None",{"$f":"SUM(L214:P214)","v":3463},{"$f":"J214/SUM(J$214:J$236)","v":8.1313985160139005E-2},777,759,714,621,592]
["Animal(s)",1,{"$f":"B215/SUM(B$214:B$236)","v":1.006036217303823E-3},0,0,0,0,1,"Animal(s)",26,{"$f":"J215/SUM(J$214:J$236)","v":6.105006105006105E-4},9,5,6,2,4]
["Debris",35,3.5211267605633804E-2,6,9,5,10,5,"Debris",409,9.6036442190288347E-3,83,81,79,96,70]
["Glare",3,3.0181086519114686E-3,1,1,1,0,0,"Glare",68,1.5966939043862121E-3,9,20,12,12,15]
["Non-Highway Work",180,0.18108651911468812,49,39,31,26,35,"Non-Highway Work",5695,0.13372311449234525,1334,1290,1194,997,880]
["Obstructed Crosswalks",1,1.006036217303823E-3,1,0,0,0,0,"Obstructed Crosswalks",183,4.2969850662158355E-3,32,42,41,46,22]
["Obstruction in Roadway",12,1.2072434607645875E-2,2,2,1,4,3,"Obstruction in Roadway",534,1.2538743307974077E-2,100,90,157,115,72]
["Prior Crash",2,2.012072434607646E-3,1,0,0,1,0,"Prior Crash",47,1.1035972574434112E-3,14,6,11,8,8]
["Prior Non-Recurring Incident",155,0.15593561368209255,38,40,23,29,25,"Prior Non-Recurring Incident",17847,0.41906170752324601,3995,4040,3746,3124,2942]
["Regular Congestion",8,8.0482897384305842E-3,3,2,0,3,0,"Regular Congestion",476,1.1176857330703484E-2,118,109,72,108,69]
["Related to a Bus Stop",0,0,0,0,0,0,0,"Related to a Bus Stop",20,4.6961585423123885E-4,5,5,4,2,4]
["Road Surface Condition (wet, icy, snow, slush, etc.)",1,1.006036217303823E-3,0,0,0,0,1,"Road Surface Condition (wet, icy, snow, slush, etc.)",51,1.197520428289659E-3,11,10,9,12,9]
["`",6,6.0362173038229373E-3,2,1,1,0,2,"`",182,4.2735042735042739E-3,38,48,34,35,27]
["Shoulders (none, low, soft, high)",7,7.0422535211267607E-3,1,0,4,2,0,"Shoulders (none, low, soft, high)",517,1.2139569831877525E-2,92,101,113,125,86]
["Toll Booth/Plaza Related",18,1.8108651911468814E-2,1,4,5,3,5,"Toll Booth/Plaza Related",348,8.1713158636235565E-3,66,72,74,73,63]
["Traffic Control Device",25,2.5150905432595575E-2,8,8,4,3,2,"Traffic Control Device",223,5.236216774678313E-3,50,52,51,46,24]
["Traffic Incident",5,5.0301810865191147E-3,0,1,2,1,1,"Traffic Incident",222,5.2127359819667514E-3,48,50,48,41,35]
["Visual Obstruction(s)",3,3.0181086519114686E-3,2,1,0,0,0,"Visual Obstruction(s)",64,1.5027707335399643E-3,11,17,11,11,14]
["Weather Conditions",17,1.7102615694164991E-2,2,4,5,0,6,"Weather Conditions",496,1.1646473184934723E-2,95,116,98,96,91]
["Work Zone (construction/maintenance/utility)",2,2.012072434607646E-3,0,0,0,1,1,"Work Zone (construction/maintenance/utility)",50,1.1740396355780971E-3,8,13,11,13,5]
["Worn, Travel-polished Surface",13,1.3078470824949699E-2,1,4,2,2,4,"Worn, Travel-polished Surface",325,7.631257631257631E-3,51,85,59,71,59]
["Other",9,9.0543259557344068E-3,2,1,1,3,2,"Other",146,3.4281957358880434E-3,26,51,32,22,15]
["Unknown",341,0.34305835010060365,84,65,55,73,64,"Unknown",11196,0.26289095519864752,2375,2523,2387,2022,1889]
[{"$f":"CONCATENATE(\"Fatal and Serious Injury Crashes Only - \",A238, \"\n\",Instructions!$B$11)","v":"Fatal and Serious Injury Crashes Only - Within Interchange Area\nTest Group 2"},null,null,null,null,null,null,null,{"$f":"CONCATENATE(\"Total Crashes - \",I238, \"\n\",Instructions!$B$11)","v":"Total Crashes - Within Interchange Area\nTest Group 2"}]
["Within Interchange Area","Number of Crashes","Percent of Crashes","Year 5 Crashes","Year 4 Crashes","Year 3 Crashes","Year 2 Crashes","Year 1 Crashes","Within Interchange Area","Number of Crashes","Percent of Crashes","Year 5 Crashes","Year 4 Crashes","Year 3 Crashes","Year 2 Crashes","Year 1 Crashes"]
["No",{"$f":"SUM(D239:H239)","v":838},{"$f":"B239/SUM(B$239:B$241)","v":0.84305835010060359},92,205,160,199,182,"No",{"$f":"SUM(L239:P239)","v":36340},{"$f":"J239/SUM(J$239:J$241)","v":0.853292007138161},3151,9585,8914,7698,6992]
["Yes",155,{"$f":"B240/SUM(B$239:B$241)","v":0.15593561368209255},155,0,0,0,0,"Yes",6108,{"$f":"J240/SUM(J$239:J$241)","v":0.14342068188222035},6103,0,2,0,3]
["Unknown",1,1.006036217303823E-3,1,0,0,0,0,"Unknown",140,3.2873109796186721E-3,93,0,47,0,0]
[{"$f":"CONCATENATE(\"Fatal and Serious Injury Crashes Only - \",A243, \"\n\",Instructions!$B$11)","v":"Fatal and Serious Injury Crashes Only - Relation to Junction\nTest Group 2"},null,null,null,null,null,null,null,{"$f":"CONCATENATE(\"Total Crashes - \",I243, \"\n\",Instructions!$B$11)","v":"Total Crashes - Relation to Junction\nTest Group 2"}]
["Relation to Junction","Number of Crashes","Percent of Crashes","Year 5 Crashes","Year 4 Crashes","Year 3 Crashes","Year 2 Crashes","Year 1 Crashes","Relation to Junction","Number of Crashes","Percent of Crashes","Year 5 Crashes","Year 4 Crashes","Year 3 Crashes","Year 2 Crashes","Year 1 Crashes"]
["Acceleration/Deceleration Lane",651,{"$f":"B244/SUM(B$244:B$254)","v":0.65492957746478875},179,134,103,121,114,"Acceleration/Deceleration Lane",32859,{"$f":"J244/SUM(J$244:J$254)","v":0.77155536770921385},7317,7420,6912,5804,5406]
["Crossover-Related",101,{"$f":"B245/SUM(B$244:B$254)","v":0.10160965794768612},23,22,16,28,12,"Crossover-Related",3816,{"$f":"J245/SUM(J$244:J$254)","v":8.960270498732037E-2},872,870,832,661,581]
["Driveway Access or Related",29,2.9175050301810865E-2,7,8,4,5,5,"Driveway Access or Related",629,1.4769418615572462E-2,170,132,140,110,77]
["Entrance/Exit Ramp or Related",6,6.0362173038229373E-3,4,2,0,0,0,"Entrance/Exit Ramp or Related",93,2.1837137221752605E-3,28,18,22,15,10]
["Intersection or Related",0,0,0,0,0,0,0,"Intersection or Related",17,3.9917347609655303E-4,5,4,4,3,1]
["Non-Junction",1,1.006036217303823E-3,0,0,0,1,0,"Non-Junction",5,1.1740396355780971E-4,2,0,0,1,2]
["Railway Grade Crossing",0,0,0,0,0,0,0,"Railway Grade Crossing",1,2.3480792711561942E-5,1,0,0,0,0]
["Shared-Use Path or Trail",1,1.006036217303823E-3,0,1,0,0,0,"Shared-Use Path or Trail",2,4.6961585423123884E-5,0,2,0,0,0]
["Through Roadway",0,0,0,0,0,0,0,"Through Roadway",0,0,0,0,0,0,0]
["Other",0,0,0,0,0,0,0,"Other",1,2.3480792711561942E-5,1,0,0,0,0]
["Unknown",205,0.20623742454728369,35,38,37,44,51,"Unknown",5165,0.12127829435521743,951,1139,1053,1104,918]
[{"$f":"CONCATENATE(\"Fatal and Serious Injury Crashes Only - \",A256, \"\n\",Instructions!$B$11)","v":"Fatal and Serious Injury Crashes Only - Type of Intersection\nTest Group 2"},null,null,null,null,null,null,null,{"$f":"CONCATENATE(\"Total Crashes - \",I256, \"\n\",Instructions!$B$11)","v":"Total Crashes - Type of Intersection\nTest Group 2"}]
["Type of Intersection","Number of Crashes","Percent of Crashes","Year 5 Crashes","Year 4 Crashes","Year 3 Crashes","Year 2 Crashes","Year 1 Crashes","Type of Intersection","Number of Crashes","Percent of Crashes","Year 5 Crashes","Year 4 Crashes","Year 3 Crashes","Year 2 Crashes","Year 1 Crashes"]
["Not at Intersection",295,{"$f":"B257/SUM(B$257:B$261)","v":0.29678068410462777},80,61,35,68,51,"Not at Intersection",8798,{"$f":"J257/SUM(J$257:J$261)","v":0.20658401427632198},1936,1938,1736,1649,1539]
["Two-Leg",58,{"$f":"B258/SUM(B$257:B$261)","v":5.8350100603621731E-2},12,11,13,11,11,"Two-Leg",1839,{"$f":"J258/SUM(J$257:J$261)","v":4.3181177796562414E-2},387,431,411,321,289]
["Three-Leg",45,4.527162977867203E-2,13,8,14,5,5,"Three-Leg",1823,4.2805485113177423E-2,382,424,394,376,247]
["Four-Leg",595,0.59859154929577463,142,125,98,115,115,"Four-Leg",30098,0.70672489903259139,6632,6778,6416,5352,4920]
["Five or More Legs",1,1.006036217303823E-3,1,0,0,0,0,"Five or More Legs",30,7.0442378134685823E-4,10,14,6,0,0]
[{"$f":"CONCATENATE(\"Fatal and Serious Injury Crashes Only - \",A263, \"\n\",Instructions!$B$11)","v":"Fatal and Serious Injury Crashes Only - Intersection Geometry\nTest Group 2"},null,null,null,null,null,null,null,{"$f":"CONCATENATE(\"Total Crashes - \",I263, \"\n\",Instructions!$B$11)","v":"Total Crashes - Intersection Geometry\nTest Group 2"}]
["Intersection Geometry","Number of Crashes","Percent of Crashes","Year 5 Crashes","Year 4 Crashes","Year 3 Crashes","Year 2 Crashes","Year 1 Crashes","Intersection Geometry","Number of Crashes","Percent of Crashes","Year 5 Crashes","Year 4 Crashes","Year 3 Crashes","Year 2 Crashes","Year 1 Crashes"]
["Angled or Skewed",286,{"$f":"B264/SUM(B$264:B$267)","v":0.28772635814889336},87,54,40,51,54,"Angled or Skewed",11077,{"$f":"J264/SUM(J$264:J$267)","v":0.26009674086597162},2520,2568,2349,1889,1751]
["Roundabout or Traffic Circle",623,{"$f":"B265/SUM(B$264:B$267)","v":0.62676056338028174},142,138,103,135,105,"Roundabout or Traffic Circle",28623,{"$f":"J265/SUM(J$264:J$267)","v":0.67209072978303752},6262,6412,6043,5223,4683]
["Perpindicular",29,2.9175050301810865E-2,8,9,5,7,0,"Perpindicular",1284,3.0149337841645533E-2,265,277,234,257,251]
["Not at Intersection",56,5.6338028169014086E-2,11,4,12,6,23,"Not at Intersection",1604,3.7663191509345356E-2,300,328,337,329,310]
[{"$f":"CONCATENATE(\"Fatal and Serious Injury Crashes Only - \",A269, \"\n\",Instructions!$B$11)","v":"Fatal and Serious Injury Crashes Only - Traffic Control Device\nTest Group 2"},null,null,null,null,null,null,null,{"$f":"CONCATENATE(\"Total Crashes - \",I269, \"\n\",Instructions!$B$11)","v":"Total Crashes - Traffic Control Device\nTest Group 2"}]
["Traffic Control Device","Number of Crashes","Percent of Crashes","Year 5 Crashes","Year 4 Crashes","Year 3 Crashes","Year 2 Crashes","Year 1 Crashes","Traffic Control Device","Number of Crashes","Percent of Crashes","Year 5 Crashes","Year 4 Crashes","Year 3 Crashes","Year 2 Crashes","Year 1 Crashes"]
["Signalized",6,{"$f":"B270/SUM(B$270:B$275)","v":6.0362173038229373E-3},0,1,3,1,1,"Signalized",138,{"$f":"J270/SUM(J$270:J$275)","v":3.2403493941955482E-3},19,22,39,32,26]
["Stop - All Way",9,{"$f":"B271/SUM(B$270:B$275)","v":9.0543259557344068E-3},3,2,2,1,1,"Stop - All Way",81,{"$f":"J271/SUM(J$270:J$275)","v":1.9019442096365174E-3},18,29,16,10,8]
["Stop - Partial",64,6.4386317907444673E-2,9,12,10,13,20,"Stop - Partial",2068,4.8558279327510098E-2,397,454,436,448,333]
["Yield",99,9.9597585513078471E-2,19,23,18,16,23,"Yield",2714,6.3726871419179112E-2,498,612,550,554,500]
["No Controls",815,0.81991951710261568,217,166,127,168,137,"No Controls",37556,0.88184465107542032,8408,8455,7911,6654,6128]
["Not an Intersection",1,1.006036217303823E-3,0,1,0,0,0,"Not an Intersection",31,7.2790457405842019E-4,7,13,11,0,0]
[{"$f":"CONCATENATE(\"Fatal and Serious Injury Crashes Only - \",A277, \"\n\",Instructions!$B$11)","v":"Fatal and Serious Injury Crashes Only - Crash in Work Zone\nTest Group 2"},null,null,null,null,null,null,null,{"$f":"CONCATENATE(\"Total Crashes - \",I277, \"\n\",Instructions!$B$11)","v":"Total Crashes - Crash in Work Zone\nTest Group 2"}]
["Crash in Work Zone","Number of Crashes","Percent of Crashes","Year 5 Crashes","Year 4 Crashes","Year 3 Crashes","Year 2 Crashes","Year 1 Crashes","Crash in Work Zone","Number of Crashes","Percent of Crashes","Year 5 Crashes","Year 4 Crashes","Year 3 Crashes","Year 2 Crashes","Year 1 Crashes"]
["Yes",{"$f":"SUM(D278:H278)","v":45},{"$f":"B278/SUM(B$278:B$280)","v":4.527162977867203E-2},13,8,14,5,5,"Yes",{"$f":"SUM(L278:P278)","v":1823},{"$f":"J278/SUM(J$278:J$280)","v":4.2805485113177423E-2},382,424,394,376,247]
["No",595,{"$f":"B279/SUM(B$278:B$280)","v":0.59859154929577463},142,125,98,115,115,{"$f":"A279","v":"No"},30098,{"$f":"J279/SUM(J$278:J$280)","v":0.70672489903259139},6632,6778,6416,5352,4920]
["Unknown",354,0.35613682092555332,93,72,48,79,62,"Unknown",10667,0.25046961585423122,2333,2383,2153,1970,1828]
[{"$f":"CONCATENATE(\"Fatal and Serious Injury Crashes Only - \",A282, \"\n\",Instructions!$B$11)","v":"Fatal and Serious Injury Crashes Only - Number of Motor Vehicles Involved\nTest Group 2"},null,null,null,null,null,null,null,{"$f":"CONCATENATE(\"Total Crashes - \",I282, \"\n\",Instructions!$B$11)","v":"Total Crashes - Number of Motor Vehicles Involved\nTest Group 2"}]
["Number of Motor Vehicles Involved","Number of Crashes","Percent of Crashes","Year 5 Crashes","Year 4 Crashes","Year 3 Crashes","Year 2 Crashes","Year 1 Crashes","Number of Motor Vehicles Involved","Number of Crashes","Percent of Crashes","Year 5 Crashes","Year 4 Crashes","Year 3 Crashes","Year 2 Crashes","Year 1 Crashes"]
["One",204,{"$f":"B283/SUM(B$283:B$286)","v":0.10669456066945607},35,38,37,43,51,"One",5164,{"$f":"J283/SUM(J$283:J$286)","v":0.12125481356250586},951,1139,1053,1103,918]
["Two",651,{"$f":"B284/SUM(B$283:B$286)","v":0.34048117154811713},179,134,103,121,114,"Two",32859,{"$f":"J284/SUM(J$283:J$286)","v":0.77155536770921385},7317,7420,6912,5804,5406]
["Three",101,5.2824267782426777E-2,23,22,16,28,12,"Three",3816,8.960270498732037E-2,872,870,832,661,581]
["Four or More",956,0.5,237,194,156,192,177,"Four or More",749,1.7587113740959896E-2,207,156,166,130,90]
[{"$f":"CONCATENATE(\"Fatal and Serious Injury Crashes Only - \",A288, \"\n\",Instructions!$B$11)","v":"Fatal and Serious Injury Crashes Only - Horizontal Alignment\nTest Group 2"},null,null,null,null,null,null,null,{"$f":"CONCATENATE(\"Total Crashes - \",I288, \"\n\",Instructions!$B$11)","v":"Total Crashes - Horizontal Alignment\nTest Group 2"}]
["Horizontal Alignment","Number of Crashes","Percent of Crashes","Year 5 Crashes","Year 4 Crashes","Year 3 Crashes","Year 2 Crashes","Year 1 Crashes","Horizontal Alignment","Number of Crashes","Percent of Crashes","Year 5 Crashes","Year 4 Crashes","Year 3 Crashes","Year 2 Crashes","Year 1 Crashes"]
["Straight",{"$f":"SUM(D289:H289)","v":595},{"$f":"B289/SUM(B$289:B$291)","v":0.59859154929577463},142,125,98,115,115,"Straight",{"$f":"SUM(L289:P289)","v":30098},{"$f":"J289/SUM(J$289:J$291)","v":0.70672489903259139},6632,6778,6416,5352,4920]
["Horizontal Curve Left",354,{"$f":"B290/SUM(B$289:B$291)","v":0.35613682092555332},93,72,48,79,62,"Horizontal Curve Left",10667,{"$f":"J290/SUM(J$289:J$291)","v":0.25046961585423122},2333,2383,2153,1970,1828]
["Horizontal Curve Right",45,4.527162977867203E-2,13,8,14,5,5,"Horizontal Curve Right",1823,4.2805485113177423E-2,382,424,394,376,247]
[{"$f":"CONCATENATE(\"Fatal and Serious Injury Crashes Only - \",A293, \"\n\",Instructions!$B$11)","v":"Fatal and Serious Injury Crashes Only - Vertical Alignment\nTest Group 2"},null,null,null,null,null,null,null,{"$f":"CONCATENATE(\"Total Crashes - \",I293, \"\n\",Instructions!$B$11)","v":"Total Crashes - Vertical Alignment\nTest Group 2"}]
["Vertical Alignment","Number of Crashes","Percent of Crashes","Year 5 Crashes","Year 4 Crashes","Year 3 Crashes","Year 2 Crashes","Year 1 Crashes","Vertical Alignment","Number of Crashes","Percent of Crashes","Year 5 Crashes","Year 4 Crashes","Year 3 Crashes","Year 2 Crashes","Year 1 Crashes"]
["Level",9,{"$f":"B294/SUM(B$294:B$299)","v":9.0543259557344068E-3},3,2,2,1,1,"Level",81,{"$f":"J294/SUM(J$294:J$299)","v":1.9019442096365174E-3},18,29,16,10,8]
["Uphill",64,{"$f":"B295/SUM(B$294:B$299)","v":6.4386317907444673E-2},9,12,10,13,20,"Uphill",2068,{"$f":"J295/SUM(J$294:J$299)","v":4.8558279327510098E-2},397,454,436,448,333]
["Hillcrest",99,9.9597585513078471E-2,19,23,18,16,23,"Hillcrest",2714,6.3726871419179112E-2,498,612,550,554,500]
["Downhill",815,0.81991951710261568,217,166,127,168,137,"Downhill",37556,0.88184465107542032,8408,8455,7911,6654,6128]
["Sag",1,1.006036217303823E-3,0,1,0,0,0,"Sag",31,7.2790457405842019E-4,7,13,11,0,0]
["Unknown",6,6.0362173038229373E-3,0,1,3,1,1,"Unknown",138,3.2403493941955482E-3,19,22,39,32,26]
[{"$f":"CONCATENATE(\"Fatal and Serious Injury Crashes Only - \",A301, \"\n\",Instructions!$B$11)","v":"Fatal and Serious Injury Crashes Only - Roadway Owner\nTest Group 2"},null,null,null,null,null,null,null,{"$f":"CONCATENATE(\"Total Crashes - \",I301, \"\n\",Instructions!$B$11)","v":"Total Crashes - Roadway Owner\nTest Group 2"}]
["Roadway Owner","Number of Crashes","Percent of Crashes","Year 5 Crashes","Year 4 Crashes","Year 3 Crashes","Year 2 Crashes","Year 1 Crashes","Roadway Owner","Number of Crashes","Percent of Crashes","Year 5 Crashes","Year 4 Crashes","Year 3 Crashes","Year 2 Crashes","Year 1 Crashes"]
["State",{"$f":"SUM(D302:H302)","v":284},{"$f":"B302/SUM(B$302:B$307)","v":0.2857142857142857},80,50,35,68,51,"State",{"$f":"SUM(L302:P302)","v":8798},{"$f":"J302/SUM(J$302:J$307)","v":0.20658401427632198},1936,1938,1736,1649,1539]
["County",58,{"$f":"B303/SUM(B$302:B$307)","v":5.8350100603621731E-2},12,11,13,11,11,"County",1839,{"$f":"J303/SUM(J$302:J$307)","v":4.3181177796562414E-2},387,431,411,321,289]
["Municipality",41,4.124748490945674E-2,13,8,10,5,5,"Municipality",1823,4.2805485113177423E-2,382,424,394,376,247]
["Federal",488,0.49094567404426559,100,125,98,100,65,"Federal",27249,0.63982812059735139,6000,6000,5797,4985,4467]
["Tribal",1,1.006036217303823E-3,1,0,0,0,0,"Tribal",30,7.0442378134685823E-4,10,14,6,0,0]
["Unknown",122,0.1227364185110664,42,11,4,15,50,"Unknown",2849,6.6896778435239973E-2,632,778,619,367,453]
[{"$f":"CONCATENATE(\"Fatal and Serious Injury Crashes Only - \",A309, \"\n\",Instructions!$B$11)","v":"Fatal and Serious Injury Crashes Only - Area Type\nTest Group 2"},null,null,null,null,null,null,null,{"$f":"CONCATENATE(\"Total Crashes - \",I309, \"\n\",Instructions!$B$11)","v":"Total Crashes - Area Type\nTest Group 2"}]
["Area Type","Number of Crashes","Percent of Crashes","Year 5 Crashes","Year 4 Crashes","Year 3 Crashes","Year 2 Crashes","Year 1 Crashes","Area Type","Number of Crashes","Percent of Crashes","Year 5 Crashes","Year 4 Crashes","Year 3 Crashes","Year 2 Crashes","Year 1 Crashes"]
["Urban",{"$f":"SUM(D310:H310)","v":1},{"$f":"B310/SUM(B$310:B$312)","v":1.006036217303823E-3},1,0,0,0,0,"Urban",{"$f":"SUM(L310:P310)","v":140},{"$f":"J310/SUM(J$310:J$312)","v":3.2873109796186721E-3},93,0,47,0,0]
["Rural",838,{"$f":"B311/SUM(B$310:B$312)","v":0.84305835010060359},92,205,160,199,182,"Rural",36340,{"$f":"J311/SUM(J$310:J$312)","v":0.853292007138161},3151,9585,8914,7698,6992]
["Unknown",155,0.15593561368209255,155,0,0,0,0,"Unknown",6108,0.14342068188222035,6103,0,2,0,3]
[{"$f":"CONCATENATE(\"Fatal and Serious Injury Crashes Only - \",A314, \"\n\",Instructions!$B$11)","v":"Fatal and Serious Injury Crashes Only - Functional Class\nTest Group 2"},null,null,null,null,null,null,null,{"$f":"CONCATENATE(\"Total Crashes - \",I314, \"\n\",Instructions!$B$11)","v":"Total Crashes - Functional Class\nTest Group 2"}]
["Functional Class","Number of Crashes","Percent of Crashes","Year 5 Crashes","Year 4 Crashes","Year 3 Crashes","Year 2 Crashes","Year 1 Crashes","Functional Class","Number of Crashes","Percent of Crashes","Year 5 Crashes","Year 4 Crashes","Year 3 Crashes","Year 2 Crashes","Year 1 Crashes"]
["Interstate",{"$f":"SUM(D315:H315)","v":62},{"$f":"B315/SUM(B$315:B$321)","v":6.2374245472837021E-2},22,9,7,12,12,"Interstate",{"$f":"SUM(L315:P315)","v":3468},{"$f":"J315/SUM(J$315:J$321)","v":8.143138912369681E-2},782,793,735,643,515]
["Principal Arterial - Other Freeway or Expressway",58,{"$f":"B316/SUM(B$315:B$321)","v":5.8350100603621731E-2},16,11,9,9,13,"Principal Arterial - Other Freeway or Expressway",3283,{"$f":"J316/SUM(J$315:J$321)","v":7.7087442472057857E-2},715,751,661,554,602]
["Principal Arterial - Other",96,9.6579476861166996E-2,30,13,15,17,21,"Principal Arterial - Other",3209,7.5349863811402268E-2,784,646,676,599,504]
["Minor Arterial",81,8.1488933601609664E-2,19,15,15,20,12,"Minor Arterial",3291,7.7275288813750356E-2,718,749,637,633,554]
["Collector",92,9.2555331991951706E-2,23,20,14,21,14,"Collector",3476,8.1619235465389309E-2,782,787,737,567,603]
["Local",104,0.10462776659959759,26,18,9,30,21,"Local",3608,8.4718700103315489E-2,776,757,785,683,607]
["Unknown",501,0.50402414486921532,112,119,91,90,89,"Unknown",22253,0.52251808021038793,4790,5102,4732,4019,3610]
[{"$f":"CONCATENATE(\"Fatal and Serious Injury Crashes Only - \",A323, \"\n\",Instructions!$B$11)","v":"Fatal and Serious Injury Crashes Only - Access Control\nTest Group 2"},null,null,null,null,null,null,null,{"$f":"CONCATENATE(\"Total Crashes - \",I323, \"\n\",Instructions!$B$11)","v":"Total Crashes - Access Control\nTest Group 2"}]
["Access Control","Number of Crashes","Percent of Crashes","Year 5 Crashes","Year 4 Crashes","Year 3 Crashes","Year 2 Crashes","Year 1 Crashes","Access Control","Number of Crashes","Percent of Crashes","Year 5 Crashes","Year 4 Crashes","Year 3 Crashes","Year 2 Crashes","Year 1 Crashes"]
["No Access Control",501,{"$f":"B324/SUM(B$324:B$326)","v":0.50402414486921532},112,119,91,90,89,"No Access Control",22253,{"$f":"J324/SUM(J$324:J$326)","v":0.52251808021038793},4790,5102,4732,4019,3610]
["Partial Access Control",92,{"$f":"B325/SUM(B$324:B$326)","v":9.2555331991951706E-2},23,20,14,21,14,"Partial Access Control",3476,{"$f":"J325/SUM(J$324:J$326)","v":8.1619235465389309E-2},782,787,737,567,603]
["Full Access Control",401,{"$f":"B326/SUM(B$324:B$326)","v":0.40342052313883298},113,66,55,88,79,"Full Access Control",16859,{"$f":"J326/SUM(J$324:J$326)","v":0.39586268432422278},3775,3696,3494,3112,2782]
[{"$f":"CONCATENATE(\"Fatal and Serious Injury Crashes Only - \",A328, \"\n\",Instructions!$B$11)","v":"Fatal and Serious Injury Crashes Only - Roadway Lighting\nTest Group 2"},null,null,null,null,null,null,null,{"$f":"CONCATENATE(\"Total Crashes - \",I328, \"\n\",Instructions!$B$11)","v":"Total Crashes - Roadway Lighting\nTest Group 2"}]
["Roadway Lighting","Number of Crashes","Percent of Crashes","Year 5 Crashes","Year 4 Crashes","Year 3 Crashes","Year 2 Crashes","Year 1 Crashes","Roadway Lighting","Number of Crashes","Percent of Crashes","Year 5 Crashes","Year 4 Crashes","Year 3 Crashes","Year 2 Crashes","Year 1 Crashes"]
["Continuous Lighting on Both Sides",99,{"$f":"B329/SUM(B$329:B$333)","v":9.9597585513078471E-2},19,23,18,16,23,"Continuous Lighting on Both Sides",2714,{"$f":"J329/SUM(J$329:J$333)","v":6.3726871419179112E-2},498,612,550,554,500]
["Continuous Lighting on One Side",815,{"$f":"B330/SUM(B$329:B$333)","v":0.81991951710261568},217,166,127,168,137,"Continuous Lighting on One Side",37556,{"$f":"J330/SUM(J$329:J$333)","v":0.88184465107542032},8408,8455,7911,6654,6128]
["No Lighting",1,1.006036217303823E-3,0,1,0,0,0,"No Lighting",31,7.2790457405842019E-4,7,13,11,0,0]
["Spot Illumination on Both Sides",6,6.0362173038229373E-3,0,1,3,1,1,"Spot Illumination on Both Sides",138,3.2403493941955482E-3,19,22,39,32,26]
["Spot Illumination on One Side",73,7.344064386317907E-2,12,14,12,14,21,"Spot Illumination on One Side",2149,5.0460223537146617E-2,415,483,452,458,341]
[{"$f":"CONCATENATE(\"Fatal and Serious Injury Crashes Only - \",A335, \"\n\",Instructions!$B$11)","v":"Fatal and Serious Injury Crashes Only - Alcohol Involvement\nTest Group 2"},null,null,null,null,null,null,null,{"$f":"CONCATENATE(\"Total Crashes - \",I335, \"\n\",Instructions!$B$11)","v":"Total Crashes - Alcohol Involvement\nTest Group 2"}]
["Alcohol Involvement","Number of Crashes","Percent of Crashes","Year 5 Crashes","Year 4 Crashes","Year 3 Crashes","Year 2 Crashes","Year 1 Crashes","Alcohol Involvement","Number of Crashes","Percent of Crashes","Year 5 Crashes","Year 4 Crashes","Year 3 Crashes","Year 2 Crashes","Year 1 Crashes"]
["Yes",92,{"$f":"B336/SUM(B$336:B$338)","v":9.2555331991951706E-2},23,20,14,21,14,"Yes",3476,{"$f":"J336/SUM(J$336:J$338)","v":8.1619235465389309E-2},782,787,737,567,603]
["No",401,{"$f":"B337/SUM(B$336:B$338)","v":0.40342052313883298},113,66,55,88,79,"No",16859,{"$f":"J337/SUM(J$336:J$338)","v":0.39586268432422278},3775,3696,3494,3112,2782]
["Unknown",501,{"$f":"B338/SUM(B$336:B$338)","v":0.50402414486921532},112,119,91,90,89,"Unknown",22253,{"$f":"J338/SUM(J$336:J$338)","v":0.52251808021038793},4790,5102,4732,4019,3610]
[{"$f":"CONCATENATE(\"Fatal and Serious Injury Crashes Only - \",A340, \"\n\",Instructions!$B$11)","v":"Fatal and Serious Injury Crashes Only - Drug Involvement\nTest Group 2"},null,null,null,null,null,null,null,{"$f":"CONCATENATE(\"Total Crashes - \",I340, \"\n\",Instructions!$B$11)","v":"Total Crashes - Drug Involvement\nTest Group 2"}]
["Drug Involvement","Number of Crashes","Percent of Crashes","Year 5 Crashes","Year 4 Crashes","Year 3 Crashes","Year 2 Crashes","Year 1 Crashes","Drug Involvement","Number of Crashes","Percent of Crashes","Year 5 Crashes","Year 4 Crashes","Year 3 Crashes","Year 2 Crashes","Year 1 Crashes"]
["Yes",838,{"$f":"B341/SUM(B$341:B$343)","v":0.84305835010060359},92,205,160,199,182,"Yes",36340,{"$f":"J341/SUM(J$341:J$343)","v":0.853292007138161},3151,9585,8914,7698,6992]
["No",155,{"$f":"B342/SUM(B$341:B$343)","v":0.15593561368209255},155,0,0,0,0,"No",6108,{"$f":"J342/SUM(J$341:J$343)","v":0.14342068188222035},6103,0,2,0,3]
["Unknown",1,{"$f":"B343/SUM(B$341:B$343)","v":1.006036217303823E-3},1,0,0,0,0,"Unknown",140,{"$f":"J343/SUM(J$341:J$343)","v":3.2873109796186721E-3},93,0,47,0,0]
["Vehicle Data"]
[{"$f":"CONCATENATE(\"Fatal and Serious Injury Crashes Only - \",A346, \"\n\",Instructions!$B$11)","v":"Fatal and Serious Injury Crashes Only - Motor Vehicle Body Type\nTest Group 2"},null,null,null,null,null,null,null,{"$f":"CONCATENATE(\"Total Crashes - \",I346, \"\n\",Instructions!$B$11)","v":"Total Crashes - Motor Vehicle Body Type\nTest Group 2"}]
["Motor Vehicle Body Type","Number of Crashes","Percent of Crashes","Year 5 Crashes","Year 4 Crashes","Year 3 Crashes","Year 2 Crashes","Year 1 Crashes","Motor Vehicle Body Type","Number of Crashes","Percent of Crashes","Year 5 Crashes","Year 4 Crashes","Year 3 Crashes","Year 2 Crashes","Year 1 Crashes"]
["All-Terrain Vehicle",1036,{"$f":"B347/SUM(B$347:B$375)","v":0.53874154966198651},282,207,152,223,172,"All-Terrain Vehicle",45956,{"$f":"J347/SUM(J$347:J$375)","v":0.54336285278503615},10461,10072,9550,8324,7549]
["Golf Cart",1,{"$f":"B348/SUM(B$347:B$375)","v":5.2002080083203334E-4},0,0,0,1,0,"Golf Cart",2,{"$f":"J348/SUM(J$347:J$375)","v":2.3647090816652283E-5},0,0,1,1,0]
["Snowmobile",1,5.2002080083203334E-4,0,0,0,1,0,"Snowmobile",3,3.5470636224978419E-5,0,0,1,2,0]
["Low Speed Vehicle",1,5.2002080083203334E-4,1,0,0,0,0,"Low Speed Vehicle",1,1.1823545408326141E-5,1,0,0,0,0]
["Moped or motorized bicycle",5,2.6001040041601664E-3,2,1,0,1,1,"Moped or motorized bicycle",23,2.7194154439150122E-4,5,8,2,6,2]
["Recreational Off-Highway Vehicles",194,0.10088403536141445,39,39,29,46,41,"Recreational Off-Highway Vehicles",12056,0.14254466344277994,2472,2116,2496,2659,2313]
["2-Wheeled Motorcycle",53,2.7561102444097763E-2,20,10,7,9,7,"2-Wheeled Motorcycle",203,2.4001797178902066E-3,58,40,38,33,34]
["3-Wheeled Motorcycle",25,1.3000520020800831E-2,8,3,3,6,5,{"$f":"A354","v":"3-Wheeled Motorcycle"},62,7.3305981531622067E-4,14,4,12,15,17]
["Autocycle",25,1.3000520020800831E-2,5,6,8,2,4,"Autocycle",203,2.4001797178902066E-3,58,40,38,33,34]
["Passenger Car",77,4.0041601664066562E-2,20,19,18,7,13,"Passenger Car",1308,1.5465197394090592E-2,291,297,234,246,240]
["Passenger Van",2,1.0400416016640667E-3,0,1,0,1,0,"Passenger Van",14,1.6552963571656596E-4,0,2,7,3,2]
["Sport Utility Vehicle",{"$f":"SUM(D358:H358)","v":67},3.4841393655746226E-2,21,21,6,14,5,"Sport Utility Vehicle",{"$f":"SUM(L358:P358)","v":3},3.5470636224978419E-5,0,1,0,1,1]
["Pickup",0,0,0,0,0,0,0,"Pickup",2335,2.7607978528441539E-2,337,367,428,698,505]
["Cargo Van",1,5.2002080083203334E-4,0,1,0,0,0,"Cargo Van",2,2.3647090816652283E-5,0,1,0,1,0]
["Construction Equipment",0,0,0,0,0,0,0,"Construction Equipment",0,0,0,0,0,0,0]
["Farm Equipment",77,4.0041601664066562E-2,20,19,18,7,13,"Farm Equipment",1074,1.2698487768542275E-2,210,251,198,200,215]
["Single-Unit Truck",0,0,0,0,0,0,0,"Single-Unit Truck",389,4.5993591638388686E-3,50,65,98,75,101]
["Truck Tractor",64,3.3281331253250133E-2,6,8,11,14,25,"Truck Tractor",10,1.1823545408326141E-4,3,6,0,1,0]
["Motor Home",0,0,0,0,0,0,0,"Motor Home",16,1.8917672653321826E-4,6,3,3,3,1]
["9- or 12-Passenger Van",2,1.0400416016640667E-3,0,0,1,1,0,"9- or 12-Passenger Van",188,2.2228265367653143E-3,40,42,41,36,29]
["15-Passenger Van",0,0,0,0,0,0,0,"15-Passenger Van",0,0,0,0,0,0,0]
["Large Limo",26,1.3520540821632865E-2,9,2,6,7,2,"Large Limo",1,1.1823545408326141E-5,0,0,0,1,0]
["Mini-bus",0,0,0,0,0,0,0,"Mini-bus",3337,3.9455171027584335E-2,683,644,667,692,651]
["School Bus",32,1.6640665626625067E-2,5,4,15,6,2,"School Bus",11,1.3005899949158754E-4,1,3,1,2,4]
["Transit Bus",0,0,0,0,0,0,0,"Transit Bus",2365,2.7962684890691324E-2,524,398,451,490,502]
["Motorcoach",12,6.2402496099843996E-3,2,3,0,1,6,"Motorcoach",366,4.3274176194473676E-3,128,94,55,47,42]
["Other Bus Type",0,0,0,0,0,0,0,"Other Bus Type",1,1.1823545408326141E-5,0,0,0,0,1]
["Other Trucks",43,2.2360894435777431E-2,5,6,8,14,10,"Other Trucks",9,1.0641190867493527E-4,3,1,0,3,2]
["Other",179,9.3083723348933958E-2,50,55,21,29,24,"Other",14639,0.17308488123248639,3477,4602,3550,1512,1498]
[{"$f":"CONCATENATE(\"Fatal and Serious Injury Crashes Only - \",A377, \"\n\",Instructions!$B$11)","v":"Fatal and Serious Injury Crashes Only - Posted Speed Limit\nTest Group 2"},null,null,null,null,null,null,null,{"$f":"CONCATENATE(\"Total Crashes - \",I377, \"\n\",Instructions!$B$11)","v":"Total Crashes - Posted Speed Limit\nTest Group 2"}]
["Posted Speed Limit","Number of Crashes","Percent of Crashes","Year 5 Crashes","Year 4 Crashes","Year 3 Crashes","Year 2 Crashes","Year 1 Crashes","Posted Speed Limit","Number of Crashes","Percent of Crashes","Year 5 Crashes","Year 4 Crashes","Year 3 Crashes","Year 2 Crashes","Year 1 Crashes"]
["5 MPH",17,{"$f":"B378/SUM(B$378:B$392)","v":8.8403536141445655E-3},5,3,3,3,3,"5 MPH",3397,{"$f":"J378/SUM(J$378:J$392)","v":4.0164583752083899E-2},760,817,746,658,416]
["10 MPH",2,{"$f":"B379/SUM(B$378:B$392)","v":1.0400416016640667E-3},1,0,0,1,0,"10 MPH",48,{"$f":"J379/SUM(J$378:J$392)","v":5.6753017959965471E-4},13,11,7,10,7]
["15 MPH",175,9.100364014560583E-2,43,30,33,32,37,"15 MPH",754,8.9149532378779098E-3,152,162,149,148,143]
["20 MPH",1,5.2002080083203334E-4,0,0,1,0,0,"20 MPH",9,1.0641190867493527E-4,1,2,3,1,2]
["25 MPH",4,2.0800832033281333E-3,1,1,0,0,2,"25 MPH",324,3.8308287122976697E-3,89,65,68,52,50]
["30 MPH",160,8.3203328133125323E-2,41,29,27,36,27,"30 MPH",795,9.3997185996192827E-3,183,150,161,157,144]
["35 MPH",815,0.42381695267810715,205,167,119,169,155,"35 MPH",43798,0.51784764179386833,9459,9496,9110,8000,7733]
["40 MPH",3,1.5600624024960999E-3,1,1,0,0,1,"40 MPH",82,9.6953072348274357E-4,15,20,16,3,28]
["45 MPH",248,0.12896515860634425,65,54,32,64,33,"45 MPH",12633,0.14936684914338413,2845,2829,2740,2213,2006]
["50 MPH",4,2.0800832033281333E-3,3,1,0,0,0,"50 MPH",247,2.9204157158565567E-3,43,49,35,22,98]
["55 MPH",3,1.5600624024960999E-3,1,0,1,1,0,"55 MPH",95,1.1232368137909833E-3,13,19,22,18,23]
["60 MPH",394,0.20488819552782112,101,98,72,66,57,"60 MPH",19659,0.2324390791822836,4695,4795,4179,3346,2644]
["65 MPH",1,5.2002080083203334E-4,1,0,0,0,0,"65 MPH",29,3.4288281684145805E-4,3,6,6,3,11]
["70 MPH",61,3.1721268850754034E-2,21,11,11,8,10,"70 MPH",2271,2.6851271622308666E-2,458,552,541,355,365]
["Unknown",35,{"$f":"B392/SUM(B$378:B$392)","v":1.8200728029121163E-2},6,10,4,10,5,"Unknown",436,{"$f":"J392/SUM(J$378:J$392)","v":5.155065798030197E-3},93,84,88,98,73]
[{"$f":"CONCATENATE(\"Fatal and Serious Injury Crashes Only - \",A394, \"\n\",Instructions!$B$11)","v":"Fatal and Serious Injury Crashes Only - Traffic Way\nTest Group 2"},null,null,null,null,null,null,null,{"$f":"CONCATENATE(\"Total Crashes - \",I394, \"\n\",Instructions!$B$11)","v":"Total Crashes - Traffic Way\nTest Group 2"}]
["Traffic Way","Number of Crashes","Percent of Crashes","Year 5 Crashes","Year 4 Crashes","Year 3 Crashes","Year 2 Crashes","Year 1 Crashes","Traffic Way","Number of Crashes","Percent of Crashes","Year 5 Crashes","Year 4 Crashes","Year 3 Crashes","Year 2 Crashes","Year 1 Crashes"]
["One-Way",{"$f":"SUM(D395:H395)","v":815},{"$f":"B395/SUM(B$395:B$396)","v":0.42381695267810715},205,167,119,169,155,"One-Way",{"$f":"SUM(L395:P395)","v":43798},{"$f":"J395/SUM(J$395:J$396)","v":0.51784764179386833},9459,9496,9110,8000,7733]
["Two-Way",1108,{"$f":"B396/SUM(B$395:B$396)","v":0.57618304732189285},290,238,184,221,175,"Two-Way",40779,{"$f":"J396/SUM(J$395:J$396)","v":0.48215235820613167},9363,9561,8761,7084,6010]
[{"$f":"CONCATENATE(\"Fatal and Serious Injury Crashes Only - \",A398, \"\n\",Instructions!$B$11)","v":"Fatal and Serious Injury Crashes Only - Median Type\nTest Group 2"},null,null,null,null,null,null,null,{"$f":"CONCATENATE(\"Total Crashes - \",I398, \" \n\",Instructions!$B$11)","v":"Total Crashes - Median Type \nTest Group 2"}]
["Median Type","Number of Crashes","Percent of Crashes","Year 5 Crashes","Year 4 Crashes","Year 3 Crashes","Year 2 Crashes","Year 1 Crashes","Median Type","Number of Crashes","Percent of Crashes","Year 5 Crashes","Year 4 Crashes","Year 3 Crashes","Year 2 Crashes","Year 1 Crashes"]
["Not Divided",105,{"$f":"B399/SUM(B$399:B$404)","v":5.4602184087363496E-2},32,16,10,20,27,"Not Divided",9448,{"$f":"J399/SUM(J$399:J$404)","v":0.11170885701786537},2174,2107,1943,1616,1608]
["Continuous Left-Turn Lane",152,{"$f":"B400/SUM(B$399:B$404)","v":7.9043161726469052E-2},37,35,23,33,24,"Continuous Left-Turn Lane",7816,{"$f":"J400/SUM(J$399:J$404)","v":9.2412830911477117E-2},1767,1720,1542,1436,1351]
["Divided with Flush Median",490,0.25481019240769631,124,93,89,110,74,"Divided with Flush Median",20110,0.23777149816143869,4649,4526,4288,3513,3134]
["Divided with Raised Median",382,0.19864794591783672,89,83,68,70,72,"Divided with Raised Median",16013,0.1893304326235265,3565,3674,3350,2805,2619]
["Divided with Depressed Median",292,0.1518460738429537,83,62,37,63,47,"Divided with Depressed Median",12498,0.14777067051326009,2688,2745,2680,2330,2055]
["Unknown",502,0.26105044201768068,130,116,76,94,86,"Unknown",18692,0.22100571077243222,3979,4285,4068,3384,2976]
[{"$f":"CONCATENATE(\"Fatal and Serious Injury Crashes Only - \",A406, \"\n\",Instructions!$B$11)","v":"Fatal and Serious Injury Crashes Only - Barrier Type\nTest Group 2"},null,null,null,null,null,null,null,{"$f":"CONCATENATE(\"Total Crashes - \",I406, \"\n\",Instructions!$B$11)","v":"Total Crashes - Barrier Type\nTest Group 2"}]
["Barrier Type","Number of Crashes","Percent of Crashes","Year 5 Crashes","Year 4 Crashes","Year 3 Crashes","Year 2 Crashes","Year 1 Crashes","Barrier Type","Number of Crashes","Percent of Crashes","Year 5 Crashes","Year 4 Crashes","Year 3 Crashes","Year 2 Crashes","Year 1 Crashes"]
["No Barrier",548,{"$f":"B407/SUM(B$407:B$413)","v":0.28497139885595424},147,108,92,104,97,"No Barrier",21266,{"$f":"J407/SUM(J$407:J$413)","v":0.2514395166534637},4878,4788,4421,3653,3526]
["Cable Barrier",6,{"$f":"B408/SUM(B$407:B$413)","v":3.1201248049921998E-3},3,0,1,1,1,"Cable Barrier",421,{"$f":"J408/SUM(J$407:J$413)","v":4.9777126169053051E-3},97,82,98,83,61]
["Concrete Barrier",438,0.22776911076443057,114,99,74,84,67,"Concrete Barrier",20271,0.23967508897217921,4315,4520,4410,3674,3352]
["Earth Embankment",10,5.2002080083203327E-3,1,1,2,6,0,"Earth Embankment",424,5.0131832531302833E-3,81,66,121,85,71]
["Guardrail",469,0.24388975559022361,107,113,73,101,75,"Guardrail",21514,0.2543717559147286,5004,4963,4570,3767,3210]
["Box Barrier",4,2.0800832033281333E-3,3,1,0,0,0,"Box Barrier",337,3.9845348026059093E-3,80,71,71,66,49]
["Other Barrier",448,0.2329693187727509,120,83,61,94,90,"Other Barrier",20344,0.24053820778698701,4367,4567,4180,3756,3474]
[{"$f":"CONCATENATE(\"Fatal and Serious Injury Crashes Only - \",A415, \"\n\",Instructions!$B$11)","v":"Fatal and Serious Injury Crashes Only - Number of Lanes\nTest Group 2"},null,null,null,null,null,null,null,{"$f":"CONCATENATE(\"Total Crashes - \",I415, \"\n\",Instructions!$B$11)","v":"Total Crashes - Number of Lanes\nTest Group 2"}]
["Number of Lanes","Number of Crashes","Percent of Crashes","Year 5 Crashes","Year 4 Crashes","Year 3 Crashes","Year 2 Crashes","Year 1 Crashes","Number of Lanes","Number of Crashes","Percent of Crashes","Year 5 Crashes","Year 4 Crashes","Year 3 Crashes","Year 2 Crashes","Year 1 Crashes"]
["One",105,{"$f":"B416/SUM(B$416:B$426)","v":5.4602184087363496E-2},32,16,10,20,27,"One",9448,{"$f":"J416/SUM(J$416:J$426)","v":0.11170885701786537},2174,2107,1943,1616,1608]
["Two",152,{"$f":"B417/SUM(B$416:B$426)","v":7.9043161726469052E-2},37,35,23,33,24,"Two",7816,{"$f":"J417/SUM(J$416:J$426)","v":9.2412830911477117E-2},1767,1720,1542,1436,1351]
["Three",490,0.25481019240769631,124,93,89,110,74,"Three",20110,0.23777149816143869,4649,4526,4288,3513,3134]
["Four",382,0.19864794591783672,89,83,68,70,72,"Four",16013,0.1893304326235265,3565,3674,3350,2805,2619]
["Five",292,0.1518460738429537,83,62,37,63,47,"Five",12498,0.14777067051326009,2688,2745,2680,2330,2055]
["Six",268,0.13936557462298491,63,67,42,49,47,"Six",10059,0.11893304326235266,2110,2331,2211,1781,1626]
["Seven",131,6.812272490899636E-2,40,31,21,20,19,"Seven",5801,6.8588386913699936E-2,1259,1325,1241,1053,923]
["Eight",60,3.1201248049921998E-2,16,11,7,16,10,{"$f":"A423","v":"Eight"},2049,2.4226444541660262E-2,437,469,460,384,299]
["Nine",19,9.8803952158086315E-3,4,4,2,3,6,"Nine",723,8.5484233302197989E-3,156,151,143,154,119]
["Ten or More",0,0,0,0,0,0,0,"Ten or More",33,3.9017699847476267E-4,10,4,9,7,3]
["Unknown",24,1.2480499219968799E-2,7,3,4,6,4,"Unknown",27,3.1923572602480577E-4,7,5,4,5,6]
[{"$f":"CONCATENATE(\"Fatal and Serious Injury Crashes Only - \",A428, \"\n\",Instructions!$B$11)","v":"Fatal and Serious Injury Crashes Only - Motor Vehicle Maneuver Prior to Crash\nTest Group 2"},null,null,null,null,null,null,null,{"$f":"CONCATENATE(\"Total Crashes - \",I428, \"\n\",Instructions!$B$11)","v":"Total Crashes - Motor Vehicle Maneuver Prior to Crash\nTest Group 2"}]
["Motor Vehicle Maneuver Prior to Crash","Number of Crashes","Percent of Crashes","Year 5 Crashes","Year 4 Crashes","Year 3 Crashes","Year 2 Crashes","Year 1 Crashes","Motor Vehicle Maneuver Prior to Crash","Number of Crashes","Percent of Crashes","Year 5 Crashes","Year 4 Crashes","Year 3 Crashes","Year 2 Crashes","Year 1 Crashes"]
["Backing",{"$f":"SUM(D429:H429)","v":36},{"$f":"B429/SUM(B$429:B$443)","v":1.8720748829953199E-2},12,8,5,4,7,"Backing",{"$f":"SUM(L429:P429)","v":3248},{"$f":"J429/SUM(J$429:J$443)","v":3.8402875486243306E-2},705,763,742,546,492]
["Changing Lanes",{"$f":"SUM(D430:H430)","v":2},{"$f":"B430/SUM(B$429:B$443)","v":1.0400416016640667E-3},1,0,0,0,1,"Changing Lanes",{"$f":"SUM(L430:P430)","v":296},{"$f":"J430/SUM(J$429:J$443)","v":3.4997694408645378E-3},60,63,65,50,58]
["Entering Traffic Lane",{"$f":"SUM(D431:H431)","v":1076},0.55954238169526782,279,236,172,210,179,"Entering Traffic Lane",{"$f":"SUM(L431:P431)","v":38712},0.45771308984712156,8691,8703,8081,6904,6333]
["Leaving Traffic Lane",{"$f":"SUM(D432:H432)","v":264},0.13728549141965679,78,37,48,55,46,"Leaving Traffic Lane",{"$f":"SUM(L432:P432)","v":8194},9.6882131075824399E-2,1784,1832,1738,1512,1328]
["Making U-Turn",{"$f":"SUM(D433:H433)","v":44},2.2880915236609463E-2,10,7,4,12,11,"Making U-Turn",{"$f":"SUM(L433:P433)","v":3211},3.7965404306135236E-2,702,677,694,585,553]
["Movements Essentially Straight Ahead",14,7.2802912116484656E-3,1,2,0,6,5,"Movements Essentially Straight Ahead",472,5.580713432729938E-3,90,119,91,84,88]
["Negotiating a Curve",198,0.10296411856474259,44,35,35,47,37,"Negotiating a Curve",3023,3.5742577769369926E-2,654,620,710,627,412]
["Overtaking/Passing",28,1.4560582423296931E-2,14,3,2,6,3,"Overtaking/Passing",3405,4.025917211535051E-2,752,744,720,614,575]
["Parked",11,5.7202288091523657E-3,2,4,1,1,3,"Parked",424,5.0131832531302833E-3,85,105,90,68,76]
["Slowing",74,3.8481539261570462E-2,18,25,9,13,9,"Slowing",6732,7.9596107688851572E-2,1621,1538,1375,1154,1044]
["Stopped in Traffic",{"$f":"SUM(D439:H439)","v":140},7.2802912116484653E-2,30,38,23,30,19,"Stopped in Traffic",{"$f":"SUM(L439:P439)","v":14771},0.17464558922638543,3238,3401,3121,2567,2444]
["Turning Left",{"$f":"SUM(D440:H440)","v":2},1.0400416016640667E-3,1,1,0,0,0,"Turning Left",{"$f":"SUM(L440:P440)","v":92},1.0877661775660049E-3,35,28,29,0,0]
["Turning Right",8,4.1601664066562667E-3,0,2,2,1,3,"Turning Right",336,3.972711257197583E-3,74,70,68,67,57]
["Other",11,5.7202288091523657E-3,4,1,2,1,3,"Other",93,1.099589722974331E-3,17,17,19,21,19]
["Unknown",15,7.8003120124804995E-3,1,6,0,4,4,"Unknown",1568,1.8539319200255387E-2,314,377,328,285,264]
[{"$f":"CONCATENATE(\"Fatal and Serious Injury Crashes Only - \",A445, \"\n\",Instructions!$B$11)","v":"Fatal and Serious Injury Crashes Only - Most Harmful Event\nTest Group 2"},null,null,null,null,null,null,null,{"$f":"CONCATENATE(\"Total Crashes - \",I445, \"\n\",Instructions!$B$11)","v":"Total Crashes - Most Harmful Event\nTest Group 2"}]
["Most Harmful Event","Number of Crashes","Percent of Crashes","Year 5 Crashes","Year 4 Crashes","Year 3 Crashes","Year 2 Crashes","Year 1 Crashes","Most Harmful Event","Number of Crashes","Percent of Crashes","Year 5 Crashes","Year 4 Crashes","Year 3 Crashes","Year 2 Crashes","Year 1 Crashes"]
["Cargo/Equipment Loss or Shift",{"$f":"SUM(D446:H446)","v":10},{"$f":"B446/SUM(B$446:B$487)","v":5.2002080083203327E-3},2,3,1,3,1,"Cargo/Equipment Loss or Shift",{"$f":"SUM(L446:P446)","v":132},{"$f":"J446/SUM(J$446:J$487)","v":1.5607079938990507E-3},27,26,25,31,23]
["Fell/Jumped from Motor Vehicle",0,{"$f":"B447/SUM(B$446:B$487)","v":0},0,0,0,0,0,"Fell/Jumped from Motor Vehicle",0,{"$f":"J447/SUM(J$446:J$487)","v":0},0,0,0,0,0]
["Fire/Explosion",5,2.6001040041601664E-3,1,1,1,1,1,"Fire/Explosion",1130,1.3360606311408538E-2,253,272,248,219,138]
["Immersion, Full or Partial",0,0,0,0,0,0,0,"Immersion, Full or Partial",14,1.6552963571656596E-4,4,3,2,3,2]
["Jackknife",57,2.9641185647425898E-2,14,10,11,10,12,"Jackknife",249,2.944062806673209E-3,50,54,49,49,47]
["Other Non-Collision",0,0,0,0,0,0,0,"Other Non-Collision",1,1.1823545408326141E-5,0,0,1,0,0]
["Overturn/Rollover",0,0,0,0,0,0,0,"Overturn/Rollover",105,1.2414722678742447E-3,29,21,22,17,16]
["Thrown or Falling Object",52,2.704108164326573E-2,13,9,9,12,9,"Thrown or Falling Object",264,3.1214159877981013E-3,61,50,53,52,48]
["Collision with Animal",269,0.13988559542381696,68,55,39,56,51,"Collision with Animal",9731,0.11505492036842167,2102,2110,2024,1777,1718]
["Collision with Construction Equipment",0,0,0,0,0,0,0,"Collision with Construction Equipment",26,3.0741218061647963E-4,5,6,5,1,9]
["Collision with Farm Equipment",81,4.2121684867394697E-2,21,18,10,21,11,"Collision with Farm Equipment",4209,4.9765302623644724E-2,948,943,913,737,668]
["Collision with Motor Vehicle in Transport",1,5.2002080083203334E-4,1,0,0,0,0,"Collision with Motor Vehicle in Transport",80,9.4588363266609129E-4,14,16,11,7,32]
["Collision with Other Non-Fixed Object",0,0,0,0,0,0,0,"Collision with Other Non-Fixed Object",30,3.5470636224978419E-4,4,6,7,6,7]
["Collision with Other Non-motorist",130,6.7602704108164324E-2,33,32,24,22,19,"Collision with Other Non-motorist",4366,5.1621599252751928E-2,1043,1065,928,743,587]
["Collision with Parked Motor Vehicle",0,0,0,0,0,0,0,"Collision with Parked Motor Vehicle",9,1.0641190867493527E-4,1,2,2,1,3]
["Collision with Pedalcycle",18,9.3603744149765994E-3,7,3,3,2,3,"Collision with Pedalcycle",755,8.9267767832862371E-3,152,184,180,118,121]
["Collision with Pedestrian",0,0,0,0,0,0,0,"Collision with Pedestrian",9,1.0641190867493527E-4,3,1,3,1,1]
["Collision with Railway Vehicle",24,1.2480499219968799E-2,4,6,3,7,4,"Collision with Railway Vehicle",271,3.2041808056563841E-3,55,53,52,64,47]
["Strikes Object ar Rest from MV in Transport",0,0,0,0,0,0,0,"Strikes Object ar Rest from MV in Transport",3,3.5470636224978419E-5,0,1,2,0,0]
["Struck by Falling, Shifting Cargo, or Anything Set in Motion by Motor Vehicle",12,6.2402496099843996E-3,4,2,2,2,2,"Struck by Falling, Shifting Cargo, or Anything Set in Motion by Motor Vehicle",19466,0.23015713491847664,4204,4220,4049,3556,3437]
["Collision with Bridge Overhead Structure",2,1.0400416016640667E-3,1,0,0,1,0,"Collision with Bridge Overhead Structure",34,4.0200054388308881E-4,9,8,5,7,5]
["Collision with Bridge Pier or Support",72,3.7441497659906398E-2,20,10,10,12,20,"Collision with Bridge Pier or Support",505,5.9708904312047008E-3,102,108,100,99,96]
["Collision with Bridge Rail",1,5.2002080083203334E-4,0,0,1,0,0,"Collision with Bridge Rail",8,9.4588363266609132E-5,1,2,2,1,2]
["Collision with Cable Barrier",4,2.0800832033281333E-3,1,1,0,0,2,"Collision with Cable Barrier",219,2.5893564444234248E-3,60,44,46,35,34]
["Collision with Concrete Traffic Barrier",108,5.6162246489859596E-2,28,20,18,24,18,"Collision with Concrete Traffic Barrier",531,6.2783026118211809E-3,122,100,108,105,96]
["Collision with Culvert",283,0.14716588663546543,56,69,45,61,52,"Collision with Culvert",1510,1.7853553566572474E-2,338,363,332,292,185]
["Collision with Curb",3,1.5600624024960999E-3,1,1,0,0,1,"Collision with Curb",56,6.6211854286626383E-4,10,14,11,2,19]
["Collision with Ditch",167,8.6843473738949559E-2,44,36,22,43,22,"Collision with Ditch",5615,6.6389207467751274E-2,1264,1257,1218,984,892]
["Collision with Embankment",3,1.5600624024960999E-3,2,1,0,0,0,"Collision with Embankment",167,1.9745320831904656E-3,29,33,24,15,66]
["Collision with Fence",3,1.5600624024960999E-3,1,0,1,1,0,"Collision with Fence",65,7.685304515411992E-4,9,13,15,12,16]
["Collision with Guardrail End Terminal",132,6.8642745709828396E-2,34,33,24,22,19,"Collision with Guardrail End Terminal",8736,0.10329049268713716,2086,2131,1857,1487,1175]
["Collision with Guardrail Face",1,5.2002080083203334E-4,1,0,0,0,0,"Collision with Guardrail Face",20,2.3647090816652282E-4,2,4,4,2,8]
["Collision with Impact Attenuator/Crash Cushion",43,2.2360894435777431E-2,14,8,8,6,7,"Collision with Impact Attenuator/Crash Cushion",1516,1.7924494839022431E-2,306,368,361,237,244]
["Collision with Mailbox",1,5.2002080083203334E-4,0,1,0,0,0,"Collision with Mailbox",21,2.4829445357484894E-4,8,3,6,2,2]
["Collision with Other Fixed Object",0,0,0,0,0,0,0,"Collision with Other Fixed Object",4866,5.7533371956914998E-2,1051,1055,1012,889,859]
["Collision with Other Post, Pole, or Support",132,6.8642745709828396E-2,34,33,24,22,19,"Collision with Other Post, Pole, or Support",2186,2.5846270262600942E-2,522,533,465,372,294]
["Collision with Other Traffic Barrier",46,2.3920956838273531E-2,9,10,12,10,5,"Collision with Other Traffic Barrier",757,8.950423874102888E-3,169,182,166,147,93]
["Collision with Traffic Sign Support",0,0,0,0,0,0,0,"Collision with Traffic Sign Support",9735,0.11510221455005498,2102,2111,2025,1778,1719]
["Collision with Traffic Signal Support",213,0.11076443057722309,71,33,25,42,42,"Collision with Traffic Signal Support",2809,3.321233905198813E-2,633,629,609,492,446]
["Collision with Tree",23,1.1960478419136765E-2,6,8,1,5,3,"Collision with Tree",4238,5.0108185440486182E-2,1029,1037,900,716,556]
["Collision with Utility Pole or Light Support",0,0,0,0,0,0,0,"Collision with Utility Pole or Light Support",42,4.9658890714969787E-4,5,8,14,9,6]
["Unknown",27,1.4040561622464899E-2,4,2,9,5,7,"Unknown",91,1.0759426321576787E-3,10,21,15,19,26]
[{"$f":"CONCATENATE(\"Fatal and Serious Injury Crashes Only - \",A489, \"\n\",Instructions!$B$11)","v":"Fatal and Serious Injury Crashes Only - Contributing Circumstance, Vehicle\nTest Group 2"},null,null,null,null,null,null,null,{"$f":"CONCATENATE(\"Total Crashes - \",I489, \"\n\",Instructions!$B$11)","v":"Total Crashes - Contributing Circumstance, Vehicle\nTest Group 2"}]
["Contributing Circumstance, Vehicle","Number of Crashes","Percent of Crashes","Year 5 Crashes","Year 4 Crashes","Year 3 Crashes","Year 2 Crashes","Year 1 Crashes","Contributing Circumstance, Vehicle","Number of Crashes","Percent of Crashes","Year 5 Crashes","Year 4 Crashes","Year 3 Crashes","Year 2 Crashes","Year 1 Crashes"]
["None",34,{"$f":"B490/SUM(B$490:B$505)","v":1.7680707228289131E-2},6,9,4,10,5,{"$f":"A490","v":"None"},403,{"$f":"J490/SUM(J$490:J$505)","v":4.764888799555435E-3},82,79,77,95,70]
["Brakes",0,{"$f":"B491/SUM(B$490:B$505)","v":0},0,0,0,0,0,"Brakes",3,{"$f":"J491/SUM(J$490:J$505)","v":3.5470636224978419E-5},0,1,2,0,0]
["Exhaust System",17,8.8403536141445655E-3,5,3,3,3,3,"Exhaust System",3397,4.0164583752083899E-2,760,817,746,658,416]
["Body or Doors",2,1.0400416016640667E-3,1,0,0,1,0,"Body or Doors",48,5.6753017959965471E-4,13,11,7,10,7]
["Steering",175,9.100364014560583E-2,43,30,33,32,37,"Steering",754,8.9149532378779098E-3,152,162,149,148,143]
["Power Train",1,5.2002080083203334E-4,0,0,1,0,0,"Power Train",9,1.0641190867493527E-4,1,2,3,1,2]
["Suspension",4,2.0800832033281333E-3,1,1,0,0,2,"Suspension",324,3.8308287122976697E-3,89,65,68,52,50]
["Tires",160,8.3203328133125323E-2,41,29,27,36,27,"Tires",795,9.3997185996192827E-3,183,150,161,157,144]
["Wheels",815,0.42381695267810715,205,167,119,169,155,"Wheels",43798,0.51784764179386833,9459,9496,9110,8000,7733]
["Lights (head, signal, tail)",3,1.5600624024960999E-3,1,1,0,0,1,"Lights (head, signal, tail)",82,9.6953072348274357E-4,15,20,16,3,28]
["Windows or Windshield",248,0.12896515860634425,65,54,32,64,33,"Windows or Windshield",12633,0.14936684914338413,2845,2829,2740,2213,2006]
["Mirrors",4,2.0800832033281333E-3,3,1,0,0,0,"Mirrors",247,2.9204157158565567E-3,43,49,35,22,98]
["Wipers",3,1.5600624024960999E-3,1,0,1,1,0,"Wipers",95,1.1232368137909833E-3,13,19,22,18,23]
["Truck Coupling, Tailer Hitch, Safety Chains",394,0.20488819552782112,101,98,72,66,57,"Truck Coupling, Tailer Hitch, Safety Chains",19659,0.2324390791822836,4695,4795,4179,3346,2644]
["Other",1,5.2002080083203334E-4,1,0,0,0,0,"Other",29,3.4288281684145805E-4,3,6,6,3,11]
["Unknown",62,3.2241289651586062E-2,21,12,11,8,10,"Unknown",2301,2.7205977984558451E-2,469,556,550,358,368]
["Person-Level Data"]
[{"$f":"CONCATENATE(\"Fatal and Serious Injury Crashes Only - \",A508, \"\n\",Instructions!$B$11)","v":"Fatal and Serious Injury Crashes Only - Person Type\nTest Group 2"},null,null,null,null,null,null,null,{"$f":"CONCATENATE(\"Total Crashes - \",I508, \"\n\",Instructions!$B$11)","v":"Total Crashes - Person Type\nTest Group 2"}]
["Person Type","Number of Crashes","Percent of Crashes","Year 5 Crashes","Year 4 Crashes","Year 3 Crashes","Year 2 Crashes","Year 1 Crashes","Person Type","Number of Crashes","Percent of Crashes","Year 5 Crashes","Year 4 Crashes","Year 3 Crashes","Year 2 Crashes","Year 1 Crashes"]
["Driver",{"$f":"SUM(D509:H509)","v":742},{"$f":"B509/SUM(B$509:B$516)","v":0.28494623655913981},205,140,138,124,135,"Driver",{"$f":"SUM(L509:P509)","v":29003},{"$f":"J509/SUM(J$509:J$516)","v":0.25160271702827203},6829,6224,6631,4383,4936]
["Passenger",7,{"$f":"B510/SUM(B$509:B$516)","v":2.6881720430107529E-3},4,0,1,1,1,"Passenger",572,{"$f":"J510/SUM(J$509:J$516)","v":4.962133370346916E-3},135,106,147,99,85]
["Occupant of Motor Vehicle Not in Transport",591,0.22695852534562211,159,128,111,100,93,"Occupant of Motor Vehicle Not in Transport",27632,0.239709212044451,6041,5876,6615,4408,4692]
["Bicyclist",12,4.608294930875576E-3,1,1,3,7,0,"Bicyclist",580,5.0315338370650539E-3,113,85,181,102,99]
["Other Cyclist",630,0.24193548387096775,149,146,109,121,105,"Other Cyclist",29325,0.25439608581367712,7005,6451,6855,4520,4494]
["Pedestrian",5,1.9201228878648233E-3,4,1,0,0,0,"Pedestrian",457,3.9645016612736717E-3,112,92,106,79,68]
["Wheelchair, Person in a Building, Skater, Personal Conveyance, etc.",592,0.22734254992319508,162,105,88,111,126,"Wheelchair, Person in a Building, Skater, Personal Conveyance, etc.",26701,0.23163273273012761,5815,5666,5985,4422,4813]
["Unknown",24.999999999999943,9.6006144393240948E-3,9,5.5,4.5,4,1.9999999999999432,"Unknown",1003,8.701083514786637E-3,301,274,287,88,53]
[{"$f":"CONCATENATE(\"Fatal and Serious Injury Crashes Only - \",A518, \"\n\",Instructions!$B$11)","v":"Fatal and Serious Injury Crashes Only - Restraint Use\nTest Group 2"},null,null,null,null,null,null,null,{"$f":"CONCATENATE(\"Total Crashes - \",I518, \"\n\",Instructions!$B$11)","v":"Total Crashes - Restraint Use\nTest Group 2"}]
["Restraint Use","Number of Crashes","Percent of Crashes","Year 5 Crashes","Year 4 Crashes","Year 3 Crashes","Year 2 Crashes","Year 1 Crashes","Restraint Use","Number of Crashes","Percent of Crashes","Year 5 Crashes","Year 4 Crashes","Year 3 Crashes","Year 2 Crashes","Year 1 Crashes"]
["Booster Seat",44,{"$f":"B519/SUM(B$519:B$536)","v":1.6897081413210446E-2},8,11,6,12,7,"Booster Seat",543,{"$f":"J519/SUM(J$519:J$536)","v":4.7105566784936626E-3},114,102,115,114,98]
["Child Restraint System - Forward Facing",0,{"$f":"B520/SUM(B$519:B$536)","v":0},0,0,0,0,0,"Child Restraint System - Forward Facing",4,{"$f":"J520/SUM(J$519:J$536)","v":3.4700233359069342E-5},0,1,3,0,0]
["Child Restraint System - Rear Facing",21,8.0645161290322578E-3,7,3,4,3,4,"Child Restraint System - Rear Facing",4616,4.0044069296366017E-2,1064,1062,1119,789,582]
["Child Restraint - Type Unknown",2,7.6804915514592934E-4,1,0,0,1,0,"Child Restraint - Type Unknown",63,5.4652867540534212E-4,18,14,10,12,9]
["Lap Belt Only Used",237,9.1013824884792621E-2,60,39,49,38,51,"Lap Belt Only Used",1022,8.8659096232422165E-3,212,210,223,177,200]
["None Used - Motor Vehicle Occupant",1,3.8402457757296467E-4,0,0,1,0,0,"None Used - Motor Vehicle Occupant",10,8.6750583397673345E-5,1,2,4,1,2]
["Restraint Used - Type Unknown",4,1.5360983102918587E-3,1,1,0,0,2,"Restraint Used - Type Unknown",442,3.8343757861771621E-3,124,84,102,62,70]
["Shoulder and Lap Belt Used",214,8.218125960061444E-2,57,37,40,43,37,"Shoulder and Lap Belt Used",1081,9.3777380652884882E-3,256,195,241,188,201]
["Shoulder Belt Only Used",1101,0.42281105990783407,287,217,178,202,217,"Shoulder Belt Only Used",59677,0.51770145654229527,13242,12344,13665,9600,10826]
["Stretcher",3,1.152073732718894E-3,1,1,0,0,1,"Stretcher",113,9.802815923937089E-4,21,26,24,3,39]
["Wheelchair",331,0.12711213517665129,91,70,48,76,46,"Wheelchair",17233,0.14949728036921048,3983,3677,4110,2655,2808]
["DOT-Compliant Motorcycle Helmet",5,1.9201228878648233E-3,4,1,0,0,0,"DOT-Compliant Motorcycle Helmet",338,2.9321697188413594E-3,60,63,52,26,137]
["Not DOT-Compliant Motorcycle Helmet",3,1.152073732718894E-3,1,0,1,1,0,"Not DOT-Compliant Motorcycle Helmet",128,1.1104074674902189E-3,18,24,33,21,32]
["Unknown if DOT-Compliant Motorcycle Helmet",534,0.20506912442396313,141,127,108,79,79,"Unknown if DOT-Compliant Motorcycle Helmet",26790,0.23240481292236689,6573,6233,6268,4015,3701]
["No Helmet",1,3.8402457757296467E-4,1,0,0,0,0,"No Helmet",38,3.2965221691115873E-4,4,7,9,3,15]
["Not Applicable",82,3.1490015360983101E-2,29,14,16,9,14,"Not Applicable",3106,2.6944731203317342E-2,641,717,811,426,511]
["Other",1,3.8402457757296467E-4,0,1,0,0,0,"Other",40,3.4700233359069338E-4,15,5,13,3,4]
["Unknown",19.999999999999943,7.6804915514592717E-3,4,4.5,3.5,4,3.9999999999999432,"Unknown",29,2.5157669185325274E-4,5,8,5,6,5]
[{"$f":"CONCATENATE(\"Fatal and Serious Injury Crashes Only - \",A538, \"\n\",Instructions!$B$11)","v":"Fatal and Serious Injury Crashes Only - Driver Actions at Time of Crash, Selection 1\nTest Group 2"},null,null,null,null,null,null,null,{"$f":"CONCATENATE(\"Total Crashes - \",I538, \"\n\",Instructions!$B$11)","v":"Total Crashes - Driver Actions at Time of Crash, Selection 1\nTest Group 2"}]
["Driver Actions at Time of Crash, Selection 1","Number of Crashes","Percent of Crashes","Year 5 Crashes","Year 4 Crashes","Year 3 Crashes","Year 2 Crashes","Year 1 Crashes","Driver Actions at Time of Crash, Selection 1","Number of Crashes","Percent of Crashes","Year 5 Crashes","Year 4 Crashes","Year 3 Crashes","Year 2 Crashes","Year 1 Crashes"]
["No Contributing Action",534,{"$f":"B539/SUM(B$539:B$557)","v":0.20506912442396313},141,127,108,79,79,"No Contributing Action",26790,{"$f":"J539/SUM(J$539:J$557)","v":0.23240481292236689},6573,6233,6268,4015,3701]
["Disregarded Other Road Markings",1,{"$f":"B540/SUM(B$539:B$557)","v":3.8402457757296467E-4},1,0,0,0,0,"Disregarded Other Road Markings",38,{"$f":"J540/SUM(J$539:J$557)","v":3.2965221691115873E-4},4,7,9,3,15]
["Disregarded Other Traffic Sign",82,3.1490015360983101E-2,29,14,16,9,14,"Disregarded Other Traffic Sign",3106,2.6944731203317342E-2,641,717,811,426,511]
["Failed to Keep in Proper Lane",1,3.8402457757296467E-4,0,1,0,0,0,"Failed to Keep in Proper Lane",40,3.4700233359069338E-4,15,5,13,3,4]
["Failed to Yield Right-of-Way",19.999999999999943,7.6804915514592717E-3,4,4.5,3.5,4,3.9999999999999432,"Failed to Yield Right-of-Way",29,2.5157669185325274E-4,5,8,5,6,5]
["Followed Too Closely",44,1.6897081413210446E-2,8,11,6,12,7,"Followed Too Closely",543,4.7105566784936626E-3,114,102,115,114,98]
["Improper Backing",0,0,0,0,0,0,0,"Improper Backing",4,3.4700233359069342E-5,0,1,3,0,0]
["Improper Passing",21,8.0645161290322578E-3,7,3,4,3,4,"Improper Passing",4616,4.0044069296366017E-2,1064,1062,1119,789,582]
["Improper Turn",2,7.6804915514592934E-4,1,0,0,1,0,"Improper Turn",63,5.4652867540534212E-4,18,14,10,12,9]
["Operated Motor Vehicle in Inattentive, Careless, Negligent, or Erratic Manner",237,9.1013824884792621E-2,60,39,49,38,51,"Operated Motor Vehicle in Inattentive, Careless, Negligent, or Erratic Manner",1022,8.8659096232422165E-3,212,210,223,177,200]
["Operated Motor Vehicle in Reckless or Aggressive Manner",1,3.8402457757296467E-4,0,0,1,0,0,"Operated Motor Vehicle in Reckless or Aggressive Manner",10,8.6750583397673345E-5,1,2,4,1,2]
["Over-Correcting/Over-Steering",4,1.5360983102918587E-3,1,1,0,0,2,"Over-Correcting/Over-Steering",442,3.8343757861771621E-3,124,84,102,62,70]
["Ran Off Roadway",214,8.218125960061444E-2,57,37,40,43,37,"Ran Off Roadway",1081,9.3777380652884882E-3,256,195,241,188,201]
["Ran Red Light",1101,0.42281105990783407,287,217,178,202,217,"Ran Red Light",59677,0.51770145654229527,13242,12344,13665,9600,10826]
["Ran Stop Sign",3,1.152073732718894E-3,1,1,0,0,1,"Ran Stop Sign",113,9.802815923937089E-4,21,26,24,3,39]
["Swerve or Avoided Due to Wind, Slippery Surface, Motor Vehicle, Object, Non-Motorist in Roadway, etc.",0,0,0,0,0,0,0,"Swerve or Avoided Due to Wind, Slippery Surface, Motor Vehicle, Object, Non-Motorist in Roadway, etc.",405,3.5133986276057708E-3,83,77,110,55,80]
["Wrong Side or Wrong Way",331,0.12711213517665129,91,70,48,76,46,"Wrong Side or Wrong Way",16828,0.1459838817416047,3900,3600,4000,2600,2728]
["Other Contributing Action",5,1.9201228878648233E-3,4,1,0,0,0,"Other Contributing Action",338,2.9321697188413594E-3,60,63,52,26,137]
["Unknown",3,1.152073732718894E-3,1,0,1,1,0,{"$f":"A557","v":"Unknown"},128,1.1104074674902189E-3,18,24,33,21,32]
[{"$f":"CONCATENATE(\"Fatal and Serious Injury Crashes Only - \",A559, \"\n\",Instructions!$B$11)","v":"Fatal and Serious Injury Crashes Only - Driver Actions at Time of Crash, Selection 2\nTest Group 2"},null,null,null,null,null,null,null,{"$f":"CONCATENATE(\"Total Crashes - \",I559, \"\n\",Instructions!$B$11)","v":"Total Crashes - Driver Actions at Time of Crash, Selection 2\nTest Group 2"}]
["Driver Actions at Time of Crash, Selection 2","Number of Crashes","Percent of Crashes","Year 5 Crashes","Year 4 Crashes","Year 3 Crashes","Year 2 Crashes","Year 1 Crashes","Driver Actions at Time of Crash, Selection 2","Number of Crashes","Percent of Crashes","Year 5 Crashes","Year 4 Crashes","Year 3 Crashes","Year 2 Crashes","Year 1 Crashes"]
["No Contributing Action",{"$f":"SUM(D560:H560)","v":0},{"$f":"B560/SUM(B$560:B$578)","v":0},0,0,0,0,0,"No Contributing Action",{"$f":"SUM(L560:P560)","v":4},{"$f":"J560/SUM(J$560:J$578)","v":3.4700233359069342E-5},0,1,3,0,0]
["Disregarded Other Road Markings",21,{"$f":"B561/SUM(B$560:B$578)","v":8.0645161290322578E-3},7,3,4,3,4,"Disregarded Other Road Markings",4616,{"$f":"J561/SUM(J$560:J$578)","v":4.0044069296366017E-2},1064,1062,1119,789,582]
["Disregarded Other Traffic Sign",2,7.6804915514592934E-4,1,0,0,1,0,"Disregarded Other Traffic Sign",63,5.4652867540534212E-4,18,14,10,12,9]
["Failed to Keep in Proper Lane",237,9.1013824884792621E-2,60,39,49,38,51,"Failed to Keep in Proper Lane",1022,8.8659096232422165E-3,212,210,223,177,200]
["Failed to Yield Right-of-Way",1,3.8402457757296467E-4,0,0,1,0,0,"Failed to Yield Right-of-Way",10,8.6750583397673345E-5,1,2,4,1,2]
["Followed Too Closely",4,1.5360983102918587E-3,1,1,0,0,2,"Followed Too Closely",442,3.8343757861771621E-3,124,84,102,62,70]
["Improper Backing",214,8.218125960061444E-2,57,37,40,43,37,"Improper Backing",1081,9.3777380652884882E-3,256,195,241,188,201]
["Improper Passing",1101,0.42281105990783407,287,217,178,202,217,"Improper Passing",59677,0.51770145654229527,13242,12344,13665,9600,10826]
["Improper Turn",3,1.152073732718894E-3,1,1,0,0,1,"Improper Turn",113,9.802815923937089E-4,21,26,24,3,39]
["Operated Motor Vehicle in Inattentive, Careless, Negligent, or Erratic Manner",0,0,0,0,0,0,0,"Operated Motor Vehicle in Inattentive, Careless, Negligent, or Erratic Manner",405,3.5133986276057708E-3,83,77,110,55,80]
["Operated Motor Vehicle in Reckless or Aggressive Manner",331,0.12711213517665129,91,70,48,76,46,"Operated Motor Vehicle in Reckless or Aggressive Manner",16828,0.1459838817416047,3900,3600,4000,2600,2728]
["Over-Correcting/Over-Steering",5,1.9201228878648233E-3,4,1,0,0,0,"Over-Correcting/Over-Steering",338,2.9321697188413594E-3,60,63,52,26,137]
["Ran Off Roadway",3,1.152073732718894E-3,1,0,1,1,0,"Ran Off Roadway",128,1.1104074674902189E-3,18,24,33,21,32]
["Ran Red Light",534,0.20506912442396313,141,127,108,79,79,"Ran Red Light",26790,0.23240481292236689,6573,6233,6268,4015,3701]
["Ran Stop Sign",1,3.8402457757296467E-4,1,0,0,0,0,"Ran Stop Sign",38,3.2965221691115873E-4,4,7,9,3,15]
["Swerve or Avoided Due to Wind, Slippery Surface, Motor Vehicle, Object, Non-Motorist in Roadway, etc.",82,3.1490015360983101E-2,29,14,16,9,14,"Swerve or Avoided Due to Wind, Slippery Surface, Motor Vehicle, Object, Non-Motorist in Roadway, etc.",3106,2.6944731203317342E-2,641,717,811,426,511]
["Wrong Side or Wrong Way",1,3.8402457757296467E-4,0,1,0,0,0,"Wrong Side or Wrong Way",40,3.4700233359069338E-4,15,5,13,3,4]
["Other Contributing Action",19.999999999999943,7.6804915514592717E-3,4,4.5,3.5,4,3.9999999999999432,"Other Contributing Action",29,2.5157669185325274E-4,5,8,5,6,5]
["Unknown",44,1.6897081413210446E-2,8,11,6,12,7,"Unknown",543,4.7105566784936626E-3,114,102,115,114,98]
[{"$f":"CONCATENATE(\"Fatal and Serious Injury Crashes Only - \",A580, \"\n\",Instructions!$B$11)","v":"Fatal and Serious Injury Crashes Only - Driver Actions at Time of Crash, Selection 3\nTest Group 2"},null,null,null,null,null,null,null,{"$f":"CONCATENATE(\"Total Crashes - \",I580, \"\n\",Instructions!$B$11)","v":"Total Crashes - Driver Actions at Time of Crash, Selection 3\nTest Group 2"}]
["Driver Actions at Time of Crash, Selection 3","Number of Crashes","Percent of Crashes","Year 5 Crashes","Year 4 Crashes","Year 3 Crashes","Year 2 Crashes","Year 1 Crashes","Driver Actions at Time of Crash, Selection 3","Number of Crashes","Percent of Crashes","Year 5 Crashes","Year 4 Crashes","Year 3 Crashes","Year 2 Crashes","Year 1 Crashes"]
["No Contributing Action",{"$f":"SUM(D581:H581)","v":331},{"$f":"B581/SUM(B$581:B$599)","v":0.12711213517665129},91,70,48,76,46,"No Contributing Action",{"$f":"SUM(L581:P581)","v":16828},{"$f":"J581/SUM(J$581:J$599)","v":0.1459838817416047},3900,3600,4000,2600,2728]
["Disregarded Other Road Markings",5,{"$f":"B582/SUM(B$581:B$599)","v":1.9201228878648233E-3},4,1,0,0,0,"Disregarded Other Road Markings",338,{"$f":"J582/SUM(J$581:J$599)","v":2.9321697188413594E-3},60,63,52,26,137]
["Disregarded Other Traffic Sign",3,1.152073732718894E-3,1,0,1,1,0,"Disregarded Other Traffic Sign",128,1.1104074674902189E-3,18,24,33,21,32]
["Failed to Keep in Proper Lane",1,3.8402457757296467E-4,0,1,0,0,0,"Failed to Keep in Proper Lane",40,3.4700233359069338E-4,15,5,13,3,4]
["Failed to Yield Right-of-Way",19.999999999999943,7.6804915514592717E-3,4,4.5,3.5,4,3.9999999999999432,"Failed to Yield Right-of-Way",29,2.5157669185325274E-4,5,8,5,6,5]
["Followed Too Closely",44,1.6897081413210446E-2,8,11,6,12,7,"Followed Too Closely",543,4.7105566784936626E-3,114,102,115,114,98]
["Improper Backing",237,9.1013824884792621E-2,60,39,49,38,51,"Improper Backing",1022,8.8659096232422165E-3,212,210,223,177,200]
["Improper Passing",1,3.8402457757296467E-4,0,0,1,0,0,"Improper Passing",10,8.6750583397673345E-5,1,2,4,1,2]
["Improper Turn",4,1.5360983102918587E-3,1,1,0,0,2,"Improper Turn",442,3.8343757861771621E-3,124,84,102,62,70]
["Operated Motor Vehicle in Inattentive, Careless, Negligent, or Erratic Manner",214,8.218125960061444E-2,57,37,40,43,37,"Operated Motor Vehicle in Inattentive, Careless, Negligent, or Erratic Manner",1081,9.3777380652884882E-3,256,195,241,188,201]
["Operated Motor Vehicle in Reckless or Aggressive Manner",1101,0.42281105990783407,287,217,178,202,217,"Operated Motor Vehicle in Reckless or Aggressive Manner",59677,0.51770145654229527,13242,12344,13665,9600,10826]
["Over-Correcting/Over-Steering",3,1.152073732718894E-3,1,1,0,0,1,"Over-Correcting/Over-Steering",113,9.802815923937089E-4,21,26,24,3,39]
["Ran Off Roadway",0,0,0,0,0,0,0,"Ran Off Roadway",405,3.5133986276057708E-3,83,77,110,55,80]
["Ran Red Light",0,0,0,0,0,0,0,"Ran Red Light",4,3.4700233359069342E-5,0,1,3,0,0]
["Ran Stop Sign",21,8.0645161290322578E-3,7,3,4,3,4,"Ran Stop Sign",4616,4.0044069296366017E-2,1064,1062,1119,789,582]
["Swerve or Avoided Due to Wind, Slippery Surface, Motor Vehicle, Object, Non-Motorist in Roadway, etc.",2,7.6804915514592934E-4,1,0,0,1,0,"Swerve or Avoided Due to Wind, Slippery Surface, Motor Vehicle, Object, Non-Motorist in Roadway, etc.",63,5.4652867540534212E-4,18,14,10,12,9]
["Wrong Side or Wrong Way",534,0.20506912442396313,141,127,108,79,79,"Wrong Side or Wrong Way",26790,0.23240481292236689,6573,6233,6268,4015,3701]
["Other Contributing Action",1,3.8402457757296467E-4,1,0,0,0,0,"Other Contributing Action",38,3.2965221691115873E-4,4,7,9,3,15]
["Unknown",82,3.1490015360983101E-2,29,14,16,9,14,"Unknown",3106,2.6944731203317342E-2,641,717,811,426,511]
[{"$f":"CONCATENATE(\"Fatal and Serious Injury Crashes Only - \",A601, \"\n\",Instructions!$B$11)","v":"Fatal and Serious Injury Crashes Only - Driver Actions at Time of Crash, Selection 4\nTest Group 2"},null,null,null,null,null,null,null,{"$f":"CONCATENATE(\"Total Crashes - \",I601, \"\n\",Instructions!$B$11)","v":"Total Crashes - Driver Actions at Time of Crash, Selection 4\nTest Group 2"}]
["Driver Actions at Time of Crash, Selection 4","Number of Crashes","Percent of Crashes","Year 5 Crashes","Year 4 Crashes","Year 3 Crashes","Year 2 Crashes","Year 1 Crashes","Driver Actions at Time of Crash, Selection 4","Number of Crashes","Percent of Crashes","Year 5 Crashes","Year 4 Crashes","Year 3 Crashes","Year 2 Crashes","Year 1 Crashes"]
["No Contributing Action",{"$f":"SUM(D602:H602)","v":1101},{"$f":"B602/SUM(B$602:B$620)","v":0.42281105990783407},287,217,178,202,217,"No Contributing Action",{"$f":"SUM(L602:P602)","v":59677},{"$f":"J602/SUM(J$602:J$620)","v":0.51770145654229527},13242,12344,13665,9600,10826]
["Disregarded Other Road Markings",3,{"$f":"B603/SUM(B$602:B$620)","v":1.152073732718894E-3},1,1,0,0,1,"Disregarded Other Road Markings",113,{"$f":"J603/SUM(J$602:J$620)","v":9.802815923937089E-4},21,26,24,3,39]
["Disregarded Other Traffic Sign",0,0,0,0,0,0,0,"Disregarded Other Traffic Sign",405,3.5133986276057708E-3,83,77,110,55,80]
["Failed to Keep in Proper Lane",0,0,0,0,0,0,0,"Failed to Keep in Proper Lane",4,3.4700233359069342E-5,0,1,3,0,0]
["Failed to Yield Right-of-Way",21,8.0645161290322578E-3,7,3,4,3,4,"Failed to Yield Right-of-Way",4616,4.0044069296366017E-2,1064,1062,1119,789,582]
["Followed Too Closely",2,7.6804915514592934E-4,1,0,0,1,0,"Followed Too Closely",63,5.4652867540534212E-4,18,14,10,12,9]
["Improper Backing",534,0.20506912442396313,141,127,108,79,79,"Improper Backing",26790,0.23240481292236689,6573,6233,6268,4015,3701]
["Improper Passing",1,3.8402457757296467E-4,1,0,0,0,0,"Improper Passing",38,3.2965221691115873E-4,4,7,9,3,15]
["Improper Turn",82,3.1490015360983101E-2,29,14,16,9,14,"Improper Turn",3106,2.6944731203317342E-2,641,717,811,426,511]
["Operated Motor Vehicle in Inattentive, Careless, Negligent, or Erratic Manner",331,0.12711213517665129,91,70,48,76,46,"Operated Motor Vehicle in Inattentive, Careless, Negligent, or Erratic Manner",16828,0.1459838817416047,3900,3600,4000,2600,2728]
["Operated Motor Vehicle in Reckless or Aggressive Manner",5,1.9201228878648233E-3,4,1,0,0,0,"Operated Motor Vehicle in Reckless or Aggressive Manner",338,2.9321697188413594E-3,60,63,52,26,137]
["Over-Correcting/Over-Steering",3,1.152073732718894E-3,1,0,1,1,0,"Over-Correcting/Over-Steering",128,1.1104074674902189E-3,18,24,33,21,32]
["Ran Off Roadway",1,3.8402457757296467E-4,0,1,0,0,0,"Ran Off Roadway",40,3.4700233359069338E-4,15,5,13,3,4]
["Ran Red Light",19.999999999999943,7.6804915514592717E-3,4,4.5,3.5,4,3.9999999999999432,"Ran Red Light",29,2.5157669185325274E-4,5,8,5,6,5]
["Ran Stop Sign",44,1.6897081413210446E-2,8,11,6,12,7,"Ran Stop Sign",543,4.7105566784936626E-3,114,102,115,114,98]
["Swerve or Avoided Due to Wind, Slippery Surface, Motor Vehicle, Object, Non-Motorist in Roadway, etc.",237,9.1013824884792621E-2,60,39,49,38,51,"Swerve or Avoided Due to Wind, Slippery Surface, Motor Vehicle, Object, Non-Motorist in Roadway, etc.",1022,8.8659096232422165E-3,212,210,223,177,200]
["Wrong Side or Wrong Way",1,3.8402457757296467E-4,0,0,1,0,0,"Wrong Side or Wrong Way",10,8.6750583397673345E-5,1,2,4,1,2]
["Other Contributing Action",4,1.5360983102918587E-3,1,1,0,0,2,"Other Contributing Action",442,3.8343757861771621E-3,124,84,102,62,70]
["Unknown",214,8.218125960061444E-2,57,37,40,43,37,"Unknown",1081,9.3777380652884882E-3,256,195,241,188,201]

{"sheet":"Comparison Group 3","index":7,"n_rows":577,"n_cols":15,"rows_kept":577,"cut":false,"hidden":false,"merged":[[2,8,2,14],[0,0,0,14],[1,0,3,0],[1,1,1,7],[1,8,1,14],[2,1,2,7]]}
["Crash Data Summary Template"]
["Year 1 - Year 5 Comparison Group 3 Data","Fatal and Serious Injury Crashes",null,null,null,null,null,null,"All Crashes"]
[null,{"$f":"Instructions!B12","v":"Test Group 3"},null,null,null,null,null,null,{"$f":"Instructions!B12","v":"Test Group 3"}]
[null,"Year 1 - Year 5","%","Year 5","Year 4","Year 3","Year 2","Year 1","Year 1 - Year 5","%","Year 5","Year 4","Year 3","Year 2","Year 1"]
["Overall Numbers"]
["Total # of Collisions",{"$f":"SUM(D6:H6)","v":1289},"N/A",319,275,223,248,224,{"$f":"SUM(K6:O6)","v":55025},"N/A",12129,12413,11550,9816,9117]
["# of Fatal Collisions",184,{"$f":"B7/B6","v":0.14274631497284718},58,41,31,31,23,184,{"$f":"I7/I6","v":3.3439345751930939E-3},58,41,31,31,23]
["# of Serious Injury Collisions",1105,{"$f":"B8/B6","v":0.85725368502715282},261,234,192,217,201,1105,{"$f":"I8/I6","v":2.0081781008632438E-2},261,234,192,217,201]
["# of Alcohol-Related Collisions",249,{"$f":"B9/B6","v":0.19317300232738557},53,45,46,60,45,2939,{"$f":"I9/I6","v":5.341208541572013E-2},614,552,576,584,613]
["Total # of Fatalities",195,"N/A",60,45,31,32,27,195,"N/A",60,45,31,32,27]
["Total # of Serious Injuries",1989,"N/A",486,422,343,403,335,18776,"N/A",4281,3976,3917,3331,3271]
["Most Severe Injury Reported"]
["5 (K)",{"$f":"SUM(D13:H13)","v":184},{"$f":"B13/SUM(B$13:B$17)","v":0.14274631497284718},58,41,31,31,23,{"$f":"SUM(K13:O13)","v":184},{"$f":"I13/SUM(I$13:I$17)","v":3.3439345751930939E-3},58,41,31,31,23]
["4 (A)",{"$f":"SUM(D14:H14)","v":1105},{"$f":"B14/SUM(B$13:B$17)","v":0.85725368502715282},261,234,192,217,201,{"$f":"SUM(K14:O14)","v":1105},{"$f":"I14/SUM(I$13:I$17)","v":2.0081781008632438E-2},261,234,192,217,201]
["3 (B)","N/A","N/A","N/A","N/A","N/A","N/A","N/A",{"$f":"SUM(K15:O15)","v":3082},{"$f":"I15/SUM(I$13:I$17)","v":5.6010904134484327E-2},667,617,634,564,600]
["2 (C)","N/A","N/A","N/A","N/A","N/A","N/A","N/A",{"$f":"SUM(K16:O16)","v":9284},0.16872330758746024,2107,2037,1978,1627,1535]
["1 (O)","N/A","N/A","N/A","N/A","N/A","N/A","N/A",{"$f":"SUM(K17:O17)","v":41370},0.75184007269422992,9036,9484,8715,7377,6758]
["Property"]
["Public",{"$f":"SUM(D19:H19)","v":1105},{"$f":"B19/SUM(B$19:B$20)","v":0.85725368502715282},261,234,192,217,201,{"$f":"SUM(K19:O19)","v":52559.6},{"$f":"I19/SUM(I$19:I$20)","v":0.95519491140390733},{"$f":"K6*0.95","v":11522.55},{"$f":"L6*0.94","v":11668.22},{"$f":"M6*0.96","v":11088},{"$f":"N6*0.98","v":9619.68},{"$f":"O6*0.95","v":8661.15}]
["Private",184,{"$f":"B20/SUM(B$19:B$20)","v":0.14274631497284718},58,41,31,31,23,2465.4000000000015,{"$f":"I20/SUM(I$19:I$20)","v":4.480508859609271E-2},{"$f":"K6-K19","v":606.45000000000073},{"$f":"L6-L19","v":744.78000000000065},462,196.31999999999971,455.85000000000036]
["Location"]
["Trafficway, On Road",{"$f":"SUM(D22:H22)","v":373},{"$f":"B22/SUM(B$22:B$24)","v":0.28937160589604344},96,74,54,86,63,{"$f":"SUM(K22:O22)","v":18956},{"$f":"I22/SUM(I$22:I$24)","v":0.34449795547478418},4212,4424,3943,3255,3122]
["Trafficway, Not on Road",{"$f":"SUM(D23:H23)","v":294.02},{"$f":"B23/SUM(B$22:B$24)","v":0.22809930178432891},82.94,74.25,64.67,20.64,51.52,{"$f":"SUM(K23:O23)","v":10475},{"$f":"I23/SUM(I$22:I$24)","v":0.19036801453884597},778,2828,2630,2117,2122]
["Non-Trafficway",{"$f":"SUM(D24:H24)","v":621.98},{"$f":"B24/SUM(B$22:B$24)","v":0.48252909231962765},140.06,126.75,104.33,141.36000000000001,109.47999999999999,{"$f":"SUM(K24:O24)","v":25594},{"$f":"I24/SUM(I$22:I$24)","v":0.46513402998636982},{"$f":"K6-K22-K23","v":7139},{"$f":"L6-L22-L23","v":5161},4977,4444,3873]
["By Weekday"]
["Sunday",{"$f":"SUM(D26:H26)","v":144},{"$f":"B26/SUM(B$26:B$32)","v":0.11171450737005431},38,34,22,27,23,{"$f":"SUM(K26:O26)","v":5109},{"$f":"I26/SUM(I$26:I$32)","v":9.2848705134029985E-2},1162,1121,1011,909,906]
["Monday",163,{"$f":"B27/SUM(B$26:B$32)","v":0.12645461598138091},32,40,31,30,30,7988,{"$f":"I27/SUM(I$26:I$32)","v":0.14517037710131758},1702,1829,1700,1471,1286]
["Tuesday",173,0.13421256788207914,38,31,35,38,31,8258,0.15007723761926398,1714,1859,1738,1538,1409]
["Wednesday",170,0.13188518231186966,42,41,27,32,28,8534,0.15509313948205361,1899,1884,1869,1545,1337]
["Thursday",220,0.17067494181536075,52,49,37,47,35,8496,0.15440254429804634,1880,1961,1743,1531,1381]
["Friday",210,0.16291698991466252,65,41,33,35,36,9389,0.17063153112221718,2211,2144,1915,1550,1569]
["Saturday",209,0.16214119472459271,52,39,38,39,41,7251,0.13177646524307132,1561,1615,1574,1272,1229]
["Crash Hour"]
["12:00 AM - 12:59 AM",{"$f":"SUM(D34:H34)","v":37},{"$f":"B34/SUM(B$34:B$58)","v":2.8704422032583398E-2},7,5,9,9,7,{"$f":"SUM(K34:O34)","v":852},{"$f":"I34/SUM(I$34:I$58)","v":1.5483870967741935E-2},192,191,158,169,142]
["1:00 AM - 1:59 AM",39,{"$f":"B35/SUM(B$34:B$58)","v":3.0256012412723042E-2},8,13,6,7,5,721,{"$f":"I35/SUM(I$34:I$58)","v":1.3103134938664244E-2},131,172,147,138,133]
["2:00 AM - 2:59 AM",30,2.3273855702094646E-2,10,3,4,8,5,695,1.263062244434348E-2,141,141,130,138,145]
["3:00 AM - 3:59 AM",15,1.1636927851047323E-2,4,3,3,1,4,489,8.8868696047251245E-3,106,110,96,90,87]
["4:00 AM - 4:59 AM",17,1.3188518231186967E-2,5,3,5,1,3,440,7.996365288505225E-3,80,101,103,71,85]
["5:00 AM - 5:59 AM",24,1.8619084561675717E-2,8,4,2,6,4,870,1.5810995002271695E-2,204,205,191,133,137]
["6:00 AM - 6:59 AM",52,4.0341349883630723E-2,17,11,12,7,5,2346,4.2635165833711949E-2,575,513,507,409,342]
["7:00 AM - 7:59 AM",64,4.965089216446858E-2,15,15,15,11,8,3883,7.0567923671058616E-2,888,833,818,717,627]
["8:00 AM - 8:59 AM",50,3.8789759503491075E-2,12,13,6,13,6,3068,5.5756474329850071E-2,696,711,650,536,475]
["9:00 AM - 9:59 AM",36,2.7928626842513578E-2,8,8,2,8,10,2108,3.8309859154929578E-2,449,511,449,366,333]
["10:00 AM - 10:59 AM",39,3.0256012412723042E-2,15,5,5,5,9,2121,3.8546115402089957E-2,458,491,441,393,338]
["11:00 AM - 11:59 AM",55,4.2668735453840187E-2,11,14,11,10,9,2434,4.4234438891412993E-2,476,553,516,477,412]
["12:00 PM - 12:59 PM",65,5.0426687354538403E-2,25,11,11,4,14,2926,5.3175829168559743E-2,670,647,614,500,495]
["1:00 PM - 1:59 PM",66,5.120248254460822E-2,12,13,15,13,13,3077,5.5920036347114947E-2,656,705,653,536,527]
["2:00 PM - 2:59 PM",60,4.6547711404189292E-2,15,15,7,8,15,3317,6.0281690140845071E-2,753,748,706,543,567]
["3:00 PM - 3:59 PM",80,6.2063615205585725E-2,22,14,13,17,14,4266,7.7528396183552936E-2,968,952,869,758,719]
["4:00 PM - 4:59 PM",92,7.1373157486423588E-2,19,21,16,18,18,4597,8.3543843707405724E-2,989,1098,992,813,705]
["5:00 PM - 5:59 PM",81,6.2839410395655548E-2,18,19,20,14,10,5380,9.7773739209450247E-2,1143,1209,1144,930,954]
["6:00 PM - 6:59 PM",91,7.0597362296353758E-2,22,20,13,19,17,3600,6.5424806905951843E-2,822,760,741,678,599]
["7:00 PM - 7:59 PM",70,5.4305663304887508E-2,16,12,13,16,13,2099,3.8146297137664695E-2,489,474,448,378,310]
["8:00 PM - 8:59 PM",83,6.4391000775795196E-2,21,17,13,22,10,1818,3.3039527487505681E-2,366,426,381,345,300]
["9:00 PM - 9:59 PM",58,4.4996121024049651E-2,11,15,9,13,10,1614,2.9332121762835076E-2,350,355,326,292,291]
["10:00 PM - 10:59 PM",44,3.4134988363072147E-2,10,14,6,8,6,1286,2.3371194911403909E-2,291,298,267,200,230]
["11:00 PM - 11:59 PM",40,3.1031807602792862E-2,8,7,7,9,9,992,1.8028169014084508E-2,235,205,197,196,159]
["Unknown",1,7.7579519006982156E-4,0,0,0,1,0,26,4.7251249432076327E-4,1,4,6,10,5]
["Crash Month"]
["January",{"$f":"SUM(D60:H60)","v":83},{"$f":"B60/SUM(B$60:B$71)","v":6.4391000775795196E-2},28,14,12,15,14,{"$f":"SUM(K60:O60)","v":4501},{"$f":"I60/SUM(I$60:I$71)","v":8.179918218991368E-2},1021,1019,964,807,690]
["February",78,{"$f":"B61/SUM(B$60:B$71)","v":6.0512024825446084E-2},20,18,13,10,17,4368,{"$f":"I61/SUM(I$60:I$71)","v":7.9382099045888235E-2},930,1035,872,745,786]
["March",118,9.154383242823895E-2,38,18,17,23,22,4123,7.4929577464788732E-2,985,843,837,795,663]
["April",99,7.6803723816912334E-2,25,20,16,24,14,4345,7.8964107223989097E-2,928,966,841,861,749]
["May",124,9.6198603568657878E-2,31,28,20,25,20,4467,8.1181281235801914E-2,997,1011,934,763,762]
["June",112,8.6889061287820021E-2,25,27,22,19,19,4385,7.9691049522944118E-2,989,994,942,706,754]
["July",109,8.4561675717610557E-2,22,29,19,16,23,4421,8.0345297592003637E-2,980,1038,906,780,717]
["August",136,0.10550814584949574,30,26,17,37,26,4658,8.4652430713312132E-2,1007,997,994,881,779]
["September",119,9.2319627618308767E-2,28,27,28,17,19,4739,8.6124488868696045E-2,1020,1081,1038,872,728]
["October",115,8.9216446858029486E-2,22,29,20,25,19,5063,9.2012721490231708E-2,1075,1176,1041,894,877]
["November",113,8.7664856477889838E-2,25,21,21,23,23,4862,8.8359836437982731E-2,1050,1154,1083,835,740]
["December",83,6.4391000775795196E-2,25,18,18,14,8,5093,9.2557928214447985E-2,1147,1099,1098,877,872]
["Crash Jurisdiction"]
["A",{"$f":"SUM(D73:H73)","v":295},{"$f":"B73/SUM(B$73:B$77)","v":0.22885958107059737},71,70,63,49,42,{"$f":"SUM(K73:O73)","v":18954},{"$f":"I73/SUM(I$73:I$77)","v":0.34446160835983641},3925,4298,3982,3593,3156]
["B",{"$f":"SUM(D74:H74)","v":172},{"$f":"B74/SUM(B$73:B$77)","v":0.13343677269200932},34,28,29,43,38,{"$f":"SUM(K74:O74)","v":5467},{"$f":"I74/SUM(I$73:I$77)","v":9.9354838709677415E-2},1170,1148,1168,1049,932]
["C",{"$f":"SUM(D75:H75)","v":300},0.23273855702094648,64,60,49,72,55,{"$f":"SUM(K75:O75)","v":12437},0.22602453430258973,2782,2828,2587,2118,2122]
["D",{"$f":"SUM(D76:H76)","v":229},0.17765709852598913,76,56,28,32,37,{"$f":"SUM(K76:O76)","v":7160},0.13012267151294865,1749,1771,1503,1103,1034]
["E",{"$f":"SUM(D77:H77)","v":293},0.22730799069045771,74,61,54,52,52,{"$f":"SUM(K77:O77)","v":11007},0.20003634711494775,2503,2368,2310,1953,1873]
["First Harmful Event"]
["Cargo/Equipment Loss or Shift",{"$f":"SUM(D79:H79)","v":4},{"$f":"B79/SUM(B$79:B$120)","v":3.1031807602792862E-3},0,2,0,0,2,{"$f":"SUM(K79:O79)","v":60},{"$f":"I79/SUM(I$79:I$120)","v":1.0904134484325306E-3},0,56,0,1,3]
["Fell/Jumped from Motor Vehicle",2,{"$f":"B80/SUM(B$79:B$120)","v":1.5515903801396431E-3},1,0,0,1,0,47,{"$f":"I80/SUM(I$79:I$120)","v":8.5415720127214904E-4},5,4,11,14,13]
["Fire/Explosion",0,0,0,0,0,0,0,0,0,0,0,0,0,0]
["Immersion, Full or Partial",0,0,0,0,0,0,0,1,1.817355747387551E-5,0,0,1,0,0]
["Jackknife",0,0,0,0,0,0,0,1,1.817355747387551E-5,0,0,1,0,0]
["Other Non-Collision",3,2.3273855702094647E-3,1,0,0,0,2,304,5.5247614720581551E-3,72,65,45,71,51]
["Overturn/Rollover",0,0,0,0,0,0,0,1,1.817355747387551E-5,1,0,0,0,0]
["Thrown or Falling Object",0,0,0,0,0,0,0,0,0,0,0,0,0,0]
["Collision with Animal",0,0,0,0,0,0,0,0,0,0,0,0,0,0]
["Collision with Construction Equipment",298,0.23118696664080682,65,59,49,71,54,6935,0.12603362108132668,1723,1677,1461,1064,1010]
["Collision with Farm Equipment",0,0,0,0,0,0,0,119,2.1626533393911858E-3,25,22,15,36,21]
["Collision with Motor Vehicle in Transport",0,0,0,0,0,0,0,0,0,0,0,0,0,0]
["Collision with Other Non-Fixed Object",0,0,0,0,0,0,0,1,1.817355747387551E-5,0,0,0,1,0]
["Collision with Other Non-motorist",0,0,0,0,0,0,0,0,0,0,0,0,0,0]
["Collision with Parked Motor Vehicle",0,0,0,0,0,0,0,2,3.6347114947751021E-5,0,0,1,0,1]
["Collision with Pedalcycle",0,0,0,0,0,0,0,1,1.817355747387551E-5,0,0,0,0,1]
["Collision with Pedestrian",63,4.8875096974398756E-2,12,18,9,11,13,3803,6.9114039073148573E-2,777,808,823,735,660]
["Collision with Railway Vehicle",0,0,0,0,0,0,0,1,1.817355747387551E-5,0,0,0,1,0]
["Strikes Object ar Rest from MV in Transport",1,7.7579519006982156E-4,0,0,0,1,0,1,1.817355747387551E-5,0,0,0,1,0]
["Struck by Falling, Shifting Cargo, or Anything Set in Motion by Motor Vehicle",0,0,0,0,0,0,0,2,3.6347114947751021E-5,0,0,0,0,2]
["Collision with Bridge Overhead Structure",165,0.12800620636152055,32,27,29,41,36,5819,0.1057519309404816,1191,1367,1177,1098,986]
["Collision with Bridge Pier or Support",0,0,0,0,0,0,0,0,0,0,0,0,0,0]
["Collision with Bridge Rail",0,0,0,0,0,0,0,0,0,0,0,0,0,0]
["Collision with Cable Barrier",0,0,0,0,0,0,0,1,1.817355747387551E-5,0,0,0,0,1]
["Collision with Concrete Traffic Barrier",0,0,0,0,0,0,0,0,0,0,0,0,0,0]
["Collision with Culvert",315,0.24437548487199379,79,71,65,53,47,13121,0.23845524761472059,2982,2995,2764,2206,2174]
["Collision with Curb",0,0,0,0,0,0,0,7,1.2721490231712857E-4,0,1,0,0,6]
["Collision with Ditch",0,0,0,0,0,0,0,2,3.6347114947751021E-5,1,1,0,0,0]
["Collision with Embankment",0,0,0,0,0,0,0,1,1.817355747387551E-5,0,0,0,0,1]
["Collision with Fence",3,2.3273855702094647E-3,1,1,0,1,0,143,2.598818718764198E-3,34,54,21,14,20]
["Collision with Guardrail End Terminal",0,0,0,0,0,0,0,4,7.2694229895502041E-5,0,0,0,1,3]
["Collision with Guardrail Face",0,0,0,0,0,0,0,0,0,0,0,0,0,0]
["Collision with Impact Attenuator/Crash Cushion",0,0,0,0,0,0,0,0,0,0,0,0,0,0]
["Collision with Mailbox",0,0,0,0,0,0,0,0,0,0,0,0,0,0]
["Collision with Other Fixed Object",0,0,0,0,0,0,0,1,1.817355747387551E-5,1,0,0,0,0]
["Collision with Other Post, Pole, or Support",0,0,0,0,0,0,0,0,0,0,0,0,0,0]
["Collision with Other Traffic Barrier",0,0,0,0,0,0,0,1,1.817355747387551E-5,0,0,0,0,1]
["Collision with Traffic Sign Support",0,0,0,0,0,0,0,0,0,0,0,0,0,0]
["Collision with Traffic Signal Support",15,1.1636927851047323E-2,5,1,1,5,3,874,1.5883689232167198E-2,179,180,168,204,143]
["Collision with Tree",0,0,0,0,0,0,0,1,1.817355747387551E-5,0,1,0,0,0]
["Collision with Utility Pole or Light Support",0,0,0,0,0,0,0,2,3.6347114947751021E-5,0,0,0,0,2]
["Unknown",420,0.32583397982932505,123,96,70,64,67,23769,0.43196728759654701,5138,5182,5062,4369,4018]
["Location of First Harmful Event"]
["Gore",{"$f":"SUM(D122:H122)","v":313},{"$f":"B122/SUM(B$122:B$132)","v":0.24282389449185415},62,62,58,61,70,{"$f":"SUM(K122:O122)","v":7988},{"$f":"I122/SUM(I$122:I$132)","v":0.14517037710131758},1469,1791,1707,1610,1411]
["In Parking Lane or Zone",{"$f":"SUM(D123:H123)","v":798},{"$f":"B123/SUM(B$122:B$132)","v":0.61908456167571757},213,171,134,147,133,{"$f":"SUM(K123:O123)","v":41341},{"$f":"I123/SUM(I$122:I$132)","v":0.75131303952748751},9316,9343,8620,7212,6850]
["Median",{"$f":"SUM(D124:H124)","v":127},9.8525989138867343E-2,31,27,24,29,16,{"$f":"SUM(K124:O124)","v":4765},8.6597001363016804E-2,1093,1089,1017,830,736]
["Off-Roadway, Location Unknown",{"$f":"SUM(D125:H125)","v":36},2.7928626842513578E-2,8,10,6,7,5,{"$f":"SUM(K125:O125)","v":776},1.4102680599727397E-2,204,160,173,135,104]
["On Roadway",11,8.5337470907680367E-3,5,4,0,2,0,121,2.1990004543389367E-3,36,23,27,23,12]
["On Shoulder, Left Side",1,7.7579519006982156E-4,0,0,1,0,0,21,3.8164470695138572E-4,5,5,5,4,2]
["On Shoulder, Right Side",1,7.7579519006982156E-4,0,0,0,1,0,6,1.0904134484325306E-4,2,0,1,1,2]
["Outside Road/Right-of-Way",0,0,0,0,0,0,0,1,1.817355747387551E-5,1,0,0,0,0]
["Roadside",1,7.7579519006982156E-4,0,1,0,0,0,3,5.4520672421626531E-5,1,2,0,0,0]
["Separator/Traffic Island",0,0,0,0,0,0,0,1,1.817355747387551E-5,1,0,0,0,0]
["Unknown",{"$f":"SUM(D132:H132)","v":1},7.7579519006982156E-4,0,0,0,1,0,{"$f":"SUM(K132:O132)","v":2},3.6347114947751021E-5,1,0,0,1,0]
["Manner of Crash"]
["Not a Collision Between Two Motor Vehicles",{"$f":"SUM(D134:H134)","v":83},{"$f":"B134/SUM(B$134:B$143)","v":6.4391000775795196E-2},20,16,14,13,20,{"$f":"SUM(K134:O134)","v":3376},{"$f":"I134/SUM(I$134:I$143)","v":6.1353930031803727E-2},708,712,710,643,603]
["Angle",482,{"$f":"B135/SUM(B$134:B$143)","v":0.37393328161365402},132,103,79,93,75,15862,{"$f":"I135/SUM(I$134:I$143)","v":0.28826896865061336},3693,3663,3215,2703,2588]
["Front to Front",1,7.7579519006982156E-4,0,1,0,0,0,92,1.671967287596547E-3,19,26,14,15,18]
["Front to Rear",122,9.4647013188518231E-2,25,28,25,26,18,8057,0.146424352567015,1353,1860,1733,1614,1497]
["Rear to Rear",550,0.42668735453840184,131,118,93,103,105,25398,0.46157201272149023,5821,5668,5403,4463,4043]
["Rear to Side",0,0,0,0,0,0,0,25,4.5433893684688776E-4,10,5,4,3,3]
["Sideswipe, Opposite Direction",46,3.5686578743211794E-2,9,8,11,12,6,1795,3.2621535665606542E-2,435,393,369,298,300]
["Sideswipe, Same Direction",5,3.8789759503491078E-3,2,1,1,1,0,414,7.5238527941844614E-3,87,84,101,77,65]
["Other",0,0,0,0,0,0,0,6,1.0904134484325306E-4,3,2,1,0,0]
["Unknown",0,0,0,0,0,0,0,0,0,0,0,0,0,0]
["Weather"]
["Blowing Sand, Soil, Dirt",{"$f":"SUM(D145:H145)","v":1162},{"$f":"B145/SUM(B$145:B$156)","v":0.90147401086113266},287,251,196,225,203,{"$f":"SUM(K145:O145)","v":45988},{"$f":"I145/SUM(I$145:I$156)","v":0.83576556110858702},10587,10010,9343,8023,8025]
["Blowing Snow",2,{"$f":"B146/SUM(B$145:B$156)","v":1.5515903801396431E-3},2,0,0,0,0,24,{"$f":"I146/SUM(I$145:I$156)","v":4.3616537937301225E-4},11,13,0,0,0]
["Clear",5,3.8789759503491078E-3,1,0,0,2,2,32,5.8155383916401633E-4,6,3,7,4,12]
["Cloudy",24,1.8619084561675717E-2,3,5,7,5,4,2425,4.4070876874148117E-2,320,630,709,504,262]
["Fog, Smog, Smoke",0,0,0,0,0,0,0,63,1.1449341208541572E-3,30,33,0,0,0]
["Freezing Rain or Freezing Drizzle",1,7.7579519006982156E-4,1,0,0,0,0,20,3.6347114947751021E-4,4,5,7,1,3]
["Rain",4,3.1031807602792862E-3,1,1,1,1,0,398,7.2330758746024532E-3,75,111,78,76,58]
["Severe Crosswinds",0,0,0,0,0,0,0,19,3.452975920036347E-4,8,11,0,0,0]
["Sleet or Hail",14,1.0861132660977503E-2,6,3,3,1,1,1623,2.9495683780099955E-2,308,385,389,339,202]
["Snow",1,7.7579519006982156E-4,0,1,0,0,0,65,1.1812812358019081E-3,29,35,1,0,0]
["Other",2,1.5515903801396431E-3,0,0,2,0,0,359,6.5243071331213083E-3,9,1,147,116,86]
["Unknown",74,5.7408844065166796E-2,18,14,14,14,14,4009,7.2857791912766923E-2,742,1176,869,753,469]
["Light Conditions"]
["Daylight",{"$f":"SUM(D158:H158)","v":55},{"$f":"B158/SUM(B$158:B$164)","v":4.2668735453840187E-2},15,11,13,7,9,{"$f":"SUM(K158:O158)","v":1886},{"$f":"I158/SUM(I$158:I$164)","v":3.4275329395729213E-2},378,428,381,338,361]
["Dawn/Dusk",{"$f":"SUM(D159:H159)","v":67},{"$f":"B159/SUM(B$158:B$164)","v":5.1978277734678044E-2},17,7,15,10,18,{"$f":"SUM(K159:O159)","v":2128},{"$f":"I159/SUM(I$158:I$164)","v":3.8673330304407089E-2},401,451,458,412,406]
["Dark - Lighted",5,3.8789759503491078E-3,0,1,0,1,3,161,2.9259427532939571E-3,39,33,33,30,26]
["Dark - Not Lighted",340,0.26377036462373932,101,66,51,63,59,13243,0.24067242162653341,2992,3113,2795,2258,2085]
["Dark - Unknown Lighting",821,0.63692785104732352,185,190,144,167,135,37589,0.68312585188550656,8313,8381,7883,6774,6238]
["Other",1,7.7579519006982156E-4,1,0,0,0,0,18,3.2712403452975919E-4,6,7,0,4,1]
["Unknown",0,0,0,0,0,0,0,0,0,0,0,0,0,0]
["Road Surface Condition"]
["Dry",{"$f":"SUM(D166:H166)","v":550},{"$f":"B166/SUM(B$166:B$176)","v":0.42668735453840184},131,118,93,103,105,{"$f":"SUM(K166:O166)","v":414},{"$f":"I166/SUM(I$166:I$176)","v":7.5238527941844614E-3},87,84,101,77,65]
["Ice/Frost",0,{"$f":"B167/SUM(B$166:B$176)","v":0},0,0,0,0,0,6,{"$f":"I167/SUM(I$166:I$176)","v":1.0904134484325306E-4},3,2,1,0,0]
["Mud, Dirt, Gravel",46,3.5686578743211794E-2,9,8,11,12,6,0,0,0,0,0,0,0]
["Oil",5,3.8789759503491078E-3,2,1,1,1,0,3376,6.1353930031803727E-2,708,712,710,643,603]
["Sand",0,0,0,0,0,0,0,15862,0.28826896865061336,3693,3663,3215,2703,2588]
["Sluch",0,0,0,0,0,0,0,92,1.671967287596547E-3,19,26,14,15,18]
["Snow",83,6.4391000775795196E-2,20,16,14,13,20,8057,0.146424352567015,1353,1860,1733,1614,1497]
["Water (Standing, Moving)",482,0.37393328161365402,132,103,79,93,75,25398,0.46157201272149023,5821,5668,5403,4463,4043]
["Wet",1,7.7579519006982156E-4,0,1,0,0,0,25,4.5433893684688776E-4,10,5,4,3,3]
["Other",122,9.4647013188518231E-2,25,28,25,26,18,1795,3.2621535665606542E-2,435,393,369,298,300]
["Unknown",0,0,0,0,0,0,0,0,0,0,0,0,0,0]
["Contributing Circumstances - Roadway Environment, Selection 1"]
["None",{"$f":"SUM(D178:H178)","v":0},{"$f":"B178/SUM(B$178:B$200)","v":0},0,0,0,0,0,{"$f":"SUM(K178:O178)","v":9},{"$f":"I178/SUM(I$178:I$200)","v":1.6356201726487959E-4},1,0,4,4,0]
["Animal(s)",117,{"$f":"B179/SUM(B$178:B$200)","v":9.0768037238169119E-2},36,15,21,28,17,3619,{"$f":"I179/SUM(I$178:I$200)","v":6.5770104497955478E-2},804,804,750,641,620]
["Debris",1,7.7579519006982156E-4,0,0,0,0,1,42,7.6328941390277143E-4,12,11,9,3,7]
["Glare",40,3.1031807602792862E-2,9,9,6,11,5,472,8.5779191276692413E-3,97,91,94,107,83]
["Non-Highway Work",6,4.6547711404189293E-3,1,1,3,0,1,113,2.0536119945479326E-3,22,25,23,20,23]
["Obstructed Crosswalks",135,0.10473235065942592,41,27,21,18,28,5920,0.10758746024534302,1417,1314,1221,1014,954]
["Obstruction in Roadway",2,1.5515903801396431E-3,2,0,0,0,0,327,5.9427532939572919E-3,52,84,70,79,42]
["Prior Crash",53,4.1117145073700546E-2,12,8,9,13,11,1359,2.4697864606996821E-2,237,282,360,271,209]
["Prior Non-Recurring Incident",4,3.1031807602792862E-3,1,0,2,1,0,128,2.3262153566560653E-3,24,29,30,23,22]
["Regular Congestion",10,7.7579519006982156E-3,1,3,2,3,1,89,1.6174466151749206E-3,17,26,13,17,16]
["Related to a Bus Stop",6,4.6547711404189293E-3,2,1,1,2,0,554,1.0068150840527033E-2,103,131,93,136,91]
["Road Surface Condition (wet, icy, snow, slush, etc.)",0,0,0,0,0,0,0,51,9.2685143116765108E-4,7,11,13,11,9]
["Ruts, Holes, Bumps",1,7.7579519006982156E-4,0,0,0,0,1,69,1.2539754656974102E-3,13,10,14,17,15]
["Shoulders (none, low, soft, high)",8,6.2063615205585725E-3,2,2,2,1,1,308,5.5974557019536578E-3,66,71,70,62,39]
["Toll Booth/Plaza Related",7,5.4305663304887513E-3,1,1,4,1,0,748,1.3593820990458883E-2,125,166,158,167,132]
["Traffic Control Device",20,1.5515903801396431E-2,3,6,4,3,4,588,1.0686051794638801E-2,124,135,120,113,96]
["Traffic Incident",22,1.7067494181536073E-2,6,10,4,1,1,224,4.0708768741481143E-3,50,58,50,45,21]
["Visual Obstruction(s)",7,5.4305663304887513E-3,3,1,2,1,0,298,5.4157201272149024E-3,71,66,64,53,44]
["Weather Conditions",2,1.5515903801396431E-3,1,1,0,0,0,81,1.4720581553839165E-3,15,25,12,11,18]
["Work Zone (construction/maintenance/utility)",27,2.0946470131885182E-2,7,6,4,2,8,700,1.2721490231712857E-2,157,167,134,124,118]
["Worn, Travel-polished Surface",1,7.7579519006982156E-4,0,0,0,0,1,60,1.0904134484325306E-3,10,16,17,11,6]
["Other",10,7.7579519006982156E-3,1,1,4,0,4,407,7.3966378918673328E-3,65,103,86,78,75]
["Unknown",810,0.62839410395655548,190,183,134,163,140,38859,0.70620626987732849,8640,8788,8145,6809,6477]
["Contributing Circumstances - Roadway Environment, Selection 2"]
["None",{"$f":"SUM(D202:H202)","v":6},{"$f":"B202/SUM(B$202:B$224)","v":4.6547711404189293E-3},2,1,1,2,0,{"$f":"SUM(K202:O202)","v":128},{"$f":"I202/SUM(I$202:I$224)","v":2.3262153566560653E-3},24,29,30,23,22]
["Animal(s)",0,{"$f":"B203/SUM(B$202:B$224)","v":0},0,0,0,0,0,89,{"$f":"I203/SUM(I$202:I$224)","v":1.6174466151749206E-3},17,26,13,17,16]
["Debris",1,7.7579519006982156E-4,0,0,0,0,1,554,1.0068150840527033E-2,103,131,93,136,91]
["Glare",8,6.2063615205585725E-3,2,2,2,1,1,51,9.2685143116765108E-4,7,11,13,11,9]
["Non-Highway Work",7,5.4305663304887513E-3,1,1,4,1,0,69,1.2539754656974102E-3,13,10,14,17,15]
["Obstructed Crosswalks",20,1.5515903801396431E-2,3,6,4,3,4,308,5.5974557019536578E-3,66,71,70,62,39]
["Obstruction in Roadway",22,1.7067494181536073E-2,6,10,4,1,1,748,1.3593820990458883E-2,125,166,158,167,132]
["Prior Crash",7,5.4305663304887513E-3,3,1,2,1,0,588,1.0686051794638801E-2,124,135,120,113,96]
["Prior Non-Recurring Incident",2,1.5515903801396431E-3,1,1,0,0,0,224,4.0708768741481143E-3,50,58,50,45,21]
["Regular Congestion",27,2.0946470131885182E-2,7,6,4,2,8,298,5.4157201272149024E-3,71,66,64,53,44]
["Related to a Bus Stop",1,7.7579519006982156E-4,0,0,0,0,1,81,1.4720581553839165E-3,15,25,12,11,18]
["Road Surface Condition (wet, icy, snow, slush, etc.)",10,7.7579519006982156E-3,1,1,4,0,4,700,1.2721490231712857E-2,157,167,134,124,118]
["Ruts, Holes, Bumps",810,0.62839410395655548,190,183,134,163,140,60,1.0904134484325306E-3,10,16,17,11,6]
["Shoulders (none, low, soft, high)",0,0,0,0,0,0,0,407,7.3966378918673328E-3,65,103,86,78,75]
["Toll Booth/Plaza Related",117,9.0768037238169119E-2,36,15,21,28,17,38859,0.70620626987732849,8640,8788,8145,6809,6477]
["Traffic Control Device",1,7.7579519006982156E-4,0,0,0,0,1,9,1.6356201726487959E-4,1,0,4,4,0]
["Traffic Incident",40,3.1031807602792862E-2,9,9,6,11,5,3619,6.5770104497955478E-2,804,804,750,641,620]
["Visual Obstruction(s)",6,4.6547711404189293E-3,1,1,3,0,1,42,7.6328941390277143E-4,12,11,9,3,7]
["Weather Conditions",135,0.10473235065942592,41,27,21,18,28,472,8.5779191276692413E-3,97,91,94,107,83]
["Work Zone (construction/maintenance/utility)",2,1.5515903801396431E-3,2,0,0,0,0,113,2.0536119945479326E-3,22,25,23,20,23]
["Worn, Travel-polished Surface",53,4.1117145073700546E-2,12,8,9,13,11,5920,0.10758746024534302,1417,1314,1221,1014,954]
["Other",4,3.1031807602792862E-3,1,0,2,1,0,327,5.9427532939572919E-3,52,84,70,79,42]
["Unknown",10,7.7579519006982156E-3,1,3,2,3,1,1359,2.4697864606996821E-2,237,282,360,271,209]
["Within Interchange Area"]
["No",{"$f":"SUM(D226:H226)","v":244},{"$f":"B226/SUM(B$226:B$228)","v":0.18929402637703646},20,70,63,49,42,{"$f":"SUM(K226:O226)","v":10475},{"$f":"I226/SUM(I$226:I$228)","v":0.19036801453884597},778,2828,2630,2117,2122]
["Yes",838,{"$f":"B227/SUM(B$226:B$228)","v":0.65011636927851046},92,205,160,199,182,36340,{"$f":"I227/SUM(I$226:I$228)","v":0.6604270786006361},3151,9585,8914,7698,6992]
["Unknown",207,0.16058960434445307,207,0,0,0,0,8210,0.14920490686051793,8200,0,6,1,3]
["Relation to Junction"]
["Acceleration/Deceleration Lane",1207,{"$f":"B230/SUM(B$230:B$240)","v":0.93638479441427458},296,259,208,239,205,54272,{"$f":"I230/SUM(I$230:I$240)","v":0.98631531122217175},11935,12252,11416,9705,8964]
["Crossover-Related",1,{"$f":"B231/SUM(B$230:B$240)","v":7.7579519006982156E-4},1,0,0,0,0,3,{"$f":"I231/SUM(I$230:I$240)","v":5.4520672421626531E-5},2,0,0,0,1]
["Driveway Access or Related",0,0,0,0,0,0,0,2,3.6347114947751021E-5,1,1,0,0,0]
["Entrance/Exit Ramp or Related",2,1.5515903801396431E-3,1,0,1,0,0,7,1.2721490231712857E-4,1,1,2,3,0]
["Intersection or Related",4,3.1031807602792862E-3,2,0,1,1,0,47,8.5415720127214904E-4,13,9,12,12,1]
["Non-Junction",1,7.7579519006982156E-4,1,0,0,0,0,2,3.6347114947751021E-5,1,1,0,0,0]
["Railway Grade Crossing",1,7.7579519006982156E-4,0,1,0,0,0,8,1.4538845979100408E-4,1,7,0,0,0]
["Shared-Use Path or Trail",2,1.5515903801396431E-3,1,0,0,0,1,8,1.4538845979100408E-4,2,2,2,0,2]
["Through Roadway",0,0,0,0,0,0,0,4,7.2694229895502041E-5,0,2,1,1,0]
["Other",1,7.7579519006982156E-4,1,0,0,0,0,15,2.7260336210813266E-4,5,5,3,0,2]
["Unknown",70,5.4305663304887508E-2,16,15,13,8,18,657,1.1940027260336212E-2,168,133,114,95,147]
["Type of Intersection"]
["Not at Intersection",55,{"$f":"B242/SUM(B$242:B$246)","v":4.2668735453840187E-2},15,11,13,7,9,1886,{"$f":"I242/SUM(I$242:I$246)","v":3.4275329395729213E-2},378,428,381,338,361]
["Two-Leg",67,{"$f":"B243/SUM(B$242:B$246)","v":5.1978277734678044E-2},17,7,15,10,18,2128,{"$f":"I243/SUM(I$242:I$246)","v":3.8673330304407089E-2},401,451,458,412,406]
["Three-Leg",5,3.8789759503491078E-3,0,1,0,1,3,161,2.9259427532939571E-3,39,33,33,30,26]
["Four-Leg",340,0.26377036462373932,101,66,51,63,59,13243,0.24067242162653341,2992,3113,2795,2258,2085]
["Five or More Legs",822,0.63770364623739328,186,190,144,167,135,37607,0.6834529759200364,8319,8388,7883,6778,6239]
["Intersection Geometry"]
["Angled or Skewed",9,{"$f":"B248/SUM(B$248:B$251)","v":6.9821567106283944E-3},3,2,2,1,1,93,{"$f":"I248/SUM(I$248:I$251)","v":1.6901408450704226E-3},19,35,18,11,10]
["Roundabout or Traffic Circle",113,{"$f":"B249/SUM(B$248:B$251)","v":8.7664856477889838E-2},20,22,21,22,28,3319,{"$f":"I249/SUM(I$248:I$251)","v":6.0318037255792822E-2},639,733,727,683,537]
["Perpindicular",154,0.11947245927075252,37,33,28,26,30,4118,7.483870967741936E-2,742,955,879,798,744]
["Not at Intersection",1013,0.78588052754072923,259,218,172,199,165,47495,0.86315311222171742,10729,10690,9926,8324,7826]
["Traffic Control Device"]
["Signalized",154,{"$f":"B253/SUM(B$253:B$258)","v":0.11947245927075252},37,33,28,26,30,211,{"$f":"I253/SUM(I$253:I$258)","v":3.834620626987733E-3},35,37,52,45,42]
["Stop - All Way",1001,{"$f":"B254/SUM(B$253:B$258)","v":0.77657098525989143},259,215,167,197,163,93,{"$f":"I254/SUM(I$253:I$258)","v":1.6901408450704226E-3},19,35,18,11,10]
["Stop - Partial",2,1.5515903801396431E-3,0,1,1,0,0,3319,6.0318037255792822E-2,639,733,727,683,537]
["Yield",10,7.7579519006982156E-3,0,2,4,2,2,4118,7.483870967741936E-2,742,955,879,798,744]
["No Controls",9,6.9821567106283944E-3,3,2,2,1,1,47232,0.85837346660608815,10679,10634,9856,8279,7784]
["Not an Intersection",113,8.7664856477889838E-2,20,22,21,22,28,52,9.4502498864152654E-4,15,19,18,0,0]
["Crash in Work Zone"]
["Yes",{"$f":"SUM(D260:H260)","v":122},{"$f":"B260/SUM(B$260:B$262)","v":9.4647013188518231E-2},25,28,25,26,18,{"$f":"SUM(K260:O260)","v":8057},{"$f":"I260/SUM(I$260:I$262)","v":0.146424352567015},1353,1860,1733,1614,1497]
["No",550,{"$f":"B261/SUM(B$260:B$262)","v":0.42668735453840184},131,118,93,103,105,25398,{"$f":"I261/SUM(I$260:I$262)","v":0.46157201272149023},5821,5668,5403,4463,4043]
["Unknown",617,0.4786656322730799,163,129,105,119,101,21570,0.3920036347114948,4955,4885,4414,3739,3577]
["Number of Motor Vehicles Involved"]
["One",313,{"$f":"B264/SUM(B$264:B$267)","v":0.24282389449185415},62,62,58,61,70,7988,{"$f":"I264/SUM(I$264:I$267)","v":0.14517037710131758},1469,1791,1707,1610,1411]
["Two",798,{"$f":"B265/SUM(B$264:B$267)","v":0.61908456167571757},213,171,134,147,133,41341,{"$f":"I265/SUM(I$264:I$267)","v":0.75131303952748751},9316,9343,8620,7212,6850]
["Three",127,9.8525989138867343E-2,31,27,24,29,16,4765,8.6597001363016804E-2,1093,1089,1017,830,736]
["Four or More",51,3.9565554693560899E-2,13,15,7,11,5,931,1.69195820081781E-2,251,190,206,164,120]
["Horizontal Alignment"]
["Straight",{"$f":"SUM(D269:H269)","v":838},{"$f":"B269/SUM(B$269:B$271)","v":0.65011636927851046},92,205,160,199,182,{"$f":"SUM(K269:O269)","v":36340},{"$f":"I269/SUM(I$269:I$271)","v":0.6604270786006361},3151,9585,8914,7698,6992]
["Horizontal Curve Left",207,{"$f":"B270/SUM(B$269:B$271)","v":0.16058960434445307},207,0,0,0,0,8210,{"$f":"I270/SUM(I$269:I$271)","v":0.14920490686051793},8200,0,6,1,3]
["Horizontal Curve Right",244,0.18929402637703646,20,70,63,49,42,10475,0.19036801453884597,778,2828,2630,2117,2122]
["Vertical Alignment"]
["Level",55,{"$f":"B273/SUM(B$273:B$278)","v":4.2668735453840187E-2},15,11,13,7,9,1886,{"$f":"I273/SUM(I$273:I$278)","v":3.4275329395729213E-2},378,428,381,338,361]
["Uphill",67,{"$f":"B274/SUM(B$273:B$278)","v":5.1978277734678044E-2},17,7,15,10,18,2128,{"$f":"I274/SUM(I$273:I$278)","v":3.8673330304407089E-2},401,451,458,412,406]
["Hillcrest",5,3.8789759503491078E-3,0,1,0,1,3,161,2.9259427532939571E-3,39,33,33,30,26]
["Downhill",340,0.26377036462373932,101,66,51,63,59,13243,0.24067242162653341,2992,3113,2795,2258,2085]
["Sag",821,0.63692785104732352,185,190,144,167,135,37589,0.68312585188550656,8313,8381,7883,6774,6238]
["Unknown",1,7.7579519006982156E-4,1,0,0,0,0,18,3.2712403452975919E-4,6,7,0,4,1]
["Roadway Owner"]
["State",{"$f":"SUM(D280:H280)","v":144},{"$f":"B280/SUM(B$280:B$285)","v":0.11171450737005431},38,34,22,27,23,{"$f":"SUM(K280:O280)","v":5109},{"$f":"I280/SUM(I$280:I$285)","v":9.2848705134029985E-2},1162,1121,1011,909,906]
["County",163,{"$f":"B281/SUM(B$280:B$285)","v":0.12645461598138091},32,40,31,30,30,7988,{"$f":"I281/SUM(I$280:I$285)","v":0.14517037710131758},1702,1829,1700,1471,1286]
["Municipality",173,0.13421256788207914,38,31,35,38,31,8258,0.15007723761926398,1714,1859,1738,1538,1409]
["Federal",170,0.13188518231186966,42,41,27,32,28,8534,0.15509313948205361,1899,1884,1869,1545,1337]
["Tribal",220,0.17067494181536075,52,49,37,47,35,8496,0.15440254429804634,1880,1961,1743,1531,1381]
["Unknown",419,0.32505818463925523,117,80,71,74,77,16640,0.30240799636528848,3772,3759,3489,2822,2798]
["Area Type"]
["Urban",{"$f":"SUM(D287:H287)","v":244},{"$f":"B287/SUM(B$287:B$289)","v":0.18929402637703646},20,70,63,49,42,{"$f":"SUM(K287:O287)","v":10475},{"$f":"I287/SUM(I$287:I$289)","v":0.19036801453884597},778,2828,2630,2117,2122]
["Rural",838,{"$f":"B288/SUM(B$287:B$289)","v":0.65011636927851046},92,205,160,199,182,36340,{"$f":"I288/SUM(I$287:I$289)","v":0.6604270786006361},3151,9585,8914,7698,6992]
["Unknown",207,0.16058960434445307,207,0,0,0,0,8210,0.14920490686051793,8200,0,6,1,3]
["Functional Class"]
["Interstate",{"$f":"SUM(D291:H291)","v":1028},{"$f":"B291/SUM(B$291:B$297)","v":0.79751745539177654},266,231,154,183,194,{"$f":"SUM(K291:O291)","v":39064},{"$f":"I291/SUM(I$291:I$297)","v":0.70993184915947294},9415,8753,7412,6198,7286]
["Principal Arterial - Other Freeway or Expressway",38,{"$f":"B292/SUM(B$291:B$297)","v":2.9480217222653218E-2},8,6,9,9,6,2091,{"$f":"I292/SUM(I$291:I$297)","v":3.8000908677873695E-2},337,623,472,417,242]
["Principal Arterial - Other",30,2.3273855702094646E-2,12,2,8,3,5,3703,6.7296683325761011E-2,600,819,985,852,447]
["Minor Arterial",174,0.13498836307214895,30,32,46,50,16,9862,0.17922762380736029,1699,2177,2599,2307,1080]
["Collector",11,8.5337470907680367E-3,2,2,3,1,3,217,3.9436619718309857E-3,49,27,56,30,55]
["Local",8,6.2063615205585725E-3,1,2,3,2,0,81,1.4720581553839165E-3,28,10,26,12,5]
["Unknown",0,0,0,0,0,0,0,7,1.2721490231712857E-4,1,4,0,0,2]
["Access Control"]
["No Access Control",340,{"$f":"B299/SUM(B$299:B$301)","v":0.26377036462373932},101,66,51,63,59,13243,{"$f":"I299/SUM(I$299:I$301)","v":0.24067242162653341},2992,3113,2795,2258,2085]
["Partial Access Control",821,{"$f":"B300/SUM(B$299:B$301)","v":0.63692785104732352},185,190,144,167,135,37589,{"$f":"I300/SUM(I$299:I$301)","v":0.68312585188550656},8313,8381,7883,6774,6238]
["Full Access Control",128,{"$f":"B301/SUM(B$299:B$301)","v":9.9301784328937159E-2},33,19,28,18,30,4193,{"$f":"I301/SUM(I$299:I$301)","v":7.6201726487960017E-2},824,919,872,784,794]
["Roadway Lighting"]
["Continuous Lighting on Both Sides",373,{"$f":"B303/SUM(B$303:B$307)","v":0.28937160589604344},96,74,54,86,63,11178,{"$f":"I303/SUM(I$303:I$307)","v":0.20314402544298046},2445,2454,2275,2065,1939]
["Continuous Lighting on One Side",117,{"$f":"B304/SUM(B$303:B$307)","v":9.0768037238169119E-2},25,32,22,22,16,2911,{"$f":"I304/SUM(I$303:I$307)","v":5.2903225806451612E-2},673,669,612,479,478]
["No Lighting",64,4.965089216446858E-2,16,10,21,7,10,2284,4.1508405270331665E-2,472,537,507,452,316]
["Spot Illumination on Both Sides",734,0.56943366951124907,181,159,126,133,135,38622,0.70189913675602,8529,8739,8150,6820,6384]
["Spot Illumination on One Side",1,7.7579519006982156E-4,1,0,0,0,0,30,5.4520672421626531E-4,10,14,6,0,0]
["Alcohol Involvement"]
["Yes",117,{"$f":"B309/SUM(B$309:B$311)","v":9.0768037238169119E-2},36,15,21,28,17,3619,{"$f":"I309/SUM(I$309:I$311)","v":6.5770104497955478E-2},804,804,750,641,620]
["No",135,{"$f":"B310/SUM(B$309:B$311)","v":0.10473235065942592},41,27,21,18,28,5920,{"$f":"I310/SUM(I$309:I$311)","v":0.10758746024534302},1417,1314,1221,1014,954]
["Unknown",1037,{"$f":"B311/SUM(B$309:B$311)","v":0.80449961210240495},242,233,181,202,179,45486,{"$f":"I311/SUM(I$309:I$311)","v":0.82664243525670145},9908,10295,9579,8161,7543]
["Drug Involvement"]
["Yes",838,{"$f":"B313/SUM(B$313:B$315)","v":0.65011636927851046},92,205,160,199,182,36340,{"$f":"I313/SUM(I$313:I$315)","v":0.6604270786006361},3151,9585,8914,7698,6992]
["No",244,{"$f":"B314/SUM(B$313:B$315)","v":0.18929402637703646},20,70,63,49,42,10475,{"$f":"I314/SUM(I$313:I$315)","v":0.19036801453884597},778,2828,2630,2117,2122]
["Unknown",207,{"$f":"B315/SUM(B$313:B$315)","v":0.16058960434445307},207,0,0,0,0,8210,{"$f":"I315/SUM(I$313:I$315)","v":0.14920490686051793},8200,0,6,1,3]
["Vehicle Data"]
["Motor Vehicle Body Type"]
["All-Terrain Vehicle",46,{"$f":"B318/SUM(B$318:B$346)","v":1.882930822758903E-2},13,8,5,10,10,3850,{"$f":"I318/SUM(I$318:I$346)","v":3.5728205794465374E-2},917,861,774,646,652]
["Golf Cart",64,{"$f":"B319/SUM(B$318:B$346)","v":2.6197298403602128E-2},15,16,10,13,10,3174,{"$f":"I319/SUM(I$318:I$346)","v":2.9454889660164442E-2},717,701,635,580,541]
["Snowmobile",205,8.3913221449038067E-2,53,39,39,43,31,8667,8.0430223278086077E-2,1998,1956,1840,1505,1368]
["Low Speed Vehicle",158,6.467458043389275E-2,36,36,30,28,28,6912,6.414372946788173E-2,1547,1587,1434,1209,1135]
["Moped or motorized bicycle",120,4.911993450675399E-2,33,26,19,23,19,5356,4.9703966294845858E-2,1149,1173,1146,988,900]
["Recreational Off-Highway Vehicles",111,4.5435939418747441E-2,26,28,19,20,18,4369,4.0544553536628371E-2,929,1011,958,756,715]
["2-Wheeled Motorcycle",64,2.6197298403602128E-2,19,14,11,11,9,2416,2.2420609142708662E-2,538,551,501,433,393]
["3-Wheeled Motorcycle",24,9.8239869013507976E-3,7,5,3,6,3,842,7.8138050075168431E-3,177,196,183,155,131]
["Autocycle",9,3.6839950880065493E-3,2,2,1,2,2,294,2.7283357152137195E-3,63,60,60,60,51]
["Passenger Car",0,0,0,0,0,0,0,22,2.0416117596837357E-4,7,3,5,4,3]
["Passenger Van",92,3.7658616455178061E-2,26,16,10,20,20,7702,7.147497169583697E-2,1834,1723,1548,1292,1305]
["Sport Utility Vehicle",{"$f":"SUM(D329:H329)","v":129},5.2803929594760539E-2,30,32,20,26,21,{"$f":"SUM(K329:O329)","v":6350},5.8928339427235098E-2,1434,1403,1271,1160,1082]
["Pickup",205,8.3913221449038067E-2,53,39,39,43,31,17336,0.16087900666307839,3996,3913,3680,3010,2737]
["Cargo Van",161,6.5902578796561598E-2,37,36,31,28,29,6915,6.4171569628241054E-2,1547,1590,1434,1209,1135]
["Construction Equipment",121,4.9529267294310272E-2,33,27,19,23,19,5356,4.9703966294845858E-2,1149,1173,1146,988,900]
["Farm Equipment",112,4.5845272206303724E-2,26,28,19,20,19,4370,4.0553833590081481E-2,930,1011,958,756,715]
["Single-Unit Truck",129,5.2803929594760539E-2,38,29,22,22,18,4833,4.4850498338870434E-2,1076,1102,1002,866,787]
["Truck Tractor",49,2.0057306590257881E-2,14,10,6,12,7,1687,1.565545017539301E-2,354,393,367,311,262]
["Motor Home",19,7.777322963569382E-3,4,4,3,4,4,590,5.4752315373336547E-3,127,121,120,120,102]
["9- or 12-Passenger Van",0,0,0,0,0,0,0,46,4.2688245884296293E-4,14,7,10,8,7]
["15-Passenger Van",158,6.467458043389275E-2,36,36,30,28,28,6370,5.9113940496297257E-2,1447,1487,1334,1100,1002]
["Large Limo",120,4.911993450675399E-2,33,26,19,23,19,5357,4.9713246348298969E-2,1149,1173,1146,989,900]
["Mini-bus",111,4.5435939418747441E-2,26,28,19,20,18,4369,4.0544553536628371E-2,929,1011,958,756,715]
["School Bus",207,8.4731887024150632E-2,54,39,39,44,31,186,1.7260899422780675E-3,10,40,32,65,39]
["Transit Bus",0,0,0,0,0,0,0,92,8.5376491768592586E-4,25,21,15,10,21]
["Motorcoach",17,6.9586573884568154E-3,6,2,5,3,1,108,1.002245772935652E-3,18,31,18,26,15]
["Other Bus Type",3,1.2279983626688497E-3,0,1,1,0,1,126,1.1692867350915942E-3,35,10,37,10,34]
["Other Trucks",2,8.1866557511256651E-4,0,1,0,0,1,25,2.3200133632769724E-4,6,2,0,1,16]
["Other",7,2.8653295128939827E-3,0,2,0,3,2,38,3.5264203121809979E-4,11,4,4,3,16]
["Posted Speed Limit"]
["5 MPH",19,{"$f":"B348/SUM(B$348:B$362)","v":7.777322963569382E-3},3,6,3,4,3,595,{"$f":"I348/SUM(I$348:I$362)","v":5.5216318045991945E-3},120,178,121,91,85]
["10 MPH",5,{"$f":"B349/SUM(B$348:B$362)","v":2.0466639377814161E-3},0,2,0,2,1,1500,{"$f":"I349/SUM(I$348:I$362)","v":1.3920080179661835E-2},316,329,321,274,260]
["15 MPH",57,2.3331968890708144E-2,15,13,11,7,11,4600,4.2688245884296296E-2,1032,1095,996,754,723]
["20 MPH",3,1.2279983626688497E-3,1,0,1,0,1,380,3.5264203121809982E-3,81,85,84,60,70]
["25 MPH",1335,0.54645927138763817,347,303,222,250,213,49057,0.45525158224911377,11098,11011,10128,8686,8134]
["30 MPH",308,0.12607449856733524,90,46,59,59,54,9961,9.2438612446407692E-2,2191,2227,2098,1818,1627]
["35 MPH",49,2.0057306590257881E-2,12,7,5,14,11,3813,3.5384843816700387E-2,855,821,828,681,628]
["40 MPH",21,8.5959885386819486E-3,3,2,2,8,6,607,5.6329924460364889E-3,112,144,130,109,112]
["45 MPH",279,0.11420384772820302,61,56,51,61,50,4847,4.4980419087213945E-2,997,1040,1163,940,707]
["50 MPH",42,1.7191977077363897E-2,15,4,4,13,6,4165,3.8651422632194364E-2,981,896,841,730,717]
["55 MPH",22,9.005321326238231E-3,8,5,3,3,3,632,5.8649937823641862E-3,140,157,135,102,98]
["60 MPH",92,3.7658616455178061E-2,21,30,15,17,9,8515,7.9019655153213686E-2,2014,1961,1726,1481,1333]
["65 MPH",169,6.9177241097011871E-2,34,47,33,32,23,18284,0.16967649733662465,4020,4185,3858,3164,3057]
["70 MPH",5,2.0466639377814161E-3,1,1,2,1,0,126,1.1692867350915942E-3,42,36,47,1,0]
["Unknown",37,{"$f":"B362/SUM(B$348:B$362)","v":1.514531313958248E-2},9,8,8,4,8,676,{"$f":"I362/SUM(I$348:I$362)","v":6.2733161343009334E-3},134,149,140,125,128]
["Traffic Way"]
["One-Way",{"$f":"SUM(D364:H364)","v":1197},{"$f":"B364/SUM(B$364:B$365)","v":0.48997134670487108},300,237,200,241,219,{"$f":"SUM(K364:O364)","v":53334},{"$f":"I364/SUM(I$364:I$365)","v":0.4949423708680562},11330,10246,11837,9577,10344]
["Two-Way",1246,{"$f":"B365/SUM(B$364:B$365)","v":0.51002865329512892},320,293,219,234,180,54424,{"$f":"I365/SUM(I$364:I$365)","v":0.50505762913194385},12803,14068,10779,9439,7335]
["Median Type"]
["Not Divided",219,{"$f":"B367/SUM(B$367:B$372)","v":8.9643880474826035E-2},43,36,44,53,43,2529,{"$f":"I367/SUM(I$367:I$372)","v":2.3469255182909855E-2},472,479,517,510,551]
["Continuous Left-Turn Lane",33,{"$f":"B368/SUM(B$367:B$372)","v":1.3507981989357348E-2},8,9,5,8,3,349,{"$f":"I368/SUM(I$367:I$372)","v":3.2387386551346537E-3},65,75,66,79,64]
["Divided with Flush Median",2169,0.88784281620957839,562,481,365,411,350,104525,0.96999758718610218,23526,23665,21957,18371,17006]
["Divided with Raised Median",12,4.9119934506753988E-3,4,2,2,1,3,141,1.3084875368882124E-3,30,40,46,15,10]
["Divided with Depressed Median",10,4.0933278755628322E-3,3,2,3,2,0,134,1.2435271627164572E-3,35,40,25,11,23]
["Unknown",0,0,0,0,0,0,0,80,7.4240427624863118E-4,5,15,5,30,25]
["Barrier Type"]
["No Barrier",705,{"$f":"B374/SUM(B$374:B$380)","v":0.28857961522717968},185,143,125,131,121,27676,{"$f":"I374/SUM(I$374:I$380)","v":0.25683475936821398},6284,6217,5746,4716,4713]
["Cable Barrier",7,{"$f":"B375/SUM(B$374:B$380)","v":2.8653295128939827E-3},3,0,2,1,1,574,{"$f":"I375/SUM(I$374:I$380)","v":5.3267506820839292E-3},142,134,114,99,85]
["Concrete Barrier",576,0.23577568563241916,142,137,106,109,82,26226,0.24337868186120751,5657,5856,5698,4712,4303]
["Earth Embankment",11,4.5026606631191155E-3,1,1,2,6,1,533,4.9462684905065054E-3,104,96,138,97,98]
["Guardrail",582,0.23823168235775685,136,137,100,119,90,26757,0.2483063902448078,6353,6152,5542,4660,4050]
["Box Barrier",5,2.0466639377814161E-3,3,1,1,0,0,412,3.8233820226804506E-3,105,80,93,76,58]
["Other Barrier",557,0.22799836266884976,150,111,83,109,104,25580,0.23738376733049982,5488,5779,5285,4656,4372]
["Number of Lanes"]
["One",191,{"$f":"B382/SUM(B$382:B$392)","v":7.8182562423250099E-2},48,39,31,42,31,968,{"$f":"I382/SUM(I$382:I$392)","v":8.9830917426084369E-3},219,196,191,186,176]
["Two",1012,{"$f":"B383/SUM(B$382:B$392)","v":0.41424478100695866},259,210,167,202,174,54907,{"$f":"I383/SUM(I$382:I$392)","v":0.5095398949497949},11950,11957,11403,9911,9686]
["Three",3,1.2279983626688497E-3,1,1,0,0,1,123,1.1414465747322704E-3,28,29,27,7,32]
["Four",322,0.1318051575931232,82,72,45,81,42,16709,0.15506041314797972,3824,3790,3577,2889,2629]
["Five",13,5.3213262382316821E-3,4,2,3,1,3,457,4.2409844280703055E-3,80,97,85,62,133]
["Six",3,1.2279983626688497E-3,1,0,1,1,0,133,1.2342471092633494E-3,20,28,27,29,29]
["Seven",492,0.20139173147769138,117,122,92,81,80,24827,0.23039588708030959,5917,5990,5189,4221,3510]
["Eight",2,8.1866557511256651E-4,1,0,1,0,0,56,5.1968299337404181E-4,5,11,13,11,16]
["Nine",82,3.3565288579615229E-2,32,15,17,8,10,3605,3.3454592698453946E-2,762,841,836,584,582]
["Ten or More",3,1.2279983626688497E-3,0,2,0,1,0,46,4.2688245884296293E-4,14,9,11,8,4]
["Unknown",320,0.13098649201801063,75,67,62,58,58,5927,5.5002876816570463E-2,1314,1366,1257,1108,882]
["Motor Vehicle Maneuver Prior to Crash"]
["Backing",{"$f":"SUM(D394:H394)","v":57},{"$f":"B394/SUM(B$394:B$408)","v":2.3331968890708144E-2},15,13,11,7,11,{"$f":"SUM(K394:O394)","v":4600},{"$f":"I394/SUM(I$394:I$408)","v":4.2688245884296296E-2},1032,1095,996,754,723]
["Changing Lanes",{"$f":"SUM(D395:H395)","v":3},{"$f":"B395/SUM(B$394:B$408)","v":1.2279983626688497E-3},1,0,1,0,1,{"$f":"SUM(K395:O395)","v":380},{"$f":"I395/SUM(I$394:I$408)","v":3.5264203121809982E-3},81,85,84,60,70]
["Entering Traffic Lane",{"$f":"SUM(D396:H396)","v":1335},0.54645927138763817,347,303,222,250,213,{"$f":"SUM(K396:O396)","v":49057},0.45525158224911377,11098,11011,10128,8686,8134]
["Leaving Traffic Lane",{"$f":"SUM(D397:H397)","v":308},0.12607449856733524,90,46,59,59,54,{"$f":"SUM(K397:O397)","v":9961},9.2438612446407692E-2,2191,2227,2098,1818,1627]
["Making U-Turn",{"$f":"SUM(D398:H398)","v":49},2.0057306590257881E-2,12,7,5,14,11,{"$f":"SUM(K398:O398)","v":3813},3.5384843816700387E-2,855,821,828,681,628]
["Movements Essentially Straight Ahead",21,8.5959885386819486E-3,3,2,2,8,6,607,5.6329924460364889E-3,112,144,130,109,112]
["Negotiating a Curve",279,0.11420384772820302,61,56,51,61,50,4847,4.4980419087213945E-2,997,1040,1163,940,707]
["Overtaking/Passing",42,1.7191977077363897E-2,15,4,4,13,6,4165,3.8651422632194364E-2,981,896,841,730,717]
["Parked",22,9.005321326238231E-3,8,5,3,3,3,632,5.8649937823641862E-3,140,157,135,102,98]
["Slowing",92,3.7658616455178061E-2,21,30,15,17,9,8515,7.9019655153213686E-2,2014,1961,1726,1481,1333]
["Stopped in Traffic",{"$f":"SUM(D404:H404)","v":169},6.9177241097011871E-2,34,47,33,32,23,{"$f":"SUM(K404:O404)","v":18284},0.16967649733662465,4020,4185,3858,3164,3057]
["Turning Left",{"$f":"SUM(D405:H405)","v":5},2.0466639377814161E-3,1,1,2,1,0,{"$f":"SUM(K405:O405)","v":126},1.1692867350915942E-3,42,36,47,1,0]
["Turning Right",19,7.777322963569382E-3,3,3,5,3,5,548,5.085469292303124E-3,110,122,114,101,101]
["Other",18,7.3679901760130987E-3,6,5,3,1,3,128,1.18784684199781E-3,24,27,26,24,27]
["Unknown",24,9.8239869013507976E-3,3,8,3,6,4,2095,1.9441711984261031E-2,436,507,442,365,345]
["Most Harmful Event"]
["Cargo/Equipment Loss or Shift",{"$f":"SUM(D410:H410)","v":11},{"$f":"B410/SUM(B$410:B$451)","v":4.5026606631191155E-3},3,3,1,3,1,{"$f":"SUM(K410:O410)","v":155},{"$f":"I410/SUM(I$410:I$451)","v":1.438408285231723E-3},32,29,31,35,28]
["Fell/Jumped from Motor Vehicle",0,{"$f":"B411/SUM(B$410:B$451)","v":0},0,0,0,0,0,2,{"$f":"I411/SUM(I$410:I$451)","v":1.8560106906215781E-5},0,0,1,1,0]
["Fire/Explosion",6,2.4559967253376994E-3,2,1,1,1,1,1315,1.2203270290836876E-2,293,318,288,244,172]
["Immersion, Full or Partial",0,0,0,0,0,0,0,21,1.9488112251526569E-4,6,5,2,4,4]
["Jackknife",80,3.2746623004502658E-2,18,17,17,13,15,338,3.1366580671504667E-3,69,73,68,61,67]
["Other Non-Collision",0,0,0,0,0,0,0,2,1.8560106906215781E-5,0,0,1,0,1]
["Overturn/Rollover",1,4.0933278755628325E-4,0,1,0,0,0,131,1.2156870023571336E-3,36,28,26,21,20]
["Thrown or Falling Object",63,2.5787965616045846E-2,16,13,10,14,10,321,2.9788971584476325E-3,73,65,63,62,58]
["Collision with Animal",336,0.13753581661891118,86,70,55,67,58,18300,0.16982497819187439,3983,3985,3801,3303,3228]
["Collision with Construction Equipment",0,0,0,0,0,0,0,39,3.6192208467120769E-4,9,9,9,2,10]
["Collision with Farm Equipment",107,4.3798608268522311E-2,27,24,15,27,14,5568,5.1671337626904734E-2,1274,1263,1192,963,876]
["Collision with Motor Vehicle in Transport",3,1.2279983626688497E-3,1,0,1,0,1,150,1.3920080179661836E-3,26,32,28,20,44]
["Collision with Other Non-Fixed Object",0,0,0,0,0,0,0,42,3.8976224503053139E-4,6,9,9,9,9]
["Collision with Other Non-motorist",149,6.0990585345886209E-2,39,40,30,27,13,8274,7.6783162271014685E-2,1972,1996,1729,1407,1170]
["Collision with Parked Motor Vehicle",0,0,0,0,0,0,0,16,1.4848085524972625E-4,1,3,4,3,5]
["Collision with Pedalcycle",25,1.0233319688907082E-2,10,5,5,2,3,1200,1.1136064143729469E-2,254,280,278,194,194]
["Collision with Pedestrian",0,0,0,0,0,0,0,13,1.2064069489040257E-4,4,3,3,2,1]
["Collision with Railway Vehicle",25,1.0233319688907082E-2,6,6,3,7,3,311,2.8860966239165537E-3,64,59,62,70,56]
["Strikes Object ar Rest from MV in Transport",0,0,0,0,0,0,0,5,4.6400267265539449E-5,0,0,2,2,1]
["Struck by Falling, Shifting Cargo, or Anything Set in Motion by Motor Vehicle",14,5.7306590257879654E-3,5,2,2,3,2,2632,2.4425100688579966E-2,587,636,576,489,344]
["Collision with Bridge Overhead Structure",0,0,0,0,0,0,0,44,4.0832235193674713E-4,12,10,5,9,8]
["Collision with Bridge Pier or Support",162,6.6311911584117894E-2,37,34,34,26,31,677,6.2825961877540411E-3,138,146,136,123,134]
["Collision with Bridge Rail",0,0,0,0,0,0,0,7,6.4960374171755227E-5,1,1,2,0,3]
["Collision with Cable Barrier",3,1.2279983626688497E-3,0,2,0,0,1,263,2.440654058167375E-3,72,56,52,43,40]
["Collision with Concrete Traffic Barrier",126,5.1575931232091692E-2,32,26,20,28,20,644,5.9763544238014814E-3,146,130,127,124,117]
["Collision with Culvert",657,0.26893164142447812,172,140,111,134,100,36603,0.33967779654410807,7966,7971,7602,6607,6457]
["Collision with Curb",0,0,0,0,0,0,0,80,7.4240427624863118E-4,18,19,18,4,21]
["Collision with Ditch",214,8.7597216537044623E-2,54,48,30,54,28,11137,0.10335195530726257,2549,2526,2384,1926,1752]
["Collision with Embankment",7,2.8653295128939827E-3,2,1,2,0,2,302,2.8025761428385827E-3,53,64,56,41,88]
["Collision with Fence",0,0,0,0,0,0,0,86,7.9808459696727857E-4,13,18,18,19,18]
["Collision with Guardrail End Terminal",307,0.12566516577977896,78,81,61,44,43,16550,0.15358488464893558,3944,3993,3459,2814,2340]
["Collision with Guardrail Face",0,0,0,0,0,0,0,35,3.2480187085877615E-4,3,7,8,7,10]
["Collision with Impact Attenuator/Crash Cushion",53,2.1694637740483011E-2,21,10,11,5,6,2402,2.2290688394365151E-2,508,560,557,389,388]
["Collision with Mailbox",1,4.0933278755628325E-4,0,1,0,0,0,19,1.763210156090499E-4,10,7,0,0,2]
["Collision with Other Fixed Object",23,9.4146541137945152E-3,1,3,4,10,5,18,1.6704096215594202E-4,0,2,0,9,7]
["Collision with Other Post, Pole, or Support",10,4.0933278755628322E-3,2,0,1,2,5,15,1.3920080179661835E-4,5,1,9,0,0]
["Collision with Other Traffic Barrier",17,6.9586573884568154E-3,4,0,0,0,13,7,6.4960374171755227E-5,2,0,0,0,5]
["Collision with Traffic Sign Support",4,1.637331150225133E-3,2,0,0,0,2,2,1.8560106906215781E-5,1,0,0,0,1]
["Collision with Traffic Signal Support",5,2.0466639377814161E-3,1,2,2,0,0,5,4.6400267265539449E-5,0,0,5,0,0]
["Collision with Tree",25,1.0233319688907082E-2,0,0,1,8,16,21,1.9488112251526569E-4,1,10,2,8,0]
["Collision with Utility Pole or Light Support",8,3.274662300450266E-3,1,0,1,0,6,2,1.8560106906215781E-5,2,0,0,0,0]
["Unknown",1,4.0933278755628325E-4,0,0,1,0,0,4,3.7120213812431563E-5,0,0,3,1,0]
["Contributing Circumstance, Vehicle"]
["None",19,{"$f":"B453/SUM(B$453:B$468)","v":7.777322963569382E-3},3,6,3,4,3,595,{"$f":"I453/SUM(I$453:I$468)","v":5.5216318045991945E-3},120,178,121,91,85]
["Brakes",5,{"$f":"B454/SUM(B$453:B$468)","v":2.0466639377814161E-3},0,2,0,2,1,1500,{"$f":"I454/SUM(I$453:I$468)","v":1.3920080179661835E-2},316,329,321,274,260]
["Exhaust System",57,2.3331968890708144E-2,15,13,11,7,11,4600,4.2688245884296296E-2,1032,1095,996,754,723]
["Body or Doors",3,1.2279983626688497E-3,1,0,1,0,1,380,3.5264203121809982E-3,81,85,84,60,70]
["Steering",1335,0.54645927138763817,347,303,222,250,213,49057,0.45525158224911377,11098,11011,10128,8686,8134]
["Power Train",308,0.12607449856733524,90,46,59,59,54,9961,9.2438612446407692E-2,2191,2227,2098,1818,1627]
["Suspension",49,2.0057306590257881E-2,12,7,5,14,11,3813,3.5384843816700387E-2,855,821,828,681,628]
["Tires",21,8.5959885386819486E-3,3,2,2,8,6,607,5.6329924460364889E-3,112,144,130,109,112]
["Wheels",279,0.11420384772820302,61,56,51,61,50,4847,4.4980419087213945E-2,997,1040,1163,940,707]
["Lights (head, signal, tail)",42,1.7191977077363897E-2,15,4,4,13,6,4165,3.8651422632194364E-2,981,896,841,730,717]
["Windows or Windshield",22,9.005321326238231E-3,8,5,3,3,3,632,5.8649937823641862E-3,140,157,135,102,98]
["Mirrors",92,3.7658616455178061E-2,21,30,15,17,9,8515,7.9019655153213686E-2,2014,1961,1726,1481,1333]
["Wipers",169,6.9177241097011871E-2,34,47,33,32,23,18284,0.16967649733662465,4020,4185,3858,3164,3057]
["Truck Coupling, Tailer Hitch, Safety Chains",5,2.0466639377814161E-3,1,1,2,1,0,126,1.1692867350915942E-3,42,36,47,1,0]
["Other",19,7.777322963569382E-3,3,3,5,3,5,548,5.085469292303124E-3,110,122,114,101,101]
["Unknown",18,7.3679901760130987E-3,6,5,3,1,3,128,1.18784684199781E-3,24,27,26,24,27]
["Person-Level Data"]
["Person Type"]
["Driver",{"$f":"SUM(D471:H471)","v":265},{"$f":"B471/SUM(B$471:B$478)","v":7.9939668174962286E-2},67,54,43,58,43,{"$f":"SUM(K471:O471)","v":1353},{"$f":"I471/SUM(I$471:I$478)","v":9.2110996133108226E-3},306,274,267,260,246]
["Passenger",1414,{"$f":"B472/SUM(B$471:B$478)","v":0.42654600301659124},362,294,233,282,243,76868,{"$f":"I472/SUM(I$471:I$478)","v":0.52331027721801648},16730,16739,15964,13875,13560]
["Occupant of Motor Vehicle Not in Transport",3,9.049773755656109E-4,1,1,0,0,1,169,1.1505364631556015E-3,39,40,37,9,44]
["Bicyclist",415,0.12518853695324283,114,100,63,80,58,19426,0.13225042209030008,5353,5306,5007,80,3680]
["Other Cyclist",16,4.8265460030165915E-3,5,2,4,1,4,638,4.3434453461140459E-3,112,135,119,86,186]
["Pedestrian",3,9.049773755656109E-4,1,0,1,1,0,184,1.2526550841457436E-3,28,39,37,40,40]
["Wheelchair, Person in a Building, Skater, Personal Conveyance, etc.",666,0.20090497737556562,163,170,128,93,112,28940,0.19702085943031425,8283,8386,7264,93,4914]
["Unknown",533,0.16078431372549021,155,68,157,55,98,19310,0.131460704754643,2935,689,5229,8376,2081]
["Restraint Use"]
["Booster Seat",50,{"$f":"B480/SUM(B$480:B$497)","v":1.5082956259426848E-2},12,11,7,13,7,635,{"$f":"I480/SUM(I$480:I$497)","v":4.3230216219160176E-3},135,115,141,127,117]
["Child Restraint System - Forward Facing",2,{"$f":"B481/SUM(B$480:B$497)","v":6.0331825037707393E-4},0,0,1,1,0,12,{"$f":"I481/SUM(I$480:I$497)","v":8.1694896792113721E-5},0,1,6,3,2]
["Child Restraint System - Rear Facing",31,9.3514328808446453E-3,11,3,6,6,5,5372,3.6572082130602909E-2,1233,1241,1296,880,722]
["Child Restraint - Type Unknown",2,6.0331825037707393E-4,1,0,0,1,0,91,6.1951963400686233E-4,26,19,12,16,18]
["Lap Belt Only Used",333,0.10045248868778281,78,66,76,48,65,1385,9.4289526714231246E-3,289,286,307,222,281]
["None Used - Motor Vehicle Occupant",1,3.0165912518853697E-4,0,0,1,0,0,16,1.0892652905615162E-4,2,2,4,1,7]
["Restraint Used - Type Unknown",8,2.4132730015082957E-3,1,5,0,0,2,541,3.6830782637111269E-3,151,109,118,78,85]
["Shoulder and Lap Belt Used",256,7.7224736048265463E-2,67,50,46,50,43,1315,8.9523991068024625E-3,306,254,286,223,246]
["Shoulder Belt Only Used",1370,0.4132730015082956,362,273,250,242,243,74831,0.50944256848755509,16730,15544,17104,11893,13560]
["Stretcher",3,9.049773755656109E-4,1,1,0,0,1,168,1.143728555089592E-3,39,37,40,8,44]
["Wheelchair",429,0.12941176470588237,114,93,67,97,58,22791,0.15515903273242199,5353,4927,5365,3466,3680]
["DOT-Compliant Motorcycle Helmet",16,4.8265460030165915E-3,5,2,4,1,4,625,4.2549425412559232E-3,112,126,127,74,186]
["Not DOT-Compliant Motorcycle Helmet",3,9.049773755656109E-4,1,0,1,1,0,178,1.2118076357496869E-3,28,36,40,34,40]
["Unknown if DOT-Compliant Motorcycle Helmet",668,0.20150829562594269,163,158,138,97,112,33832,0.23032514568923262,8283,7787,7783,5065,4914]
["No Helmet",2,6.0331825037707393E-4,1,0,1,0,0,75,5.1059310495071071E-4,7,14,19,13,22]
["Not Applicable",111,3.3484162895927601E-2,44,19,25,9,14,4927,3.3542563041228692E-2,1066,1093,1254,700,814]
["Other",3,9.049773755656109E-4,0,2,0,1,0,60,4.0847448396056859E-4,19,11,16,9,5]
["Unknown",27,8.1447963800904983E-3,7,6,6,3,5,34,2.314688742443222E-4,7,6,6,7,8]
["Driver Actions at Time of Crash, Selection 1"]
["No Contributing Action",23,{"$f":"B499/SUM(B$499:B$517)","v":6.9381598793363496E-3},4,7,4,4,4,808,{"$f":"I499/SUM(I$499:I$517)","v":5.5007897173356569E-3},168,231,181,109,119]
["Disregarded Other Road Markings",5,{"$f":"B500/SUM(B$499:B$517)","v":1.5082956259426848E-3},0,2,0,2,1,2042,{"$f":"I500/SUM(I$499:I$517)","v":1.3901748270791351E-2},442,427,481,328,364]
["Disregarded Other Traffic Sign",76,2.2926093514328807E-2,21,16,16,8,15,3138,2.1363215511137738E-2,722,711,747,452,506]
["Failed to Keep in Proper Lane",3,9.049773755656109E-4,1,0,1,0,1,519,3.5333042862589182E-3,113,110,126,72,98]
["Failed to Yield Right-of-Way",1694,0.51101055806938156,450,383,310,291,260,64625,0.43996105876586244,15037,13990,14767,9802,11029]
["Followed Too Closely",418,0.12609351432880844,126,59,88,70,75,13567,9.2362888731550574E-2,3067,2895,3147,2181,2277]
["Improper Backing",63,1.9004524886877826E-2,16,9,7,16,15,5202,3.5414737759381296E-2,1197,1067,1242,817,879]
["Improper Passing",26,7.8431372549019607E-3,4,2,3,9,8,824,5.6097162463918087E-3,156,187,195,130,156]
["Improper Turn",376,0.11342383107088989,85,72,76,73,70,6608,4.4986656500190618E-2,1395,1352,1744,1128,989]
["Operated Motor Vehicle in Inattentive, Careless, Negligent, or Erratic Manner",55,1.6591251885369532E-2,21,5,6,15,8,5677,3.8648494090735799E-2,1373,1164,1261,876,1003]
["Operated Motor Vehicle in Reckless or Aggressive Manner",28,8.4464555052790342E-3,11,6,4,3,4,861,5.8616088448341592E-3,196,204,202,122,137]
["Over-Correcting/Over-Steering",122,3.6802413273001509E-2,29,39,22,20,12,11600,7.8971733565709926E-2,2819,2549,2589,1777,1866]
["Ran Off Roadway",227,6.8476621417797895E-2,47,61,49,38,32,24930,0.16972114808561625,5628,5440,5787,3796,4279]
["Ran Red Light",6,1.8099547511312218E-3,1,1,3,1,0,175,1.1913839115516584E-3,58,46,70,1,0]
["Ran Stop Sign",24,7.2398190045248872E-3,4,3,7,3,7,745,5.0718915091770601E-3,154,158,171,121,141]
["Swerve or Avoided Due to Wind, Slippery Surface, Motor Vehicle, Object, Non-Motorist in Roadway, etc.",23,6.9381598793363496E-3,8,6,4,1,4,172,1.17096018735363E-3,33,35,39,28,37]
["Wrong Side or Wrong Way",91,2.7450980392156862E-2,30,12,19,10,20,1475,1.0041664397363977E-2,303,205,210,504,253]
["Other Contributing Action",31,9.3514328808446453E-3,5,4,3,6,13,3139,2.1370023419203747E-2,722,712,747,452,506]
["Unknown",24,7.2398190045248872E-3,5,2,7,0,10,781,5.3169761995534009E-3,203,125,218,123,112]
["Driver Actions at Time of Crash, Selection 2"]
["No Contributing Action",{"$f":"SUM(D519:H519)","v":1324},{"$f":"B519/SUM(B$519:B$537)","v":0.39939668174962295},357,270,217,274,206,{"$f":"SUM(K519:O519)","v":57749},{"$f":"I519/SUM(I$519:I$537)","v":0.39314988290398128},13295,12655,11915,10389,9495]
["Disregarded Other Road Markings",232,{"$f":"B520/SUM(B$519:B$537)","v":6.9984917043740574E-2},45,49,41,51,46,16297,{"$f":"I520/SUM(I$519:I$537)","v":0.11094847775175644},3364,2839,3481,3592,3021]
["Disregarded Other Traffic Sign",109,3.2880844645550529E-2,33,21,19,20,16,545,3.7103098959751649E-3,138,92,116,91,108]
["Failed to Keep in Proper Lane",31,9.3514328808446453E-3,10,5,4,6,6,73,4.9697728881869184E-4,16,7,13,19,18]
["Failed to Yield Right-of-Way",14,4.2232277526395171E-3,2,4,1,1,6,402,2.7367790425358095E-3,138,103,59,53,49]
["Followed Too Closely",107,3.2277526395173457E-2,25,22,26,13,21,1814,1.234954523174119E-2,412,419,326,330,327]
["Improper Backing",1,3.0165912518853697E-4,1,0,0,0,0,40,2.7231632264037908E-4,11,12,7,4,6]
["Improper Passing",50,1.5082956259426848E-2,8,13,8,9,12,1438,9.7897717989216277E-3,295,365,309,218,251]
["Improper Turn",21,6.3348416289592761E-3,0,12,6,1,2,1061,7.2231904580360544E-3,195,379,225,143,119]
["Operated Motor Vehicle in Inattentive, Careless, Negligent, or Erratic Manner",0,0,0,0,0,0,0,2,1.3615816132018953E-5,1,0,0,0,1]
["Operated Motor Vehicle in Reckless or Aggressive Manner",52,1.5686274509803921E-2,15,19,6,3,9,9275,6.3143347312237891E-2,2260,2720,1945,1070,1280]
["Over-Correcting/Over-Steering",2,6.0331825037707393E-4,0,1,0,1,0,71,4.8336147268667281E-4,19,14,12,14,12]
["Ran Off Roadway",10,3.0165912518853697E-3,1,2,2,3,2,811,5.5212134415336851E-3,177,130,178,155,171]
["Ran Red Light",2,6.0331825037707393E-4,0,1,0,0,1,70,4.7655356462066338E-4,12,20,11,20,7]
["Ran Stop Sign",20,6.0331825037707393E-3,8,5,5,1,1,1581,1.0763302652360982E-2,308,486,405,231,151]
["Swerve or Avoided Due to Wind, Slippery Surface, Motor Vehicle, Object, Non-Motorist in Roadway, etc.",96,2.8959276018099549E-2,24,14,16,21,21,3157,2.1492565764391916E-2,656,692,738,534,537]
["Wrong Side or Wrong Way",3,9.049773755656109E-4,0,1,0,2,0,805,5.4803659931376286E-3,170,187,182,149,117]
["Other Contributing Action",16,4.8265460030165915E-3,2,6,4,2,2,2654,1.8068188007189151E-2,545,779,573,404,353]
["Unknown",1225,0.36953242835595779,337,244,274,162,208,49043,0.33388023528130278,11774,9709,13429,5403,8728]
["Driver Actions at Time of Crash, Selection 3"]
["No Contributing Action",{"$f":"SUM(D539:H539)","v":227},{"$f":"B539/SUM(B$539:B$557)","v":6.8476621417797895E-2},47,61,49,38,32,{"$f":"SUM(K539:O539)","v":24930},{"$f":"I539/SUM(I$539:I$557)","v":0.16972114808561625},5628,5440,5787,3796,4279]
["Disregarded Other Road Markings",6,{"$f":"B540/SUM(B$539:B$557)","v":1.8099547511312218E-3},1,1,3,1,0,175,{"$f":"I540/SUM(I$539:I$557)","v":1.1913839115516584E-3},58,46,70,1,0]
["Disregarded Other Traffic Sign",24,7.2398190045248872E-3,4,3,7,3,7,745,5.0718915091770601E-3,154,158,171,121,141]
["Failed to Keep in Proper Lane",23,6.9381598793363496E-3,8,6,4,1,4,172,1.17096018735363E-3,33,35,39,28,37]
["Failed to Yield Right-of-Way",91,2.7450980392156862E-2,30,12,19,10,20,1475,1.0041664397363977E-2,303,205,210,504,253]
["Followed Too Closely",31,9.3514328808446453E-3,5,4,3,6,13,3139,2.1370023419203747E-2,722,712,747,452,506]
["Improper Backing",24,7.2398190045248872E-3,5,2,7,0,10,781,5.3169761995534009E-3,203,125,218,123,112]
["Improper Passing",23,6.9381598793363496E-3,4,7,4,4,4,808,5.5007897173356569E-3,168,231,181,109,119]
["Improper Turn",5,1.5082956259426848E-3,0,2,0,2,1,2042,1.3901748270791351E-2,442,427,481,328,364]
["Operated Motor Vehicle in Inattentive, Careless, Negligent, or Erratic Manner",76,2.2926093514328807E-2,21,16,16,8,15,3138,2.1363215511137738E-2,722,711,747,452,506]
["Operated Motor Vehicle in Reckless or Aggressive Manner",3,9.049773755656109E-4,1,0,1,0,1,519,3.5333042862589182E-3,113,110,126,72,98]
["Over-Correcting/Over-Steering",1694,0.51101055806938156,450,383,310,291,260,64625,0.43996105876586244,15037,13990,14767,9802,11029]
["Ran Off Roadway",418,0.12609351432880844,126,59,88,70,75,13567,9.2362888731550574E-2,3067,2895,3147,2181,2277]
["Ran Red Light",63,1.9004524886877826E-2,16,9,7,16,15,5202,3.5414737759381296E-2,1197,1067,1242,817,879]
["Ran Stop Sign",26,7.8431372549019607E-3,4,2,3,9,8,824,5.6097162463918087E-3,156,187,195,130,156]
["Swerve or Avoided Due to Wind, Slippery Surface, Motor Vehicle, Object, Non-Motorist in Roadway, etc.",376,0.11342383107088989,85,72,76,73,70,6608,4.4986656500190618E-2,1395,1352,1744,1128,989]
["Wrong Side or Wrong Way",55,1.6591251885369532E-2,21,5,6,15,8,5677,3.8648494090735799E-2,1373,1164,1261,876,1003]
["Other Contributing Action",28,8.4464555052790342E-3,11,6,4,3,4,861,5.8616088448341592E-3,196,204,202,122,137]
["Unknown",122,3.6802413273001509E-2,29,39,22,20,12,11600,7.8971733565709926E-2,2819,2549,2589,1777,1866]
["Driver Actions at Time of Crash, Selection 4"]
["No Contributing Action",{"$f":"SUM(D559:H559)","v":52},{"$f":"B559/SUM(B$559:B$577)","v":1.5686274509803921E-2},15,19,6,3,9,{"$f":"SUM(K559:O559)","v":9275},{"$f":"I559/SUM(I$559:I$577)","v":6.3143347312237891E-2},2260,2720,1945,1070,1280]
["Disregarded Other Road Markings",2,{"$f":"B560/SUM(B$559:B$577)","v":6.0331825037707393E-4},0,1,0,1,0,71,{"$f":"I560/SUM(I$559:I$577)","v":4.8336147268667281E-4},19,14,12,14,12]
["Disregarded Other Traffic Sign",10,3.0165912518853697E-3,1,2,2,3,2,811,5.5212134415336851E-3,177,130,178,155,171]
["Failed to Keep in Proper Lane",2,6.0331825037707393E-4,0,1,0,0,1,70,4.7655356462066338E-4,12,20,11,20,7]
["Failed to Yield Right-of-Way",20,6.0331825037707393E-3,8,5,5,1,1,1581,1.0763302652360982E-2,308,486,405,231,151]
["Followed Too Closely",96,2.8959276018099549E-2,24,14,16,21,21,3157,2.1492565764391916E-2,656,692,738,534,537]
["Improper Backing",3,9.049773755656109E-4,0,1,0,2,0,805,5.4803659931376286E-3,170,187,182,149,117]
["Improper Passing",16,4.8265460030165915E-3,2,6,4,2,2,2654,1.8068188007189151E-2,545,779,573,404,353]
["Improper Turn",1124,0.33906485671191555,300,244,230,150,200,46084,0.31373563531398074,11000,9125,12584,5300,8075]
["Operated Motor Vehicle in Inattentive, Careless, Negligent, or Erratic Manner",1304,0.39336349924585218,357,250,217,274,206,57749,0.39314988290398128,13295,12655,11915,10389,9495]
["Operated Motor Vehicle in Reckless or Aggressive Manner",232,6.9984917043740574E-2,45,49,41,51,46,16297,0.11094847775175644,3364,2839,3481,3592,3021]
["Over-Correcting/Over-Steering",109,3.2880844645550529E-2,33,21,19,20,16,545,3.7103098959751649E-3,138,92,116,91,108]
["Ran Off Roadway",31,9.3514328808446453E-3,10,5,4,6,6,73,4.9697728881869184E-4,16,7,13,19,18]
["Ran Red Light",14,4.2232277526395171E-3,2,4,1,1,6,402,2.7367790425358095E-3,138,103,59,53,49]
["Ran Stop Sign",107,3.2277526395173457E-2,25,22,26,13,21,1814,1.234954523174119E-2,412,419,326,330,327]
["Swerve or Avoided Due to Wind, Slippery Surface, Motor Vehicle, Object, Non-Motorist in Roadway, etc.",1,3.0165912518853697E-4,1,0,0,0,0,40,2.7231632264037908E-4,11,12,7,4,6]
["Wrong Side or Wrong Way",50,1.5082956259426848E-2,8,13,8,9,12,1438,9.7897717989216277E-3,295,365,309,218,251]
["Other Contributing Action",21,6.3348416289592761E-3,0,12,6,1,2,1061,7.2231904580360544E-3,195,379,225,143,119]
["Unknown",121,3.6500754147812974E-2,37,20,44,12,8,2961,2.0158215783454059E-2,775,584,845,103,654]

{"sheet":"Comparison Group 3 Accessible","index":8,"n_rows":620,"n_cols":16,"rows_kept":620,"cut":false,"hidden":true,"merged":[[0,0,0,7],[0,8,0,15],[8,0,8,7],[8,8,8,15],[15,0,15,7],[15,8,15,15],[19,0,19,7],[19,8,19,15],[24,0,24,7],[24,8,24,15],[33,0,33,7],[33,8,33,15],[60,0,60,7],[60,8,60,15],[74,0,74,7],[74,8,74,15],[81,0,81,7],[81,8,81,15],[125,0,125,7],[125,8,125,15],[138,0,138,7],[138,8,138,15],[150,0,150,7],[150,8,150,15],[164,0,164,7],[164,8,164,15],[173,0,173,7],[173,8,173,15],[186,0,186,7],[186,8,186,15],[211,0,211,7],[211,8,211,15],[236,0,236,7],[236,8,236,15],[241,0,241,7],[241,8,241,15],[254,0,254,7],[254,8,254,15],[261,0,261,7],[261,8,261,15],[267,0,267,7],[267,8,267,15],[275,0,275,7],[275,8,275,15],[280,0,280,7],[280,8,280,15],[286,0,286,7],[286,8,286,15],[291,0,291,7],[291,8,291,15],[299,0,299,7],[299,8,299,15],[307,0,307,7],[307,8,307,15],[312,0,312,7],[312,8,312,15],[321,0,321,7],[321,8,321,15],[326,0,326,7],[326,8,326,15],[333,0,333,7],[333,8,333,15],[338,0,338,7],[338,8,338,15],[344,0,344,7],[344,8,344,15],[375,0,375,7],[375,8,375,15],[392,0,392,7],[392,8,392,15],[396,0,396,7],[396,8,396,15],[487,0,487,7],[487,8,487,15],[506,0,506,7],[506,8,506,15],[404,0,404,7],[404,8,404,15],[413,0,413,7],[413,8,413,15],[426,0,426,7],[426,8,426,15],[578,0,578,7],[578,8,578,15],[599,0,599,7],[599,8,599,15],[343,0,343,7],[343,8,343,15],[505,0,505,7],[505,8,505,15],[516,0,516,7],[516,8,516,15],[536,0,536,7],[536,8,536,15],[557,0,557,7],[557,8,557,15],[443,0,443,7],[443,8,443,15]]}
[{"$f":"CONCATENATE(\"Fatal and Serious Injury Crashes Only - \",A2, \"\n\",Instructions!$B$12)","v":"Fatal and Serious Injury Crashes Only - Overall Numbers\nTest Group 3"},null,null,null,null,null,null,null,{"$f":"CONCATENATE(\"Total Crashes - \",I2, \"\n\",Instructions!$B$12)","v":"Total Crashes - Overall Numbers\nTest Group 3"}]
["Overall Numbers","Number of Crashes","Percent of Crashes","Year 5 Crashes","Year 4 Crashes","Year 3 Crashes","Year 2 Crashes","Year 1 Crashes","Overall Numbers","Number of Crashes","Percent of Crashes","Year 5 Crashes","Year 4 Crashes","Year 3 Crashes","Year 2 Crashes","Year 1 Crashes"]
["Total # of Collisions",{"$f":"SUM(D3:H3)","v":1289},"N/A",319,275,223,248,224,{"$f":"A3","v":"Total # of Collisions"},{"$f":"SUM(L3:P3)","v":55025},"N/A",12129,12413,11550,9816,9117]
["# of Fatal Collisions",184,{"$f":"B4/B3","v":0.14274631497284718},58,41,31,31,23,"# of Fatal Collisions",184,{"$f":"J4/J3","v":3.3439345751930939E-3},58,41,31,31,23]
["# of Serious Injury Collisions",1105,{"$f":"B5/B3","v":0.85725368502715282},261,234,192,217,201,"# of Serious Injury Collisions",1105,{"$f":"J5/J3","v":2.0081781008632438E-2},261,234,192,217,201]
["# of Alcohol-Related Collisions",249,{"$f":"B6/B3","v":0.19317300232738557},53,45,46,60,45,"# of Alcohol-Related Collisions",2939,{"$f":"J6/J3","v":5.341208541572013E-2},614,552,576,584,613]
["Total # of Fatalities",195,"N/A",60,45,31,32,27,"Total # of Fatalities",195,"N/A",60,45,31,32,27]
["Total # of Serious Injuries",1989,"N/A",486,422,343,403,335,"Total # of Serious Injuries",18776,"N/A",4281,3976,3917,3331,3271]
[{"$f":"CONCATENATE(\"Fatal and Serious Injury Crashes Only - \",A10, \"\n\",Instructions!$B$12)","v":"Fatal and Serious Injury Crashes Only - Most Severe Injury Reported\nTest Group 3"},null,null,null,null,null,null,null,{"$f":"CONCATENATE(\"Total Crashes - \",I10, \"\n\",Instructions!$B$12)","v":"Total Crashes - Most Severe Injury Reported\nTest Group 3"}]
["Most Severe Injury Reported","Number of Crashes","Percent of Crashes","Year 5 Crashes","Year 4 Crashes","Year 3 Crashes","Year 2 Crashes","Year 1 Crashes","Most Severe Injury Reported","Number of Crashes","Percent of Crashes","Year 5 Crashes","Year 4 Crashes","Year 3 Crashes","Year 2 Crashes","Year 1 Crashes"]
["5 (K)",{"$f":"SUM(D11:H11)","v":184},{"$f":"B11/SUM(B$11:B$15)","v":0.14274631497284718},58,41,31,31,23,{"$f":"A11","v":"5 (K)"},{"$f":"SUM(L11:P11)","v":184},{"$f":"J11/SUM(J$11:J$15)","v":3.3439345751930939E-3},58,41,31,31,23]
["4 (A)",{"$f":"SUM(D12:H12)","v":1105},{"$f":"B12/SUM(B$11:B$15)","v":0.85725368502715282},261,234,192,217,201,{"$f":"A12","v":"4 (A)"},{"$f":"SUM(L12:P12)","v":1105},{"$f":"J12/SUM(J$11:J$15)","v":2.0081781008632438E-2},261,234,192,217,201]
["3 (B)","N/A","N/A","N/A","N/A","N/A","N/A","N/A",{"$f":"A13","v":"3 (B)"},{"$f":"SUM(L13:P13)","v":3082},{"$f":"J13/SUM(J$11:J$15)","v":5.6010904134484327E-2},667,617,634,564,600]
["2 (C)","N/A","N/A","N/A","N/A","N/A","N/A","N/A",{"$f":"A14","v":"2 (C)"},{"$f":"SUM(L14:P14)","v":9284},0.16872330758746024,2107,2037,1978,1627,1535]
["1 (O)","N/A","N/A","N/A","N/A","N/A","N/A","N/A",{"$f":"A15","v":"1 (O)"},{"$f":"SUM(L15:P15)","v":41370},0.75184007269422992,9036,9484,8715,7377,6758]
[{"$f":"CONCATENATE(\"Fatal and Serious Injury Crashes Only - \",A17, \"\n\",Instructions!$B$12)","v":"Fatal and Serious Injury Crashes Only - Property\nTest Group 3"},null,null,null,null,null,null,null,{"$f":"CONCATENATE(\"Total Crashes - \",I17, \"\n\",Instructions!$B$12)","v":"Total Crashes - Property\nTest Group 3"}]
["Property","Number of Crashes","Percent of Crashes","Year 5 Crashes","Year 4 Crashes","Year 3 Crashes","Year 2 Crashes","Year 1 Crashes","Property","Number of Crashes","Percent of Crashes","Year 5 Crashes","Year 4 Crashes","Year 3 Crashes","Year 2 Crashes","Year 1 Crashes"]
["Public",{"$f":"SUM(D18:H18)","v":1105},{"$f":"B18/SUM(B$18:B$19)","v":0.85725368502715282},261,234,192,217,201,{"$f":"A18","v":"Public"},{"$f":"SUM(L18:P18)","v":52559.6},{"$f":"J18/SUM(J$18:J$19)","v":0.95519491140390733},{"$f":"L3*0.95","v":11522.55},{"$f":"M3*0.94","v":11668.22},{"$f":"N3*0.96","v":11088},{"$f":"O3*0.98","v":9619.68},{"$f":"P3*0.95","v":8661.15}]
["Private",184,{"$f":"B19/SUM(B$18:B$19)","v":0.14274631497284718},58,41,31,31,23,{"$f":"A19","v":"Private"},2465.4000000000015,{"$f":"J19/SUM(J$18:J$19)","v":4.480508859609271E-2},{"$f":"L3-L18","v":606.45000000000073},{"$f":"M3-M18","v":744.78000000000065},{"$f":"N3-N18","v":462},{"$f":"O3-O18","v":196.31999999999971},{"$f":"P3-P18","v":455.85000000000036}]
[{"$f":"CONCATENATE(\"Fatal and Serious Injury Crashes Only - \",A21, \"\n\",Instructions!$B$12)","v":"Fatal and Serious Injury Crashes Only - Location\nTest Group 3"},null,null,null,null,null,null,null,{"$f":"CONCATENATE(\"Total Crashes - \",I21, \"\n\",Instructions!$B$12)","v":"Total Crashes - Location\nTest Group 3"}]
["Location","Number of Crashes","Percent of Crashes","Year 5 Crashes","Year 4 Crashes","Year 3 Crashes","Year 2 Crashes","Year 1 Crashes","Location","Number of Crashes","Percent of Crashes","Year 5 Crashes","Year 4 Crashes","Year 3 Crashes","Year 2 Crashes","Year 1 Crashes"]
["Trafficway, On Road",{"$f":"SUM(D22:H22)","v":373},{"$f":"B22/SUM(B$22:B$24)","v":0.28937160589604344},96,74,54,86,63,{"$f":"A22","v":"Trafficway, On Road"},{"$f":"SUM(L22:P22)","v":18956},{"$f":"J22/SUM(J$22:J$24)","v":0.34449795547478418},4212,4424,3943,3255,3122]
["Trafficway, Not on Road",{"$f":"SUM(D23:H23)","v":294.02},{"$f":"B23/SUM(B$22:B$24)","v":0.22809930178432891},82.94,74.25,64.67,20.64,51.52,{"$f":"A23","v":"Trafficway, Not on Road"},{"$f":"SUM(L23:P23)","v":10475},{"$f":"J23/SUM(J$22:J$24)","v":0.19036801453884597},778,2828,2630,2117,2122]
["Non-Trafficway",{"$f":"SUM(D24:H24)","v":621.98},{"$f":"B24/SUM(B$22:B$24)","v":0.48252909231962765},140.06,126.75,104.33,141.36000000000001,109.47999999999999,{"$f":"A24","v":"Non-Trafficway"},{"$f":"SUM(L24:P24)","v":25594},{"$f":"J24/SUM(J$22:J$24)","v":0.46513402998636982},{"$f":"L3-L22-L23","v":7139},{"$f":"M3-M22-M23","v":5161},{"$f":"N3-N22-N23","v":4977},{"$f":"O3-O22-O23","v":4444},{"$f":"P3-P22-P23","v":3873}]
[{"$f":"CONCATENATE(\"Fatal and Serious Injury Crashes Only - \",A26, \"\n\",Instructions!$B$12)","v":"Fatal and Serious Injury Crashes Only - By Weekday\nTest Group 3"},null,null,null,null,null,null,null,{"$f":"CONCATENATE(\"Total Crashes - \",I26, \"\n\",Instructions!$B$12)","v":"Total Crashes - By Weekday\nTest Group 3"}]
["By Weekday","Number of Crashes","Percent of Crashes","Year 5 Crashes","Year 4 Crashes","Year 3 Crashes","Year 2 Crashes","Year 1 Crashes","By Weekday","Number of Crashes","Percent of Crashes","Year 5 Crashes","Year 4 Crashes","Year 3 Crashes","Year 2 Crashes","Year 1 Crashes"]
["Sunday",{"$f":"SUM(D27:H27)","v":144},{"$f":"B27/SUM(B$27:B$33)","v":0.11171450737005431},38,34,22,27,23,{"$f":"A27","v":"Sunday"},{"$f":"SUM(L27:P27)","v":5109},{"$f":"J27/SUM(J$27:J$33)","v":9.2848705134029985E-2},1162,1121,1011,909,906]
["Monday",163,0.12645461598138091,32,40,31,30,30,"Monday",7988,{"$f":"J28/SUM(J$27:J$33)","v":0.14517037710131758},1702,1829,1700,1471,1286]
["Tuesday",173,0.13421256788207914,38,31,35,38,31,"Tuesday",8258,0.15007723761926398,1714,1859,1738,1538,1409]
["Wednesday",170,0.13188518231186966,42,41,27,32,28,"Wednesday",8534,0.15509313948205361,1899,1884,1869,1545,1337]
["Thursday",220,0.17067494181536075,52,49,37,47,35,"Thursday",8496,0.15440254429804634,1880,1961,1743,1531,1381]
["Friday",210,0.16291698991466252,65,41,33,35,36,"Friday",9389,0.17063153112221718,2211,2144,1915,1550,1569]
["Saturday",209,0.16214119472459271,52,39,38,39,41,"Saturday",7251,0.13177646524307132,1561,1615,1574,1272,1229]
[{"$f":"CONCATENATE(\"Fatal and Serious Injury Crashes Only - \",A35, \"\n\",Instructions!$B$12)","v":"Fatal and Serious Injury Crashes Only - Crash Hour\nTest Group 3"},null,null,null,null,null,null,null,{"$f":"CONCATENATE(\"Total Crashes - \",I35, \"\n\",Instructions!$B$12)","v":"Total Crashes - Crash Hour\nTest Group 3"}]
["Crash Hour","Number of Crashes","Percent of Crashes","Year 5 Crashes","Year 4 Crashes","Year 3 Crashes","Year 2 Crashes","Year 1 Crashes","Crash Hour","Number of Crashes","Percent of Crashes","Year 5 Crashes","Year 4 Crashes","Year 3 Crashes","Year 2 Crashes","Year 1 Crashes"]
["12:00 AM - 12:59 AM",{"$f":"SUM(D36:H36)","v":37},{"$f":"B36/SUM(B$36:B$60)","v":2.8704422032583398E-2},7,5,9,9,7,{"$f":"A36","v":"12:00 AM - 12:59 AM"},{"$f":"SUM(L36:P36)","v":852},{"$f":"J36/SUM(J$36:J$60)","v":1.5483870967741935E-2},192,191,158,169,142]
["1:00 AM - 1:59 AM",39,3.0256012412723042E-2,8,13,6,7,5,"1:00 AM - 1:59 AM",721,{"$f":"J37/SUM(J$36:J$60)","v":1.3103134938664244E-2},131,172,147,138,133]
["2:00 AM - 2:59 AM",30,2.3273855702094646E-2,10,3,4,8,5,"2:00 AM - 2:59 AM",695,1.263062244434348E-2,141,141,130,138,145]
["3:00 AM - 3:59 AM",15,1.1636927851047323E-2,4,3,3,1,4,"3:00 AM - 3:59 AM",489,8.8868696047251245E-3,106,110,96,90,87]
["4:00 AM - 4:59 AM",17,1.3188518231186967E-2,5,3,5,1,3,"4:00 AM - 4:59 AM",440,7.996365288505225E-3,80,101,103,71,85]
["5:00 AM - 5:59 AM",24,1.8619084561675717E-2,8,4,2,6,4,"5:00 AM - 5:59 AM",870,1.5810995002271695E-2,204,205,191,133,137]
["6:00 AM - 6:59 AM",52,4.0341349883630723E-2,17,11,12,7,5,"6:00 AM - 6:59 AM",2346,4.2635165833711949E-2,575,513,507,409,342]
["7:00 AM - 7:59 AM",64,4.965089216446858E-2,15,15,15,11,8,"7:00 AM - 7:59 AM",3883,7.0567923671058616E-2,888,833,818,717,627]
["8:00 AM - 8:59 AM",50,3.8789759503491075E-2,12,13,6,13,6,"8:00 AM - 8:59 AM",3068,5.5756474329850071E-2,696,711,650,536,475]
["9:00 AM - 9:59 AM",36,2.7928626842513578E-2,8,8,2,8,10,"9:00 AM - 9:59 AM",2108,3.8309859154929578E-2,449,511,449,366,333]
["10:00 AM - 10:59 AM",39,3.0256012412723042E-2,15,5,5,5,9,"10:00 AM - 10:59 AM",2121,3.8546115402089957E-2,458,491,441,393,338]
["11:00 AM - 11:59 AM",55,4.2668735453840187E-2,11,14,11,10,9,"11:00 AM - 11:59 AM",2434,4.4234438891412993E-2,476,553,516,477,412]
["12:00 PM - 12:59 PM",65,5.0426687354538403E-2,25,11,11,4,14,"12:00 PM - 12:59 PM",2926,5.3175829168559743E-2,670,647,614,500,495]
["1:00 PM - 1:59 PM",66,5.120248254460822E-2,12,13,15,13,13,"1:00 PM - 1:59 PM",3077,5.5920036347114947E-2,656,705,653,536,527]
["2:00 PM - 2:59 PM",60,4.6547711404189292E-2,15,15,7,8,15,"2:00 PM - 2:59 PM",3317,6.0281690140845071E-2,753,748,706,543,567]
["3:00 PM - 3:59 PM",80,6.2063615205585725E-2,22,14,13,17,14,"3:00 PM - 3:59 PM",4266,7.7528396183552936E-2,968,952,869,758,719]
["4:00 PM - 4:59 PM",92,7.1373157486423588E-2,19,21,16,18,18,"4:00 PM - 4:59 PM",4597,8.3543843707405724E-2,989,1098,992,813,705]
["5:00 PM - 5:59 PM",81,6.2839410395655548E-2,18,19,20,14,10,"5:00 PM - 5:59 PM",5380,9.7773739209450247E-2,1143,1209,1144,930,954]
["6:00 PM - 6:59 PM",91,7.0597362296353758E-2,22,20,13,19,17,"6:00 PM - 6:59 PM",3600,6.5424806905951843E-2,822,760,741,678,599]
["7:00 PM - 7:59 PM",70,5.4305663304887508E-2,16,12,13,16,13,"7:00 PM - 7:59 PM",2099,3.8146297137664695E-2,489,474,448,378,310]
["8:00 PM - 8:59 PM",83,6.4391000775795196E-2,21,17,13,22,10,"8:00 PM - 8:59 PM",1818,3.3039527487505681E-2,366,426,381,345,300]
["9:00 PM - 9:59 PM",58,4.4996121024049651E-2,11,15,9,13,10,"9:00 PM - 9:59 PM",1614,2.9332121762835076E-2,350,355,326,292,291]
["10:00 PM - 10:59 PM",44,3.4134988363072147E-2,10,14,6,8,6,"10:00 PM - 10:59 PM",1286,2.3371194911403909E-2,291,298,267,200,230]
["11:00 PM - 11:59 PM",40,3.1031807602792862E-2,8,7,7,9,9,"11:00 PM - 11:59 PM",992,1.8028169014084508E-2,235,205,197,196,159]
["Unknown",1,7.7579519006982156E-4,0,0,0,1,0,"Unknown",26,4.7251249432076327E-4,1,4,6,10,5]
[{"$f":"CONCATENATE(\"Fatal and Serious Injury Crashes Only - \",A62, \"\n\",Instructions!$B$12)","v":"Fatal and Serious Injury Crashes Only - Crash Month\nTest Group 3"},null,null,null,null,null,null,null,{"$f":"CONCATENATE(\"Total Crashes - \",I62, \"\n\",Instructions!$B$12)","v":"Total Crashes - Crash Month\nTest Group 3"}]
["Crash Month","Number of Crashes","Percent of Crashes","Year 5 Crashes","Year 4 Crashes","Year 3 Crashes","Year 2 Crashes","Year 1 Crashes","Crash Month","Number of Crashes","Percent of Crashes","Year 5 Crashes","Year 4 Crashes","Year 3 Crashes","Year 2 Crashes","Year 1 Crashes"]
["January",{"$f":"SUM(D63:H63)","v":83},{"$f":"B63/SUM(B$63:B$74)","v":6.4391000775795196E-2},28,14,12,15,14,{"$f":"A63","v":"January"},{"$f":"SUM(L63:P63)","v":4501},{"$f":"J63/SUM(J$63:J$74)","v":8.179918218991368E-2},1021,1019,964,807,690]
["February",78,6.0512024825446084E-2,20,18,13,10,17,"February",4368,{"$f":"J64/SUM(J$63:J$74)","v":7.9382099045888235E-2},930,1035,872,745,786]
["March",118,9.154383242823895E-2,38,18,17,23,22,"March",4123,7.4929577464788732E-2,985,843,837,795,663]
["April",99,7.6803723816912334E-2,25,20,16,24,14,"April",4345,7.8964107223989097E-2,928,966,841,861,749]
["May",124,9.6198603568657878E-2,31,28,20,25,20,"May",4467,8.1181281235801914E-2,997,1011,934,763,762]
["June",112,8.6889061287820021E-2,25,27,22,19,19,"June",4385,7.9691049522944118E-2,989,994,942,706,754]
["July",109,8.4561675717610557E-2,22,29,19,16,23,"July",4421,8.0345297592003637E-2,980,1038,906,780,717]
["August",136,0.10550814584949574,30,26,17,37,26,"August",4658,8.4652430713312132E-2,1007,997,994,881,779]
["September",119,9.2319627618308767E-2,28,27,28,17,19,"September",4739,8.6124488868696045E-2,1020,1081,1038,872,728]
["October",115,8.9216446858029486E-2,22,29,20,25,19,"October",5063,9.2012721490231708E-2,1075,1176,1041,894,877]
["November",113,8.7664856477889838E-2,25,21,21,23,23,"November",4862,8.8359836437982731E-2,1050,1154,1083,835,740]
["December",83,6.4391000775795196E-2,25,18,18,14,8,"December",5093,9.2557928214447985E-2,1147,1099,1098,877,872]
[{"$f":"CONCATENATE(\"Fatal and Serious Injury Crashes Only - \",A76, \"\n\",Instructions!$B$12)","v":"Fatal and Serious Injury Crashes Only - Crash Jurisdiction\nTest Group 3"},null,null,null,null,null,null,null,{"$f":"CONCATENATE(\"Total Crashes - \",I76, \"\n\",Instructions!$B$12)","v":"Total Crashes - Crash Jurisdiction\nTest Group 3"}]
["Crash Jurisdiction","Number of Crashes","Percent of Crashes","Year 5 Crashes","Year 4 Crashes","Year 3 Crashes","Year 2 Crashes","Year 1 Crashes","Crash Jurisdiction","Number of Crashes","Percent of Crashes","Year 5 Crashes","Year 4 Crashes","Year 3 Crashes","Year 2 Crashes","Year 1 Crashes"]
["A",{"$f":"SUM(D77:H77)","v":295},{"$f":"B77/SUM(B$77:B$81)","v":0.22885958107059737},71,70,63,49,42,{"$f":"A77","v":"A"},{"$f":"SUM(L77:P77)","v":18954},{"$f":"J77/SUM(J$77:J$81)","v":0.34446160835983641},3925,4298,3982,3593,3156]
["B",{"$f":"SUM(D78:H78)","v":172},{"$f":"B78/SUM(B$77:B$81)","v":0.13343677269200932},34,28,29,43,38,{"$f":"A78","v":"B"},{"$f":"SUM(L78:P78)","v":5467},{"$f":"J78/SUM(J$77:J$81)","v":9.9354838709677415E-2},1170,1148,1168,1049,932]
["C",{"$f":"SUM(D79:H79)","v":300},{"$f":"B79/SUM(B$77:B$81)","v":0.23273855702094648},64,60,49,72,55,{"$f":"A79","v":"C"},{"$f":"SUM(L79:P79)","v":12437},0.22602453430258973,2782,2828,2587,2118,2122]
["D",{"$f":"SUM(D80:H80)","v":229},{"$f":"B80/SUM(B$77:B$81)","v":0.17765709852598913},76,56,28,32,37,{"$f":"A80","v":"D"},{"$f":"SUM(L80:P80)","v":7160},0.13012267151294865,1749,1771,1503,1103,1034]
["E",{"$f":"SUM(D81:H81)","v":293},{"$f":"B81/SUM(B$77:B$81)","v":0.22730799069045771},74,61,54,52,52,{"$f":"A81","v":"E"},{"$f":"SUM(L81:P81)","v":11007},0.20003634711494775,2503,2368,2310,1953,1873]
[{"$f":"CONCATENATE(\"Fatal and Serious Injury Crashes Only - \",A83, \"\n\",Instructions!$B$12)","v":"Fatal and Serious Injury Crashes Only - First Harmful Event\nTest Group 3"},null,null,null,null,null,null,null,{"$f":"CONCATENATE(\"Total Crashes - \",I83, \"\n\",Instructions!$B$12)","v":"Total Crashes - First Harmful Event\nTest Group 3"}]
["First Harmful Event","Number of Crashes","Percent of Crashes","Year 5 Crashes","Year 4 Crashes","Year 3 Crashes","Year 2 Crashes","Year 1 Crashes","First Harmful Event","Number of Crashes","Percent of Crashes","Year 5 Crashes","Year 4 Crashes","Year 3 Crashes","Year 2 Crashes","Year 1 Crashes"]
["Cargo/Equipment Loss or Shift",{"$f":"SUM(D84:H84)","v":4},{"$f":"B84/SUM(B$84:B$125)","v":3.1031807602792862E-3},0,2,0,0,2,{"$f":"A84","v":"Cargo/Equipment Loss or Shift"},{"$f":"SUM(L84:P84)","v":60},{"$f":"J84/SUM(J$84:J$125)","v":1.0904134484325306E-3},0,56,0,1,3]
["Fell/Jumped from Motor Vehicle",2,1.5515903801396431E-3,1,0,0,1,0,"Fell/Jumped from Motor Vehicle",47,{"$f":"J85/SUM(J$84:J$125)","v":8.5415720127214904E-4},5,4,11,14,13]
["Fire/Explosion",0,0,0,0,0,0,0,"Fire/Explosion",0,0,0,0,0,0,0]
["Immersion, Full or Partial",0,0,0,0,0,0,0,"Immersion, Full or Partial",1,1.817355747387551E-5,0,0,1,0,0]
["Jackknife",0,0,0,0,0,0,0,"Jackknife",1,1.817355747387551E-5,0,0,1,0,0]
["Other Non-Collision",3,2.3273855702094647E-3,1,0,0,0,2,"Other Non-Collision",304,5.5247614720581551E-3,72,65,45,71,51]
["Overturn/Rollover",0,0,0,0,0,0,0,"Overturn/Rollover",1,1.817355747387551E-5,1,0,0,0,0]
["Thrown or Falling Object",0,0,0,0,0,0,0,"Thrown or Falling Object",0,0,0,0,0,0,0]
["Collision with Animal",0,0,0,0,0,0,0,"Collision with Animal",0,0,0,0,0,0,0]
["Collision with Construction Equipment",298,0.23118696664080682,65,59,49,71,54,"Collision with Construction Equipment",6935,0.12603362108132668,1723,1677,1461,1064,1010]
["Collision with Farm Equipment",0,0,0,0,0,0,0,"Collision with Farm Equipment",119,2.1626533393911858E-3,25,22,15,36,21]
["Collision with Motor Vehicle in Transport",0,0,0,0,0,0,0,"Collision with Motor Vehicle in Transport",0,0,0,0,0,0,0]
["Collision with Other Non-Fixed Object",0,0,0,0,0,0,0,"Collision with Other Non-Fixed Object",1,1.817355747387551E-5,0,0,0,1,0]
["Collision with Other Non-motorist",0,0,0,0,0,0,0,"Collision with Other Non-motorist",0,0,0,0,0,0,0]
["Collision with Parked Motor Vehicle",0,0,0,0,0,0,0,"Collision with Parked Motor Vehicle",2,3.6347114947751021E-5,0,0,1,0,1]
["Collision with Pedalcycle",0,0,0,0,0,0,0,"Collision with Pedalcycle",1,1.817355747387551E-5,0,0,0,0,1]
["Collision with Pedestrian",63,4.8875096974398756E-2,12,18,9,11,13,"Collision with Pedestrian",3803,6.9114039073148573E-2,777,808,823,735,660]
["Collision with Railway Vehicle",0,0,0,0,0,0,0,"Collision with Railway Vehicle",1,1.817355747387551E-5,0,0,0,1,0]
["Strikes Object ar Rest from MV in Transport",1,7.7579519006982156E-4,0,0,0,1,0,"Strikes Object ar Rest from MV in Transport",1,1.817355747387551E-5,0,0,0,1,0]
["Struck by Falling, Shifting Cargo, or Anything Set in Motion by Motor Vehicle",0,0,0,0,0,0,0,"Struck by Falling, Shifting Cargo, or Anything Set in Motion by Motor Vehicle",2,3.6347114947751021E-5,0,0,0,0,2]
["Collision with Bridge Overhead Structure",165,0.12800620636152055,32,27,29,41,36,"Collision with Bridge Overhead Structure",5819,0.1057519309404816,1191,1367,1177,1098,986]
["Collision with Bridge Pier or Support",0,0,0,0,0,0,0,"Collision with Bridge Pier or Support",0,0,0,0,0,0,0]
["Collision with Bridge Rail",0,0,0,0,0,0,0,"Collision with Bridge Rail",0,0,0,0,0,0,0]
["Collision with Cable Barrier",0,0,0,0,0,0,0,"Collision with Cable Barrier",1,1.817355747387551E-5,0,0,0,0,1]
["Collision with Concrete Traffic Barrier",0,0,0,0,0,0,0,"Collision with Concrete Traffic Barrier",0,0,0,0,0,0,0]
["Collision with Culvert",315,0.24437548487199379,79,71,65,53,47,"Collision with Culvert",13121,0.23845524761472059,2982,2995,2764,2206,2174]
["Collision with Curb",0,0,0,0,0,0,0,"Collision with Curb",7,1.2721490231712857E-4,0,1,0,0,6]
["Collision with Ditch",0,0,0,0,0,0,0,"Collision with Ditch",2,3.6347114947751021E-5,1,1,0,0,0]
["Collision with Embankment",0,0,0,0,0,0,0,"Collision with Embankment",1,1.817355747387551E-5,0,0,0,0,1]
["Collision with Fence",3,2.3273855702094647E-3,1,1,0,1,0,"Collision with Fence",143,2.598818718764198E-3,34,54,21,14,20]
["Collision with Guardrail End Terminal",0,0,0,0,0,0,0,"Collision with Guardrail End Terminal",4,7.2694229895502041E-5,0,0,0,1,3]
["Collision with Guardrail Face",0,0,0,0,0,0,0,"Collision with Guardrail Face",0,0,0,0,0,0,0]
["Collision with Impact Attenuator/Crash Cushion",0,0,0,0,0,0,0,"Collision with Impact Attenuator/Crash Cushion",0,0,0,0,0,0,0]
["Collision with Mailbox",0,0,0,0,0,0,0,"Collision with Mailbox",0,0,0,0,0,0,0]
["Collision with Other Fixed Object",0,0,0,0,0,0,0,"Collision with Other Fixed Object",1,1.817355747387551E-5,1,0,0,0,0]
["Collision with Other Post, Pole, or Support",0,0,0,0,0,0,0,"Collision with Other Post, Pole, or Support",0,0,0,0,0,0,0]
["Collision with Other Traffic Barrier",0,0,0,0,0,0,0,"Collision with Other Traffic Barrier",1,1.817355747387551E-5,0,0,0,0,1]
["Collision with Traffic Sign Support",0,0,0,0,0,0,0,"Collision with Traffic Sign Support",0,0,0,0,0,0,0]
["Collision with Traffic Signal Support",15,1.1636927851047323E-2,5,1,1,5,3,"Collision with Traffic Signal Support",874,1.5883689232167198E-2,179,180,168,204,143]
["Collision with Tree",0,0,0,0,0,0,0,"Collision with Tree",1,1.817355747387551E-5,0,1,0,0,0]
["Collision with Utility Pole or Light Support",0,0,0,0,0,0,0,"Collision with Utility Pole or Light Support",2,3.6347114947751021E-5,0,0,0,0,2]
["Unknown",420,0.32583397982932505,123,96,70,64,67,"Unknown",23769,0.43196728759654701,5138,5182,5062,4369,4018]
[{"$f":"CONCATENATE(\"Fatal and Serious Injury Crashes Only - \",A127, \"\n\",Instructions!$B$12)","v":"Fatal and Serious Injury Crashes Only - Location of First Harmful Event\nTest Group 3"},null,null,null,null,null,null,null,{"$f":"CONCATENATE(\"Total Crashes - \",I127, \"\n\",Instructions!$B$12)","v":"Total Crashes - Location of First Harmful Event\nTest Group 3"}]
["Location of First Harmful Event","Number of Crashes","Percent of Crashes","Year 5 Crashes","Year 4 Crashes","Year 3 Crashes","Year 2 Crashes","Year 1 Crashes","Location of First Harmful Event","Number of Crashes","Percent of Crashes","Year 5 Crashes","Year 4 Crashes","Year 3 Crashes","Year 2 Crashes","Year 1 Crashes"]
["Gore",{"$f":"SUM(D128:H128)","v":313},{"$f":"B128/SUM(B$128:B$138)","v":0.24282389449185415},62,62,58,61,70,{"$f":"A128","v":"Gore"},{"$f":"SUM(L128:P128)","v":7988},{"$f":"J128/SUM(J$128:J$138)","v":0.14517037710131758},1469,1791,1707,1610,1411]
["In Parking Lane or Zone",{"$f":"SUM(D129:H129)","v":798},0.61908456167571757,213,171,134,147,133,"In Parking Lane or Zone",{"$f":"SUM(L129:P129)","v":41341},{"$f":"J129/SUM(J$128:J$138)","v":0.75131303952748751},9316,9343,8620,7212,6850]
["Median",{"$f":"SUM(D130:H130)","v":127},9.8525989138867343E-2,31,27,24,29,16,"Median",{"$f":"SUM(L130:P130)","v":4765},8.6597001363016804E-2,1093,1089,1017,830,736]
["Off-Roadway, Location Unknown",{"$f":"SUM(D131:H131)","v":36},2.7928626842513578E-2,8,10,6,7,5,"Off-Roadway, Location Unknown",{"$f":"SUM(L131:P131)","v":776},1.4102680599727397E-2,204,160,173,135,104]
["On Roadway",11,8.5337470907680367E-3,5,4,0,2,0,"On Roadway",121,2.1990004543389367E-3,36,23,27,23,12]
["On Shoulder, Left Side",1,7.7579519006982156E-4,0,0,1,0,0,"On Shoulder, Left Side",21,3.8164470695138572E-4,5,5,5,4,2]
["On Shoulder, Right Side",1,7.7579519006982156E-4,0,0,0,1,0,"On Shoulder, Right Side",6,1.0904134484325306E-4,2,0,1,1,2]
["Outside Road/Right-of-Way",0,0,0,0,0,0,0,"Outside Road/Right-of-Way",1,1.817355747387551E-5,1,0,0,0,0]
["Roadside",1,7.7579519006982156E-4,0,1,0,0,0,"Roadside",3,5.4520672421626531E-5,1,2,0,0,0]
["Separator/Traffic Island",0,0,0,0,0,0,0,"Separator/Traffic Island",1,1.817355747387551E-5,1,0,0,0,0]
["Unknown",{"$f":"SUM(D138:H138)","v":1},7.7579519006982156E-4,0,0,0,1,0,"Unknown",{"$f":"SUM(L138:P138)","v":2},3.6347114947751021E-5,1,0,0,1,0]
[{"$f":"CONCATENATE(\"Fatal and Serious Injury Crashes Only - \",A140, \"\n\",Instructions!$B$12)","v":"Fatal and Serious Injury Crashes Only - Manner of Crash\nTest Group 3"},null,null,null,null,null,null,null,{"$f":"CONCATENATE(\"Total Crashes - \",I140, \"\n\",Instructions!$B$12)","v":"Total Crashes - Manner of Crash\nTest Group 3"}]
["Manner of Crash","Number of Crashes","Percent of Crashes","Year 5 Crashes","Year 4 Crashes","Year 3 Crashes","Year 2 Crashes","Year 1 Crashes","Manner of Crash","Number of Crashes","Percent of Crashes","Year 5 Crashes","Year 4 Crashes","Year 3 Crashes","Year 2 Crashes","Year 1 Crashes"]
["Not a Collision Between Two Motor Vehicles",{"$f":"SUM(D141:H141)","v":83},{"$f":"B141/SUM(B$141:B$150)","v":6.4391000775795196E-2},20,16,14,13,20,{"$f":"A141","v":"Not a Collision Between Two Motor Vehicles"},{"$f":"SUM(L141:P141)","v":3376},{"$f":"J141/SUM(J$141:J$150)","v":6.1353930031803727E-2},708,712,710,643,603]
["Angle",482,0.37393328161365402,132,103,79,93,75,"Angle",15862,{"$f":"J142/SUM(J$141:J$150)","v":0.28826896865061336},3693,3663,3215,2703,2588]
["Front to Front",1,7.7579519006982156E-4,0,1,0,0,0,"Front to Front",92,1.671967287596547E-3,19,26,14,15,18]
["Front to Rear",122,9.4647013188518231E-2,25,28,25,26,18,"Front to Rear",8057,0.146424352567015,1353,1860,1733,1614,1497]
["Rear to Rear",550,0.42668735453840184,131,118,93,103,105,"Rear to Rear",25398,0.46157201272149023,5821,5668,5403,4463,4043]
["Rear to Side",0,0,0,0,0,0,0,"Rear to Side",25,4.5433893684688776E-4,10,5,4,3,3]
["Sideswipe, Opposite Direction",46,3.5686578743211794E-2,9,8,11,12,6,"Sideswipe, Opposite Direction",1795,3.2621535665606542E-2,435,393,369,298,300]
["Sideswipe, Same Direction",5,3.8789759503491078E-3,2,1,1,1,0,"Sideswipe, Same Direction",414,7.5238527941844614E-3,87,84,101,77,65]
["Other",0,0,0,0,0,0,0,"Other",6,1.0904134484325306E-4,3,2,1,0,0]
["Unknown",0,0,0,0,0,0,0,"Unknown",0,0,0,0,0,0,0]
[{"$f":"CONCATENATE(\"Fatal and Serious Injury Crashes Only - \",A152, \"\n\",Instructions!$B$12)","v":"Fatal and Serious Injury Crashes Only - Weather\nTest Group 3"},null,null,null,null,null,null,null,{"$f":"CONCATENATE(\"Total Crashes - \",I152, \"\n\",Instructions!$B$12)","v":"Total Crashes - Weather\nTest Group 3"}]
["Weather","Number of Crashes","Percent of Crashes","Year 5 Crashes","Year 4 Crashes","Year 3 Crashes","Year 2 Crashes","Year 1 Crashes","Weather","Number of Crashes","Percent of Crashes","Year 5 Crashes","Year 4 Crashes","Year 3 Crashes","Year 2 Crashes","Year 1 Crashes"]
["Blowing Sand, Soil, Dirt",{"$f":"SUM(D153:H153)","v":1162},{"$f":"B153/SUM(B$153:B$164)","v":0.90147401086113266},287,251,196,225,203,{"$f":"A153","v":"Blowing Sand, Soil, Dirt"},{"$f":"SUM(L153:P153)","v":45988},{"$f":"J153/SUM(J$153:J$164)","v":0.83576556110858702},10587,10010,9343,8023,8025]
["Blowing Snow",2,1.5515903801396431E-3,2,0,0,0,0,"Blowing Snow",24,{"$f":"J154/SUM(J$153:J$164)","v":4.3616537937301225E-4},11,13,0,0,0]
["Clear",5,3.8789759503491078E-3,1,0,0,2,2,"Clear",32,5.8155383916401633E-4,6,3,7,4,12]
["Cloudy",24,1.8619084561675717E-2,3,5,7,5,4,"Cloudy",2425,4.4070876874148117E-2,320,630,709,504,262]
["Fog, Smog, Smoke",0,0,0,0,0,0,0,"Fog, Smog, Smoke",63,1.1449341208541572E-3,30,33,0,0,0]
["Freezing Rain or Freezing Drizzle",1,7.7579519006982156E-4,1,0,0,0,0,"Freezing Rain or Freezing Drizzle",20,3.6347114947751021E-4,4,5,7,1,3]
["Rain",4,3.1031807602792862E-3,1,1,1,1,0,"Rain",398,7.2330758746024532E-3,75,111,78,76,58]
["Severe Crosswinds",0,0,0,0,0,0,0,"Severe Crosswinds",19,3.452975920036347E-4,8,11,0,0,0]
["Sleet or Hail",14,1.0861132660977503E-2,6,3,3,1,1,"Sleet or Hail",1623,2.9495683780099955E-2,308,385,389,339,202]
["Snow",1,7.7579519006982156E-4,0,1,0,0,0,"Snow",65,1.1812812358019081E-3,29,35,1,0,0]
["Other",2,1.5515903801396431E-3,0,0,2,0,0,"Other",359,6.5243071331213083E-3,9,1,147,116,86]
["Unknown",74,5.7408844065166796E-2,18,14,14,14,14,"Unknown",4009,7.2857791912766923E-2,742,1176,869,753,469]
[{"$f":"CONCATENATE(\"Fatal and Serious Injury Crashes Only - \",A166, \"\n\",Instructions!$B$12)","v":"Fatal and Serious Injury Crashes Only - Light Conditions\nTest Group 3"},null,null,null,null,null,null,null,{"$f":"CONCATENATE(\"Total Crashes - \",I166, \"\n\",Instructions!$B$12)","v":"Total Crashes - Light Conditions\nTest Group 3"}]
["Light Conditions","Number of Crashes","Percent of Crashes","Year 5 Crashes","Year 4 Crashes","Year 3 Crashes","Year 2 Crashes","Year 1 Crashes","Light Conditions","Number of Crashes","Percent of Crashes","Year 5 Crashes","Year 4 Crashes","Year 3 Crashes","Year 2 Crashes","Year 1 Crashes"]
["Daylight",{"$f":"SUM(D167:H167)","v":55},{"$f":"B167/SUM(B$167:B$173)","v":4.2668735453840187E-2},15,11,13,7,9,{"$f":"A167","v":"Daylight"},{"$f":"SUM(L167:P167)","v":1886},{"$f":"J167/SUM(J$167:J$173)","v":3.4275329395729213E-2},378,428,381,338,361]
["Dawn/Dusk",{"$f":"SUM(D168:H168)","v":67},5.1978277734678044E-2,17,7,15,10,18,"Dawn/Dusk",{"$f":"SUM(L168:P168)","v":2128},{"$f":"J168/SUM(J$167:J$173)","v":3.8673330304407089E-2},401,451,458,412,406]
["Dark - Lighted",5,3.8789759503491078E-3,0,1,0,1,3,"Dark - Lighted",161,2.9259427532939571E-3,39,33,33,30,26]
["Dark - Not Lighted",340,0.26377036462373932,101,66,51,63,59,"Dark - Not Lighted",13243,0.24067242162653341,2992,3113,2795,2258,2085]
["Dark - Unknown Lighting",821,0.63692785104732352,185,190,144,167,135,"Dark - Unknown Lighting",37589,0.68312585188550656,8313,8381,7883,6774,6238]
["Other",1,7.7579519006982156E-4,1,0,0,0,0,"Other",18,3.2712403452975919E-4,6,7,0,4,1]
["Unknown",0,0,0,0,0,0,0,"Unknown",0,0,0,0,0,0,0]
[{"$f":"CONCATENATE(\"Fatal and Serious Injury Crashes Only - \",A175, \"\n\",Instructions!$B$12)","v":"Fatal and Serious Injury Crashes Only - Road Surface Condition\nTest Group 3"},null,null,null,null,null,null,null,{"$f":"CONCATENATE(\"Total Crashes - \",I175, \"\n\",Instructions!$B$12)","v":"Total Crashes - Road Surface Condition\nTest Group 3"}]
["Road Surface Condition","Number of Crashes","Percent of Crashes","Year 5 Crashes","Year 4 Crashes","Year 3 Crashes","Year 2 Crashes","Year 1 Crashes","Road Surface Condition","Number of Crashes","Percent of Crashes","Year 5 Crashes","Year 4 Crashes","Year 3 Crashes","Year 2 Crashes","Year 1 Crashes"]
["Dry",{"$f":"SUM(D176:H176)","v":550},{"$f":"B176/SUM(B$176:B$186)","v":0.42668735453840184},131,118,93,103,105,{"$f":"A176","v":"Dry"},{"$f":"SUM(L176:P176)","v":414},{"$f":"J176/SUM(J$176:J$186)","v":7.5238527941844614E-3},87,84,101,77,65]
["Ice/Frost",0,0,0,0,0,0,0,"Ice/Frost",6,{"$f":"J177/SUM(J$176:J$186)","v":1.0904134484325306E-4},3,2,1,0,0]
["Mud, Dirt, Gravel",46,3.5686578743211794E-2,9,8,11,12,6,"Mud, Dirt, Gravel",0,0,0,0,0,0,0]
["Oil",5,3.8789759503491078E-3,2,1,1,1,0,"Oil",3376,6.1353930031803727E-2,708,712,710,643,603]
["Sand",0,0,0,0,0,0,0,"Sand",15862,0.28826896865061336,3693,3663,3215,2703,2588]
["Sluch",0,0,0,0,0,0,0,"Sluch",92,1.671967287596547E-3,19,26,14,15,18]
["Snow",83,6.4391000775795196E-2,20,16,14,13,20,"Snow",8057,0.146424352567015,1353,1860,1733,1614,1497]
["Water (Standing, Moving)",482,0.37393328161365402,132,103,79,93,75,"Water (Standing, Moving)",25398,0.46157201272149023,5821,5668,5403,4463,4043]
["Wet",1,7.7579519006982156E-4,0,1,0,0,0,"Wet",25,4.5433893684688776E-4,10,5,4,3,3]
["Other",122,9.4647013188518231E-2,25,28,25,26,18,"Other",1795,3.2621535665606542E-2,435,393,369,298,300]
["Unknown",0,0,0,0,0,0,0,"Unknown",0,0,0,0,0,0,0]
[{"$f":"CONCATENATE(\"Fatal and Serious Injury Crashes Only - \",A188, \"\n\",Instructions!$B$12)","v":"Fatal and Serious Injury Crashes Only - Contributing Circumstances - Roadway Environment, Selection 1\nTest Group 3"},null,null,null,null,null,null,null,{"$f":"CONCATENATE(\"Total Crashes - \",I188, \"\n\",Instructions!$B$12)","v":"Total Crashes - Contributing Circumstances - Roadway Environment, Selection 1\nTest Group 3"}]
["Contributing Circumstances - Roadway Environment, Selection 1","Number of Crashes","Percent of Crashes","Year 5 Crashes","Year 4 Crashes","Year 3 Crashes","Year 2 Crashes","Year 1 Crashes","Contributing Circumstances - Roadway Environment, Selection 1","Number of Crashes","Percent of Crashes","Year 5 Crashes","Year 4 Crashes","Year 3 Crashes","Year 2 Crashes","Year 1 Crashes"]
["None",{"$f":"SUM(D189:H189)","v":0},{"$f":"B189/SUM(B$189:B$211)","v":0},0,0,0,0,0,{"$f":"A189","v":"None"},{"$f":"SUM(L189:P189)","v":9},{"$f":"J189/SUM(J$189:J$211)","v":1.6356201726487959E-4},1,0,4,4,0]
["Animal(s)",117,9.0768037238169119E-2,36,15,21,28,17,"Animal(s)",3619,{"$f":"J190/SUM(J$189:J$211)","v":6.5770104497955478E-2},804,804,750,641,620]
["Debris",1,7.7579519006982156E-4,0,0,0,0,1,"Debris",42,7.6328941390277143E-4,12,11,9,3,7]
["Glare",40,3.1031807602792862E-2,9,9,6,11,5,"Glare",472,8.5779191276692413E-3,97,91,94,107,83]
["Non-Highway Work",6,4.6547711404189293E-3,1,1,3,0,1,"Non-Highway Work",113,2.0536119945479326E-3,22,25,23,20,23]
["Obstructed Crosswalks",135,0.10473235065942592,41,27,21,18,28,"Obstructed Crosswalks",5920,0.10758746024534302,1417,1314,1221,1014,954]
["Obstruction in Roadway",2,1.5515903801396431E-3,2,0,0,0,0,"Obstruction in Roadway",327,5.9427532939572919E-3,52,84,70,79,42]
["Prior Crash",53,4.1117145073700546E-2,12,8,9,13,11,"Prior Crash",1359,2.4697864606996821E-2,237,282,360,271,209]
["Prior Non-Recurring Incident",4,3.1031807602792862E-3,1,0,2,1,0,"Prior Non-Recurring Incident",128,2.3262153566560653E-3,24,29,30,23,22]
["Regular Congestion",10,7.7579519006982156E-3,1,3,2,3,1,"Regular Congestion",89,1.6174466151749206E-3,17,26,13,17,16]
["Related to a Bus Stop",6,4.6547711404189293E-3,2,1,1,2,0,"Related to a Bus Stop",554,1.0068150840527033E-2,103,131,93,136,91]
["Road Surface Condition (wet, icy, snow, slush, etc.)",0,0,0,0,0,0,0,"Road Surface Condition (wet, icy, snow, slush, etc.)",51,9.2685143116765108E-4,7,11,13,11,9]
["Ruts, Holes, Bumps",1,7.7579519006982156E-4,0,0,0,0,1,"Ruts, Holes, Bumps",69,1.2539754656974102E-3,13,10,14,17,15]
["Shoulders (none, low, soft, high)",8,6.2063615205585725E-3,2,2,2,1,1,"Shoulders (none, low, soft, high)",308,5.5974557019536578E-3,66,71,70,62,39]
["Toll Booth/Plaza Related",7,5.4305663304887513E-3,1,1,4,1,0,"Toll Booth/Plaza Related",748,1.3593820990458883E-2,125,166,158,167,132]
["Traffic Control Device",20,1.5515903801396431E-2,3,6,4,3,4,"Traffic Control Device",588,1.0686051794638801E-2,124,135,120,113,96]
["Traffic Incident",22,1.7067494181536073E-2,6,10,4,1,1,"Traffic Incident",224,4.0708768741481143E-3,50,58,50,45,21]
["Visual Obstruction(s)",7,5.4305663304887513E-3,3,1,2,1,0,"Visual Obstruction(s)",298,5.4157201272149024E-3,71,66,64,53,44]
["Weather Conditions",2,1.5515903801396431E-3,1,1,0,0,0,"Weather Conditions",81,1.4720581553839165E-3,15,25,12,11,18]
["Work Zone (construction/maintenance/utility)",27,2.0946470131885182E-2,7,6,4,2,8,"Work Zone (construction/maintenance/utility)",700,1.2721490231712857E-2,157,167,134,124,118]
["Worn, Travel-polished Surface",1,7.7579519006982156E-4,0,0,0,0,1,"Worn, Travel-polished Surface",60,1.0904134484325306E-3,10,16,17,11,6]
["Other",10,7.7579519006982156E-3,1,1,4,0,4,"Other",407,7.3966378918673328E-3,65,103,86,78,75]
["Unknown",810,0.62839410395655548,190,183,134,163,140,"Unknown",38859,0.70620626987732849,8640,8788,8145,6809,6477]
[{"$f":"CONCATENATE(\"Fatal and Serious Injury Crashes Only - \",A213, \"\n\",Instructions!$B$12)","v":"Fatal and Serious Injury Crashes Only - Contributing Circumstances - Roadway Environment, Selection 2\nTest Group 3"},null,null,null,null,null,null,null,{"$f":"CONCATENATE(\"Total Crashes - \",I213, \"\n\",Instructions!$B$12)","v":"Total Crashes - Contributing Circumstances - Roadway Environment, Selection 2\nTest Group 3"}]
["Contributing Circumstances - Roadway Environment, Selection 2","Number of Crashes","Percent of Crashes","Year 5 Crashes","Year 4 Crashes","Year 3 Crashes","Year 2 Crashes","Year 1 Crashes","Contributing Circumstances - Roadway Environment, Selection 2","Number of Crashes","Percent of Crashes","Year 5 Crashes","Year 4 Crashes","Year 3 Crashes","Year 2 Crashes","Year 1 Crashes"]
["None",{"$f":"SUM(D214:H214)","v":6},{"$f":"B214/SUM(B$214:B$236)","v":4.6547711404189293E-3},2,1,1,2,0,{"$f":"A214","v":"None"},{"$f":"SUM(L214:P214)","v":128},{"$f":"J214/SUM(J$214:J$236)","v":2.3262153566560653E-3},24,29,30,23,22]
["Animal(s)",0,0,0,0,0,0,0,"Animal(s)",89,{"$f":"J215/SUM(J$214:J$236)","v":1.6174466151749206E-3},17,26,13,17,16]
["Debris",1,7.7579519006982156E-4,0,0,0,0,1,"Debris",554,1.0068150840527033E-2,103,131,93,136,91]
["Glare",8,6.2063615205585725E-3,2,2,2,1,1,"Glare",51,9.2685143116765108E-4,7,11,13,11,9]
["Non-Highway Work",7,5.4305663304887513E-3,1,1,4,1,0,"Non-Highway Work",69,1.2539754656974102E-3,13,10,14,17,15]
["Obstructed Crosswalks",20,1.5515903801396431E-2,3,6,4,3,4,"Obstructed Crosswalks",308,5.5974557019536578E-3,66,71,70,62,39]
["Obstruction in Roadway",22,1.7067494181536073E-2,6,10,4,1,1,"Obstruction in Roadway",748,1.3593820990458883E-2,125,166,158,167,132]
["Prior Crash",7,5.4305663304887513E-3,3,1,2,1,0,"Prior Crash",588,1.0686051794638801E-2,124,135,120,113,96]
["Prior Non-Recurring Incident",2,1.5515903801396431E-3,1,1,0,0,0,"Prior Non-Recurring Incident",224,4.0708768741481143E-3,50,58,50,45,21]
["Regular Congestion",27,2.0946470131885182E-2,7,6,4,2,8,"Regular Congestion",298,5.4157201272149024E-3,71,66,64,53,44]
["Related to a Bus Stop",1,7.7579519006982156E-4,0,0,0,0,1,"Related to a Bus Stop",81,1.4720581553839165E-3,15,25,12,11,18]
["Road Surface Condition (wet, icy, snow, slush, etc.)",10,7.7579519006982156E-3,1,1,4,0,4,"Road Surface Condition (wet, icy, snow, slush, etc.)",700,1.2721490231712857E-2,157,167,134,124,118]
["Ruts, Holes, Bumps",810,0.62839410395655548,190,183,134,163,140,"Ruts, Holes, Bumps",60,1.0904134484325306E-3,10,16,17,11,6]
["Shoulders (none, low, soft, high)",0,0,0,0,0,0,0,"Shoulders (none, low, soft, high)",407,7.3966378918673328E-3,65,103,86,78,75]
["Toll Booth/Plaza Related",117,9.0768037238169119E-2,36,15,21,28,17,"Toll Booth/Plaza Related",38859,0.70620626987732849,8640,8788,8145,6809,6477]
["Traffic Control Device",1,7.7579519006982156E-4,0,0,0,0,1,"Traffic Control Device",9,1.6356201726487959E-4,1,0,4,4,0]
["Traffic Incident",40,3.1031807602792862E-2,9,9,6,11,5,"Traffic Incident",3619,6.5770104497955478E-2,804,804,750,641,620]
["Visual Obstruction(s)",6,4.6547711404189293E-3,1,1,3,0,1,"Visual Obstruction(s)",42,7.6328941390277143E-4,12,11,9,3,7]
["Weather Conditions",135,0.10473235065942592,41,27,21,18,28,"Weather Conditions",472,8.5779191276692413E-3,97,91,94,107,83]
["Work Zone (construction/maintenance/utility)",2,1.5515903801396431E-3,2,0,0,0,0,"Work Zone (construction/maintenance/utility)",113,2.0536119945479326E-3,22,25,23,20,23]
["Worn, Travel-polished Surface",53,4.1117145073700546E-2,12,8,9,13,11,"Worn, Travel-polished Surface",5920,0.10758746024534302,1417,1314,1221,1014,954]
["Other",4,3.1031807602792862E-3,1,0,2,1,0,"Other",327,5.9427532939572919E-3,52,84,70,79,42]
["Unknown",10,7.7579519006982156E-3,1,3,2,3,1,"Unknown",1359,2.4697864606996821E-2,237,282,360,271,209]
[{"$f":"CONCATENATE(\"Fatal and Serious Injury Crashes Only - \",A238, \"\n\",Instructions!$B$12)","v":"Fatal and Serious Injury Crashes Only - Within Interchange Area\nTest Group 3"},null,null,null,null,null,null,null,{"$f":"CONCATENATE(\"Total Crashes - \",I238, \"\n\",Instructions!$B$12)","v":"Total Crashes - Within Interchange Area\nTest Group 3"}]
["Within Interchange Area","Number of Crashes","Percent of Crashes","Year 5 Crashes","Year 4 Crashes","Year 3 Crashes","Year 2 Crashes","Year 1 Crashes","Within Interchange Area","Number of Crashes","Percent of Crashes","Year 5 Crashes","Year 4 Crashes","Year 3 Crashes","Year 2 Crashes","Year 1 Crashes"]
["No",{"$f":"SUM(D239:H239)","v":244},{"$f":"B239/SUM(B$239:B$241)","v":0.18929402637703646},20,70,63,49,42,{"$f":"A239","v":"No"},{"$f":"SUM(L239:P239)","v":10475},{"$f":"J239/SUM(J$239:J$241)","v":0.19036801453884597},778,2828,2630,2117,2122]
["Yes",838,{"$f":"B240/SUM(B$239:B$241)","v":0.65011636927851046},92,205,160,199,182,{"$f":"A240","v":"Yes"},36340,{"$f":"J240/SUM(J$239:J$241)","v":0.6604270786006361},3151,9585,8914,7698,6992]
["Unknown",207,{"$f":"B241/SUM(B$239:B$241)","v":0.16058960434445307},207,0,0,0,0,{"$f":"A241","v":"Unknown"},8210,0.14920490686051793,8200,0,6,1,3]
[{"$f":"CONCATENATE(\"Fatal and Serious Injury Crashes Only - \",A243, \"\n\",Instructions!$B$12)","v":"Fatal and Serious Injury Crashes Only - Relation to Junction\nTest Group 3"},null,null,null,null,null,null,null,{"$f":"CONCATENATE(\"Total Crashes - \",I243, \"\n\",Instructions!$B$12)","v":"Total Crashes - Relation to Junction\nTest Group 3"}]
["Relation to Junction","Number of Crashes","Percent of Crashes","Year 5 Crashes","Year 4 Crashes","Year 3 Crashes","Year 2 Crashes","Year 1 Crashes","Relation to Junction","Number of Crashes","Percent of Crashes","Year 5 Crashes","Year 4 Crashes","Year 3 Crashes","Year 2 Crashes","Year 1 Crashes"]
["Acceleration/Deceleration Lane",1207,{"$f":"B244/SUM(B$244:B$254)","v":0.93638479441427458},296,259,208,239,205,{"$f":"A244","v":"Acceleration/Deceleration Lane"},54272,{"$f":"J244/SUM(J$244:J$254)","v":0.98631531122217175},11935,12252,11416,9705,8964]
["Crossover-Related",1,7.7579519006982156E-4,1,0,0,0,0,"Crossover-Related",3,{"$f":"J245/SUM(J$244:J$254)","v":5.4520672421626531E-5},2,0,0,0,1]
["Driveway Access or Related",0,0,0,0,0,0,0,"Driveway Access or Related",2,3.6347114947751021E-5,1,1,0,0,0]
["Entrance/Exit Ramp or Related",2,1.5515903801396431E-3,1,0,1,0,0,"Entrance/Exit Ramp or Related",7,1.2721490231712857E-4,1,1,2,3,0]
["Intersection or Related",4,3.1031807602792862E-3,2,0,1,1,0,"Intersection or Related",47,8.5415720127214904E-4,13,9,12,12,1]
["Non-Junction",1,7.7579519006982156E-4,1,0,0,0,0,"Non-Junction",2,3.6347114947751021E-5,1,1,0,0,0]
["Railway Grade Crossing",1,7.7579519006982156E-4,0,1,0,0,0,"Railway Grade Crossing",8,1.4538845979100408E-4,1,7,0,0,0]
["Shared-Use Path or Trail",2,1.5515903801396431E-3,1,0,0,0,1,"Shared-Use Path or Trail",8,1.4538845979100408E-4,2,2,2,0,2]
["Through Roadway",0,0,0,0,0,0,0,"Through Roadway",4,7.2694229895502041E-5,0,2,1,1,0]
["Other",1,7.7579519006982156E-4,1,0,0,0,0,"Other",15,2.7260336210813266E-4,5,5,3,0,2]
["Unknown",70,5.4305663304887508E-2,16,15,13,8,18,"Unknown",657,1.1940027260336212E-2,168,133,114,95,147]
[{"$f":"CONCATENATE(\"Fatal and Serious Injury Crashes Only - \",A256, \"\n\",Instructions!$B$12)","v":"Fatal and Serious Injury Crashes Only - Type of Intersection\nTest Group 3"},null,null,null,null,null,null,null,{"$f":"CONCATENATE(\"Total Crashes - \",I256, \"\n\",Instructions!$B$12)","v":"Total Crashes - Type of Intersection\nTest Group 3"}]
["Type of Intersection","Number of Crashes","Percent of Crashes","Year 5 Crashes","Year 4 Crashes","Year 3 Crashes","Year 2 Crashes","Year 1 Crashes","Type of Intersection","Number of Crashes","Percent of Crashes","Year 5 Crashes","Year 4 Crashes","Year 3 Crashes","Year 2 Crashes","Year 1 Crashes"]
["Not at Intersection",55,{"$f":"B257/SUM(B$257:B$261)","v":4.2668735453840187E-2},15,11,13,7,9,{"$f":"A257","v":"Not at Intersection"},1886,{"$f":"J257/SUM(J$257:J$261)","v":3.4275329395729213E-2},378,428,381,338,361]
["Two-Leg",67,{"$f":"B258/SUM(B$257:B$261)","v":5.1978277734678044E-2},17,7,15,10,18,{"$f":"A258","v":"Two-Leg"},2128,{"$f":"J258/SUM(J$257:J$261)","v":3.8673330304407089E-2},401,451,458,412,406]
["Three-Leg",5,{"$f":"B259/SUM(B$257:B$261)","v":3.8789759503491078E-3},0,1,0,1,3,{"$f":"A259","v":"Three-Leg"},161,2.9259427532939571E-3,39,33,33,30,26]
["Four-Leg",340,{"$f":"B260/SUM(B$257:B$261)","v":0.26377036462373932},101,66,51,63,59,{"$f":"A260","v":"Four-Leg"},13243,0.24067242162653341,2992,3113,2795,2258,2085]
["Five or More Legs",822,{"$f":"B261/SUM(B$257:B$261)","v":0.63770364623739328},186,190,144,167,135,{"$f":"A261","v":"Five or More Legs"},37607,0.6834529759200364,8319,8388,7883,6778,6239]
[{"$f":"CONCATENATE(\"Fatal and Serious Injury Crashes Only - \",A263, \"\n\",Instructions!$B$12)","v":"Fatal and Serious Injury Crashes Only - Intersection Geometry\nTest Group 3"},null,null,null,null,null,null,null,{"$f":"CONCATENATE(\"Total Crashes - \",I263, \"\n\",Instructions!$B$12)","v":"Total Crashes - Intersection Geometry\nTest Group 3"}]
["Intersection Geometry","Number of Crashes","Percent of Crashes","Year 5 Crashes","Year 4 Crashes","Year 3 Crashes","Year 2 Crashes","Year 1 Crashes","Intersection Geometry","Number of Crashes","Percent of Crashes","Year 5 Crashes","Year 4 Crashes","Year 3 Crashes","Year 2 Crashes","Year 1 Crashes"]
["Angled or Skewed",9,{"$f":"B264/SUM(B$264:B$267)","v":6.9821567106283944E-3},3,2,2,1,1,{"$f":"A264","v":"Angled or Skewed"},93,{"$f":"J264/SUM(J$264:J$267)","v":1.6901408450704226E-3},19,35,18,11,10]
["Roundabout or Traffic Circle",113,{"$f":"B265/SUM(B$264:B$267)","v":8.7664856477889838E-2},20,22,21,22,28,{"$f":"A265","v":"Roundabout or Traffic Circle"},3319,{"$f":"J265/SUM(J$264:J$267)","v":6.0318037255792822E-2},639,733,727,683,537]
["Perpindicular",154,{"$f":"B266/SUM(B$264:B$267)","v":0.11947245927075252},37,33,28,26,30,{"$f":"A266","v":"Perpindicular"},4118,7.483870967741936E-2,742,955,879,798,744]
["Not at Intersection",1013,{"$f":"B267/SUM(B$264:B$267)","v":0.78588052754072923},259,218,172,199,165,{"$f":"A267","v":"Not at Intersection"},47495,0.86315311222171742,10729,10690,9926,8324,7826]
[{"$f":"CONCATENATE(\"Fatal and Serious Injury Crashes Only - \",A269, \"\n\",Instructions!$B$12)","v":"Fatal and Serious Injury Crashes Only - Traffic Control Device\nTest Group 3"},null,null,null,null,null,null,null,{"$f":"CONCATENATE(\"Total Crashes - \",I269, \"\n\",Instructions!$B$12)","v":"Total Crashes - Traffic Control Device\nTest Group 3"}]
["Traffic Control Device","Number of Crashes","Percent of Crashes","Year 5 Crashes","Year 4 Crashes","Year 3 Crashes","Year 2 Crashes","Year 1 Crashes","Traffic Control Device","Number of Crashes","Percent of Crashes","Year 5 Crashes","Year 4 Crashes","Year 3 Crashes","Year 2 Crashes","Year 1 Crashes"]
["Signalized",154,{"$f":"B270/SUM(B$270:B$275)","v":0.11947245927075252},37,33,28,26,30,{"$f":"A270","v":"Signalized"},211,{"$f":"J270/SUM(J$270:J$275)","v":3.834620626987733E-3},35,37,52,45,42]
["Stop - All Way",1001,0.77657098525989143,259,215,167,197,163,"Stop - All Way",93,{"$f":"J271/SUM(J$270:J$275)","v":1.6901408450704226E-3},19,35,18,11,10]
["Stop - Partial",2,1.5515903801396431E-3,0,1,1,0,0,"Stop - Partial",3319,6.0318037255792822E-2,639,733,727,683,537]
["Yield",10,7.7579519006982156E-3,0,2,4,2,2,"Yield",4118,7.483870967741936E-2,742,955,879,798,744]
["No Controls",9,6.9821567106283944E-3,3,2,2,1,1,"No Controls",47232,0.85837346660608815,10679,10634,9856,8279,7784]
["Not an Intersection",113,8.7664856477889838E-2,20,22,21,22,28,"Not an Intersection",52,9.4502498864152654E-4,15,19,18,0,0]
[{"$f":"CONCATENATE(\"Fatal and Serious Injury Crashes Only - \",A277, \"\n\",Instructions!$B$12)","v":"Fatal and Serious Injury Crashes Only - Crash in Work Zone\nTest Group 3"},null,null,null,null,null,null,null,{"$f":"CONCATENATE(\"Total Crashes - \",I277, \"\n\",Instructions!$B$12)","v":"Total Crashes - Crash in Work Zone\nTest Group 3"}]
["Crash in Work Zone","Number of Crashes","Percent of Crashes","Year 5 Crashes","Year 4 Crashes","Year 3 Crashes","Year 2 Crashes","Year 1 Crashes","Crash in Work Zone","Number of Crashes","Percent of Crashes","Year 5 Crashes","Year 4 Crashes","Year 3 Crashes","Year 2 Crashes","Year 1 Crashes"]
["Yes",{"$f":"SUM(D278:H278)","v":122},{"$f":"B278/SUM(B$278:B$280)","v":9.4647013188518231E-2},25,28,25,26,18,{"$f":"A278","v":"Yes"},{"$f":"SUM(L278:P278)","v":8057},{"$f":"J278/SUM(J$278:J$280)","v":0.146424352567015},1353,1860,1733,1614,1497]
["No",550,{"$f":"B279/SUM(B$278:B$280)","v":0.42668735453840184},131,118,93,103,105,{"$f":"A279","v":"No"},25398,{"$f":"J279/SUM(J$278:J$280)","v":0.46157201272149023},5821,5668,5403,4463,4043]
["Unknown",617,{"$f":"B280/SUM(B$278:B$280)","v":0.4786656322730799},163,129,105,119,101,{"$f":"A280","v":"Unknown"},21570,0.3920036347114948,4955,4885,4414,3739,3577]
[{"$f":"CONCATENATE(\"Fatal and Serious Injury Crashes Only - \",A282, \"\n\",Instructions!$B$12)","v":"Fatal and Serious Injury Crashes Only - Number of Motor Vehicles Involved\nTest Group 3"},null,null,null,null,null,null,null,{"$f":"CONCATENATE(\"Total Crashes - \",I282, \"\n\",Instructions!$B$12)","v":"Total Crashes - Number of Motor Vehicles Involved\nTest Group 3"}]
["Number of Motor Vehicles Involved","Number of Crashes","Percent of Crashes","Year 5 Crashes","Year 4 Crashes","Year 3 Crashes","Year 2 Crashes","Year 1 Crashes","Number of Motor Vehicles Involved","Number of Crashes","Percent of Crashes","Year 5 Crashes","Year 4 Crashes","Year 3 Crashes","Year 2 Crashes","Year 1 Crashes"]
["One",313,{"$f":"B283/SUM(B$283:B$286)","v":0.24282389449185415},62,62,58,61,70,{"$f":"A283","v":"One"},7988,{"$f":"J283/SUM(J$283:J$286)","v":0.14517037710131758},1469,1791,1707,1610,1411]
["Two",798,{"$f":"B284/SUM(B$283:B$286)","v":0.61908456167571757},213,171,134,147,133,{"$f":"A284","v":"Two"},41341,{"$f":"J284/SUM(J$283:J$286)","v":0.75131303952748751},9316,9343,8620,7212,6850]
["Three",127,{"$f":"B285/SUM(B$283:B$286)","v":9.8525989138867343E-2},31,27,24,29,16,{"$f":"A285","v":"Three"},4765,8.6597001363016804E-2,1093,1089,1017,830,736]
["Four or More",51,{"$f":"B286/SUM(B$283:B$286)","v":3.9565554693560899E-2},13,15,7,11,5,{"$f":"A286","v":"Four or More"},931,1.69195820081781E-2,251,190,206,164,120]
[{"$f":"CONCATENATE(\"Fatal and Serious Injury Crashes Only - \",A288, \"\n\",Instructions!$B$12)","v":"Fatal and Serious Injury Crashes Only - Horizontal Alignment\nTest Group 3"},null,null,null,null,null,null,null,{"$f":"CONCATENATE(\"Total Crashes - \",I288, \"\n\",Instructions!$B$12)","v":"Total Crashes - Horizontal Alignment\nTest Group 3"}]
["Horizontal Alignment","Number of Crashes","Percent of Crashes","Year 5 Crashes","Year 4 Crashes","Year 3 Crashes","Year 2 Crashes","Year 1 Crashes","Horizontal Alignment","Number of Crashes","Percent of Crashes","Year 5 Crashes","Year 4 Crashes","Year 3 Crashes","Year 2 Crashes","Year 1 Crashes"]
["Straight",{"$f":"SUM(D289:H289)","v":838},{"$f":"B289/SUM(B$289:B$291)","v":0.65011636927851046},92,205,160,199,182,{"$f":"A289","v":"Straight"},{"$f":"SUM(L289:P289)","v":36340},{"$f":"J289/SUM(J$289:J$291)","v":0.6604270786006361},3151,9585,8914,7698,6992]
["Horizontal Curve Left",207,{"$f":"B290/SUM(B$289:B$291)","v":0.16058960434445307},207,0,0,0,0,{"$f":"A290","v":"Horizontal Curve Left"},8210,{"$f":"J290/SUM(J$289:J$291)","v":0.14920490686051793},8200,0,6,1,3]
["Horizontal Curve Right",244,{"$f":"B291/SUM(B$289:B$291)","v":0.18929402637703646},20,70,63,49,42,{"$f":"A291","v":"Horizontal Curve Right"},10475,0.19036801453884597,778,2828,2630,2117,2122]
[{"$f":"CONCATENATE(\"Fatal and Serious Injury Crashes Only - \",A293, \"\n\",Instructions!$B$12)","v":"Fatal and Serious Injury Crashes Only - Vertical Alignment\nTest Group 3"},null,null,null,null,null,null,null,{"$f":"CONCATENATE(\"Total Crashes - \",I293, \"\n\",Instructions!$B$12)","v":"Total Crashes - Vertical Alignment\nTest Group 3"}]
["Vertical Alignment","Number of Crashes","Percent of Crashes","Year 5 Crashes","Year 4 Crashes","Year 3 Crashes","Year 2 Crashes","Year 1 Crashes","Vertical Alignment","Number of Crashes","Percent of Crashes","Year 5 Crashes","Year 4 Crashes","Year 3 Crashes","Year 2 Crashes","Year 1 Crashes"]
["Level",55,{"$f":"B294/SUM(B$294:B$299)","v":4.2668735453840187E-2},15,11,13,7,9,{"$f":"A294","v":"Level"},1886,{"$f":"J294/SUM(J$294:J$299)","v":3.4275329395729213E-2},378,428,381,338,361]
["Uphill",67,5.1978277734678044E-2,17,7,15,10,18,"Uphill",2128,{"$f":"J295/SUM(J$294:J$299)","v":3.8673330304407089E-2},401,451,458,412,406]
["Hillcrest",5,3.8789759503491078E-3,0,1,0,1,3,"Hillcrest",161,2.9259427532939571E-3,39,33,33,30,26]
["Downhill",340,0.26377036462373932,101,66,51,63,59,"Downhill",13243,0.24067242162653341,2992,3113,2795,2258,2085]
["Sag",821,0.63692785104732352,185,190,144,167,135,"Sag",37589,0.68312585188550656,8313,8381,7883,6774,6238]
["Unknown",1,7.7579519006982156E-4,1,0,0,0,0,"Unknown",18,3.2712403452975919E-4,6,7,0,4,1]
[{"$f":"CONCATENATE(\"Fatal and Serious Injury Crashes Only - \",A301, \"\n\",Instructions!$B$12)","v":"Fatal and Serious Injury Crashes Only - Roadway Owner\nTest Group 3"},null,null,null,null,null,null,null,{"$f":"CONCATENATE(\"Total Crashes - \",I301, \"\n\",Instructions!$B$12)","v":"Total Crashes - Roadway Owner\nTest Group 3"}]
["Roadway Owner","Number of Crashes","Percent of Crashes","Year 5 Crashes","Year 4 Crashes","Year 3 Crashes","Year 2 Crashes","Year 1 Crashes","Roadway Owner","Number of Crashes","Percent of Crashes","Year 5 Crashes","Year 4 Crashes","Year 3 Crashes","Year 2 Crashes","Year 1 Crashes"]
["State",{"$f":"SUM(D302:H302)","v":144},{"$f":"B302/SUM(B$302:B$307)","v":0.11171450737005431},38,34,22,27,23,{"$f":"A302","v":"State"},{"$f":"SUM(L302:P302)","v":5109},{"$f":"J302/SUM(J$302:J$307)","v":9.2848705134029985E-2},1162,1121,1011,909,906]
["County",163,0.12645461598138091,32,40,31,30,30,"County",7988,{"$f":"J303/SUM(J$302:J$307)","v":0.14517037710131758},1702,1829,1700,1471,1286]
["Municipality",173,0.13421256788207914,38,31,35,38,31,"Municipality",8258,0.15007723761926398,1714,1859,1738,1538,1409]
["Federal",170,0.13188518231186966,42,41,27,32,28,"Federal",8534,0.15509313948205361,1899,1884,1869,1545,1337]
["Tribal",220,0.17067494181536075,52,49,37,47,35,"Tribal",8496,0.15440254429804634,1880,1961,1743,1531,1381]
["Unknown",419,0.32505818463925523,117,80,71,74,77,"Unknown",16640,0.30240799636528848,3772,3759,3489,2822,2798]
[{"$f":"CONCATENATE(\"Fatal and Serious Injury Crashes Only - \",A309, \"\n\",Instructions!$B$12)","v":"Fatal and Serious Injury Crashes Only - Area Type\nTest Group 3"},null,null,null,null,null,null,null,{"$f":"CONCATENATE(\"Total Crashes - \",I309, \"\n\",Instructions!$B$12)","v":"Total Crashes - Area Type\nTest Group 3"}]
["Area Type","Number of Crashes","Percent of Crashes","Year 5 Crashes","Year 4 Crashes","Year 3 Crashes","Year 2 Crashes","Year 1 Crashes","Area Type","Number of Crashes","Percent of Crashes","Year 5 Crashes","Year 4 Crashes","Year 3 Crashes","Year 2 Crashes","Year 1 Crashes"]
["Urban",{"$f":"SUM(D310:H310)","v":244},{"$f":"B310/SUM(B$310:B$312)","v":0.18929402637703646},20,70,63,49,42,{"$f":"A310","v":"Urban"},{"$f":"SUM(L310:P310)","v":10475},{"$f":"J310/SUM(J$310:J$312)","v":0.19036801453884597},778,2828,2630,2117,2122]
["Rural",838,{"$f":"B311/SUM(B$310:B$312)","v":0.65011636927851046},92,205,160,199,182,{"$f":"A311","v":"Rural"},36340,{"$f":"J311/SUM(J$310:J$312)","v":0.6604270786006361},3151,9585,8914,7698,6992]
["Unknown",207,{"$f":"B312/SUM(B$310:B$312)","v":0.16058960434445307},207,0,0,0,0,{"$f":"A312","v":"Unknown"},8210,0.14920490686051793,8200,0,6,1,3]
[{"$f":"CONCATENATE(\"Fatal and Serious Injury Crashes Only - \",A314, \"\n\",Instructions!$B$12)","v":"Fatal and Serious Injury Crashes Only - Functional Class\nTest Group 3"},null,null,null,null,null,null,null,{"$f":"CONCATENATE(\"Total Crashes - \",I314, \"\n\",Instructions!$B$12)","v":"Total Crashes - Functional Class\nTest Group 3"}]
["Functional Class","Number of Crashes","Percent of Crashes","Year 5 Crashes","Year 4 Crashes","Year 3 Crashes","Year 2 Crashes","Year 1 Crashes","Functional Class","Number of Crashes","Percent of Crashes","Year 5 Crashes","Year 4 Crashes","Year 3 Crashes","Year 2 Crashes","Year 1 Crashes"]
["Interstate",{"$f":"SUM(D315:H315)","v":1028},{"$f":"B315/SUM(B$315:B$321)","v":0.79751745539177654},266,231,154,183,194,{"$f":"A315","v":"Interstate"},{"$f":"SUM(L315:P315)","v":39064},{"$f":"J315/SUM(J$315:J$321)","v":0.70993184915947294},9415,8753,7412,6198,7286]
["Principal Arterial - Other Freeway or Expressway",38,2.9480217222653218E-2,8,6,9,9,6,"Principal Arterial - Other Freeway or Expressway",2091,{"$f":"J316/SUM(J$315:J$321)","v":3.8000908677873695E-2},337,623,472,417,242]
["Principal Arterial - Other",30,2.3273855702094646E-2,12,2,8,3,5,"Principal Arterial - Other",3703,6.7296683325761011E-2,600,819,985,852,447]
["Minor Arterial",174,0.13498836307214895,30,32,46,50,16,"Minor Arterial",9862,0.17922762380736029,1699,2177,2599,2307,1080]
["Collector",11,8.5337470907680367E-3,2,2,3,1,3,"Collector",217,3.9436619718309857E-3,49,27,56,30,55]
["Local",8,6.2063615205585725E-3,1,2,3,2,0,"Local",81,1.4720581553839165E-3,28,10,26,12,5]
["Unknown",0,0,0,0,0,0,0,"Unknown",7,1.2721490231712857E-4,1,4,0,0,2]
[{"$f":"CONCATENATE(\"Fatal and Serious Injury Crashes Only - \",A323, \"\n\",Instructions!$B$12)","v":"Fatal and Serious Injury Crashes Only - Access Control\nTest Group 3"},null,null,null,null,null,null,null,{"$f":"CONCATENATE(\"Total Crashes - \",I323, \"\n\",Instructions!$B$12)","v":"Total Crashes - Access Control\nTest Group 3"}]
["Access Control","Number of Crashes","Percent of Crashes","Year 5 Crashes","Year 4 Crashes","Year 3 Crashes","Year 2 Crashes","Year 1 Crashes","Access Control","Number of Crashes","Percent of Crashes","Year 5 Crashes","Year 4 Crashes","Year 3 Crashes","Year 2 Crashes","Year 1 Crashes"]
["No Access Control",340,{"$f":"B324/SUM(B$324:B$326)","v":0.26377036462373932},101,66,51,63,59,{"$f":"A324","v":"No Access Control"},13243,{"$f":"J324/SUM(J$324:J$326)","v":0.24067242162653341},2992,3113,2795,2258,2085]
["Partial Access Control",821,{"$f":"B325/SUM(B$324:B$326)","v":0.63692785104732352},185,190,144,167,135,{"$f":"A325","v":"Partial Access Control"},37589,{"$f":"J325/SUM(J$324:J$326)","v":0.68312585188550656},8313,8381,7883,6774,6238]
["Full Access Control",128,{"$f":"B326/SUM(B$324:B$326)","v":9.9301784328937159E-2},33,19,28,18,30,{"$f":"A326","v":"Full Access Control"},4193,{"$f":"J326/SUM(J$324:J$326)","v":7.6201726487960017E-2},824,919,872,784,794]
[{"$f":"CONCATENATE(\"Fatal and Serious Injury Crashes Only - \",A328, \"\n\",Instructions!$B$12)","v":"Fatal and Serious Injury Crashes Only - Roadway Lighting\nTest Group 3"},null,null,null,null,null,null,null,{"$f":"CONCATENATE(\"Total Crashes - \",I328, \"\n\",Instructions!$B$12)","v":"Total Crashes - Roadway Lighting\nTest Group 3"}]
["Roadway Lighting","Number of Crashes","Percent of Crashes","Year 5 Crashes","Year 4 Crashes","Year 3 Crashes","Year 2 Crashes","Year 1 Crashes","Roadway Lighting","Number of Crashes","Percent of Crashes","Year 5 Crashes","Year 4 Crashes","Year 3 Crashes","Year 2 Crashes","Year 1 Crashes"]
["Continuous Lighting on Both Sides",373,{"$f":"B329/SUM(B$329:B$333)","v":0.28937160589604344},96,74,54,86,63,{"$f":"A329","v":"Continuous Lighting on Both Sides"},11178,{"$f":"J329/SUM(J$329:J$333)","v":0.20314402544298046},2445,2454,2275,2065,1939]
["Continuous Lighting on One Side",117,{"$f":"B330/SUM(B$329:B$333)","v":9.0768037238169119E-2},25,32,22,22,16,{"$f":"A330","v":"Continuous Lighting on One Side"},2911,{"$f":"J330/SUM(J$329:J$333)","v":5.2903225806451612E-2},673,669,612,479,478]
["No Lighting",64,{"$f":"B331/SUM(B$329:B$333)","v":4.965089216446858E-2},16,10,21,7,10,{"$f":"A331","v":"No Lighting"},2284,4.1508405270331665E-2,472,537,507,452,316]
["Spot Illumination on Both Sides",734,{"$f":"B332/SUM(B$329:B$333)","v":0.56943366951124907},181,159,126,133,135,{"$f":"A332","v":"Spot Illumination on Both Sides"},38622,0.70189913675602,8529,8739,8150,6820,6384]
["Spot Illumination on One Side",1,{"$f":"B333/SUM(B$329:B$333)","v":7.7579519006982156E-4},1,0,0,0,0,{"$f":"A333","v":"Spot Illumination on One Side"},30,5.4520672421626531E-4,10,14,6,0,0]
[{"$f":"CONCATENATE(\"Fatal and Serious Injury Crashes Only - \",A335, \"\n \",Instructions!$B$12)","v":"Fatal and Serious Injury Crashes Only - Alcohol Involvement\n Test Group 3"},null,null,null,null,null,null,null,{"$f":"CONCATENATE(\"Total Crashes - \",I335, \"\n\",Instructions!$B$12)","v":"Total Crashes - Alcohol Involvement\nTest Group 3"}]
["Alcohol Involvement","Number of Crashes","Percent of Crashes","Year 5 Crashes","Year 4 Crashes","Year 3 Crashes","Year 2 Crashes","Year 1 Crashes","Alcohol Involvement","Number of Crashes","Percent of Crashes","Year 5 Crashes","Year 4 Crashes","Year 3 Crashes","Year 2 Crashes","Year 1 Crashes"]
["Yes",117,{"$f":"B336/SUM(B$336:B$338)","v":9.0768037238169119E-2},36,15,21,28,17,{"$f":"A336","v":"Yes"},3619,{"$f":"J336/SUM(J$336:J$338)","v":6.5770104497955478E-2},804,804,750,641,620]
["No",135,{"$f":"B337/SUM(B$336:B$338)","v":0.10473235065942592},41,27,21,18,28,{"$f":"A337","v":"No"},5920,{"$f":"J337/SUM(J$336:J$338)","v":0.10758746024534302},1417,1314,1221,1014,954]
["Unknown",1037,{"$f":"B338/SUM(B$336:B$338)","v":0.80449961210240495},242,233,181,202,179,{"$f":"A338","v":"Unknown"},45486,{"$f":"J338/SUM(J$336:J$338)","v":0.82664243525670145},9908,10295,9579,8161,7543]
[{"$f":"CONCATENATE(\"Fatal and Serious Injury Crashes Only - \",A340, \"\n\",Instructions!$B$12)","v":"Fatal and Serious Injury Crashes Only - Drug Involvement\nTest Group 3"},null,null,null,null,null,null,null,{"$f":"CONCATENATE(\"Total Crashes - \",I340, \"\n\",Instructions!$B$12)","v":"Total Crashes - Drug Involvement\nTest Group 3"}]
["Drug Involvement","Number of Crashes","Percent of Crashes","Year 5 Crashes","Year 4 Crashes","Year 3 Crashes","Year 2 Crashes","Year 1 Crashes","Drug Involvement","Number of Crashes","Percent of Crashes","Year 5 Crashes","Year 4 Crashes","Year 3 Crashes","Year 2 Crashes","Year 1 Crashes"]
["Yes",838,{"$f":"B341/SUM(B$341:B$343)","v":0.65011636927851046},92,205,160,199,182,{"$f":"A341","v":"Yes"},36340,{"$f":"J341/SUM(J$341:J$343)","v":0.6604270786006361},3151,9585,8914,7698,6992]
["No",244,{"$f":"B342/SUM(B$341:B$343)","v":0.18929402637703646},20,70,63,49,42,{"$f":"A342","v":"No"},10475,{"$f":"J342/SUM(J$341:J$343)","v":0.19036801453884597},778,2828,2630,2117,2122]
["Unknown",207,{"$f":"B343/SUM(B$341:B$343)","v":0.16058960434445307},207,0,0,0,0,{"$f":"A343","v":"Unknown"},8210,{"$f":"J343/SUM(J$341:J$343)","v":0.14920490686051793},8200,0,6,1,3]
["Vehicle Data",null,null,null,null,null,null,null,{"$f":"A344","v":"Vehicle Data"}]
[{"$f":"CONCATENATE(\"Fatal and Serious Injury Crashes Only - \",A346, \"\n\",Instructions!$B$12)","v":"Fatal and Serious Injury Crashes Only - Motor Vehicle Body Type\nTest Group 3"},null,null,null,null,null,null,null,{"$f":"CONCATENATE(\"Total Crashes - \",I346, \"\n\",Instructions!$B$12)","v":"Total Crashes - Motor Vehicle Body Type\nTest Group 3"}]
["Motor Vehicle Body Type","Number of Crashes","Percent of Crashes","Year 5 Crashes","Year 4 Crashes","Year 3 Crashes","Year 2 Crashes","Year 1 Crashes","Motor Vehicle Body Type","Number of Crashes","Percent of Crashes","Year 5 Crashes","Year 4 Crashes","Year 3 Crashes","Year 2 Crashes","Year 1 Crashes"]
["All-Terrain Vehicle",46,{"$f":"B347/SUM(B$347:B$375)","v":1.882930822758903E-2},13,8,5,10,10,{"$f":"A347","v":"All-Terrain Vehicle"},3850,{"$f":"J347/SUM(J$347:J$375)","v":3.5728205794465374E-2},917,861,774,646,652]
["Golf Cart",64,2.6197298403602128E-2,15,16,10,13,10,"Golf Cart",3174,{"$f":"J348/SUM(J$347:J$375)","v":2.9454889660164442E-2},717,701,635,580,541]
["Snowmobile",205,8.3913221449038067E-2,53,39,39,43,31,"Snowmobile",8667,8.0430223278086077E-2,1998,1956,1840,1505,1368]
["Low Speed Vehicle",158,6.467458043389275E-2,36,36,30,28,28,"Low Speed Vehicle",6912,6.414372946788173E-2,1547,1587,1434,1209,1135]
["Moped or motorized bicycle",120,4.911993450675399E-2,33,26,19,23,19,"Moped or motorized bicycle",5356,4.9703966294845858E-2,1149,1173,1146,988,900]
["Recreational Off-Highway Vehicles",111,4.5435939418747441E-2,26,28,19,20,18,"Recreational Off-Highway Vehicles",4369,4.0544553536628371E-2,929,1011,958,756,715]
["2-Wheeled Motorcycle",64,2.6197298403602128E-2,19,14,11,11,9,"2-Wheeled Motorcycle",2416,2.2420609142708662E-2,538,551,501,433,393]
["3-Wheeled Motorcycle",24,9.8239869013507976E-3,7,5,3,6,3,"3-Wheeled Motorcycle",842,7.8138050075168431E-3,177,196,183,155,131]
["Autocycle",9,3.6839950880065493E-3,2,2,1,2,2,"Autocycle",294,2.7283357152137195E-3,63,60,60,60,51]
["Passenger Car",0,0,0,0,0,0,0,"Passenger Car",22,2.0416117596837357E-4,7,3,5,4,3]
["Passenger Van",92,3.7658616455178061E-2,26,16,10,20,20,"Passenger Van",7702,7.147497169583697E-2,1834,1723,1548,1292,1305]
["Sport Utility Vehicle",{"$f":"SUM(D358:H358)","v":129},5.2803929594760539E-2,30,32,20,26,21,"Sport Utility Vehicle",{"$f":"SUM(L358:P358)","v":6350},5.8928339427235098E-2,1434,1403,1271,1160,1082]
["Pickup",205,8.3913221449038067E-2,53,39,39,43,31,"Pickup",17336,0.16087900666307839,3996,3913,3680,3010,2737]
["Cargo Van",161,6.5902578796561598E-2,37,36,31,28,29,"Cargo Van",6915,6.4171569628241054E-2,1547,1590,1434,1209,1135]
["Construction Equipment",121,4.9529267294310272E-2,33,27,19,23,19,"Construction Equipment",5356,4.9703966294845858E-2,1149,1173,1146,988,900]
["Farm Equipment",112,4.5845272206303724E-2,26,28,19,20,19,"Farm Equipment",4370,4.0553833590081481E-2,930,1011,958,756,715]
["Single-Unit Truck",129,5.2803929594760539E-2,38,29,22,22,18,"Single-Unit Truck",4833,4.4850498338870434E-2,1076,1102,1002,866,787]
["Truck Tractor",49,2.0057306590257881E-2,14,10,6,12,7,"Truck Tractor",1687,1.565545017539301E-2,354,393,367,311,262]
["Motor Home",19,7.777322963569382E-3,4,4,3,4,4,"Motor Home",590,5.4752315373336547E-3,127,121,120,120,102]
["9- or 12-Passenger Van",0,0,0,0,0,0,0,"9- or 12-Passenger Van",46,4.2688245884296293E-4,14,7,10,8,7]
["15-Passenger Van",158,6.467458043389275E-2,36,36,30,28,28,"15-Passenger Van",6370,5.9113940496297257E-2,1447,1487,1334,1100,1002]
["Large Limo",120,4.911993450675399E-2,33,26,19,23,19,"Large Limo",5357,4.9713246348298969E-2,1149,1173,1146,989,900]
["Mini-bus",111,4.5435939418747441E-2,26,28,19,20,18,"Mini-bus",4369,4.0544553536628371E-2,929,1011,958,756,715]
["School Bus",207,8.4731887024150632E-2,54,39,39,44,31,"School Bus",186,1.7260899422780675E-3,10,40,32,65,39]
["Transit Bus",0,0,0,0,0,0,0,"Transit Bus",92,8.5376491768592586E-4,25,21,15,10,21]
["Motorcoach",17,6.9586573884568154E-3,6,2,5,3,1,"Motorcoach",108,1.002245772935652E-3,18,31,18,26,15]
["Other Bus Type",3,1.2279983626688497E-3,0,1,1,0,1,"Other Bus Type",126,1.1692867350915942E-3,35,10,37,10,34]
["Other Trucks",2,8.1866557511256651E-4,0,1,0,0,1,"Other Trucks",25,2.3200133632769724E-4,6,2,0,1,16]
["Other",7,2.8653295128939827E-3,0,2,0,3,2,"Other",38,3.5264203121809979E-4,11,4,4,3,16]
[{"$f":"CONCATENATE(\"Fatal and Serious Injury Crashes Only - \",A377, \"\n\",Instructions!$B$12)","v":"Fatal and Serious Injury Crashes Only - Posted Speed Limit\nTest Group 3"},null,null,null,null,null,null,null,{"$f":"CONCATENATE(\"Total Crashes - \",I377, \"\n\",Instructions!$B$12)","v":"Total Crashes - Posted Speed Limit\nTest Group 3"}]
["Posted Speed Limit","Number of Crashes","Percent of Crashes","Year 5 Crashes","Year 4 Crashes","Year 3 Crashes","Year 2 Crashes","Year 1 Crashes","Posted Speed Limit","Number of Crashes","Percent of Crashes","Year 5 Crashes","Year 4 Crashes","Year 3 Crashes","Year 2 Crashes","Year 1 Crashes"]
["5 MPH",19,{"$f":"B378/SUM(B$378:B$392)","v":7.777322963569382E-3},3,6,3,4,3,{"$f":"A378","v":"5 MPH"},595,{"$f":"J378/SUM(J$378:J$392)","v":5.5216318045991945E-3},120,178,121,91,85]
["10 MPH",5,2.0466639377814161E-3,0,2,0,2,1,"10 MPH",1500,{"$f":"J379/SUM(J$378:J$392)","v":1.3920080179661835E-2},316,329,321,274,260]
["15 MPH",57,2.3331968890708144E-2,15,13,11,7,11,"15 MPH",4600,4.2688245884296296E-2,1032,1095,996,754,723]
["20 MPH",3,1.2279983626688497E-3,1,0,1,0,1,"20 MPH",380,3.5264203121809982E-3,81,85,84,60,70]
["25 MPH",1335,0.54645927138763817,347,303,222,250,213,"25 MPH",49057,0.45525158224911377,11098,11011,10128,8686,8134]
["30 MPH",308,0.12607449856733524,90,46,59,59,54,"30 MPH",9961,9.2438612446407692E-2,2191,2227,2098,1818,1627]
["35 MPH",49,2.0057306590257881E-2,12,7,5,14,11,"35 MPH",3813,3.5384843816700387E-2,855,821,828,681,628]
["40 MPH",21,8.5959885386819486E-3,3,2,2,8,6,"40 MPH",607,5.6329924460364889E-3,112,144,130,109,112]
["45 MPH",279,0.11420384772820302,61,56,51,61,50,"45 MPH",4847,4.4980419087213945E-2,997,1040,1163,940,707]
["50 MPH",42,1.7191977077363897E-2,15,4,4,13,6,"50 MPH",4165,3.8651422632194364E-2,981,896,841,730,717]
["55 MPH",22,9.005321326238231E-3,8,5,3,3,3,"55 MPH",632,5.8649937823641862E-3,140,157,135,102,98]
["60 MPH",92,3.7658616455178061E-2,21,30,15,17,9,"60 MPH",8515,7.9019655153213686E-2,2014,1961,1726,1481,1333]
["65 MPH",169,6.9177241097011871E-2,34,47,33,32,23,"65 MPH",18284,0.16967649733662465,4020,4185,3858,3164,3057]
["70 MPH",5,2.0466639377814161E-3,1,1,2,1,0,"70 MPH",126,1.1692867350915942E-3,42,36,47,1,0]
["Unknown",37,1.514531313958248E-2,9,8,8,4,8,"Unknown",676,{"$f":"J392/SUM(J$378:J$392)","v":6.2733161343009334E-3},134,149,140,125,128]
[{"$f":"CONCATENATE(\"Fatal and Serious Injury Crashes Only - \",A394, \"\n\",Instructions!$B$12)","v":"Fatal and Serious Injury Crashes Only - Traffic Way\nTest Group 3"},null,null,null,null,null,null,null,{"$f":"CONCATENATE(\"Total Crashes - \",I394, \"\n\",Instructions!$B$12)","v":"Total Crashes - Traffic Way\nTest Group 3"}]
["Traffic Way","Number of Crashes","Percent of Crashes","Year 5 Crashes","Year 4 Crashes","Year 3 Crashes","Year 2 Crashes","Year 1 Crashes","Traffic Way","Number of Crashes","Percent of Crashes","Year 5 Crashes","Year 4 Crashes","Year 3 Crashes","Year 2 Crashes","Year 1 Crashes"]
["One-Way",{"$f":"SUM(D395:H395)","v":1197},{"$f":"B395/SUM(B$395:B$396)","v":0.48997134670487108},300,237,200,241,219,{"$f":"A395","v":"One-Way"},{"$f":"SUM(L395:P395)","v":53334},{"$f":"J395/SUM(J$395:J$396)","v":0.4949423708680562},11330,10246,11837,9577,10344]
["Two-Way",1246,{"$f":"B396/SUM(B$395:B$396)","v":0.51002865329512892},320,293,219,234,180,{"$f":"A396","v":"Two-Way"},54424,{"$f":"J396/SUM(J$395:J$396)","v":0.50505762913194385},12803,14068,10779,9439,7335]
[{"$f":"CONCATENATE(\"Fatal and Serious Injury Crashes Only - \",A398, \"\n\",Instructions!$B$12)","v":"Fatal and Serious Injury Crashes Only - Median Type\nTest Group 3"},null,null,null,null,null,null,null,{"$f":"CONCATENATE(\"Total Crashes - \",I398, \"\n\",Instructions!$B$12)","v":"Total Crashes - Median Type\nTest Group 3"}]
["Median Type","Number of Crashes","Percent of Crashes","Year 5 Crashes","Year 4 Crashes","Year 3 Crashes","Year 2 Crashes","Year 1 Crashes","Median Type","Number of Crashes","Percent of Crashes","Year 5 Crashes","Year 4 Crashes","Year 3 Crashes","Year 2 Crashes","Year 1 Crashes"]
["Not Divided",219,{"$f":"B399/SUM(B$399:B$404)","v":8.9643880474826035E-2},43,36,44,53,43,{"$f":"A399","v":"Not Divided"},2529,{"$f":"J399/SUM(J$399:J$404)","v":2.3469255182909855E-2},472,479,517,510,551]
["Continuous Left-Turn Lane",33,1.3507981989357348E-2,8,9,5,8,3,"Continuous Left-Turn Lane",349,{"$f":"J400/SUM(J$399:J$404)","v":3.2387386551346537E-3},65,75,66,79,64]
["Divided with Flush Median",2169,0.88784281620957839,562,481,365,411,350,"Divided with Flush Median",104525,0.96999758718610218,23526,23665,21957,18371,17006]
["Divided with Raised Median",12,4.9119934506753988E-3,4,2,2,1,3,"Divided with Raised Median",141,1.3084875368882124E-3,30,40,46,15,10]
["Divided with Depressed Median",10,4.0933278755628322E-3,3,2,3,2,0,"Divided with Depressed Median",134,1.2435271627164572E-3,35,40,25,11,23]
["Unknown",0,0,0,0,0,0,0,"Unknown",80,7.4240427624863118E-4,5,15,5,30,25]
[{"$f":"CONCATENATE(\"Fatal and Serious Injury Crashes Only - \",A406, \"\n\",Instructions!$B$12)","v":"Fatal and Serious Injury Crashes Only - Barrier Type\nTest Group 3"},null,null,null,null,null,null,null,{"$f":"CONCATENATE(\"Total Crashes - \",I406, \"\n\",Instructions!$B$12)","v":"Total Crashes - Barrier Type\nTest Group 3"}]
["Barrier Type","Number of Crashes","Percent of Crashes","Year 5 Crashes","Year 4 Crashes","Year 3 Crashes","Year 2 Crashes","Year 1 Crashes","Barrier Type","Number of Crashes","Percent of Crashes","Year 5 Crashes","Year 4 Crashes","Year 3 Crashes","Year 2 Crashes","Year 1 Crashes"]
["No Barrier",705,{"$f":"B407/SUM(B$407:B$413)","v":0.28857961522717968},185,143,125,131,121,{"$f":"A407","v":"No Barrier"},27676,{"$f":"J407/SUM(J$407:J$413)","v":0.25683475936821398},6284,6217,5746,4716,4713]
["Cable Barrier",7,2.8653295128939827E-3,3,0,2,1,1,"Cable Barrier",574,{"$f":"J408/SUM(J$407:J$413)","v":5.3267506820839292E-3},142,134,114,99,85]
["Concrete Barrier",576,0.23577568563241916,142,137,106,109,82,"Concrete Barrier",26226,0.24337868186120751,5657,5856,5698,4712,4303]
["Earth Embankment",11,4.5026606631191155E-3,1,1,2,6,1,"Earth Embankment",533,4.9462684905065054E-3,104,96,138,97,98]
["Guardrail",582,0.23823168235775685,136,137,100,119,90,"Guardrail",26757,0.2483063902448078,6353,6152,5542,4660,4050]
["Box Barrier",5,2.0466639377814161E-3,3,1,1,0,0,"Box Barrier",412,3.8233820226804506E-3,105,80,93,76,58]
["Other Barrier",557,0.22799836266884976,150,111,83,109,104,"Other Barrier",25580,0.23738376733049982,5488,5779,5285,4656,4372]
[{"$f":"CONCATENATE(\"Fatal and Serious Injury Crashes Only - \",A415, \"\n\",Instructions!$B$12)","v":"Fatal and Serious Injury Crashes Only - Number of Lanes\nTest Group 3"},null,null,null,null,null,null,null,{"$f":"CONCATENATE(\"Total Crashes - \",I415, \"\n\",Instructions!$B$12)","v":"Total Crashes - Number of Lanes\nTest Group 3"}]
["Number of Lanes","Number of Crashes","Percent of Crashes","Year 5 Crashes","Year 4 Crashes","Year 3 Crashes","Year 2 Crashes","Year 1 Crashes","Number of Lanes","Number of Crashes","Percent of Crashes","Year 5 Crashes","Year 4 Crashes","Year 3 Crashes","Year 2 Crashes","Year 1 Crashes"]
["One",191,{"$f":"B416/SUM(B$416:B$426)","v":7.8182562423250099E-2},48,39,31,42,31,{"$f":"A416","v":"One"},968,{"$f":"J416/SUM(J$416:J$426)","v":8.9830917426084369E-3},219,196,191,186,176]
["Two",1012,0.41424478100695866,259,210,167,202,174,"Two",54907,{"$f":"J417/SUM(J$416:J$426)","v":0.5095398949497949},11950,11957,11403,9911,9686]
["Three",3,1.2279983626688497E-3,1,1,0,0,1,"Three",123,1.1414465747322704E-3,28,29,27,7,32]
["Four",322,0.1318051575931232,82,72,45,81,42,"Four",16709,0.15506041314797972,3824,3790,3577,2889,2629]
["Five",13,5.3213262382316821E-3,4,2,3,1,3,"Five",457,4.2409844280703055E-3,80,97,85,62,133]
["Six",3,1.2279983626688497E-3,1,0,1,1,0,"Six",133,1.2342471092633494E-3,20,28,27,29,29]
["Seven",492,0.20139173147769138,117,122,92,81,80,"Seven",24827,0.23039588708030959,5917,5990,5189,4221,3510]
["Eight",2,8.1866557511256651E-4,1,0,1,0,0,"Eight",56,5.1968299337404181E-4,5,11,13,11,16]
["Nine",82,3.3565288579615229E-2,32,15,17,8,10,"Nine",3605,3.3454592698453946E-2,762,841,836,584,582]
["Ten or More",3,1.2279983626688497E-3,0,2,0,1,0,"Ten or More",46,4.2688245884296293E-4,14,9,11,8,4]
["Unknown",320,0.13098649201801063,75,67,62,58,58,"Unknown",5927,5.5002876816570463E-2,1314,1366,1257,1108,882]
[{"$f":"CONCATENATE(\"Fatal and Serious Injury Crashes Only - \",A428, \"\n\",Instructions!$B$12)","v":"Fatal and Serious Injury Crashes Only - Motor Vehicle Maneuver Prior to Crash\nTest Group 3"},null,null,null,null,null,null,null,{"$f":"CONCATENATE(\"Total Crashes - \",I428, \"\n\",Instructions!$B$12)","v":"Total Crashes - Motor Vehicle Maneuver Prior to Crash\nTest Group 3"}]
["Motor Vehicle Maneuver Prior to Crash","Number of Crashes","Percent of Crashes","Year 5 Crashes","Year 4 Crashes","Year 3 Crashes","Year 2 Crashes","Year 1 Crashes","Motor Vehicle Maneuver Prior to Crash","Number of Crashes","Percent of Crashes","Year 5 Crashes","Year 4 Crashes","Year 3 Crashes","Year 2 Crashes","Year 1 Crashes"]
["Backing",{"$f":"SUM(D429:H429)","v":57},{"$f":"B429/SUM(B$429:B$443)","v":2.3331968890708144E-2},15,13,11,7,11,{"$f":"A429","v":"Backing"},{"$f":"SUM(L429:P429)","v":4600},{"$f":"J429/SUM(J$429:J$443)","v":4.2688245884296296E-2},1032,1095,996,754,723]
["Changing Lanes",{"$f":"SUM(D430:H430)","v":3},1.2279983626688497E-3,1,0,1,0,1,"Changing Lanes",{"$f":"SUM(L430:P430)","v":380},{"$f":"J430/SUM(J$429:J$443)","v":3.5264203121809982E-3},81,85,84,60,70]
["Entering Traffic Lane",{"$f":"SUM(D431:H431)","v":1335},0.54645927138763817,347,303,222,250,213,"Entering Traffic Lane",{"$f":"SUM(L431:P431)","v":49057},0.45525158224911377,11098,11011,10128,8686,8134]
["Leaving Traffic Lane",{"$f":"SUM(D432:H432)","v":308},0.12607449856733524,90,46,59,59,54,"Leaving Traffic Lane",{"$f":"SUM(L432:P432)","v":9961},9.2438612446407692E-2,2191,2227,2098,1818,1627]
["Making U-Turn",{"$f":"SUM(D433:H433)","v":49},2.0057306590257881E-2,12,7,5,14,11,"Making U-Turn",{"$f":"SUM(L433:P433)","v":3813},3.5384843816700387E-2,855,821,828,681,628]
["Movements Essentially Straight Ahead",21,8.5959885386819486E-3,3,2,2,8,6,"Movements Essentially Straight Ahead",607,5.6329924460364889E-3,112,144,130,109,112]
["Negotiating a Curve",279,0.11420384772820302,61,56,51,61,50,"Negotiating a Curve",4847,4.4980419087213945E-2,997,1040,1163,940,707]
["Overtaking/Passing",42,1.7191977077363897E-2,15,4,4,13,6,"Overtaking/Passing",4165,3.8651422632194364E-2,981,896,841,730,717]
["Parked",22,9.005321326238231E-3,8,5,3,3,3,"Parked",632,5.8649937823641862E-3,140,157,135,102,98]
["Slowing",92,3.7658616455178061E-2,21,30,15,17,9,"Slowing",8515,7.9019655153213686E-2,2014,1961,1726,1481,1333]
["Stopped in Traffic",{"$f":"SUM(D439:H439)","v":169},6.9177241097011871E-2,34,47,33,32,23,"Stopped in Traffic",{"$f":"SUM(L439:P439)","v":18284},0.16967649733662465,4020,4185,3858,3164,3057]
["Turning Left",{"$f":"SUM(D440:H440)","v":5},2.0466639377814161E-3,1,1,2,1,0,"Turning Left",{"$f":"SUM(L440:P440)","v":126},1.1692867350915942E-3,42,36,47,1,0]
["Turning Right",19,7.777322963569382E-3,3,3,5,3,5,"Turning Right",548,5.085469292303124E-3,110,122,114,101,101]
["Other",18,7.3679901760130987E-3,6,5,3,1,3,"Other",128,1.18784684199781E-3,24,27,26,24,27]
["Unknown",24,9.8239869013507976E-3,3,8,3,6,4,"Unknown",2095,1.9441711984261031E-2,436,507,442,365,345]
[{"$f":"CONCATENATE(\"Fatal and Serious Injury Crashes Only - \",A445, \"\n\",Instructions!$B$12)","v":"Fatal and Serious Injury Crashes Only - Most Harmful Event\nTest Group 3"},null,null,null,null,null,null,null,{"$f":"CONCATENATE(\"Total Crashes - \",I445, \"\n\",Instructions!$B$12)","v":"Total Crashes - Most Harmful Event\nTest Group 3"}]
["Most Harmful Event","Number of Crashes","Percent of Crashes","Year 5 Crashes","Year 4 Crashes","Year 3 Crashes","Year 2 Crashes","Year 1 Crashes","Most Harmful Event","Number of Crashes","Percent of Crashes","Year 5 Crashes","Year 4 Crashes","Year 3 Crashes","Year 2 Crashes","Year 1 Crashes"]
["Cargo/Equipment Loss or Shift",{"$f":"SUM(D446:H446)","v":11},{"$f":"B446/SUM(B$446:B$487)","v":4.5026606631191155E-3},3,3,1,3,1,{"$f":"A446","v":"Cargo/Equipment Loss or Shift"},{"$f":"SUM(L446:P446)","v":155},{"$f":"J446/SUM(J$446:J$487)","v":1.438408285231723E-3},32,29,31,35,28]
["Fell/Jumped from Motor Vehicle",0,0,0,0,0,0,0,"Fell/Jumped from Motor Vehicle",2,{"$f":"J447/SUM(J$446:J$487)","v":1.8560106906215781E-5},0,0,1,1,0]
["Fire/Explosion",6,2.4559967253376994E-3,2,1,1,1,1,"Fire/Explosion",1315,1.2203270290836876E-2,293,318,288,244,172]
["Immersion, Full or Partial",0,0,0,0,0,0,0,"Immersion, Full or Partial",21,1.9488112251526569E-4,6,5,2,4,4]
["Jackknife",80,3.2746623004502658E-2,18,17,17,13,15,"Jackknife",338,3.1366580671504667E-3,69,73,68,61,67]
["Other Non-Collision",0,0,0,0,0,0,0,"Other Non-Collision",2,1.8560106906215781E-5,0,0,1,0,1]
["Overturn/Rollover",1,4.0933278755628325E-4,0,1,0,0,0,"Overturn/Rollover",131,1.2156870023571336E-3,36,28,26,21,20]
["Thrown or Falling Object",63,2.5787965616045846E-2,16,13,10,14,10,"Thrown or Falling Object",321,2.9788971584476325E-3,73,65,63,62,58]
["Collision with Animal",336,0.13753581661891118,86,70,55,67,58,"Collision with Animal",18300,0.16982497819187439,3983,3985,3801,3303,3228]
["Collision with Construction Equipment",0,0,0,0,0,0,0,"Collision with Construction Equipment",39,3.6192208467120769E-4,9,9,9,2,10]
["Collision with Farm Equipment",107,4.3798608268522311E-2,27,24,15,27,14,"Collision with Farm Equipment",5568,5.1671337626904734E-2,1274,1263,1192,963,876]
["Collision with Motor Vehicle in Transport",3,1.2279983626688497E-3,1,0,1,0,1,"Collision with Motor Vehicle in Transport",150,1.3920080179661836E-3,26,32,28,20,44]
["Collision with Other Non-Fixed Object",0,0,0,0,0,0,0,"Collision with Other Non-Fixed Object",42,3.8976224503053139E-4,6,9,9,9,9]
["Collision with Other Non-motorist",149,6.0990585345886209E-2,39,40,30,27,13,"Collision with Other Non-motorist",8274,7.6783162271014685E-2,1972,1996,1729,1407,1170]
["Collision with Parked Motor Vehicle",0,0,0,0,0,0,0,"Collision with Parked Motor Vehicle",16,1.4848085524972625E-4,1,3,4,3,5]
["Collision with Pedalcycle",25,1.0233319688907082E-2,10,5,5,2,3,"Collision with Pedalcycle",1200,1.1136064143729469E-2,254,280,278,194,194]
["Collision with Pedestrian",0,0,0,0,0,0,0,"Collision with Pedestrian",13,1.2064069489040257E-4,4,3,3,2,1]
["Collision with Railway Vehicle",25,1.0233319688907082E-2,6,6,3,7,3,"Collision with Railway Vehicle",311,2.8860966239165537E-3,64,59,62,70,56]
["Strikes Object ar Rest from MV in Transport",0,0,0,0,0,0,0,"Strikes Object ar Rest from MV in Transport",5,4.6400267265539449E-5,0,0,2,2,1]
["Struck by Falling, Shifting Cargo, or Anything Set in Motion by Motor Vehicle",14,5.7306590257879654E-3,5,2,2,3,2,"Struck by Falling, Shifting Cargo, or Anything Set in Motion by Motor Vehicle",2632,2.4425100688579966E-2,587,636,576,489,344]
["Collision with Bridge Overhead Structure",0,0,0,0,0,0,0,"Collision with Bridge Overhead Structure",44,4.0832235193674713E-4,12,10,5,9,8]
["Collision with Bridge Pier or Support",162,6.6311911584117894E-2,37,34,34,26,31,"Collision with Bridge Pier or Support",677,6.2825961877540411E-3,138,146,136,123,134]
["Collision with Bridge Rail",0,0,0,0,0,0,0,"Collision with Bridge Rail",7,6.4960374171755227E-5,1,1,2,0,3]
["Collision with Cable Barrier",3,1.2279983626688497E-3,0,2,0,0,1,"Collision with Cable Barrier",263,2.440654058167375E-3,72,56,52,43,40]
["Collision with Concrete Traffic Barrier",126,5.1575931232091692E-2,32,26,20,28,20,"Collision with Concrete Traffic Barrier",644,5.9763544238014814E-3,146,130,127,124,117]
["Collision with Culvert",657,0.26893164142447812,172,140,111,134,100,"Collision with Culvert",36603,0.33967779654410807,7966,7971,7602,6607,6457]
["Collision with Curb",0,0,0,0,0,0,0,"Collision with Curb",80,7.4240427624863118E-4,18,19,18,4,21]
["Collision with Ditch",214,8.7597216537044623E-2,54,48,30,54,28,"Collision with Ditch",11137,0.10335195530726257,2549,2526,2384,1926,1752]
["Collision with Embankment",7,2.8653295128939827E-3,2,1,2,0,2,"Collision with Embankment",302,2.8025761428385827E-3,53,64,56,41,88]
["Collision with Fence",0,0,0,0,0,0,0,"Collision with Fence",86,7.9808459696727857E-4,13,18,18,19,18]
["Collision with Guardrail End Terminal",307,0.12566516577977896,78,81,61,44,43,"Collision with Guardrail End Terminal",16550,0.15358488464893558,3944,3993,3459,2814,2340]
["Collision with Guardrail Face",0,0,0,0,0,0,0,"Collision with Guardrail Face",35,3.2480187085877615E-4,3,7,8,7,10]
["Collision with Impact Attenuator/Crash Cushion",53,2.1694637740483011E-2,21,10,11,5,6,"Collision with Impact Attenuator/Crash Cushion",2402,2.2290688394365151E-2,508,560,557,389,388]
["Collision with Mailbox",1,4.0933278755628325E-4,0,1,0,0,0,"Collision with Mailbox",19,1.763210156090499E-4,10,7,0,0,2]
["Collision with Other Fixed Object",23,9.4146541137945152E-3,1,3,4,10,5,"Collision with Other Fixed Object",18,1.6704096215594202E-4,0,2,0,9,7]
["Collision with Other Post, Pole, or Support",10,4.0933278755628322E-3,2,0,1,2,5,"Collision with Other Post, Pole, or Support",15,1.3920080179661835E-4,5,1,9,0,0]
["Collision with Other Traffic Barrier",17,6.9586573884568154E-3,4,0,0,0,13,"Collision with Other Traffic Barrier",7,6.4960374171755227E-5,2,0,0,0,5]
["Collision with Traffic Sign Support",4,1.637331150225133E-3,2,0,0,0,2,"Collision with Traffic Sign Support",2,1.8560106906215781E-5,1,0,0,0,1]
["Collision with Traffic Signal Support",5,2.0466639377814161E-3,1,2,2,0,0,"Collision with Traffic Signal Support",5,4.6400267265539449E-5,0,0,5,0,0]
["Collision with Tree",25,1.0233319688907082E-2,0,0,1,8,16,"Collision with Tree",21,1.9488112251526569E-4,1,10,2,8,0]
["Collision with Utility Pole or Light Support",8,3.274662300450266E-3,1,0,1,0,6,"Collision with Utility Pole or Light Support",2,1.8560106906215781E-5,2,0,0,0,0]
["Unknown",1,4.0933278755628325E-4,0,0,1,0,0,"Unknown",4,3.7120213812431563E-5,0,0,3,1,0]
[{"$f":"CONCATENATE(\"Fatal and Serious Injury Crashes Only - \",A489, \"\n\",Instructions!$B$12)","v":"Fatal and Serious Injury Crashes Only - Contributing Circumstance, Vehicle\nTest Group 3"},null,null,null,null,null,null,null,{"$f":"CONCATENATE(\"Total Crashes - \",I489, \"\n\",Instructions!$B$12)","v":"Total Crashes - Contributing Circumstance, Vehicle\nTest Group 3"}]
["Contributing Circumstance, Vehicle","Number of Crashes","Percent of Crashes","Year 5 Crashes","Year 4 Crashes","Year 3 Crashes","Year 2 Crashes","Year 1 Crashes","Contributing Circumstance, Vehicle","Number of Crashes","Percent of Crashes","Year 5 Crashes","Year 4 Crashes","Year 3 Crashes","Year 2 Crashes","Year 1 Crashes"]
["None",19,{"$f":"B490/SUM(B$490:B$505)","v":7.777322963569382E-3},3,6,3,4,3,{"$f":"A490","v":"None"},595,{"$f":"J490/SUM(J$490:J$505)","v":5.5216318045991945E-3},120,178,121,91,85]
["Brakes",5,2.0466639377814161E-3,0,2,0,2,1,"Brakes",1500,{"$f":"J491/SUM(J$490:J$505)","v":1.3920080179661835E-2},316,329,321,274,260]
["Exhaust System",57,2.3331968890708144E-2,15,13,11,7,11,"Exhaust System",4600,4.2688245884296296E-2,1032,1095,996,754,723]
["Body or Doors",3,1.2279983626688497E-3,1,0,1,0,1,"Body or Doors",380,3.5264203121809982E-3,81,85,84,60,70]
["Steering",1335,0.54645927138763817,347,303,222,250,213,"Steering",49057,0.45525158224911377,11098,11011,10128,8686,8134]
["Power Train",308,0.12607449856733524,90,46,59,59,54,"Power Train",9961,9.2438612446407692E-2,2191,2227,2098,1818,1627]
["Suspension",49,2.0057306590257881E-2,12,7,5,14,11,"Suspension",3813,3.5384843816700387E-2,855,821,828,681,628]
["Tires",21,8.5959885386819486E-3,3,2,2,8,6,"Tires",607,5.6329924460364889E-3,112,144,130,109,112]
["Wheels",279,0.11420384772820302,61,56,51,61,50,"Wheels",4847,4.4980419087213945E-2,997,1040,1163,940,707]
["Lights (head, signal, tail)",42,1.7191977077363897E-2,15,4,4,13,6,"Lights (head, signal, tail)",4165,3.8651422632194364E-2,981,896,841,730,717]
["Windows or Windshield",22,9.005321326238231E-3,8,5,3,3,3,"Windows or Windshield",632,5.8649937823641862E-3,140,157,135,102,98]
["Mirrors",92,3.7658616455178061E-2,21,30,15,17,9,"Mirrors",8515,7.9019655153213686E-2,2014,1961,1726,1481,1333]
["Wipers",169,6.9177241097011871E-2,34,47,33,32,23,"Wipers",18284,0.16967649733662465,4020,4185,3858,3164,3057]
["Truck Coupling, Tailer Hitch, Safety Chains",5,2.0466639377814161E-3,1,1,2,1,0,"Truck Coupling, Tailer Hitch, Safety Chains",126,1.1692867350915942E-3,42,36,47,1,0]
["Other",19,7.777322963569382E-3,3,3,5,3,5,"Other",548,5.085469292303124E-3,110,122,114,101,101]
["Unknown",18,7.3679901760130987E-3,6,5,3,1,3,"Unknown",128,1.18784684199781E-3,24,27,26,24,27]
["Person-Level Data",null,null,null,null,null,null,null,"Person-Level Data"]
[{"$f":"CONCATENATE(\"Fatal and Serious Injury Crashes Only - \",A508, \"\n\",Instructions!$B$12)","v":"Fatal and Serious Injury Crashes Only - Person Type\nTest Group 3"},null,null,null,null,null,null,null,{"$f":"CONCATENATE(\"Total Crashes - \",I508, \"\n\",Instructions!$B$12)","v":"Total Crashes - Person Type\nTest Group 3"}]
["Person Type","Number of Crashes","Percent of Crashes","Year 5 Crashes","Year 4 Crashes","Year 3 Crashes","Year 2 Crashes","Year 1 Crashes","Person Type","Number of Crashes","Percent of Crashes","Year 5 Crashes","Year 4 Crashes","Year 3 Crashes","Year 2 Crashes","Year 1 Crashes"]
["Driver",{"$f":"SUM(D509:H509)","v":265},{"$f":"B509/SUM(B$509:B$516)","v":7.9939668174962286E-2},67,54,43,58,43,{"$f":"A509","v":"Driver"},{"$f":"SUM(L509:P509)","v":1353},{"$f":"J509/SUM(J$509:J$516)","v":9.2110996133108226E-3},306,274,267,260,246]
["Passenger",1414,0.42654600301659124,362,294,233,282,243,"Passenger",76868,{"$f":"J510/SUM(J$509:J$516)","v":0.52331027721801648},16730,16739,15964,13875,13560]
["Occupant of Motor Vehicle Not in Transport",3,9.049773755656109E-4,1,1,0,0,1,"Occupant of Motor Vehicle Not in Transport",169,1.1505364631556015E-3,39,40,37,9,44]
["Bicyclist",415,0.12518853695324283,114,100,63,80,58,"Bicyclist",19426,0.13225042209030008,5353,5306,5007,80,3680]
["Other Cyclist",16,4.8265460030165915E-3,5,2,4,1,4,"Other Cyclist",638,4.3434453461140459E-3,112,135,119,86,186]
["Pedestrian",3,9.049773755656109E-4,1,0,1,1,0,"Pedestrian",184,1.2526550841457436E-3,28,39,37,40,40]
["Wheelchair, Person in a Building, Skater, Personal Conveyance, etc.",666,0.20090497737556562,163,170,128,93,112,"Wheelchair, Person in a Building, Skater, Personal Conveyance, etc.",28940,0.19702085943031425,8283,8386,7264,93,4914]
["Unknown",533,0.16078431372549021,155,68,157,55,98,"Unknown",19310,0.131460704754643,2935,689,5229,8376,2081]
[{"$f":"CONCATENATE(\"Fatal and Serious Injury Crashes Only - \",A518, \"\n\",Instructions!$B$12)","v":"Fatal and Serious Injury Crashes Only - Restraint Use\nTest Group 3"},null,null,null,null,null,null,null,{"$f":"CONCATENATE(\"Total Crashes - \",I518, \" \n\",Instructions!$B$12)","v":"Total Crashes - Restraint Use \nTest Group 3"}]
["Restraint Use","Number of Crashes","Percent of Crashes","Year 5 Crashes","Year 4 Crashes","Year 3 Crashes","Year 2 Crashes","Year 1 Crashes","Restraint Use","Number of Crashes","Percent of Crashes","Year 5 Crashes","Year 4 Crashes","Year 3 Crashes","Year 2 Crashes","Year 1 Crashes"]
["Booster Seat",50,{"$f":"B519/SUM(B$519:B$536)","v":1.5082956259426848E-2},12,11,7,13,7,{"$f":"A519","v":"Booster Seat"},635,{"$f":"J519/SUM(J$519:J$536)","v":4.3230216219160176E-3},135,115,141,127,117]
["Child Restraint System - Forward Facing",2,6.0331825037707393E-4,0,0,1,1,0,"Child Restraint System - Forward Facing",12,{"$f":"J520/SUM(J$519:J$536)","v":8.1694896792113721E-5},0,1,6,3,2]
["Child Restraint System - Rear Facing",31,9.3514328808446453E-3,11,3,6,6,5,"Child Restraint System - Rear Facing",5372,3.6572082130602909E-2,1233,1241,1296,880,722]
["Child Restraint - Type Unknown",2,6.0331825037707393E-4,1,0,0,1,0,"Child Restraint - Type Unknown",91,6.1951963400686233E-4,26,19,12,16,18]
["Lap Belt Only Used",333,0.10045248868778281,78,66,76,48,65,"Lap Belt Only Used",1385,9.4289526714231246E-3,289,286,307,222,281]
["None Used - Motor Vehicle Occupant",1,3.0165912518853697E-4,0,0,1,0,0,"None Used - Motor Vehicle Occupant",16,1.0892652905615162E-4,2,2,4,1,7]
["Restraint Used - Type Unknown",8,2.4132730015082957E-3,1,5,0,0,2,"Restraint Used - Type Unknown",541,3.6830782637111269E-3,151,109,118,78,85]
["Shoulder and Lap Belt Used",256,7.7224736048265463E-2,67,50,46,50,43,"Shoulder and Lap Belt Used",1315,8.9523991068024625E-3,306,254,286,223,246]
["Shoulder Belt Only Used",1370,0.4132730015082956,362,273,250,242,243,"Shoulder Belt Only Used",74831,0.50944256848755509,16730,15544,17104,11893,13560]
["Stretcher",3,9.049773755656109E-4,1,1,0,0,1,"Stretcher",168,1.143728555089592E-3,39,37,40,8,44]
["Wheelchair",429,0.12941176470588237,114,93,67,97,58,"Wheelchair",22791,0.15515903273242199,5353,4927,5365,3466,3680]
["DOT-Compliant Motorcycle Helmet",16,4.8265460030165915E-3,5,2,4,1,4,"DOT-Compliant Motorcycle Helmet",625,4.2549425412559232E-3,112,126,127,74,186]
["Not DOT-Compliant Motorcycle Helmet",3,9.049773755656109E-4,1,0,1,1,0,"Not DOT-Compliant Motorcycle Helmet",178,1.2118076357496869E-3,28,36,40,34,40]
["Unknown if DOT-Compliant Motorcycle Helmet",668,0.20150829562594269,163,158,138,97,112,"Unknown if DOT-Compliant Motorcycle Helmet",33832,0.23032514568923262,8283,7787,7783,5065,4914]
["No Helmet",2,6.0331825037707393E-4,1,0,1,0,0,"No Helmet",75,5.1059310495071071E-4,7,14,19,13,22]
["Not Applicable",111,3.3484162895927601E-2,44,19,25,9,14,"Not Applicable",4927,3.3542563041228692E-2,1066,1093,1254,700,814]
["Other",3,9.049773755656109E-4,0,2,0,1,0,"Other",60,4.0847448396056859E-4,19,11,16,9,5]
["Unknown",27,8.1447963800904983E-3,7,6,6,3,5,"Unknown",34,2.314688742443222E-4,7,6,6,7,8]
[{"$f":"CONCATENATE(\"Fatal and Serious Injury Crashes Only - \",A538, \"\n\",Instructions!$B$12)","v":"Fatal and Serious Injury Crashes Only - Driver Actions at Time of Crash, Selection 1\nTest Group 3"},null,null,null,null,null,null,null,{"$f":"CONCATENATE(\"Total Crashes - \",I538, \"\n\",Instructions!$B$12)","v":"Total Crashes - Driver Actions at Time of Crash, Selection 1\nTest Group 3"}]
["Driver Actions at Time of Crash, Selection 1","Number of Crashes","Percent of Crashes","Year 5 Crashes","Year 4 Crashes","Year 3 Crashes","Year 2 Crashes","Year 1 Crashes","Driver Actions at Time of Crash, Selection 1","Number of Crashes","Percent of Crashes","Year 5 Crashes","Year 4 Crashes","Year 3 Crashes","Year 2 Crashes","Year 1 Crashes"]
["No Contributing Action",23,{"$f":"B539/SUM(B$539:B$557)","v":6.9381598793363496E-3},4,7,4,4,4,{"$f":"A539","v":"No Contributing Action"},808,{"$f":"J539/SUM(J$539:J$557)","v":5.5007897173356569E-3},168,231,181,109,119]
["Disregarded Other Road Markings",5,1.5082956259426848E-3,0,2,0,2,1,"Disregarded Other Road Markings",2042,{"$f":"J540/SUM(J$539:J$557)","v":1.3901748270791351E-2},442,427,481,328,364]
["Disregarded Other Traffic Sign",76,2.2926093514328807E-2,21,16,16,8,15,"Disregarded Other Traffic Sign",3138,2.1363215511137738E-2,722,711,747,452,506]
["Failed to Keep in Proper Lane",3,9.049773755656109E-4,1,0,1,0,1,"Failed to Keep in Proper Lane",519,3.5333042862589182E-3,113,110,126,72,98]
["Failed to Yield Right-of-Way",1694,0.51101055806938156,450,383,310,291,260,"Failed to Yield Right-of-Way",64625,0.43996105876586244,15037,13990,14767,9802,11029]
["Followed Too Closely",418,0.12609351432880844,126,59,88,70,75,"Followed Too Closely",13567,9.2362888731550574E-2,3067,2895,3147,2181,2277]
["Improper Backing",63,1.9004524886877826E-2,16,9,7,16,15,"Improper Backing",5202,3.5414737759381296E-2,1197,1067,1242,817,879]
["Improper Passing",26,7.8431372549019607E-3,4,2,3,9,8,"Improper Passing",824,5.6097162463918087E-3,156,187,195,130,156]
["Improper Turn",376,0.11342383107088989,85,72,76,73,70,"Improper Turn",6608,4.4986656500190618E-2,1395,1352,1744,1128,989]
["Operated Motor Vehicle in Inattentive, Careless, Negligent, or Erratic Manner",55,1.6591251885369532E-2,21,5,6,15,8,"Operated Motor Vehicle in Inattentive, Careless, Negligent, or Erratic Manner",5677,3.8648494090735799E-2,1373,1164,1261,876,1003]
["Operated Motor Vehicle in Reckless or Aggressive Manner",28,8.4464555052790342E-3,11,6,4,3,4,"Operated Motor Vehicle in Reckless or Aggressive Manner",861,5.8616088448341592E-3,196,204,202,122,137]
["Over-Correcting/Over-Steering",122,3.6802413273001509E-2,29,39,22,20,12,"Over-Correcting/Over-Steering",11600,7.8971733565709926E-2,2819,2549,2589,1777,1866]
["Ran Off Roadway",227,6.8476621417797895E-2,47,61,49,38,32,"Ran Off Roadway",24930,0.16972114808561625,5628,5440,5787,3796,4279]
["Ran Red Light",6,1.8099547511312218E-3,1,1,3,1,0,"Ran Red Light",175,1.1913839115516584E-3,58,46,70,1,0]
["Ran Stop Sign",24,7.2398190045248872E-3,4,3,7,3,7,"Ran Stop Sign",745,5.0718915091770601E-3,154,158,171,121,141]
["Swerve or Avoided Due to Wind, Slippery Surface, Motor Vehicle, Object, Non-Motorist in Roadway, etc.",23,6.9381598793363496E-3,8,6,4,1,4,"Swerve or Avoided Due to Wind, Slippery Surface, Motor Vehicle, Object, Non-Motorist in Roadway, etc.",172,1.17096018735363E-3,33,35,39,28,37]
["Wrong Side or Wrong Way",91,2.7450980392156862E-2,30,12,19,10,20,"Wrong Side or Wrong Way",1475,1.0041664397363977E-2,303,205,210,504,253]
["Other Contributing Action",31,9.3514328808446453E-3,5,4,3,6,13,"Other Contributing Action",3139,2.1370023419203747E-2,722,712,747,452,506]
["Unknown",24,7.2398190045248872E-3,5,2,7,0,10,"Unknown",781,5.3169761995534009E-3,203,125,218,123,112]
[{"$f":"CONCATENATE(\"Fatal and Serious Injury Crashes Only - \",A559, \"\n\",Instructions!$B$12)","v":"Fatal and Serious Injury Crashes Only - Driver Actions at Time of Crash, Selection 2\nTest Group 3"},null,null,null,null,null,null,null,{"$f":"CONCATENATE(\"Total Crashes - \",I559, \"\n\",Instructions!$B$12)","v":"Total Crashes - Driver Actions at Time of Crash, Selection 2\nTest Group 3"}]
["Driver Actions at Time of Crash, Selection 2","Number of Crashes","Percent of Crashes","Year 5 Crashes","Year 4 Crashes","Year 3 Crashes","Year 2 Crashes","Year 1 Crashes","Driver Actions at Time of Crash, Selection 2","Number of Crashes","Percent of Crashes","Year 5 Crashes","Year 4 Crashes","Year 3 Crashes","Year 2 Crashes","Year 1 Crashes"]
["No Contributing Action",{"$f":"SUM(D560:H560)","v":1324},{"$f":"B560/SUM(B$560:B$578)","v":0.39939668174962295},357,270,217,274,206,{"$f":"A560","v":"No Contributing Action"},{"$f":"SUM(L560:P560)","v":57749},{"$f":"J560/SUM(J$560:J$578)","v":0.39314988290398128},13295,12655,11915,10389,9495]
["Disregarded Other Road Markings",232,6.9984917043740574E-2,45,49,41,51,46,"Disregarded Other Road Markings",16297,{"$f":"J561/SUM(J$560:J$578)","v":0.11094847775175644},3364,2839,3481,3592,3021]
["Disregarded Other Traffic Sign",109,3.2880844645550529E-2,33,21,19,20,16,"Disregarded Other Traffic Sign",545,3.7103098959751649E-3,138,92,116,91,108]
["Failed to Keep in Proper Lane",31,9.3514328808446453E-3,10,5,4,6,6,"Failed to Keep in Proper Lane",73,4.9697728881869184E-4,16,7,13,19,18]
["Failed to Yield Right-of-Way",14,4.2232277526395171E-3,2,4,1,1,6,"Failed to Yield Right-of-Way",402,2.7367790425358095E-3,138,103,59,53,49]
["Followed Too Closely",107,3.2277526395173457E-2,25,22,26,13,21,"Followed Too Closely",1814,1.234954523174119E-2,412,419,326,330,327]
["Improper Backing",1,3.0165912518853697E-4,1,0,0,0,0,"Improper Backing",40,2.7231632264037908E-4,11,12,7,4,6]
["Improper Passing",50,1.5082956259426848E-2,8,13,8,9,12,"Improper Passing",1438,9.7897717989216277E-3,295,365,309,218,251]
["Improper Turn",21,6.3348416289592761E-3,0,12,6,1,2,"Improper Turn",1061,7.2231904580360544E-3,195,379,225,143,119]
["Operated Motor Vehicle in Inattentive, Careless, Negligent, or Erratic Manner",0,0,0,0,0,0,0,"Operated Motor Vehicle in Inattentive, Careless, Negligent, or Erratic Manner",2,1.3615816132018953E-5,1,0,0,0,1]
["Operated Motor Vehicle in Reckless or Aggressive Manner",52,1.5686274509803921E-2,15,19,6,3,9,"Operated Motor Vehicle in Reckless or Aggressive Manner",9275,6.3143347312237891E-2,2260,2720,1945,1070,1280]
["Over-Correcting/Over-Steering",2,6.0331825037707393E-4,0,1,0,1,0,"Over-Correcting/Over-Steering",71,4.8336147268667281E-4,19,14,12,14,12]
["Ran Off Roadway",10,3.0165912518853697E-3,1,2,2,3,2,"Ran Off Roadway",811,5.5212134415336851E-3,177,130,178,155,171]
["Ran Red Light",2,6.0331825037707393E-4,0,1,0,0,1,"Ran Red Light",70,4.7655356462066338E-4,12,20,11,20,7]
["Ran Stop Sign",20,6.0331825037707393E-3,8,5,5,1,1,"Ran Stop Sign",1581,1.0763302652360982E-2,308,486,405,231,151]
["Swerve or Avoided Due to Wind, Slippery Surface, Motor Vehicle, Object, Non-Motorist in Roadway, etc.",96,2.8959276018099549E-2,24,14,16,21,21,"Swerve or Avoided Due to Wind, Slippery Surface, Motor Vehicle, Object, Non-Motorist in Roadway, etc.",3157,2.1492565764391916E-2,656,692,738,534,537]
["Wrong Side or Wrong Way",3,9.049773755656109E-4,0,1,0,2,0,"Wrong Side or Wrong Way",805,5.4803659931376286E-3,170,187,182,149,117]
["Other Contributing Action",16,4.8265460030165915E-3,2,6,4,2,2,"Other Contributing Action",2654,1.8068188007189151E-2,545,779,573,404,353]
["Unknown",1225,0.36953242835595779,337,244,274,162,208,"Unknown",49043,0.33388023528130278,11774,9709,13429,5403,8728]
[{"$f":"CONCATENATE(\"Fatal and Serious Injury Crashes Only - \",A580, \"\n\",Instructions!$B$12)","v":"Fatal and Serious Injury Crashes Only - Driver Actions at Time of Crash, Selection 3\nTest Group 3"},null,null,null,null,null,null,null,{"$f":"CONCATENATE(\"Total Crashes - \",I580, \"\n\",Instructions!$B$12)","v":"Total Crashes - Driver Actions at Time of Crash, Selection 3\nTest Group 3"}]
["Driver Actions at Time of Crash, Selection 3","Number of Crashes","Percent of Crashes","Year 5 Crashes","Year 4 Crashes","Year 3 Crashes","Year 2 Crashes","Year 1 Crashes","Driver Actions at Time of Crash, Selection 3","Number of Crashes","Percent of Crashes","Year 5 Crashes","Year 4 Crashes","Year 3 Crashes","Year 2 Crashes","Year 1 Crashes"]
["No Contributing Action",{"$f":"SUM(D581:H581)","v":227},{"$f":"B581/SUM(B$581:B$599)","v":6.8476621417797895E-2},47,61,49,38,32,{"$f":"A581","v":"No Contributing Action"},{"$f":"SUM(L581:P581)","v":24930},{"$f":"J581/SUM(J$581:J$599)","v":0.16972114808561625},5628,5440,5787,3796,4279]
["Disregarded Other Road Markings",6,1.8099547511312218E-3,1,1,3,1,0,"Disregarded Other Road Markings",175,{"$f":"J582/SUM(J$581:J$599)","v":1.1913839115516584E-3},58,46,70,1,0]
["Disregarded Other Traffic Sign",24,7.2398190045248872E-3,4,3,7,3,7,"Disregarded Other Traffic Sign",745,5.0718915091770601E-3,154,158,171,121,141]
["Failed to Keep in Proper Lane",23,6.9381598793363496E-3,8,6,4,1,4,"Failed to Keep in Proper Lane",172,1.17096018735363E-3,33,35,39,28,37]
["Failed to Yield Right-of-Way",91,2.7450980392156862E-2,30,12,19,10,20,"Failed to Yield Right-of-Way",1475,1.0041664397363977E-2,303,205,210,504,253]
["Followed Too Closely",31,9.3514328808446453E-3,5,4,3,6,13,"Followed Too Closely",3139,2.1370023419203747E-2,722,712,747,452,506]
["Improper Backing",24,7.2398190045248872E-3,5,2,7,0,10,"Improper Backing",781,5.3169761995534009E-3,203,125,218,123,112]
["Improper Passing",23,6.9381598793363496E-3,4,7,4,4,4,"Improper Passing",808,5.5007897173356569E-3,168,231,181,109,119]
["Improper Turn",5,1.5082956259426848E-3,0,2,0,2,1,"Improper Turn",2042,1.3901748270791351E-2,442,427,481,328,364]
["Operated Motor Vehicle in Inattentive, Careless, Negligent, or Erratic Manner",76,2.2926093514328807E-2,21,16,16,8,15,"Operated Motor Vehicle in Inattentive, Careless, Negligent, or Erratic Manner",3138,2.1363215511137738E-2,722,711,747,452,506]
["Operated Motor Vehicle in Reckless or Aggressive Manner",3,9.049773755656109E-4,1,0,1,0,1,"Operated Motor Vehicle in Reckless or Aggressive Manner",519,3.5333042862589182E-3,113,110,126,72,98]
["Over-Correcting/Over-Steering",1694,0.51101055806938156,450,383,310,291,260,"Over-Correcting/Over-Steering",64625,0.43996105876586244,15037,13990,14767,9802,11029]
["Ran Off Roadway",418,0.12609351432880844,126,59,88,70,75,"Ran Off Roadway",13567,9.2362888731550574E-2,3067,2895,3147,2181,2277]
["Ran Red Light",63,1.9004524886877826E-2,16,9,7,16,15,"Ran Red Light",5202,3.5414737759381296E-2,1197,1067,1242,817,879]
["Ran Stop Sign",26,7.8431372549019607E-3,4,2,3,9,8,"Ran Stop Sign",824,5.6097162463918087E-3,156,187,195,130,156]
["Swerve or Avoided Due to Wind, Slippery Surface, Motor Vehicle, Object, Non-Motorist in Roadway, etc.",376,0.11342383107088989,85,72,76,73,70,"Swerve or Avoided Due to Wind, Slippery Surface, Motor Vehicle, Object, Non-Motorist in Roadway, etc.",6608,4.4986656500190618E-2,1395,1352,1744,1128,989]
["Wrong Side or Wrong Way",55,1.6591251885369532E-2,21,5,6,15,8,"Wrong Side or Wrong Way",5677,3.8648494090735799E-2,1373,1164,1261,876,1003]
["Other Contributing Action",28,8.4464555052790342E-3,11,6,4,3,4,"Other Contributing Action",861,5.8616088448341592E-3,196,204,202,122,137]
["Unknown",122,3.6802413273001509E-2,29,39,22,20,12,"Unknown",11600,7.8971733565709926E-2,2819,2549,2589,1777,1866]
[{"$f":"CONCATENATE(\"Fatal and Serious Injury Crashes Only - \",A601, \"\n\",Instructions!$B$12)","v":"Fatal and Serious Injury Crashes Only - Driver Actions at Time of Crash, Selection 4\nTest Group 3"},null,null,null,null,null,null,null,{"$f":"CONCATENATE(\"Total Crashes - \",I601, \"\n\",Instructions!$B$12)","v":"Total Crashes - Driver Actions at Time of Crash, Selection 4\nTest Group 3"}]
["Driver Actions at Time of Crash, Selection 4","Number of Crashes","Percent of Crashes","Year 5 Crashes","Year 4 Crashes","Year 3 Crashes","Year 2 Crashes","Year 1 Crashes","Driver Actions at Time of Crash, Selection 4","Number of Crashes","Percent of Crashes","Year 5 Crashes","Year 4 Crashes","Year 3 Crashes","Year 2 Crashes","Year 1 Crashes"]
["No Contributing Action",{"$f":"SUM(D602:H602)","v":52},{"$f":"B602/SUM(B$602:B$620)","v":1.5686274509803921E-2},15,19,6,3,9,{"$f":"A602","v":"No Contributing Action"},{"$f":"SUM(L602:P602)","v":9275},{"$f":"J602/SUM(J$602:J$620)","v":6.3143347312237891E-2},2260,2720,1945,1070,1280]
["Disregarded Other Road Markings",2,6.0331825037707393E-4,0,1,0,1,0,"Disregarded Other Road Markings",71,{"$f":"J603/SUM(J$602:J$620)","v":4.8336147268667281E-4},19,14,12,14,12]
["Disregarded Other Traffic Sign",10,3.0165912518853697E-3,1,2,2,3,2,"Disregarded Other Traffic Sign",811,5.5212134415336851E-3,177,130,178,155,171]
["Failed to Keep in Proper Lane",2,6.0331825037707393E-4,0,1,0,0,1,"Failed to Keep in Proper Lane",70,4.7655356462066338E-4,12,20,11,20,7]
["Failed to Yield Right-of-Way",20,6.0331825037707393E-3,8,5,5,1,1,"Failed to Yield Right-of-Way",1581,1.0763302652360982E-2,308,486,405,231,151]
["Followed Too Closely",96,2.8959276018099549E-2,24,14,16,21,21,"Followed Too Closely",3157,2.1492565764391916E-2,656,692,738,534,537]
["Improper Backing",3,9.049773755656109E-4,0,1,0,2,0,"Improper Backing",805,5.4803659931376286E-3,170,187,182,149,117]
["Improper Passing",16,4.8265460030165915E-3,2,6,4,2,2,"Improper Passing",2654,1.8068188007189151E-2,545,779,573,404,353]
["Improper Turn",1124,0.33906485671191555,300,244,230,150,200,"Improper Turn",46084,0.31373563531398074,11000,9125,12584,5300,8075]
["Operated Motor Vehicle in Inattentive, Careless, Negligent, or Erratic Manner",1304,0.39336349924585218,357,250,217,274,206,"Operated Motor Vehicle in Inattentive, Careless, Negligent, or Erratic Manner",57749,0.39314988290398128,13295,12655,11915,10389,9495]
["Operated Motor Vehicle in Reckless or Aggressive Manner",232,6.9984917043740574E-2,45,49,41,51,46,"Operated Motor Vehicle in Reckless or Aggressive Manner",16297,0.11094847775175644,3364,2839,3481,3592,3021]
["Over-Correcting/Over-Steering",109,3.2880844645550529E-2,33,21,19,20,16,"Over-Correcting/Over-Steering",545,3.7103098959751649E-3,138,92,116,91,108]
["Ran Off Roadway",31,9.3514328808446453E-3,10,5,4,6,6,"Ran Off Roadway",73,4.9697728881869184E-4,16,7,13,19,18]
["Ran Red Light",14,4.2232277526395171E-3,2,4,1,1,6,"Ran Red Light",402,2.7367790425358095E-3,138,103,59,53,49]
["Ran Stop Sign",107,3.2277526395173457E-2,25,22,26,13,21,"Ran Stop Sign",1814,1.234954523174119E-2,412,419,326,330,327]
["Swerve or Avoided Due to Wind, Slippery Surface, Motor Vehicle, Object, Non-Motorist in Roadway, etc.",1,3.0165912518853697E-4,1,0,0,0,0,"Swerve or Avoided Due to Wind, Slippery Surface, Motor Vehicle, Object, Non-Motorist in Roadway, etc.",40,2.7231632264037908E-4,11,12,7,4,6]
["Wrong Side or Wrong Way",50,1.5082956259426848E-2,8,13,8,9,12,"Wrong Side or Wrong Way",1438,9.7897717989216277E-3,295,365,309,218,251]
["Other Contributing Action",21,6.3348416289592761E-3,0,12,6,1,2,"Other Contributing Action",1061,7.2231904580360544E-3,195,379,225,143,119]
["Unknown",121,3.6500754147812974E-2,37,20,44,12,8,"Unknown",2961,2.0158215783454059E-2,775,584,845,103,654]

{"sheet":"Summary","index":9,"n_rows":577,"n_cols":17,"rows_kept":577,"cut":false,"hidden":false,"merged":[[2,13,2,14],[2,15,2,16],[0,0,0,16],[1,0,3,0],[1,1,1,8],[1,9,1,16],[2,1,2,2],[2,3,2,4],[2,5,2,6],[2,7,2,8],[2,9,2,10],[2,11,2,12]]}
["Crash Data Summary Template"]
["Year 1 - Year 5 Subject Data","Fatal/Serious Injury Crashes Only",null,null,null,null,null,null,null,"Total Crashes"]
[null,{"$f":"Instructions!B12","v":"Test Group 3"},null,{"$f":"Instructions!B11","v":"Test Group 2"},null,{"$f":"Instructions!B10","v":"Test Group 1"},null,{"$f":"Instructions!B9","v":"Test County"},null,{"$f":"Instructions!B12","v":"Test Group 3"},null,{"$f":"Instructions!B11","v":"Test Group 2"},null,{"$f":"Instructions!B10","v":"Test Group 1"},null,{"$f":"Instructions!B9","v":"Test County"}]
[null,"Year 1 - Year 5","%","Year 1 - Year 5","%","Year 1 - Year 5","%","Year 1 - Year 5","%","Year 1 - Year 5","%","Year 1 - Year 5","%","Year 1 - Year 5","%","Year 1 - Year 5","%"]
["Overall Numbers"]
["Total # of Collisions",{"$f":"'Comparison Group 3'!B6","v":1289},{"$f":"'Comparison Group 3'!C6","v":"N/A"},{"$f":"'Comparison Group 2'!B6","v":994},{"$f":"'Comparison Group 2'!C6","v":"N/A"},{"$f":"'Comparison Group 1'!B6","v":117},{"$f":"'Comparison Group 1'!C6","v":"N/A"},{"$f":"'Subject Data'!B6","v":7},{"$f":"'Subject Data'!C6","v":"N/A"},{"$f":"'Comparison Group 3'!I6","v":55025},{"$f":"'Comparison Group 3'!J6","v":"N/A"},{"$f":"'Comparison Group 2'!I6","v":42588},{"$f":"'Comparison Group 2'!J6","v":"N/A"},{"$f":"'Comparison Group 1'!I6","v":4567},{"$f":"'Comparison Group 1'!J6","v":"N/A"},{"$f":"'Subject Data'!I6","v":50},{"$f":"'Subject Data'!J6","v":"N/A"}]
["# of Fatal Collisions",{"$f":"'Comparison Group 3'!B7","v":184},{"$f":"'Comparison Group 3'!C7","v":0.14274631497284718},{"$f":"'Comparison Group 2'!B7","v":130},{"$f":"'Comparison Group 2'!C7","v":0.13078470824949698},{"$f":"'Comparison Group 1'!B7","v":20},{"$f":"'Comparison Group 1'!C7","v":0.17094017094017094},{"$f":"'Subject Data'!B7","v":4},{"$f":"'Subject Data'!C7","v":0.5714285714285714},{"$f":"'Comparison Group 3'!I7","v":184},{"$f":"'Comparison Group 3'!J7","v":3.3439345751930939E-3},{"$f":"'Comparison Group 2'!I7","v":130},{"$f":"'Comparison Group 2'!J7","v":3.0525030525030525E-3},{"$f":"'Comparison Group 1'!I7","v":20},{"$f":"'Comparison Group 1'!J7","v":4.3792423910663453E-3},{"$f":"'Subject Data'!I7","v":0},{"$f":"'Subject Data'!J7","v":0}]
["# of Serious Injury Collisions",{"$f":"'Comparison Group 3'!B8","v":1105},{"$f":"'Comparison Group 3'!C8","v":0.85725368502715282},{"$f":"'Comparison Group 2'!B8","v":864},{"$f":"'Comparison Group 2'!C8","v":0.86921529175050305},{"$f":"'Comparison Group 1'!B8","v":97},{"$f":"'Comparison Group 1'!C8","v":0.82905982905982911},{"$f":"'Subject Data'!B8","v":3},{"$f":"'Subject Data'!C8","v":0.42857142857142855},{"$f":"'Comparison Group 3'!I8","v":1105},{"$f":"'Comparison Group 3'!J8","v":2.0081781008632438E-2},{"$f":"'Comparison Group 2'!I8","v":864},{"$f":"'Comparison Group 2'!J8","v":2.0287404902789519E-2},{"$f":"'Comparison Group 1'!I8","v":97},{"$f":"'Comparison Group 1'!J8","v":2.1239325596671774E-2},{"$f":"'Subject Data'!I8","v":1},{"$f":"'Subject Data'!J8","v":0.02}]
["# of Alcohol-Related Collisions",{"$f":"'Comparison Group 3'!B9","v":249},{"$f":"'Comparison Group 3'!C9","v":0.19317300232738557},{"$f":"'Comparison Group 2'!B9","v":169},{"$f":"'Comparison Group 2'!C9","v":0.17002012072434608},{"$f":"'Comparison Group 1'!B9","v":33},{"$f":"'Comparison Group 1'!C9","v":0.28205128205128205},{"$f":"'Subject Data'!B9","v":0},{"$f":"'Subject Data'!C9","v":0},{"$f":"'Comparison Group 3'!I9","v":2939},{"$f":"'Comparison Group 3'!J9","v":5.341208541572013E-2},{"$f":"'Comparison Group 2'!I9","v":2089},{"$f":"'Comparison Group 2'!J9","v":4.9051375974452895E-2},{"$f":"'Comparison Group 1'!I9","v":432},{"$f":"'Comparison Group 1'!J9","v":9.4591635647033059E-2},{"$f":"'Subject Data'!I9","v":2},{"$f":"'Subject Data'!J9","v":0.04}]
["Total # of Fatalities",{"$f":"'Comparison Group 3'!B10","v":195},{"$f":"'Comparison Group 3'!C10","v":"N/A"},{"$f":"'Comparison Group 2'!B10","v":140},{"$f":"'Comparison Group 2'!C10","v":"N/A"},{"$f":"'Comparison Group 1'!B10","v":21},{"$f":"'Comparison Group 1'!C10","v":"N/A"},{"$f":"'Subject Data'!B10","v":0},{"$f":"'Subject Data'!C10","v":"N/A"},{"$f":"'Comparison Group 3'!I10","v":195},{"$f":"'Comparison Group 3'!J10","v":"N/A"},{"$f":"'Comparison Group 2'!I10","v":140},{"$f":"'Comparison Group 2'!J10","v":"N/A"},{"$f":"'Comparison Group 1'!I10","v":21},{"$f":"'Comparison Group 1'!J10","v":"N/A"},{"$f":"'Subject Data'!I10","v":0},{"$f":"'Subject Data'!J10","v":"N/A"}]
["Total # of Serious Injuries",{"$f":"'Comparison Group 3'!B11","v":1989},{"$f":"'Comparison Group 3'!C11","v":"N/A"},{"$f":"'Comparison Group 2'!B11","v":1515},{"$f":"'Comparison Group 2'!C11","v":"N/A"},{"$f":"'Comparison Group 1'!B11","v":178},{"$f":"'Comparison Group 1'!C11","v":"N/A"},{"$f":"'Subject Data'!B11","v":3},{"$f":"'Subject Data'!C11","v":"N/A"},{"$f":"'Comparison Group 3'!I11","v":18776},{"$f":"'Comparison Group 3'!J11","v":"N/A"},{"$f":"'Comparison Group 2'!I11","v":13460},{"$f":"'Comparison Group 2'!J11","v":"N/A"},{"$f":"'Comparison Group 1'!I11","v":1896},{"$f":"'Comparison Group 1'!J11","v":"N/A"},{"$f":"'Subject Data'!I11","v":7},{"$f":"'Subject Data'!J11","v":"N/A"}]
["Most Severe Injury Reported"]
["5 (K)",{"$f":"'Comparison Group 3'!B13","v":184},{"$f":"'Comparison Group 3'!C13","v":0.14274631497284718},{"$f":"'Comparison Group 2'!B13","v":130},{"$f":"'Comparison Group 2'!C13","v":0.13078470824949698},{"$f":"'Comparison Group 1'!B13","v":20},{"$f":"'Comparison Group 1'!C13","v":0.17094017094017094},{"$f":"'Subject Data'!B13","v":4},{"$f":"'Subject Data'!C13","v":0.5714285714285714},{"$f":"'Comparison Group 3'!I13","v":184},{"$f":"'Comparison Group 3'!J13","v":3.3439345751930939E-3},{"$f":"'Comparison Group 2'!I13","v":130},{"$f":"'Comparison Group 2'!J13","v":3.0525030525030525E-3},{"$f":"'Comparison Group 1'!I13","v":20},{"$f":"'Comparison Group 1'!J13","v":4.3792423910663453E-3},{"$f":"'Subject Data'!I13","v":4},{"$f":"'Subject Data'!J13","v":0.08}]
["4 (A)",{"$f":"'Comparison Group 3'!B14","v":1105},{"$f":"'Comparison Group 3'!C14","v":0.85725368502715282},{"$f":"'Comparison Group 2'!B14","v":864},{"$f":"'Comparison Group 2'!C14","v":0.86921529175050305},{"$f":"'Comparison Group 1'!B14","v":97},{"$f":"'Comparison Group 1'!C14","v":0.82905982905982911},{"$f":"'Subject Data'!B14","v":3},{"$f":"'Subject Data'!C14","v":0.42857142857142855},{"$f":"'Comparison Group 3'!I14","v":1105},{"$f":"'Comparison Group 3'!J14","v":2.0081781008632438E-2},{"$f":"'Comparison Group 2'!I14","v":864},{"$f":"'Comparison Group 2'!J14","v":2.0287404902789519E-2},{"$f":"'Comparison Group 1'!I14","v":97},{"$f":"'Comparison Group 1'!J14","v":2.1239325596671774E-2},{"$f":"'Subject Data'!I14","v":3},{"$f":"'Subject Data'!J14","v":0.06}]
["3 (B)",{"$f":"'Comparison Group 3'!B15","v":"N/A"},{"$f":"'Comparison Group 3'!C15","v":"N/A"},{"$f":"'Comparison Group 2'!B15","v":"N/A"},{"$f":"'Comparison Group 2'!C15","v":"N/A"},{"$f":"'Comparison Group 1'!B15","v":"N/A"},{"$f":"'Comparison Group 1'!C15","v":"N/A"},{"$f":"'Subject Data'!B15","v":"N/A"},{"$f":"'Subject Data'!C15","v":"N/A"},{"$f":"'Comparison Group 3'!I15","v":3082},{"$f":"'Comparison Group 3'!J15","v":5.6010904134484327E-2},{"$f":"'Comparison Group 2'!I15","v":2292},{"$f":"'Comparison Group 2'!J15","v":5.381797689489997E-2},{"$f":"'Comparison Group 1'!I15","v":306},{"$f":"'Comparison Group 1'!J15","v":6.700240858331509E-2},{"$f":"'Subject Data'!I15","v":2},{"$f":"'Subject Data'!J15","v":0.04}]
["2 (C)",{"$f":"'Comparison Group 3'!B16","v":"N/A"},{"$f":"'Comparison Group 3'!C16","v":"N/A"},{"$f":"'Comparison Group 2'!B16","v":"N/A"},{"$f":"'Comparison Group 2'!C16","v":"N/A"},{"$f":"'Comparison Group 1'!B16","v":"N/A"},{"$f":"'Comparison Group 1'!C16","v":"N/A"},{"$f":"'Subject Data'!B16","v":"N/A"},{"$f":"'Subject Data'!C16","v":"N/A"},{"$f":"'Comparison Group 3'!I16","v":9284},{"$f":"'Comparison Group 3'!J16","v":0.16872330758746024},{"$f":"'Comparison Group 2'!I16","v":6486},{"$f":"'Comparison Group 2'!J16","v":0.15229642152719075},{"$f":"'Comparison Group 1'!I16","v":996},{"$f":"'Comparison Group 1'!J16","v":0.218086271075104},{"$f":"'Subject Data'!I16","v":4},{"$f":"'Subject Data'!J16","v":0.08}]
["1 (O)",{"$f":"'Comparison Group 3'!B17","v":"N/A"},{"$f":"'Comparison Group 3'!C17","v":"N/A"},{"$f":"'Comparison Group 2'!B17","v":"N/A"},{"$f":"'Comparison Group 2'!C17","v":"N/A"},{"$f":"'Comparison Group 1'!B17","v":"N/A"},{"$f":"'Comparison Group 1'!C17","v":"N/A"},{"$f":"'Subject Data'!B17","v":"N/A"},{"$f":"'Subject Data'!C17","v":"N/A"},{"$f":"'Comparison Group 3'!I17","v":41370},{"$f":"'Comparison Group 3'!J17","v":0.75184007269422992},{"$f":"'Comparison Group 2'!I17","v":32816},{"$f":"'Comparison Group 2'!J17","v":0.77054569362261671},{"$f":"'Comparison Group 1'!I17","v":3148},{"$f":"'Comparison Group 1'!J17","v":0.6892927523538428},{"$f":"'Subject Data'!I17","v":37},{"$f":"'Subject Data'!J17","v":0.74}]
["Property"]
["Public",{"$f":"'Comparison Group 3'!B19","v":1105},{"$f":"'Comparison Group 3'!C19","v":0.85725368502715282},{"$f":"'Comparison Group 2'!B19","v":651},{"$f":"'Comparison Group 2'!C19","v":0.65492957746478875},{"$f":"'Comparison Group 1'!B19","v":80},{"$f":"'Comparison Group 1'!C19","v":0.68376068376068377},{"$f":"'Subject Data'!B19","v":4},{"$f":"'Subject Data'!C19","v":0.5714285714285714},{"$f":"'Comparison Group 3'!I19","v":52559.6},{"$f":"'Comparison Group 3'!J19","v":0.95519491140390733},{"$f":"'Comparison Group 2'!I19","v":32859},{"$f":"'Comparison Group 2'!J19","v":0.77155536770921385},{"$f":"'Comparison Group 1'!I19","v":3561},{"$f":"'Comparison Group 1'!J19","v":0.77972410772936285},{"$f":"'Subject Data'!I19","v":37},{"$f":"'Subject Data'!J19","v":0.74}]
["Private",{"$f":"'Comparison Group 3'!B20","v":184},{"$f":"'Comparison Group 3'!C20","v":0.14274631497284718},{"$f":"'Comparison Group 2'!B20","v":343},{"$f":"'Comparison Group 2'!C20","v":0.34507042253521125},{"$f":"'Comparison Group 1'!B20","v":37},{"$f":"'Comparison Group 1'!C20","v":0.31623931623931623},{"$f":"'Subject Data'!B20","v":3},{"$f":"'Subject Data'!C20","v":0.42857142857142855},{"$f":"'Comparison Group 3'!I20","v":2465.4000000000015},{"$f":"'Comparison Group 3'!J20","v":4.480508859609271E-2},{"$f":"'Comparison Group 2'!I20","v":9729},{"$f":"'Comparison Group 2'!J20","v":0.22844463229078613},{"$f":"'Comparison Group 1'!I20","v":1006},{"$f":"'Comparison Group 1'!J20","v":0.22027589227063718},{"$f":"'Subject Data'!I20","v":13},{"$f":"'Subject Data'!J20","v":0.26}]
["Location"]
["Trafficway, On Road",{"$f":"'Comparison Group 3'!B22","v":373},{"$f":"'Comparison Group 3'!C22","v":0.28937160589604344},{"$f":"'Comparison Group 2'!B22","v":1},{"$f":"'Comparison Group 2'!C22","v":1.006036217303823E-3},{"$f":"'Comparison Group 1'!B22","v":19},{"$f":"'Comparison Group 1'!C22","v":0.1623931623931624},{"$f":"'Subject Data'!B22","v":3},{"$f":"'Subject Data'!C22","v":0.42857142857142855},{"$f":"'Comparison Group 3'!I22","v":18956},{"$f":"'Comparison Group 3'!J22","v":0.34449795547478418},{"$f":"'Comparison Group 2'!I22","v":140},{"$f":"'Comparison Group 2'!J22","v":3.2873109796186721E-3},{"$f":"'Comparison Group 1'!I22","v":633},{"$f":"'Comparison Group 1'!J22","v":0.13860302167724983},{"$f":"'Subject Data'!I22","v":31},{"$f":"'Subject Data'!J22","v":0.62}]
["Trafficway, Not on Road",{"$f":"'Comparison Group 3'!B23","v":294.02},{"$f":"'Comparison Group 3'!C23","v":0.22809930178432891},{"$f":"'Comparison Group 2'!B23","v":838},{"$f":"'Comparison Group 2'!C23","v":0.84305835010060359},{"$f":"'Comparison Group 1'!B23","v":84},{"$f":"'Comparison Group 1'!C23","v":0.71794871794871795},{"$f":"'Subject Data'!B23","v":2},{"$f":"'Subject Data'!C23","v":0.2857142857142857},{"$f":"'Comparison Group 3'!I23","v":10475},{"$f":"'Comparison Group 3'!J23","v":0.19036801453884597},{"$f":"'Comparison Group 2'!I23","v":36340},{"$f":"'Comparison Group 2'!J23","v":0.853292007138161},{"$f":"'Comparison Group 1'!I23","v":3477},{"$f":"'Comparison Group 1'!J23","v":0.76133128968688413},{"$f":"'Subject Data'!I23","v":13},{"$f":"'Subject Data'!J23","v":0.26}]
["Non-Trafficway",{"$f":"'Comparison Group 3'!B24","v":621.98},{"$f":"'Comparison Group 3'!C24","v":0.48252909231962765},{"$f":"'Comparison Group 2'!B24","v":155},{"$f":"'Comparison Group 2'!C24","v":0.15593561368209255},{"$f":"'Comparison Group 1'!B24","v":14},{"$f":"'Comparison Group 1'!C24","v":0.11965811965811966},{"$f":"'Subject Data'!B24","v":2},{"$f":"'Subject Data'!C24","v":0.2857142857142857},{"$f":"'Comparison Group 3'!I24","v":25594},{"$f":"'Comparison Group 3'!J24","v":0.46513402998636982},{"$f":"'Comparison Group 2'!I24","v":6108},{"$f":"'Comparison Group 2'!J24","v":0.14342068188222035},{"$f":"'Comparison Group 1'!I24","v":457},{"$f":"'Comparison Group 1'!J24","v":0.100065688635866},{"$f":"'Subject Data'!I24","v":6},{"$f":"'Subject Data'!J24","v":0.12}]
["By Weekday"]
["Sunday",{"$f":"'Comparison Group 3'!B26","v":144},{"$f":"'Comparison Group 3'!C26","v":0.11171450737005431},{"$f":"'Comparison Group 2'!B26","v":102},{"$f":"'Comparison Group 2'!C26","v":0.10261569416498995},{"$f":"'Comparison Group 1'!B26","v":19},{"$f":"'Comparison Group 1'!C26","v":0.1623931623931624},{"$f":"'Subject Data'!B26","v":1},{"$f":"'Subject Data'!C26","v":0.14285714285714285},{"$f":"'Comparison Group 3'!I26","v":5109},{"$f":"'Comparison Group 3'!J26","v":9.2848705134029985E-2},{"$f":"'Comparison Group 2'!I26","v":3945},{"$f":"'Comparison Group 2'!J26","v":9.2631727247111856E-2},{"$f":"'Comparison Group 1'!I26","v":494},{"$f":"'Comparison Group 1'!J26","v":0.10816728705933873},{"$f":"'Subject Data'!I26","v":4},{"$f":"'Subject Data'!J26","v":0.08}]
["Monday",{"$f":"'Comparison Group 3'!B27","v":163},{"$f":"'Comparison Group 3'!C27","v":0.12645461598138091},{"$f":"'Comparison Group 2'!B27","v":134},{"$f":"'Comparison Group 2'!C27","v":0.13480885311871227},{"$f":"'Comparison Group 1'!B27","v":11},{"$f":"'Comparison Group 1'!C27","v":9.4017094017094016E-2},{"$f":"'Subject Data'!B27","v":1},{"$f":"'Subject Data'!C27","v":0.14285714285714285},{"$f":"'Comparison Group 3'!I27","v":7988},{"$f":"'Comparison Group 3'!J27","v":0.14517037710131758},{"$f":"'Comparison Group 2'!I27","v":6088},{"$f":"'Comparison Group 2'!J27","v":0.1429510660279891},{"$f":"'Comparison Group 1'!I27","v":663},{"$f":"'Comparison Group 1'!J27","v":0.14517188526384936},{"$f":"'Subject Data'!I27","v":9},{"$f":"'Subject Data'!J27","v":0.18}]
["Tuesday",{"$f":"'Comparison Group 3'!B28","v":173},{"$f":"'Comparison Group 3'!C28","v":0.13421256788207914},{"$f":"'Comparison Group 2'!B28","v":138},{"$f":"'Comparison Group 2'!C28","v":0.13883299798792756},{"$f":"'Comparison Group 1'!B28","v":13},{"$f":"'Comparison Group 1'!C28","v":0.1111111111111111},{"$f":"'Subject Data'!B28","v":1},{"$f":"'Subject Data'!C28","v":0.14285714285714285},{"$f":"'Comparison Group 3'!I28","v":8258},{"$f":"'Comparison Group 3'!J28","v":0.15007723761926398},{"$f":"'Comparison Group 2'!I28","v":6384},{"$f":"'Comparison Group 2'!J28","v":0.14990138067061143},{"$f":"'Comparison Group 1'!I28","v":655},{"$f":"'Comparison Group 1'!J28","v":0.14342018830742281},{"$f":"'Subject Data'!I28","v":13},{"$f":"'Subject Data'!J28","v":0.26}]
["Wednesday",{"$f":"'Comparison Group 3'!B29","v":170},{"$f":"'Comparison Group 3'!C29","v":0.13188518231186966},{"$f":"'Comparison Group 2'!B29","v":129},{"$f":"'Comparison Group 2'!C29","v":0.12977867203219315},{"$f":"'Comparison Group 1'!B29","v":19},{"$f":"'Comparison Group 1'!C29","v":0.1623931623931624},{"$f":"'Subject Data'!B29","v":2},{"$f":"'Subject Data'!C29","v":0.2857142857142857},{"$f":"'Comparison Group 3'!I29","v":8534},{"$f":"'Comparison Group 3'!J29","v":0.15509313948205361},{"$f":"'Comparison Group 2'!I29","v":6531},{"$f":"'Comparison Group 2'!J29","v":0.15335305719921105},{"$f":"'Comparison Group 1'!I29","v":700},{"$f":"'Comparison Group 1'!J29","v":0.1532734836873221},{"$f":"'Subject Data'!I29","v":6},{"$f":"'Subject Data'!J29","v":0.12}]
["Thursday",{"$f":"'Comparison Group 3'!B30","v":220},{"$f":"'Comparison Group 3'!C30","v":0.17067494181536075},{"$f":"'Comparison Group 2'!B30","v":184},{"$f":"'Comparison Group 2'!C30","v":0.18511066398390341},{"$f":"'Comparison Group 1'!B30","v":14},{"$f":"'Comparison Group 1'!C30","v":0.11965811965811966},{"$f":"'Subject Data'!B30","v":1},{"$f":"'Subject Data'!C30","v":0.14285714285714285},{"$f":"'Comparison Group 3'!I30","v":8496},{"$f":"'Comparison Group 3'!J30","v":0.15440254429804634},{"$f":"'Comparison Group 2'!I30","v":6560},{"$f":"'Comparison Group 2'!J30","v":0.15403400018784635},{"$f":"'Comparison Group 1'!I30","v":695},{"$f":"'Comparison Group 1'!J30","v":0.15217867308955552},{"$f":"'Subject Data'!I30","v":8},{"$f":"'Subject Data'!J30","v":0.16}]
["Friday",{"$f":"'Comparison Group 3'!B31","v":210},{"$f":"'Comparison Group 3'!C31","v":0.16291698991466252},{"$f":"'Comparison Group 2'!B31","v":156},{"$f":"'Comparison Group 2'!C31","v":0.15694164989939638},{"$f":"'Comparison Group 1'!B31","v":18},{"$f":"'Comparison Group 1'!C31","v":0.15384615384615385},{"$f":"'Subject Data'!B31","v":0},{"$f":"'Subject Data'!C31","v":0},{"$f":"'Comparison Group 3'!I31","v":9389},{"$f":"'Comparison Group 3'!J31","v":0.17063153112221718},{"$f":"'Comparison Group 2'!I31","v":7353},{"$f":"'Comparison Group 2'!J31","v":0.17265426880811496},{"$f":"'Comparison Group 1'!I31","v":763},{"$f":"'Comparison Group 1'!J31","v":0.16706809721918109},{"$f":"'Subject Data'!I31","v":5},{"$f":"'Subject Data'!J31","v":0.1}]
["Saturday",{"$f":"'Comparison Group 3'!B32","v":209},{"$f":"'Comparison Group 3'!C32","v":0.16214119472459271},{"$f":"'Comparison Group 2'!B32","v":151},{"$f":"'Comparison Group 2'!C32","v":0.15191146881287726},{"$f":"'Comparison Group 1'!B32","v":23},{"$f":"'Comparison Group 1'!C32","v":0.19658119658119658},{"$f":"'Subject Data'!B32","v":1},{"$f":"'Subject Data'!C32","v":0.14285714285714285},{"$f":"'Comparison Group 3'!I32","v":7251},{"$f":"'Comparison Group 3'!J32","v":0.13177646524307132},{"$f":"'Comparison Group 2'!I32","v":5727},{"$f":"'Comparison Group 2'!J32","v":0.13447449985911525},{"$f":"'Comparison Group 1'!I32","v":597},{"$f":"'Comparison Group 1'!J32","v":0.13072038537333042},{"$f":"'Subject Data'!I32","v":5},{"$f":"'Subject Data'!J32","v":0.1}]
["Crash Hour"]
["12:00 AM - 12:59 AM",{"$f":"'Comparison Group 3'!B34","v":37},{"$f":"'Comparison Group 3'!C34","v":2.8704422032583398E-2},{"$f":"'Comparison Group 2'!B34","v":25},{"$f":"'Comparison Group 2'!C34","v":2.5150905432595575E-2},{"$f":"'Comparison Group 1'!B34","v":5},{"$f":"'Comparison Group 1'!C34","v":4.2735042735042736E-2},{"$f":"'Subject Data'!B34","v":2},{"$f":"'Subject Data'!C34","v":0.2857142857142857},{"$f":"'Comparison Group 3'!I34","v":852},{"$f":"'Comparison Group 3'!J34","v":1.5483870967741935E-2},{"$f":"'Comparison Group 2'!I34","v":622},{"$f":"'Comparison Group 2'!J34","v":1.4605053066591529E-2},{"$f":"'Comparison Group 1'!I34","v":115},{"$f":"'Comparison Group 1'!J34","v":2.5180643748631486E-2},{"$f":"'Subject Data'!I34","v":3},{"$f":"'Subject Data'!J34","v":0.06}]
["1:00 AM - 1:59 AM",{"$f":"'Comparison Group 3'!B35","v":39},{"$f":"'Comparison Group 3'!C35","v":3.0256012412723042E-2},{"$f":"'Comparison Group 2'!B35","v":26},{"$f":"'Comparison Group 2'!C35","v":2.6156941649899398E-2},{"$f":"'Comparison Group 1'!B35","v":2},{"$f":"'Comparison Group 1'!C35","v":1.7094017094017096E-2},{"$f":"'Subject Data'!B35","v":0},{"$f":"'Subject Data'!C35","v":0},{"$f":"'Comparison Group 3'!I35","v":721},{"$f":"'Comparison Group 3'!J35","v":1.3103134938664244E-2},{"$f":"'Comparison Group 2'!I35","v":513},{"$f":"'Comparison Group 2'!J35","v":1.2045646661031277E-2},{"$f":"'Comparison Group 1'!I35","v":92},{"$f":"'Comparison Group 1'!J35","v":2.014451499890519E-2},{"$f":"'Subject Data'!I35","v":0},{"$f":"'Subject Data'!J35","v":0}]
["2:00 AM - 2:59 AM",{"$f":"'Comparison Group 3'!B36","v":30},{"$f":"'Comparison Group 3'!C36","v":2.3273855702094646E-2},{"$f":"'Comparison Group 2'!B36","v":20},{"$f":"'Comparison Group 2'!C36","v":2.0120724346076459E-2},{"$f":"'Comparison Group 1'!B36","v":5},{"$f":"'Comparison Group 1'!C36","v":4.2735042735042736E-2},{"$f":"'Subject Data'!B36","v":0},{"$f":"'Subject Data'!C36","v":0},{"$f":"'Comparison Group 3'!I36","v":695},{"$f":"'Comparison Group 3'!J36","v":1.263062244434348E-2},{"$f":"'Comparison Group 2'!I36","v":494},{"$f":"'Comparison Group 2'!J36","v":1.15995115995116E-2},{"$f":"'Comparison Group 1'!I36","v":100},{"$f":"'Comparison Group 1'!J36","v":2.1896211955331729E-2},{"$f":"'Subject Data'!I36","v":0},{"$f":"'Subject Data'!J36","v":0}]
["3:00 AM - 3:59 AM",{"$f":"'Comparison Group 3'!B37","v":15},{"$f":"'Comparison Group 3'!C37","v":1.1636927851047323E-2},{"$f":"'Comparison Group 2'!B37","v":8},{"$f":"'Comparison Group 2'!C37","v":8.0482897384305842E-3},{"$f":"'Comparison Group 1'!B37","v":4},{"$f":"'Comparison Group 1'!C37","v":3.4188034188034191E-2},{"$f":"'Subject Data'!B37","v":0},{"$f":"'Subject Data'!C37","v":0},{"$f":"'Comparison Group 3'!I37","v":489},{"$f":"'Comparison Group 3'!J37","v":8.8868696047251245E-3},{"$f":"'Comparison Group 2'!I37","v":337},{"$f":"'Comparison Group 2'!J37","v":7.9130271437963754E-3},{"$f":"'Comparison Group 1'!I37","v":75},{"$f":"'Comparison Group 1'!J37","v":1.6422158966498797E-2},{"$f":"'Subject Data'!I37","v":0},{"$f":"'Subject Data'!J37","v":0}]
["4:00 AM - 4:59 AM",{"$f":"'Comparison Group 3'!B38","v":17},{"$f":"'Comparison Group 3'!C38","v":1.3188518231186967E-2},{"$f":"'Comparison Group 2'!B38","v":14},{"$f":"'Comparison Group 2'!C38","v":1.4084507042253521E-2},{"$f":"'Comparison Group 1'!B38","v":1},{"$f":"'Comparison Group 1'!C38","v":8.5470085470085479E-3},{"$f":"'Subject Data'!B38","v":1},{"$f":"'Subject Data'!C38","v":0.14285714285714285},{"$f":"'Comparison Group 3'!I38","v":440},{"$f":"'Comparison Group 3'!J38","v":7.996365288505225E-3},{"$f":"'Comparison Group 2'!I38","v":309},{"$f":"'Comparison Group 2'!J38","v":7.2555649478726406E-3},{"$f":"'Comparison Group 1'!I38","v":53},{"$f":"'Comparison Group 1'!J38","v":1.1604992336325816E-2},{"$f":"'Subject Data'!I38","v":1},{"$f":"'Subject Data'!J38","v":0.02}]
["5:00 AM - 5:59 AM",{"$f":"'Comparison Group 3'!B39","v":24},{"$f":"'Comparison Group 3'!C39","v":1.8619084561675717E-2},{"$f":"'Comparison Group 2'!B39","v":16},{"$f":"'Comparison Group 2'!C39","v":1.6096579476861168E-2},{"$f":"'Comparison Group 1'!B39","v":3},{"$f":"'Comparison Group 1'!C39","v":2.564102564102564E-2},{"$f":"'Subject Data'!B39","v":0},{"$f":"'Subject Data'!C39","v":0},{"$f":"'Comparison Group 3'!I39","v":870},{"$f":"'Comparison Group 3'!J39","v":1.5810995002271695E-2},{"$f":"'Comparison Group 2'!I39","v":617},{"$f":"'Comparison Group 2'!J39","v":1.4487649103033719E-2},{"$f":"'Comparison Group 1'!I39","v":72},{"$f":"'Comparison Group 1'!J39","v":1.5765272607838846E-2},{"$f":"'Subject Data'!I39","v":3},{"$f":"'Subject Data'!J39","v":0.06}]
["6:00 AM - 6:59 AM",{"$f":"'Comparison Group 3'!B40","v":52},{"$f":"'Comparison Group 3'!C40","v":4.0341349883630723E-2},{"$f":"'Comparison Group 2'!B40","v":38},{"$f":"'Comparison Group 2'!C40","v":3.8229376257545272E-2},{"$f":"'Comparison Group 1'!B40","v":4},{"$f":"'Comparison Group 1'!C40","v":3.4188034188034191E-2},{"$f":"'Subject Data'!B40","v":0},{"$f":"'Subject Data'!C40","v":0},{"$f":"'Comparison Group 3'!I40","v":2346},{"$f":"'Comparison Group 3'!J40","v":4.2635165833711949E-2},{"$f":"'Comparison Group 2'!I40","v":1675},{"$f":"'Comparison Group 2'!J40","v":3.9330327791866251E-2},{"$f":"'Comparison Group 1'!I40","v":165},{"$f":"'Comparison Group 1'!J40","v":3.612874972629735E-2},{"$f":"'Subject Data'!I40","v":1},{"$f":"'Subject Data'!J40","v":0.02}]
["7:00 AM - 7:59 AM",{"$f":"'Comparison Group 3'!B41","v":64},{"$f":"'Comparison Group 3'!C41","v":4.965089216446858E-2},{"$f":"'Comparison Group 2'!B41","v":51},{"$f":"'Comparison Group 2'!C41","v":5.1307847082494973E-2},{"$f":"'Comparison Group 1'!B41","v":2},{"$f":"'Comparison Group 1'!C41","v":1.7094017094017096E-2},{"$f":"'Subject Data'!B41","v":0},{"$f":"'Subject Data'!C41","v":0},{"$f":"'Comparison Group 3'!I41","v":3883},{"$f":"'Comparison Group 3'!J41","v":7.0567923671058616E-2},{"$f":"'Comparison Group 2'!I41","v":2929},{"$f":"'Comparison Group 2'!J41","v":6.8775241852164923E-2},{"$f":"'Comparison Group 1'!I41","v":312},{"$f":"'Comparison Group 1'!J41","v":6.8316181300634993E-2},{"$f":"'Subject Data'!I41","v":2},{"$f":"'Subject Data'!J41","v":0.04}]
["8:00 AM - 8:59 AM",{"$f":"'Comparison Group 3'!B42","v":50},{"$f":"'Comparison Group 3'!C42","v":3.8789759503491075E-2},{"$f":"'Comparison Group 2'!B42","v":44},{"$f":"'Comparison Group 2'!C42","v":4.4265593561368208E-2},{"$f":"'Comparison Group 1'!B42","v":2},{"$f":"'Comparison Group 1'!C42","v":1.7094017094017096E-2},{"$f":"'Subject Data'!B42","v":0},{"$f":"'Subject Data'!C42","v":0},{"$f":"'Comparison Group 3'!I42","v":3068},{"$f":"'Comparison Group 3'!J42","v":5.5756474329850071E-2},{"$f":"'Comparison Group 2'!I42","v":2321},{"$f":"'Comparison Group 2'!J42","v":5.4498919883535266E-2},{"$f":"'Comparison Group 1'!I42","v":256},{"$f":"'Comparison Group 1'!J42","v":5.6054302605649226E-2},{"$f":"'Subject Data'!I42","v":2},{"$f":"'Subject Data'!J42","v":0.04}]
["9:00 AM - 9:59 AM",{"$f":"'Comparison Group 3'!B43","v":36},{"$f":"'Comparison Group 3'!C43","v":2.7928626842513578E-2},{"$f":"'Comparison Group 2'!B43","v":35},{"$f":"'Comparison Group 2'!C43","v":3.5211267605633804E-2},{"$f":"'Comparison Group 1'!B43","v":0},{"$f":"'Comparison Group 1'!C43","v":0},{"$f":"'Subject Data'!B43","v":0},{"$f":"'Subject Data'!C43","v":0},{"$f":"'Comparison Group 3'!I43","v":2108},{"$f":"'Comparison Group 3'!J43","v":3.8309859154929578E-2},{"$f":"'Comparison Group 2'!I43","v":1677},{"$f":"'Comparison Group 2'!J43","v":3.9377289377289376E-2},{"$f":"'Comparison Group 1'!I43","v":142},{"$f":"'Comparison Group 1'!J43","v":3.1092620976571055E-2},{"$f":"'Subject Data'!I43","v":2},{"$f":"'Subject Data'!J43","v":0.04}]
["10:00 AM - 10:59 AM",{"$f":"'Comparison Group 3'!B44","v":39},{"$f":"'Comparison Group 3'!C44","v":3.0256012412723042E-2},{"$f":"'Comparison Group 2'!B44","v":33},{"$f":"'Comparison Group 2'!C44","v":3.3199195171026159E-2},{"$f":"'Comparison Group 1'!B44","v":5},{"$f":"'Comparison Group 1'!C44","v":4.2735042735042736E-2},{"$f":"'Subject Data'!B44","v":1},{"$f":"'Subject Data'!C44","v":0.14285714285714285},{"$f":"'Comparison Group 3'!I44","v":2121},{"$f":"'Comparison Group 3'!J44","v":3.8546115402089957E-2},{"$f":"'Comparison Group 2'!I44","v":1687},{"$f":"'Comparison Group 2'!J44","v":3.9612097304405E-2},{"$f":"'Comparison Group 1'!I44","v":139},{"$f":"'Comparison Group 1'!J44","v":3.04357346179111E-2},{"$f":"'Subject Data'!I44","v":1},{"$f":"'Subject Data'!J44","v":0.02}]
["11:00 AM - 11:59 AM",{"$f":"'Comparison Group 3'!B45","v":55},{"$f":"'Comparison Group 3'!C45","v":4.2668735453840187E-2},{"$f":"'Comparison Group 2'!B45","v":46},{"$f":"'Comparison Group 2'!C45","v":4.6277665995975853E-2},{"$f":"'Comparison Group 1'!B45","v":1},{"$f":"'Comparison Group 1'!C45","v":8.5470085470085479E-3},{"$f":"'Subject Data'!B45","v":0},{"$f":"'Subject Data'!C45","v":0},{"$f":"'Comparison Group 3'!I45","v":2434},{"$f":"'Comparison Group 3'!J45","v":4.4234438891412993E-2},{"$f":"'Comparison Group 2'!I45","v":1986},{"$f":"'Comparison Group 2'!J45","v":4.6632854325162017E-2},{"$f":"'Comparison Group 1'!I45","v":176},{"$f":"'Comparison Group 1'!J45","v":3.8537333041383841E-2},{"$f":"'Subject Data'!I45","v":3},{"$f":"'Subject Data'!J45","v":0.06}]
["12:00 PM - 12:59 PM",{"$f":"'Comparison Group 3'!B46","v":65},{"$f":"'Comparison Group 3'!C46","v":5.0426687354538403E-2},{"$f":"'Comparison Group 2'!B46","v":56},{"$f":"'Comparison Group 2'!C46","v":5.6338028169014086E-2},{"$f":"'Comparison Group 1'!B46","v":4},{"$f":"'Comparison Group 1'!C46","v":3.4188034188034191E-2},{"$f":"'Subject Data'!B46","v":0},{"$f":"'Subject Data'!C46","v":0},{"$f":"'Comparison Group 3'!I46","v":2926},{"$f":"'Comparison Group 3'!J46","v":5.3175829168559743E-2},{"$f":"'Comparison Group 2'!I46","v":2401},{"$f":"'Comparison Group 2'!J46","v":5.6377383300460222E-2},{"$f":"'Comparison Group 1'!I46","v":202},{"$f":"'Comparison Group 1'!J46","v":4.4230348149770088E-2},{"$f":"'Subject Data'!I46","v":3},{"$f":"'Subject Data'!J46","v":0.06}]
["1:00 PM - 1:59 PM",{"$f":"'Comparison Group 3'!B47","v":66},{"$f":"'Comparison Group 3'!C47","v":5.120248254460822E-2},{"$f":"'Comparison Group 2'!B47","v":48},{"$f":"'Comparison Group 2'!C47","v":4.8289738430583498E-2},{"$f":"'Comparison Group 1'!B47","v":9},{"$f":"'Comparison Group 1'!C47","v":7.6923076923076927E-2},{"$f":"'Subject Data'!B47","v":1},{"$f":"'Subject Data'!C47","v":0.14285714285714285},{"$f":"'Comparison Group 3'!I47","v":3077},{"$f":"'Comparison Group 3'!J47","v":5.5920036347114947E-2},{"$f":"'Comparison Group 2'!I47","v":2439},{"$f":"'Comparison Group 2'!J47","v":5.7269653423499579E-2},{"$f":"'Comparison Group 1'!I47","v":230},{"$f":"'Comparison Group 1'!J47","v":5.0361287497262971E-2},{"$f":"'Subject Data'!I47","v":5},{"$f":"'Subject Data'!J47","v":0.1}]
["2:00 PM - 2:59 PM",{"$f":"'Comparison Group 3'!B48","v":60},{"$f":"'Comparison Group 3'!C48","v":4.6547711404189292E-2},{"$f":"'Comparison Group 2'!B48","v":48},{"$f":"'Comparison Group 2'!C48","v":4.8289738430583498E-2},{"$f":"'Comparison Group 1'!B48","v":4},{"$f":"'Comparison Group 1'!C48","v":3.4188034188034191E-2},{"$f":"'Subject Data'!B48","v":0},{"$f":"'Subject Data'!C48","v":0},{"$f":"'Comparison Group 3'!I48","v":3317},{"$f":"'Comparison Group 3'!J48","v":6.0281690140845071E-2},{"$f":"'Comparison Group 2'!I48","v":2672},{"$f":"'Comparison Group 2'!J48","v":6.2740678125293506E-2},{"$f":"'Comparison Group 1'!I48","v":252},{"$f":"'Comparison Group 1'!J48","v":5.5178454127435952E-2},{"$f":"'Subject Data'!I48","v":4},{"$f":"'Subject Data'!J48","v":0.08}]
["3:00 PM - 3:59 PM",{"$f":"'Comparison Group 3'!B49","v":80},{"$f":"'Comparison Group 3'!C49","v":6.2063615205585725E-2},{"$f":"'Comparison Group 2'!B49","v":64},{"$f":"'Comparison Group 2'!C49","v":6.4386317907444673E-2},{"$f":"'Comparison Group 1'!B49","v":8},{"$f":"'Comparison Group 1'!C49","v":6.8376068376068383E-2},{"$f":"'Subject Data'!B49","v":0},{"$f":"'Subject Data'!C49","v":0},{"$f":"'Comparison Group 3'!I49","v":4266},{"$f":"'Comparison Group 3'!J49","v":7.7528396183552936E-2},{"$f":"'Comparison Group 2'!I49","v":3363},{"$f":"'Comparison Group 2'!J49","v":7.8965905888982807E-2},{"$f":"'Comparison Group 1'!I49","v":362},{"$f":"'Comparison Group 1'!J49","v":7.9264287278300857E-2},{"$f":"'Subject Data'!I49","v":4},{"$f":"'Subject Data'!J49","v":0.08}]
["4:00 PM - 4:59 PM",{"$f":"'Comparison Group 3'!B50","v":92},{"$f":"'Comparison Group 3'!C50","v":7.1373157486423588E-2},{"$f":"'Comparison Group 2'!B50","v":73},{"$f":"'Comparison Group 2'!C50","v":7.344064386317907E-2},{"$f":"'Comparison Group 1'!B50","v":6},{"$f":"'Comparison Group 1'!C50","v":5.128205128205128E-2},{"$f":"'Subject Data'!B50","v":0},{"$f":"'Subject Data'!C50","v":0},{"$f":"'Comparison Group 3'!I50","v":4597},{"$f":"'Comparison Group 3'!J50","v":8.3543843707405724E-2},{"$f":"'Comparison Group 2'!I50","v":3586},{"$f":"'Comparison Group 2'!J50","v":8.420212266366113E-2},{"$f":"'Comparison Group 1'!I50","v":349},{"$f":"'Comparison Group 1'!J50","v":7.6417779724107723E-2},{"$f":"'Subject Data'!I50","v":3},{"$f":"'Subject Data'!J50","v":0.06}]
["5:00 PM - 5:59 PM",{"$f":"'Comparison Group 3'!B51","v":81},{"$f":"'Comparison Group 3'!C51","v":6.2839410395655548E-2},{"$f":"'Comparison Group 2'!B51","v":62},{"$f":"'Comparison Group 2'!C51","v":6.2374245472837021E-2},{"$f":"'Comparison Group 1'!B51","v":11},{"$f":"'Comparison Group 1'!C51","v":9.4017094017094016E-2},{"$f":"'Subject Data'!B51","v":2},{"$f":"'Subject Data'!C51","v":0.2857142857142857},{"$f":"'Comparison Group 3'!I51","v":5380},{"$f":"'Comparison Group 3'!J51","v":9.7773739209450247E-2},{"$f":"'Comparison Group 2'!I51","v":4109},{"$f":"'Comparison Group 2'!J51","v":9.6482577251808019E-2},{"$f":"'Comparison Group 1'!I51","v":483},{"$f":"'Comparison Group 1'!J51","v":0.10575870374425224},{"$f":"'Subject Data'!I51","v":6},{"$f":"'Subject Data'!J51","v":0.12}]
["6:00 PM - 6:59 PM",{"$f":"'Comparison Group 3'!B52","v":91},{"$f":"'Comparison Group 3'!C52","v":7.0597362296353758E-2},{"$f":"'Comparison Group 2'!B52","v":71},{"$f":"'Comparison Group 2'!C52","v":7.1428571428571425E-2},{"$f":"'Comparison Group 1'!B52","v":10},{"$f":"'Comparison Group 1'!C52","v":8.5470085470085472E-2},{"$f":"'Subject Data'!B52","v":0},{"$f":"'Subject Data'!C52","v":0},{"$f":"'Comparison Group 3'!I52","v":3600},{"$f":"'Comparison Group 3'!J52","v":6.5424806905951843E-2},{"$f":"'Comparison Group 2'!I52","v":2823},{"$f":"'Comparison Group 2'!J52","v":6.6286277824739365E-2},{"$f":"'Comparison Group 1'!I52","v":272},{"$f":"'Comparison Group 1'!J52","v":5.9557696518502297E-2},{"$f":"'Subject Data'!I52","v":2},{"$f":"'Subject Data'!J52","v":0.04}]
["7:00 PM - 7:59 PM",{"$f":"'Comparison Group 3'!B53","v":70},{"$f":"'Comparison Group 3'!C53","v":5.4305663304887508E-2},{"$f":"'Comparison Group 2'!B53","v":52},{"$f":"'Comparison Group 2'!C53","v":5.2313883299798795E-2},{"$f":"'Comparison Group 1'!B53","v":6},{"$f":"'Comparison Group 1'!C53","v":5.128205128205128E-2},{"$f":"'Subject Data'!B53","v":0},{"$f":"'Subject Data'!C53","v":0},{"$f":"'Comparison Group 3'!I53","v":2099},{"$f":"'Comparison Group 3'!J53","v":3.8146297137664695E-2},{"$f":"'Comparison Group 2'!I53","v":1651},{"$f":"'Comparison Group 2'!J53","v":3.8766788766788768E-2},{"$f":"'Comparison Group 1'!I53","v":159},{"$f":"'Comparison Group 1'!J53","v":3.4814977008977448E-2},{"$f":"'Subject Data'!I53","v":2},{"$f":"'Subject Data'!J53","v":0.04}]
["8:00 PM - 8:59 PM",{"$f":"'Comparison Group 3'!B54","v":83},{"$f":"'Comparison Group 3'!C54","v":6.4391000775795196E-2},{"$f":"'Comparison Group 2'!B54","v":62},{"$f":"'Comparison Group 2'!C54","v":6.2374245472837021E-2},{"$f":"'Comparison Group 1'!B54","v":11},{"$f":"'Comparison Group 1'!C54","v":9.4017094017094016E-2},{"$f":"'Subject Data'!B54","v":0},{"$f":"'Subject Data'!C54","v":0},{"$f":"'Comparison Group 3'!I54","v":1818},{"$f":"'Comparison Group 3'!J54","v":3.3039527487505681E-2},{"$f":"'Comparison Group 2'!I54","v":1418},{"$f":"'Comparison Group 2'!J54","v":3.3295764064994834E-2},{"$f":"'Comparison Group 1'!I54","v":169},{"$f":"'Comparison Group 1'!J54","v":3.7004598204510616E-2},{"$f":"'Subject Data'!I54","v":2},{"$f":"'Subject Data'!J54","v":0.04}]
["9:00 PM - 9:59 PM",{"$f":"'Comparison Group 3'!B55","v":58},{"$f":"'Comparison Group 3'!C55","v":4.4996121024049651E-2},{"$f":"'Comparison Group 2'!B55","v":43},{"$f":"'Comparison Group 2'!C55","v":4.3259557344064385E-2},{"$f":"'Comparison Group 1'!B55","v":7},{"$f":"'Comparison Group 1'!C55","v":5.9829059829059832E-2},{"$f":"'Subject Data'!B55","v":0},{"$f":"'Subject Data'!C55","v":0},{"$f":"'Comparison Group 3'!I55","v":1614},{"$f":"'Comparison Group 3'!J55","v":2.9332121762835076E-2},{"$f":"'Comparison Group 2'!I55","v":1197},{"$f":"'Comparison Group 2'!J55","v":2.8106508875739646E-2},{"$f":"'Comparison Group 1'!I55","v":161},{"$f":"'Comparison Group 1'!J55","v":3.5252901248084084E-2},{"$f":"'Subject Data'!I55","v":0},{"$f":"'Subject Data'!J55","v":0}]
["10:00 PM - 10:59 PM",{"$f":"'Comparison Group 3'!B56","v":44},{"$f":"'Comparison Group 3'!C56","v":3.4134988363072147E-2},{"$f":"'Comparison Group 2'!B56","v":31},{"$f":"'Comparison Group 2'!C56","v":3.1187122736418511E-2},{"$f":"'Comparison Group 1'!B56","v":5},{"$f":"'Comparison Group 1'!C56","v":4.2735042735042736E-2},{"$f":"'Subject Data'!B56","v":0},{"$f":"'Subject Data'!C56","v":0},{"$f":"'Comparison Group 3'!I56","v":1286},{"$f":"'Comparison Group 3'!J56","v":2.3371194911403909E-2},{"$f":"'Comparison Group 2'!I56","v":984},{"$f":"'Comparison Group 2'!J56","v":2.310510002817695E-2},{"$f":"'Comparison Group 1'!I56","v":125},{"$f":"'Comparison Group 1'!J56","v":2.7370264944164658E-2},{"$f":"'Subject Data'!I56","v":1},{"$f":"'Subject Data'!J56","v":0.02}]
["11:00 PM - 11:59 PM",{"$f":"'Comparison Group 3'!B57","v":40},{"$f":"'Comparison Group 3'!C57","v":3.1031807602792862E-2},{"$f":"'Comparison Group 2'!B57","v":27},{"$f":"'Comparison Group 2'!C57","v":2.716297786720322E-2},{"$f":"'Comparison Group 1'!B57","v":2},{"$f":"'Comparison Group 1'!C57","v":1.7094017094017096E-2},{"$f":"'Subject Data'!B57","v":0},{"$f":"'Subject Data'!C57","v":0},{"$f":"'Comparison Group 3'!I57","v":992},{"$f":"'Comparison Group 3'!J57","v":1.8028169014084508E-2},{"$f":"'Comparison Group 2'!I57","v":752},{"$f":"'Comparison Group 2'!J57","v":1.7657556119094579E-2},{"$f":"'Comparison Group 1'!I57","v":106},{"$f":"'Comparison Group 1'!J57","v":2.3209984672651632E-2},{"$f":"'Subject Data'!I57","v":0},{"$f":"'Subject Data'!J57","v":0}]
["Unknown",{"$f":"'Comparison Group 3'!B58","v":1},{"$f":"'Comparison Group 3'!C58","v":7.7579519006982156E-4},{"$f":"'Comparison Group 2'!B58","v":1},{"$f":"'Comparison Group 2'!C58","v":1.006036217303823E-3},{"$f":"'Comparison Group 1'!B58","v":0},{"$f":"'Comparison Group 1'!C58","v":0},{"$f":"'Subject Data'!B58","v":0},{"$f":"'Subject Data'!C58","v":0},{"$f":"'Comparison Group 3'!I58","v":26},{"$f":"'Comparison Group 3'!J58","v":4.7251249432076327E-4},{"$f":"'Comparison Group 2'!I58","v":26},{"$f":"'Comparison Group 2'!J58","v":6.105006105006105E-4},{"$f":"'Comparison Group 1'!I58","v":0},{"$f":"'Comparison Group 1'!J58","v":0},{"$f":"'Subject Data'!I58","v":0},{"$f":"'Subject Data'!J58","v":0}]
["Crash Month"]
["January",{"$f":"'Comparison Group 3'!B60","v":83},{"$f":"'Comparison Group 3'!C60","v":6.4391000775795196E-2},{"$f":"'Comparison Group 2'!B60","v":62},{"$f":"'Comparison Group 2'!C60","v":6.2374245472837021E-2},{"$f":"'Comparison Group 1'!B60","v":10},{"$f":"'Comparison Group 1'!C60","v":8.5470085470085472E-2},{"$f":"'Subject Data'!B60","v":0},{"$f":"'Subject Data'!C60","v":0},{"$f":"'Comparison Group 3'!I60","v":4501},{"$f":"'Comparison Group 3'!J60","v":8.179918218991368E-2},{"$f":"'Comparison Group 2'!I60","v":3468},{"$f":"'Comparison Group 2'!J60","v":8.143138912369681E-2},{"$f":"'Comparison Group 1'!I60","v":410},{"$f":"'Comparison Group 1'!J60","v":8.9774469016860078E-2},{"$f":"'Subject Data'!I60","v":5},{"$f":"'Subject Data'!J60","v":0.1}]
["February",{"$f":"'Comparison Group 3'!B61","v":78},{"$f":"'Comparison Group 3'!C61","v":6.0512024825446084E-2},{"$f":"'Comparison Group 2'!B61","v":58},{"$f":"'Comparison Group 2'!C61","v":5.8350100603621731E-2},{"$f":"'Comparison Group 1'!B61","v":6},{"$f":"'Comparison Group 1'!C61","v":5.128205128205128E-2},{"$f":"'Subject Data'!B61","v":0},{"$f":"'Subject Data'!C61","v":0},{"$f":"'Comparison Group 3'!I61","v":4368},{"$f":"'Comparison Group 3'!J61","v":7.9382099045888235E-2},{"$f":"'Comparison Group 2'!I61","v":3283},{"$f":"'Comparison Group 2'!J61","v":7.7087442472057857E-2},{"$f":"'Comparison Group 1'!I61","v":347},{"$f":"'Comparison Group 1'!J61","v":7.5979855485001094E-2},{"$f":"'Subject Data'!I61","v":4},{"$f":"'Subject Data'!J61","v":0.08}]
["March",{"$f":"'Comparison Group 3'!B62","v":118},{"$f":"'Comparison Group 3'!C62","v":9.154383242823895E-2},{"$f":"'Comparison Group 2'!B62","v":96},{"$f":"'Comparison Group 2'!C62","v":9.6579476861166996E-2},{"$f":"'Comparison Group 1'!B62","v":8},{"$f":"'Comparison Group 1'!C62","v":6.8376068376068383E-2},{"$f":"'Subject Data'!B62","v":0},{"$f":"'Subject Data'!C62","v":0},{"$f":"'Comparison Group 3'!I62","v":4123},{"$f":"'Comparison Group 3'!J62","v":7.4929577464788732E-2},{"$f":"'Comparison Group 2'!I62","v":3209},{"$f":"'Comparison Group 2'!J62","v":7.5349863811402268E-2},{"$f":"'Comparison Group 1'!I62","v":347},{"$f":"'Comparison Group 1'!J62","v":7.5979855485001094E-2},{"$f":"'Subject Data'!I62","v":5},{"$f":"'Subject Data'!J62","v":0.1}]
["April",{"$f":"'Comparison Group 3'!B63","v":99},{"$f":"'Comparison Group 3'!C63","v":7.6803723816912334E-2},{"$f":"'Comparison Group 2'!B63","v":81},{"$f":"'Comparison Group 2'!C63","v":8.1488933601609664E-2},{"$f":"'Comparison Group 1'!B63","v":5},{"$f":"'Comparison Group 1'!C63","v":4.2735042735042736E-2},{"$f":"'Subject Data'!B63","v":1},{"$f":"'Subject Data'!C63","v":0.14285714285714285},{"$f":"'Comparison Group 3'!I63","v":4345},{"$f":"'Comparison Group 3'!J63","v":7.8964107223989097E-2},{"$f":"'Comparison Group 2'!I63","v":3291},{"$f":"'Comparison Group 2'!J63","v":7.7275288813750356E-2},{"$f":"'Comparison Group 1'!I63","v":387},{"$f":"'Comparison Group 1'!J63","v":8.4738340267133783E-2},{"$f":"'Subject Data'!I63","v":5},{"$f":"'Subject Data'!J63","v":0.1}]
["May",{"$f":"'Comparison Group 3'!B64","v":124},{"$f":"'Comparison Group 3'!C64","v":9.6198603568657878E-2},{"$f":"'Comparison Group 2'!B64","v":92},{"$f":"'Comparison Group 2'!C64","v":9.2555331991951706E-2},{"$f":"'Comparison Group 1'!B64","v":14},{"$f":"'Comparison Group 1'!C64","v":0.11965811965811966},{"$f":"'Subject Data'!B64","v":0},{"$f":"'Subject Data'!C64","v":0},{"$f":"'Comparison Group 3'!I64","v":4467},{"$f":"'Comparison Group 3'!J64","v":8.1181281235801914E-2},{"$f":"'Comparison Group 2'!I64","v":3476},{"$f":"'Comparison Group 2'!J64","v":8.1619235465389309E-2},{"$f":"'Comparison Group 1'!I64","v":354},{"$f":"'Comparison Group 1'!J64","v":7.7512590321874311E-2},{"$f":"'Subject Data'!I64","v":3},{"$f":"'Subject Data'!J64","v":0.06}]
["June",{"$f":"'Comparison Group 3'!B65","v":112},{"$f":"'Comparison Group 3'!C65","v":8.6889061287820021E-2},{"$f":"'Comparison Group 2'!B65","v":88},{"$f":"'Comparison Group 2'!C65","v":8.8531187122736416E-2},{"$f":"'Comparison Group 1'!B65","v":9},{"$f":"'Comparison Group 1'!C65","v":7.6923076923076927E-2},{"$f":"'Subject Data'!B65","v":1},{"$f":"'Subject Data'!C65","v":0.14285714285714285},{"$f":"'Comparison Group 3'!I65","v":4385},{"$f":"'Comparison Group 3'!J65","v":7.9691049522944118E-2},{"$f":"'Comparison Group 2'!I65","v":3462},{"$f":"'Comparison Group 2'!J65","v":8.1290504367427449E-2},{"$f":"'Comparison Group 1'!I65","v":359},{"$f":"'Comparison Group 1'!J65","v":7.8607400919640899E-2},{"$f":"'Subject Data'!I65","v":3},{"$f":"'Subject Data'!J65","v":0.06}]
["July",{"$f":"'Comparison Group 3'!B66","v":109},{"$f":"'Comparison Group 3'!C66","v":8.4561675717610557E-2},{"$f":"'Comparison Group 2'!B66","v":90},{"$f":"'Comparison Group 2'!C66","v":9.0543259557344061E-2},{"$f":"'Comparison Group 1'!B66","v":7},{"$f":"'Comparison Group 1'!C66","v":5.9829059829059832E-2},{"$f":"'Subject Data'!B66","v":2},{"$f":"'Subject Data'!C66","v":0.2857142857142857},{"$f":"'Comparison Group 3'!I66","v":4421},{"$f":"'Comparison Group 3'!J66","v":8.0345297592003637E-2},{"$f":"'Comparison Group 2'!I66","v":3376},{"$f":"'Comparison Group 2'!J66","v":7.9271156194233111E-2},{"$f":"'Comparison Group 1'!I66","v":359},{"$f":"'Comparison Group 1'!J66","v":7.8607400919640899E-2},{"$f":"'Subject Data'!I66","v":6},{"$f":"'Subject Data'!J66","v":0.12}]
["August",{"$f":"'Comparison Group 3'!B67","v":136},{"$f":"'Comparison Group 3'!C67","v":0.10550814584949574},{"$f":"'Comparison Group 2'!B67","v":104},{"$f":"'Comparison Group 2'!C67","v":0.10462776659959759},{"$f":"'Comparison Group 1'!B67","v":9},{"$f":"'Comparison Group 1'!C67","v":7.6923076923076927E-2},{"$f":"'Subject Data'!B67","v":2},{"$f":"'Subject Data'!C67","v":0.2857142857142857},{"$f":"'Comparison Group 3'!I67","v":4658},{"$f":"'Comparison Group 3'!J67","v":8.4652430713312132E-2},{"$f":"'Comparison Group 2'!I67","v":3608},{"$f":"'Comparison Group 2'!J67","v":8.4718700103315489E-2},{"$f":"'Comparison Group 1'!I67","v":391},{"$f":"'Comparison Group 1'!J67","v":8.5614188745347056E-2},{"$f":"'Subject Data'!I67","v":6},{"$f":"'Subject Data'!J67","v":0.12}]
["September",{"$f":"'Comparison Group 3'!B68","v":119},{"$f":"'Comparison Group 3'!C68","v":9.2319627618308767E-2},{"$f":"'Comparison Group 2'!B68","v":97},{"$f":"'Comparison Group 2'!C68","v":9.7585513078470826E-2},{"$f":"'Comparison Group 1'!B68","v":13},{"$f":"'Comparison Group 1'!C68","v":0.1111111111111111},{"$f":"'Subject Data'!B68","v":0},{"$f":"'Subject Data'!C68","v":0},{"$f":"'Comparison Group 3'!I68","v":4739},{"$f":"'Comparison Group 3'!J68","v":8.6124488868696045E-2},{"$f":"'Comparison Group 2'!I68","v":3640},{"$f":"'Comparison Group 2'!J68","v":8.5470085470085472E-2},{"$f":"'Comparison Group 1'!I68","v":411},{"$f":"'Comparison Group 1'!J68","v":8.9993431136413407E-2},{"$f":"'Subject Data'!I68","v":4},{"$f":"'Subject Data'!J68","v":0.08}]
["October",{"$f":"'Comparison Group 3'!B69","v":115},{"$f":"'Comparison Group 3'!C69","v":8.9216446858029486E-2},{"$f":"'Comparison Group 2'!B69","v":80},{"$f":"'Comparison Group 2'!C69","v":8.0482897384305835E-2},{"$f":"'Comparison Group 1'!B69","v":16},{"$f":"'Comparison Group 1'!C69","v":0.13675213675213677},{"$f":"'Subject Data'!B69","v":0},{"$f":"'Subject Data'!C69","v":0},{"$f":"'Comparison Group 3'!I69","v":5063},{"$f":"'Comparison Group 3'!J69","v":9.2012721490231708E-2},{"$f":"'Comparison Group 2'!I69","v":3950},{"$f":"'Comparison Group 2'!J69","v":9.2749131210669675E-2},{"$f":"'Comparison Group 1'!I69","v":450},{"$f":"'Comparison Group 1'!J69","v":9.8532953798992781E-2},{"$f":"'Subject Data'!I69","v":4},{"$f":"'Subject Data'!J69","v":0.08}]
["November",{"$f":"'Comparison Group 3'!B70","v":113},{"$f":"'Comparison Group 3'!C70","v":8.7664856477889838E-2},{"$f":"'Comparison Group 2'!B70","v":84},{"$f":"'Comparison Group 2'!C70","v":8.4507042253521125E-2},{"$f":"'Comparison Group 1'!B70","v":13},{"$f":"'Comparison Group 1'!C70","v":0.1111111111111111},{"$f":"'Subject Data'!B70","v":1},{"$f":"'Subject Data'!C70","v":0.14285714285714285},{"$f":"'Comparison Group 3'!I70","v":4862},{"$f":"'Comparison Group 3'!J70","v":8.8359836437982731E-2},{"$f":"'Comparison Group 2'!I70","v":3793},{"$f":"'Comparison Group 2'!J70","v":8.9062646754954441E-2},{"$f":"'Comparison Group 1'!I70","v":379},{"$f":"'Comparison Group 1'!J70","v":8.298664331070725E-2},{"$f":"'Subject Data'!I70","v":3},{"$f":"'Subject Data'!J70","v":0.06}]
["December",{"$f":"'Comparison Group 3'!B71","v":83},{"$f":"'Comparison Group 3'!C71","v":6.4391000775795196E-2},{"$f":"'Comparison Group 2'!B71","v":62},{"$f":"'Comparison Group 2'!C71","v":6.2374245472837021E-2},{"$f":"'Comparison Group 1'!B71","v":7},{"$f":"'Comparison Group 1'!C71","v":5.9829059829059832E-2},{"$f":"'Subject Data'!B71","v":0},{"$f":"'Subject Data'!C71","v":0},{"$f":"'Comparison Group 3'!I71","v":5093},{"$f":"'Comparison Group 3'!J71","v":9.2557928214447985E-2},{"$f":"'Comparison Group 2'!I71","v":4032},{"$f":"'Comparison Group 2'!J71","v":9.4674556213017749E-2},{"$f":"'Comparison Group 1'!I71","v":373},{"$f":"'Comparison Group 1'!J71","v":8.1672870593387348E-2},{"$f":"'Subject Data'!I71","v":2},{"$f":"'Subject Data'!J71","v":0.04}]
["Crash Jurisdiction"]
["A",{"$f":"'Comparison Group 3'!B73","v":295},{"$f":"'Comparison Group 3'!C73","v":0.22885958107059737},{"$f":"'Comparison Group 2'!B73","v":9},{"$f":"'Comparison Group 2'!C73","v":9.0543259557344068E-3},{"$f":"'Comparison Group 1'!B73","v":11},{"$f":"'Comparison Group 1'!C73","v":9.4017094017094016E-2},{"$f":"'Subject Data'!B73","v":0},{"$f":"'Subject Data'!C73","v":0},{"$f":"'Comparison Group 3'!I73","v":18954},{"$f":"'Comparison Group 3'!J73","v":0.34446160835983641},{"$f":"'Comparison Group 2'!I73","v":81},{"$f":"'Comparison Group 2'!J73","v":1.9019442096365174E-3},{"$f":"'Comparison Group 1'!I73","v":61},{"$f":"'Comparison Group 1'!J73","v":1.3356689292752353E-2},{"$f":"'Subject Data'!I73","v":0},{"$f":"'Subject Data'!J73","v":0}]
["B",{"$f":"'Comparison Group 3'!B74","v":172},{"$f":"'Comparison Group 3'!C74","v":0.13343677269200932},{"$f":"'Comparison Group 2'!B74","v":64},{"$f":"'Comparison Group 2'!C74","v":6.4386317907444673E-2},{"$f":"'Comparison Group 1'!B74","v":19},{"$f":"'Comparison Group 1'!C74","v":0.1623931623931624},{"$f":"'Subject Data'!B74","v":1},{"$f":"'Subject Data'!C74","v":0.14285714285714285},{"$f":"'Comparison Group 3'!I74","v":5467},{"$f":"'Comparison Group 3'!J74","v":9.9354838709677415E-2},{"$f":"'Comparison Group 2'!I74","v":2068},{"$f":"'Comparison Group 2'!J74","v":4.8558279327510098E-2},{"$f":"'Comparison Group 1'!I74","v":6},{"$f":"'Comparison Group 1'!J74","v":1.3137727173199037E-3},{"$f":"'Subject Data'!I74","v":1},{"$f":"'Subject Data'!J74","v":0.02}]
["C",{"$f":"'Comparison Group 3'!B75","v":300},{"$f":"'Comparison Group 3'!C75","v":0.23273855702094648},{"$f":"'Comparison Group 2'!B75","v":99},{"$f":"'Comparison Group 2'!C75","v":9.9597585513078471E-2},{"$f":"'Comparison Group 1'!B75","v":84},{"$f":"'Comparison Group 1'!C75","v":0.71794871794871795},{"$f":"'Subject Data'!B75","v":2},{"$f":"'Subject Data'!C75","v":0.2857142857142857},{"$f":"'Comparison Group 3'!I75","v":12437},{"$f":"'Comparison Group 3'!J75","v":0.22602453430258973},{"$f":"'Comparison Group 2'!I75","v":2714},{"$f":"'Comparison Group 2'!J75","v":6.3726871419179112E-2},{"$f":"'Comparison Group 1'!I75","v":375},{"$f":"'Comparison Group 1'!J75","v":8.2110794832493977E-2},{"$f":"'Subject Data'!I75","v":2},{"$f":"'Subject Data'!J75","v":0.04}]
["D",{"$f":"'Comparison Group 3'!B76","v":229},{"$f":"'Comparison Group 3'!C76","v":0.17765709852598913},{"$f":"'Comparison Group 2'!B76","v":815},{"$f":"'Comparison Group 2'!C76","v":0.81991951710261568},{"$f":"'Comparison Group 1'!B76","v":1},{"$f":"'Comparison Group 1'!C76","v":8.5470085470085479E-3},{"$f":"'Subject Data'!B76","v":4},{"$f":"'Subject Data'!C76","v":0.5714285714285714},{"$f":"'Comparison Group 3'!I76","v":7160},{"$f":"'Comparison Group 3'!J76","v":0.13012267151294865},{"$f":"'Comparison Group 2'!I76","v":37556},{"$f":"'Comparison Group 2'!J76","v":0.88184465107542032},{"$f":"'Comparison Group 1'!I76","v":633},{"$f":"'Comparison Group 1'!J76","v":0.13860302167724983},{"$f":"'Subject Data'!I76","v":4},{"$f":"'Subject Data'!J76","v":0.08}]
["E",{"$f":"'Comparison Group 3'!B77","v":293},{"$f":"'Comparison Group 3'!C77","v":0.22730799069045771},{"$f":"'Comparison Group 2'!B77","v":7},{"$f":"'Comparison Group 2'!C77","v":7.0422535211267607E-3},{"$f":"'Comparison Group 1'!B77","v":2},{"$f":"'Comparison Group 1'!C77","v":1.7094017094017096E-2},{"$f":"'Subject Data'!B77","v":0},{"$f":"'Subject Data'!C77","v":0},{"$f":"'Comparison Group 3'!I77","v":11007},{"$f":"'Comparison Group 3'!J77","v":0.20003634711494775},{"$f":"'Comparison Group 2'!I77","v":169},{"$f":"'Comparison Group 2'!J77","v":3.968253968253968E-3},{"$f":"'Comparison Group 1'!I77","v":3492},{"$f":"'Comparison Group 1'!J77","v":0.76461572148018397},{"$f":"'Subject Data'!I77","v":43},{"$f":"'Subject Data'!J77","v":0.86}]
["First Harmful Event"]
["Cargo/Equipment Loss or Shift",{"$f":"'Comparison Group 3'!B79","v":4},{"$f":"'Comparison Group 3'!C79","v":3.1031807602792862E-3},{"$f":"'Comparison Group 2'!B79","v":0},{"$f":"'Comparison Group 2'!C79","v":0},{"$f":"'Comparison Group 1'!B79","v":0},{"$f":"'Comparison Group 1'!C79","v":0},{"$f":"'Subject Data'!B79","v":0},{"$f":"'Subject Data'!C79","v":0},{"$f":"'Comparison Group 3'!I79","v":60},{"$f":"'Comparison Group 3'!J79","v":1.0904134484325306E-3},{"$f":"'Comparison Group 2'!I79","v":9},{"$f":"'Comparison Group 2'!J79","v":2.1120811039143902E-4},{"$f":"'Comparison Group 1'!I79","v":0},{"$f":"'Comparison Group 1'!J79","v":0},{"$f":"'Subject Data'!I79","v":0},{"$f":"'Subject Data'!J79","v":0}]
["Fell/Jumped from Motor Vehicle",{"$f":"'Comparison Group 3'!B80","v":2},{"$f":"'Comparison Group 3'!C80","v":1.5515903801396431E-3},{"$f":"'Comparison Group 2'!B80","v":103},{"$f":"'Comparison Group 2'!C80","v":0.10362173038229376},{"$f":"'Comparison Group 1'!B80","v":8},{"$f":"'Comparison Group 1'!C80","v":6.8376068376068383E-2},{"$f":"'Subject Data'!B80","v":0},{"$f":"'Subject Data'!C80","v":0},{"$f":"'Comparison Group 3'!I80","v":47},{"$f":"'Comparison Group 3'!J80","v":8.5415720127214904E-4},{"$f":"'Comparison Group 2'!I80","v":2978},{"$f":"'Comparison Group 2'!J80","v":6.9886416971745052E-2},{"$f":"'Comparison Group 1'!I80","v":269},{"$f":"'Comparison Group 1'!J80","v":5.8900810159842346E-2},{"$f":"'Subject Data'!I80","v":0},{"$f":"'Subject Data'!J80","v":0}]
["Fire/Explosion",{"$f":"'Comparison Group 3'!B81","v":0},{"$f":"'Comparison Group 3'!C81","v":0},{"$f":"'Comparison Group 2'!B81","v":1},{"$f":"'Comparison Group 2'!C81","v":1.006036217303823E-3},{"$f":"'Comparison Group 1'!B81","v":0},{"$f":"'Comparison Group 1'!C81","v":0},{"$f":"'Subject Data'!B81","v":0},{"$f":"'Subject Data'!C81","v":0},{"$f":"'Comparison Group 3'!I81","v":0},{"$f":"'Comparison Group 3'!J81","v":0},{"$f":"'Comparison Group 2'!I81","v":30},{"$f":"'Comparison Group 2'!J81","v":7.0402703463813012E-4},{"$f":"'Comparison Group 1'!I81","v":1},{"$f":"'Comparison Group 1'!J81","v":2.1896211955331729E-4},{"$f":"'Subject Data'!I81","v":0},{"$f":"'Subject Data'!J81","v":0}]
["Immersion, Full or Partial",{"$f":"'Comparison Group 3'!B82","v":0},{"$f":"'Comparison Group 3'!C82","v":0},{"$f":"'Comparison Group 2'!B82","v":35},{"$f":"'Comparison Group 2'!C82","v":3.5211267605633804E-2},{"$f":"'Comparison Group 1'!B82","v":3},{"$f":"'Comparison Group 1'!C82","v":2.564102564102564E-2},{"$f":"'Subject Data'!B82","v":0},{"$f":"'Subject Data'!C82","v":0},{"$f":"'Comparison Group 3'!I82","v":1},{"$f":"'Comparison Group 3'!J82","v":1.817355747387551E-5},{"$f":"'Comparison Group 2'!I82","v":406},{"$f":"'Comparison Group 2'!J82","v":9.5278325354360271E-3},{"$f":"'Comparison Group 1'!I82","v":47},{"$f":"'Comparison Group 1'!J82","v":1.0291219619005912E-2},{"$f":"'Subject Data'!I82","v":0},{"$f":"'Subject Data'!J82","v":0}]
["Jackknife",{"$f":"'Comparison Group 3'!B83","v":0},{"$f":"'Comparison Group 3'!C83","v":0},{"$f":"'Comparison Group 2'!B83","v":3},{"$f":"'Comparison Group 2'!C83","v":3.0181086519114686E-3},{"$f":"'Comparison Group 1'!B83","v":0},{"$f":"'Comparison Group 1'!C83","v":0},{"$f":"'Subject Data'!B83","v":0},{"$f":"'Subject Data'!C83","v":0},{"$f":"'Comparison Group 3'!I83","v":1},{"$f":"'Comparison Group 3'!J83","v":1.817355747387551E-5},{"$f":"'Comparison Group 2'!I83","v":71},{"$f":"'Comparison Group 2'!J83","v":1.6661973153102411E-3},{"$f":"'Comparison Group 1'!I83","v":12},{"$f":"'Comparison Group 1'!J83","v":2.6275454346398074E-3},{"$f":"'Subject Data'!I83","v":0},{"$f":"'Subject Data'!J83","v":0}]
["Other Non-Collision",{"$f":"'Comparison Group 3'!B84","v":3},{"$f":"'Comparison Group 3'!C84","v":2.3273855702094647E-3},{"$f":"'Comparison Group 2'!B84","v":122},{"$f":"'Comparison Group 2'!C84","v":0.1227364185110664},{"$f":"'Comparison Group 1'!B84","v":5},{"$f":"'Comparison Group 1'!C84","v":4.2735042735042736E-2},{"$f":"'Subject Data'!B84","v":3},{"$f":"'Subject Data'!C84","v":0.42857142857142855},{"$f":"'Comparison Group 3'!I84","v":304},{"$f":"'Comparison Group 3'!J84","v":5.5247614720581551E-3},{"$f":"'Comparison Group 2'!I84","v":4873},{"$f":"'Comparison Group 2'!J84","v":0.11435745799305359},{"$f":"'Comparison Group 1'!I84","v":636},{"$f":"'Comparison Group 1'!J84","v":0.13925990803590979},{"$f":"'Subject Data'!I84","v":14},{"$f":"'Subject Data'!J84","v":0.28000000000000003}]
["Overturn/Rollover",{"$f":"'Comparison Group 3'!B85","v":0},{"$f":"'Comparison Group 3'!C85","v":0},{"$f":"'Comparison Group 2'!B85","v":1},{"$f":"'Comparison Group 2'!C85","v":1.006036217303823E-3},{"$f":"'Comparison Group 1'!B85","v":0},{"$f":"'Comparison Group 1'!C85","v":0},{"$f":"'Subject Data'!B85","v":0},{"$f":"'Subject Data'!C85","v":0},{"$f":"'Comparison Group 3'!I85","v":1},{"$f":"'Comparison Group 3'!J85","v":1.817355747387551E-5},{"$f":"'Comparison Group 2'!I85","v":188},{"$f":"'Comparison Group 2'!J85","v":4.4119027503989484E-3},{"$f":"'Comparison Group 1'!I85","v":0},{"$f":"'Comparison Group 1'!J85","v":0},{"$f":"'Subject Data'!I85","v":0},{"$f":"'Subject Data'!J85","v":0}]
["Thrown or Falling Object",{"$f":"'Comparison Group 3'!B86","v":0},{"$f":"'Comparison Group 3'!C86","v":0},{"$f":"'Comparison Group 2'!B86","v":27},{"$f":"'Comparison Group 2'!C86","v":2.716297786720322E-2},{"$f":"'Comparison Group 1'!B86","v":1},{"$f":"'Comparison Group 1'!C86","v":8.5470085470085479E-3},{"$f":"'Subject Data'!B86","v":0},{"$f":"'Subject Data'!C86","v":0},{"$f":"'Comparison Group 3'!I86","v":0},{"$f":"'Comparison Group 3'!J86","v":0},{"$f":"'Comparison Group 2'!I86","v":625},{"$f":"'Comparison Group 2'!J86","v":1.4667229888294378E-2},{"$f":"'Comparison Group 1'!I86","v":26},{"$f":"'Comparison Group 1'!J86","v":5.6930151083862488E-3},{"$f":"'Subject Data'!I86","v":0},{"$f":"'Subject Data'!J86","v":0}]
["Collision with Animal",{"$f":"'Comparison Group 3'!B87","v":0},{"$f":"'Comparison Group 3'!C87","v":0},{"$f":"'Comparison Group 2'!B87","v":2},{"$f":"'Comparison Group 2'!C87","v":2.012072434607646E-3},{"$f":"'Comparison Group 1'!B87","v":0},{"$f":"'Comparison Group 1'!C87","v":0},{"$f":"'Subject Data'!B87","v":0},{"$f":"'Subject Data'!C87","v":0},{"$f":"'Comparison Group 3'!I87","v":0},{"$f":"'Comparison Group 3'!J87","v":0},{"$f":"'Comparison Group 2'!I87","v":41},{"$f":"'Comparison Group 2'!J87","v":9.6217028067211113E-4},{"$f":"'Comparison Group 1'!I87","v":1},{"$f":"'Comparison Group 1'!J87","v":2.1896211955331729E-4},{"$f":"'Subject Data'!I87","v":0},{"$f":"'Subject Data'!J87","v":0}]
["Collision with Construction Equipment",{"$f":"'Comparison Group 3'!B88","v":298},{"$f":"'Comparison Group 3'!C88","v":0.23118696664080682},{"$f":"'Comparison Group 2'!B88","v":6},{"$f":"'Comparison Group 2'!C88","v":6.0362173038229373E-3},{"$f":"'Comparison Group 1'!B88","v":4},{"$f":"'Comparison Group 1'!C88","v":3.4188034188034191E-2},{"$f":"'Subject Data'!B88","v":0},{"$f":"'Subject Data'!C88","v":0},{"$f":"'Comparison Group 3'!I88","v":6935},{"$f":"'Comparison Group 3'!J88","v":0.12603362108132668},{"$f":"'Comparison Group 2'!I88","v":60},{"$f":"'Comparison Group 2'!J88","v":1.4080540692762602E-3},{"$f":"'Comparison Group 1'!I88","v":24},{"$f":"'Comparison Group 1'!J88","v":5.2550908692796149E-3},{"$f":"'Subject Data'!I88","v":0},{"$f":"'Subject Data'!J88","v":0}]
["Collision with Farm Equipment",{"$f":"'Comparison Group 3'!B89","v":0},{"$f":"'Comparison Group 3'!C89","v":0},{"$f":"'Comparison Group 2'!B89","v":5},{"$f":"'Comparison Group 2'!C89","v":5.0301810865191147E-3},{"$f":"'Comparison Group 1'!B89","v":1},{"$f":"'Comparison Group 1'!C89","v":8.5470085470085479E-3},{"$f":"'Subject Data'!B89","v":0},{"$f":"'Subject Data'!C89","v":0},{"$f":"'Comparison Group 3'!I89","v":119},{"$f":"'Comparison Group 3'!J89","v":2.1626533393911858E-3},{"$f":"'Comparison Group 2'!I89","v":495},{"$f":"'Comparison Group 2'!J89","v":1.1616446071529146E-2},{"$f":"'Comparison Group 1'!I89","v":28},{"$f":"'Comparison Group 1'!J89","v":6.1309393474928836E-3},{"$f":"'Subject Data'!I89","v":0},{"$f":"'Subject Data'!J89","v":0}]
["Collision with Motor Vehicle in Transport",{"$f":"'Comparison Group 3'!B90","v":0},{"$f":"'Comparison Group 3'!C90","v":0},{"$f":"'Comparison Group 2'!B90","v":0},{"$f":"'Comparison Group 2'!C90","v":0},{"$f":"'Comparison Group 1'!B90","v":0},{"$f":"'Comparison Group 1'!C90","v":0},{"$f":"'Subject Data'!B90","v":0},{"$f":"'Subject Data'!C90","v":0},{"$f":"'Comparison Group 3'!I90","v":0},{"$f":"'Comparison Group 3'!J90","v":0},{"$f":"'Comparison Group 2'!I90","v":29},{"$f":"'Comparison Group 2'!J90","v":6.8055946681685911E-4},{"$f":"'Comparison Group 1'!I90","v":6},{"$f":"'Comparison Group 1'!J90","v":1.3137727173199037E-3},{"$f":"'Subject Data'!I90","v":6},{"$f":"'Subject Data'!J90","v":0.12}]
["Collision with Other Non-Fixed Object",{"$f":"'Comparison Group 3'!B91","v":0},{"$f":"'Comparison Group 3'!C91","v":0},{"$f":"'Comparison Group 2'!B91","v":1},{"$f":"'Comparison Group 2'!C91","v":1.006036217303823E-3},{"$f":"'Comparison Group 1'!B91","v":0},{"$f":"'Comparison Group 1'!C91","v":0},{"$f":"'Subject Data'!B91","v":0},{"$f":"'Subject Data'!C91","v":0},{"$f":"'Comparison Group 3'!I91","v":1},{"$f":"'Comparison Group 3'!J91","v":1.817355747387551E-5},{"$f":"'Comparison Group 2'!I91","v":38},{"$f":"'Comparison Group 2'!J91","v":8.917675772082981E-4},{"$f":"'Comparison Group 1'!I91","v":25},{"$f":"'Comparison Group 1'!J91","v":5.4740529888329323E-3},{"$f":"'Subject Data'!I91","v":0},{"$f":"'Subject Data'!J91","v":0}]
["Collision with Other Non-motorist",{"$f":"'Comparison Group 3'!B92","v":0},{"$f":"'Comparison Group 3'!C92","v":0},{"$f":"'Comparison Group 2'!B92","v":4},{"$f":"'Comparison Group 2'!C92","v":4.0241448692152921E-3},{"$f":"'Comparison Group 1'!B92","v":3},{"$f":"'Comparison Group 1'!C92","v":2.564102564102564E-2},{"$f":"'Subject Data'!B92","v":0},{"$f":"'Subject Data'!C92","v":0},{"$f":"'Comparison Group 3'!I92","v":0},{"$f":"'Comparison Group 3'!J92","v":0},{"$f":"'Comparison Group 2'!I92","v":165},{"$f":"'Comparison Group 2'!J92","v":3.8721486905097155E-3},{"$f":"'Comparison Group 1'!I92","v":91},{"$f":"'Comparison Group 1'!J92","v":1.9925552879351872E-2},{"$f":"'Subject Data'!I92","v":1},{"$f":"'Subject Data'!J92","v":0.02}]
["Collision with Parked Motor Vehicle",{"$f":"'Comparison Group 3'!B93","v":0},{"$f":"'Comparison Group 3'!C93","v":0},{"$f":"'Comparison Group 2'!B93","v":6},{"$f":"'Comparison Group 2'!C93","v":6.0362173038229373E-3},{"$f":"'Comparison Group 1'!B93","v":1},{"$f":"'Comparison Group 1'!C93","v":8.5470085470085479E-3},{"$f":"'Subject Data'!B93","v":0},{"$f":"'Subject Data'!C93","v":0},{"$f":"'Comparison Group 3'!I93","v":2},{"$f":"'Comparison Group 3'!J93","v":3.6347114947751021E-5},{"$f":"'Comparison Group 2'!I93","v":515},{"$f":"'Comparison Group 2'!J93","v":1.2085797427954566E-2},{"$f":"'Comparison Group 1'!I93","v":191},{"$f":"'Comparison Group 1'!J93","v":4.1821764834683597E-2},{"$f":"'Subject Data'!I93","v":0},{"$f":"'Subject Data'!J93","v":0}]
["Collision with Pedalcycle",{"$f":"'Comparison Group 3'!B94","v":0},{"$f":"'Comparison Group 3'!C94","v":0},{"$f":"'Comparison Group 2'!B94","v":14},{"$f":"'Comparison Group 2'!C94","v":1.4084507042253521E-2},{"$f":"'Comparison Group 1'!B94","v":2},{"$f":"'Comparison Group 1'!C94","v":1.7094017094017096E-2},{"$f":"'Subject Data'!B94","v":0},{"$f":"'Subject Data'!C94","v":0},{"$f":"'Comparison Group 3'!I94","v":1},{"$f":"'Comparison Group 3'!J94","v":1.817355747387551E-5},{"$f":"'Comparison Group 2'!I94","v":347},{"$f":"'Comparison Group 2'!J94","v":8.1432460339810383E-3},{"$f":"'Comparison Group 1'!I94","v":26},{"$f":"'Comparison Group 1'!J94","v":5.6930151083862488E-3},{"$f":"'Subject Data'!I94","v":0},{"$f":"'Subject Data'!J94","v":0}]
["Collision with Pedestrian",{"$f":"'Comparison Group 3'!B95","v":63},{"$f":"'Comparison Group 3'!C95","v":4.8875096974398756E-2},{"$f":"'Comparison Group 2'!B95","v":16},{"$f":"'Comparison Group 2'!C95","v":1.6096579476861168E-2},{"$f":"'Comparison Group 1'!B95","v":3},{"$f":"'Comparison Group 1'!C95","v":2.564102564102564E-2},{"$f":"'Subject Data'!B95","v":0},{"$f":"'Subject Data'!C95","v":0},{"$f":"'Comparison Group 3'!I95","v":3803},{"$f":"'Comparison Group 3'!J95","v":6.9114039073148573E-2},{"$f":"'Comparison Group 2'!I95","v":174},{"$f":"'Comparison Group 2'!J95","v":4.0833568009011542E-3},{"$f":"'Comparison Group 1'!I95","v":37},{"$f":"'Comparison Group 1'!J95","v":8.1015984234727393E-3},{"$f":"'Subject Data'!I95","v":0},{"$f":"'Subject Data'!J95","v":0}]
["Collision with Railway Vehicle",{"$f":"'Comparison Group 3'!B96","v":0},{"$f":"'Comparison Group 3'!C96","v":0},{"$f":"'Comparison Group 2'!B96","v":5},{"$f":"'Comparison Group 2'!C96","v":5.0301810865191147E-3},{"$f":"'Comparison Group 1'!B96","v":1},{"$f":"'Comparison Group 1'!C96","v":8.5470085470085479E-3},{"$f":"'Subject Data'!B96","v":0},{"$f":"'Subject Data'!C96","v":0},{"$f":"'Comparison Group 3'!I96","v":1},{"$f":"'Comparison Group 3'!J96","v":1.817355747387551E-5},{"$f":"'Comparison Group 2'!I96","v":210},{"$f":"'Comparison Group 2'!J96","v":4.9281892424669106E-3},{"$f":"'Comparison Group 1'!I96","v":39},{"$f":"'Comparison Group 1'!J96","v":8.5395226625793741E-3},{"$f":"'Subject Data'!I96","v":2},{"$f":"'Subject Data'!J96","v":0.04}]
["Strikes Object ar Rest from MV in Transport",{"$f":"'Comparison Group 3'!B97","v":1},{"$f":"'Comparison Group 3'!C97","v":7.7579519006982156E-4},{"$f":"'Comparison Group 2'!B97","v":2},{"$f":"'Comparison Group 2'!C97","v":2.012072434607646E-3},{"$f":"'Comparison Group 1'!B97","v":0},{"$f":"'Comparison Group 1'!C97","v":0},{"$f":"'Subject Data'!B97","v":0},{"$f":"'Subject Data'!C97","v":0},{"$f":"'Comparison Group 3'!I97","v":1},{"$f":"'Comparison Group 3'!J97","v":1.817355747387551E-5},{"$f":"'Comparison Group 2'!I97","v":60},{"$f":"'Comparison Group 2'!J97","v":1.4080540692762602E-3},{"$f":"'Comparison Group 1'!I97","v":16},{"$f":"'Comparison Group 1'!J97","v":3.5033939128530766E-3},{"$f":"'Subject Data'!I97","v":0},{"$f":"'Subject Data'!J97","v":0}]
["Struck by Falling, Shifting Cargo, or Anything Set in Motion by Motor Vehicle",{"$f":"'Comparison Group 3'!B98","v":0},{"$f":"'Comparison Group 3'!C98","v":0},{"$f":"'Comparison Group 2'!B98","v":22},{"$f":"'Comparison Group 2'!C98","v":2.2132796780684104E-2},{"$f":"'Comparison Group 1'!B98","v":3},{"$f":"'Comparison Group 1'!C98","v":2.564102564102564E-2},{"$f":"'Subject Data'!B98","v":1},{"$f":"'Subject Data'!C98","v":0.14285714285714285},{"$f":"'Comparison Group 3'!I98","v":2},{"$f":"'Comparison Group 3'!J98","v":3.6347114947751021E-5},{"$f":"'Comparison Group 2'!I98","v":539},{"$f":"'Comparison Group 2'!J98","v":1.2649019055665071E-2},{"$f":"'Comparison Group 1'!I98","v":119},{"$f":"'Comparison Group 1'!J98","v":2.6056492226844755E-2},{"$f":"'Subject Data'!I98","v":0},{"$f":"'Subject Data'!J98","v":0}]
["Collision with Bridge Overhead Structure",{"$f":"'Comparison Group 3'!B99","v":165},{"$f":"'Comparison Group 3'!C99","v":0.12800620636152055},{"$f":"'Comparison Group 2'!B99","v":1},{"$f":"'Comparison Group 2'!C99","v":1.006036217303823E-3},{"$f":"'Comparison Group 1'!B99","v":0},{"$f":"'Comparison Group 1'!C99","v":0},{"$f":"'Subject Data'!B99","v":0},{"$f":"'Subject Data'!C99","v":0},{"$f":"'Comparison Group 3'!I99","v":5819},{"$f":"'Comparison Group 3'!J99","v":0.1057519309404816},{"$f":"'Comparison Group 2'!I99","v":39},{"$f":"'Comparison Group 2'!J99","v":9.1523514502956911E-4},{"$f":"'Comparison Group 1'!I99","v":20},{"$f":"'Comparison Group 1'!J99","v":4.3792423910663453E-3},{"$f":"'Subject Data'!I99","v":2},{"$f":"'Subject Data'!J99","v":0.04}]
["Collision with Bridge Pier or Support",{"$f":"'Comparison Group 3'!B100","v":0},{"$f":"'Comparison Group 3'!C100","v":0},{"$f":"'Comparison Group 2'!B100","v":6},{"$f":"'Comparison Group 2'!C100","v":6.0362173038229373E-3},{"$f":"'Comparison Group 1'!B100","v":2},{"$f":"'Comparison Group 1'!C100","v":1.7094017094017096E-2},{"$f":"'Subject Data'!B100","v":0},{"$f":"'Subject Data'!C100","v":0},{"$f":"'Comparison Group 3'!I100","v":0},{"$f":"'Comparison Group 3'!J100","v":0},{"$f":"'Comparison Group 2'!I100","v":340},{"$f":"'Comparison Group 2'!J100","v":7.9789730592321403E-3},{"$f":"'Comparison Group 1'!I100","v":52},{"$f":"'Comparison Group 1'!J100","v":1.1386030216772498E-2},{"$f":"'Subject Data'!I100","v":0},{"$f":"'Subject Data'!J100","v":0}]
["Collision with Bridge Rail",{"$f":"'Comparison Group 3'!B101","v":0},{"$f":"'Comparison Group 3'!C101","v":0},{"$f":"'Comparison Group 2'!B101","v":9},{"$f":"'Comparison Group 2'!C101","v":9.0543259557344068E-3},{"$f":"'Comparison Group 1'!B101","v":0},{"$f":"'Comparison Group 1'!C101","v":0},{"$f":"'Subject Data'!B101","v":1},{"$f":"'Subject Data'!C101","v":0.14285714285714285},{"$f":"'Comparison Group 3'!I101","v":0},{"$f":"'Comparison Group 3'!J101","v":0},{"$f":"'Comparison Group 2'!I101","v":84},{"$f":"'Comparison Group 2'!J101","v":1.9712756969867645E-3},{"$f":"'Comparison Group 1'!I101","v":3},{"$f":"'Comparison Group 1'!J101","v":6.5688635865995186E-4},{"$f":"'Subject Data'!I101","v":0},{"$f":"'Subject Data'!J101","v":0}]
["Collision with Cable Barrier",{"$f":"'Comparison Group 3'!B102","v":0},{"$f":"'Comparison Group 3'!C102","v":0},{"$f":"'Comparison Group 2'!B102","v":5},{"$f":"'Comparison Group 2'!C102","v":5.0301810865191147E-3},{"$f":"'Comparison Group 1'!B102","v":3},{"$f":"'Comparison Group 1'!C102","v":2.564102564102564E-2},{"$f":"'Subject Data'!B102","v":0},{"$f":"'Subject Data'!C102","v":0},{"$f":"'Comparison Group 3'!I102","v":1},{"$f":"'Comparison Group 3'!J102","v":1.817355747387551E-5},{"$f":"'Comparison Group 2'!I102","v":263},{"$f":"'Comparison Group 2'!J102","v":6.1719703369942742E-3},{"$f":"'Comparison Group 1'!I102","v":56},{"$f":"'Comparison Group 1'!J102","v":1.2261878694985767E-2},{"$f":"'Subject Data'!I102","v":0},{"$f":"'Subject Data'!J102","v":0}]
["Collision with Concrete Traffic Barrier",{"$f":"'Comparison Group 3'!B103","v":0},{"$f":"'Comparison Group 3'!C103","v":0},{"$f":"'Comparison Group 2'!B103","v":108},{"$f":"'Comparison Group 2'!C103","v":0.10865191146881288},{"$f":"'Comparison Group 1'!B103","v":24},{"$f":"'Comparison Group 1'!C103","v":0.20512820512820512},{"$f":"'Subject Data'!B103","v":0},{"$f":"'Subject Data'!C103","v":0},{"$f":"'Comparison Group 3'!I103","v":0},{"$f":"'Comparison Group 3'!J103","v":0},{"$f":"'Comparison Group 2'!I103","v":708},{"$f":"'Comparison Group 2'!J103","v":1.6615038017459869E-2},{"$f":"'Comparison Group 1'!I103","v":276},{"$f":"'Comparison Group 1'!J103","v":6.043354499671557E-2},{"$f":"'Subject Data'!I103","v":0},{"$f":"'Subject Data'!J103","v":0}]
["Collision with Culvert",{"$f":"'Comparison Group 3'!B104","v":315},{"$f":"'Comparison Group 3'!C104","v":0.24437548487199379},{"$f":"'Comparison Group 2'!B104","v":18},{"$f":"'Comparison Group 2'!C104","v":1.8108651911468814E-2},{"$f":"'Comparison Group 1'!B104","v":3},{"$f":"'Comparison Group 1'!C104","v":2.564102564102564E-2},{"$f":"'Subject Data'!B104","v":1},{"$f":"'Subject Data'!C104","v":0.14285714285714285},{"$f":"'Comparison Group 3'!I104","v":13121},{"$f":"'Comparison Group 3'!J104","v":0.23845524761472059},{"$f":"'Comparison Group 2'!I104","v":2976},{"$f":"'Comparison Group 2'!J104","v":6.9839481836102502E-2},{"$f":"'Comparison Group 1'!I104","v":539},{"$f":"'Comparison Group 1'!J104","v":0.11802058243923801},{"$f":"'Subject Data'!I104","v":0},{"$f":"'Subject Data'!J104","v":0}]
["Collision with Curb",{"$f":"'Comparison Group 3'!B105","v":0},{"$f":"'Comparison Group 3'!C105","v":0},{"$f":"'Comparison Group 2'!B105","v":145},{"$f":"'Comparison Group 2'!C105","v":0.14587525150905434},{"$f":"'Comparison Group 1'!B105","v":19},{"$f":"'Comparison Group 1'!C105","v":0.1623931623931624},{"$f":"'Subject Data'!B105","v":0},{"$f":"'Subject Data'!C105","v":0},{"$f":"'Comparison Group 3'!I105","v":7},{"$f":"'Comparison Group 3'!J105","v":1.2721490231712857E-4},{"$f":"'Comparison Group 2'!I105","v":574},{"$f":"'Comparison Group 2'!J105","v":1.3470383929409555E-2},{"$f":"'Comparison Group 1'!I105","v":78},{"$f":"'Comparison Group 1'!J105","v":1.7079045325158748E-2},{"$f":"'Subject Data'!I105","v":4},{"$f":"'Subject Data'!J105","v":0.08}]
["Collision with Ditch",{"$f":"'Comparison Group 3'!B106","v":0},{"$f":"'Comparison Group 3'!C106","v":0},{"$f":"'Comparison Group 2'!B106","v":0},{"$f":"'Comparison Group 2'!C106","v":0},{"$f":"'Comparison Group 1'!B106","v":0},{"$f":"'Comparison Group 1'!C106","v":0},{"$f":"'Subject Data'!B106","v":0},{"$f":"'Subject Data'!C106","v":0},{"$f":"'Comparison Group 3'!I106","v":2},{"$f":"'Comparison Group 3'!J106","v":3.6347114947751021E-5},{"$f":"'Comparison Group 2'!I106","v":7},{"$f":"'Comparison Group 2'!J106","v":1.6427297474889702E-4},{"$f":"'Comparison Group 1'!I106","v":3},{"$f":"'Comparison Group 1'!J106","v":6.5688635865995186E-4},{"$f":"'Subject Data'!I106","v":0},{"$f":"'Subject Data'!J106","v":0}]
["Collision with Embankment",{"$f":"'Comparison Group 3'!B107","v":0},{"$f":"'Comparison Group 3'!C107","v":0},{"$f":"'Comparison Group 2'!B107","v":93},{"$f":"'Comparison Group 2'!C107","v":9.3561368209255535E-2},{"$f":"'Comparison Group 1'!B107","v":5},{"$f":"'Comparison Group 1'!C107","v":4.2735042735042736E-2},{"$f":"'Subject Data'!B107","v":0},{"$f":"'Subject Data'!C107","v":0},{"$f":"'Comparison Group 3'!I107","v":1},{"$f":"'Comparison Group 3'!J107","v":1.817355747387551E-5},{"$f":"'Comparison Group 2'!I107","v":15157},{"$f":"'Comparison Group 2'!J107","v":0.35569792546700457},{"$f":"'Comparison Group 1'!I107","v":1053},{"$f":"'Comparison Group 1'!J107","v":0.2305671118896431},{"$f":"'Subject Data'!I107","v":3},{"$f":"'Subject Data'!J107","v":0.06}]
["Collision with Fence",{"$f":"'Comparison Group 3'!B108","v":3},{"$f":"'Comparison Group 3'!C108","v":2.3273855702094647E-3},{"$f":"'Comparison Group 2'!B108","v":0},{"$f":"'Comparison Group 2'!C108","v":0},{"$f":"'Comparison Group 1'!B108","v":0},{"$f":"'Comparison Group 1'!C108","v":0},{"$f":"'Subject Data'!B108","v":0},{"$f":"'Subject Data'!C108","v":0},{"$f":"'Comparison Group 3'!I108","v":143},{"$f":"'Comparison Group 3'!J108","v":2.598818718764198E-3},{"$f":"'Comparison Group 2'!I108","v":13},{"$f":"'Comparison Group 2'!J108","v":3.0507838167652304E-4},{"$f":"'Comparison Group 1'!I108","v":3},{"$f":"'Comparison Group 1'!J108","v":6.5688635865995186E-4},{"$f":"'Subject Data'!I108","v":0},{"$f":"'Subject Data'!J108","v":0}]
["Collision with Guardrail End Terminal",{"$f":"'Comparison Group 3'!B109","v":0},{"$f":"'Comparison Group 3'!C109","v":0},{"$f":"'Comparison Group 2'!B109","v":8},{"$f":"'Comparison Group 2'!C109","v":8.0482897384305842E-3},{"$f":"'Comparison Group 1'!B109","v":1},{"$f":"'Comparison Group 1'!C109","v":8.5470085470085479E-3},{"$f":"'Subject Data'!B109","v":0},{"$f":"'Subject Data'!C109","v":0},{"$f":"'Comparison Group 3'!I109","v":4},{"$f":"'Comparison Group 3'!J109","v":7.2694229895502041E-5},{"$f":"'Comparison Group 2'!I109","v":371},{"$f":"'Comparison Group 2'!J109","v":8.7064676616915426E-3},{"$f":"'Comparison Group 1'!I109","v":97},{"$f":"'Comparison Group 1'!J109","v":2.1239325596671774E-2},{"$f":"'Subject Data'!I109","v":0},{"$f":"'Subject Data'!J109","v":0}]
["Collision with Guardrail Face",{"$f":"'Comparison Group 3'!B110","v":0},{"$f":"'Comparison Group 3'!C110","v":0},{"$f":"'Comparison Group 2'!B110","v":17},{"$f":"'Comparison Group 2'!C110","v":1.7102615694164991E-2},{"$f":"'Comparison Group 1'!B110","v":4},{"$f":"'Comparison Group 1'!C110","v":3.4188034188034191E-2},{"$f":"'Subject Data'!B110","v":0},{"$f":"'Subject Data'!C110","v":0},{"$f":"'Comparison Group 3'!I110","v":0},{"$f":"'Comparison Group 3'!J110","v":0},{"$f":"'Comparison Group 2'!I110","v":4888},{"$f":"'Comparison Group 2'!J110","v":0.11470947151037267},{"$f":"'Comparison Group 1'!I110","v":338},{"$f":"'Comparison Group 1'!J110","v":7.4009196409021233E-2},{"$f":"'Subject Data'!I110","v":0},{"$f":"'Subject Data'!J110","v":0}]
["Collision with Impact Attenuator/Crash Cushion",{"$f":"'Comparison Group 3'!B111","v":0},{"$f":"'Comparison Group 3'!C111","v":0},{"$f":"'Comparison Group 2'!B111","v":1},{"$f":"'Comparison Group 2'!C111","v":1.006036217303823E-3},{"$f":"'Comparison Group 1'!B111","v":0},{"$f":"'Comparison Group 1'!C111","v":0},{"$f":"'Subject Data'!B111","v":0},{"$f":"'Subject Data'!C111","v":0},{"$f":"'Comparison Group 3'!I111","v":0},{"$f":"'Comparison Group 3'!J111","v":0},{"$f":"'Comparison Group 2'!I111","v":591},{"$f":"'Comparison Group 2'!J111","v":1.3869332582371163E-2},{"$f":"'Comparison Group 1'!I111","v":39},{"$f":"'Comparison Group 1'!J111","v":8.5395226625793741E-3},{"$f":"'Subject Data'!I111","v":0},{"$f":"'Subject Data'!J111","v":0}]
["Collision with Mailbox",{"$f":"'Comparison Group 3'!B112","v":0},{"$f":"'Comparison Group 3'!C112","v":0},{"$f":"'Comparison Group 2'!B112","v":8},{"$f":"'Comparison Group 2'!C112","v":8.0482897384305842E-3},{"$f":"'Comparison Group 1'!B112","v":0},{"$f":"'Comparison Group 1'!C112","v":0},{"$f":"'Subject Data'!B112","v":0},{"$f":"'Subject Data'!C112","v":0},{"$f":"'Comparison Group 3'!I112","v":0},{"$f":"'Comparison Group 3'!J112","v":0},{"$f":"'Comparison Group 2'!I112","v":102},{"$f":"'Comparison Group 2'!J112","v":2.3936919177696423E-3},{"$f":"'Comparison Group 1'!I112","v":9},{"$f":"'Comparison Group 1'!J112","v":1.9706590759798557E-3},{"$f":"'Subject Data'!I112","v":6},{"$f":"'Subject Data'!J112","v":0.12}]
["Collision with Other Fixed Object",{"$f":"'Comparison Group 3'!B113","v":0},{"$f":"'Comparison Group 3'!C113","v":0},{"$f":"'Comparison Group 2'!B113","v":16},{"$f":"'Comparison Group 2'!C113","v":1.6096579476861168E-2},{"$f":"'Comparison Group 1'!B113","v":3},{"$f":"'Comparison Group 1'!C113","v":2.564102564102564E-2},{"$f":"'Subject Data'!B113","v":0},{"$f":"'Subject Data'!C113","v":0},{"$f":"'Comparison Group 3'!I113","v":1},{"$f":"'Comparison Group 3'!J113","v":1.817355747387551E-5},{"$f":"'Comparison Group 2'!I113","v":294},{"$f":"'Comparison Group 2'!J113","v":6.8994649394536747E-3},{"$f":"'Comparison Group 1'!I113","v":74},{"$f":"'Comparison Group 1'!J113","v":1.6203196846945479E-2},{"$f":"'Subject Data'!I113","v":0},{"$f":"'Subject Data'!J113","v":0}]
["Collision with Other Post, Pole, or Support",{"$f":"'Comparison Group 3'!B114","v":0},{"$f":"'Comparison Group 3'!C114","v":0},{"$f":"'Comparison Group 2'!B114","v":171},{"$f":"'Comparison Group 2'!C114","v":0.17203219315895371},{"$f":"'Comparison Group 1'!B114","v":16},{"$f":"'Comparison Group 1'!C114","v":0.13675213675213677},{"$f":"'Subject Data'!B114","v":1},{"$f":"'Subject Data'!C114","v":0.14285714285714285},{"$f":"'Comparison Group 3'!I114","v":0},{"$f":"'Comparison Group 3'!J114","v":0},{"$f":"'Comparison Group 2'!I114","v":3824},{"$f":"'Comparison Group 2'!J114","v":8.9739979348540319E-2},{"$f":"'Comparison Group 1'!I114","v":220},{"$f":"'Comparison Group 1'!J114","v":4.8171666301729803E-2},{"$f":"'Subject Data'!I114","v":4},{"$f":"'Subject Data'!J114","v":0.08}]
["Collision with Other Traffic Barrier",{"$f":"'Comparison Group 3'!B115","v":0},{"$f":"'Comparison Group 3'!C115","v":0},{"$f":"'Comparison Group 2'!B115","v":7},{"$f":"'Comparison Group 2'!C115","v":7.0422535211267607E-3},{"$f":"'Comparison Group 1'!B115","v":1},{"$f":"'Comparison Group 1'!C115","v":8.5470085470085479E-3},{"$f":"'Subject Data'!B115","v":0},{"$f":"'Subject Data'!C115","v":0},{"$f":"'Comparison Group 3'!I115","v":1},{"$f":"'Comparison Group 3'!J115","v":1.817355747387551E-5},{"$f":"'Comparison Group 2'!I115","v":169},{"$f":"'Comparison Group 2'!J115","v":3.9660189617947992E-3},{"$f":"'Comparison Group 1'!I115","v":14},{"$f":"'Comparison Group 1'!J115","v":3.0654696737464418E-3},{"$f":"'Subject Data'!I115","v":0},{"$f":"'Subject Data'!J115","v":0}]
["Collision with Traffic Sign Support",{"$f":"'Comparison Group 3'!B116","v":0},{"$f":"'Comparison Group 3'!C116","v":0},{"$f":"'Comparison Group 2'!B116","v":6},{"$f":"'Comparison Group 2'!C116","v":6.0362173038229373E-3},{"$f":"'Comparison Group 1'!B116","v":1},{"$f":"'Comparison Group 1'!C116","v":8.5470085470085479E-3},{"$f":"'Subject Data'!B116","v":0},{"$f":"'Subject Data'!C116","v":0},{"$f":"'Comparison Group 3'!I116","v":0},{"$f":"'Comparison Group 3'!J116","v":0},{"$f":"'Comparison Group 2'!I116","v":133},{"$f":"'Comparison Group 2'!J116","v":3.1211865202290436E-3},{"$f":"'Comparison Group 1'!I116","v":38},{"$f":"'Comparison Group 1'!J116","v":8.3205605430260558E-3},{"$f":"'Subject Data'!I116","v":8},{"$f":"'Subject Data'!J116","v":0.16}]
["Collision with Traffic Signal Support",{"$f":"'Comparison Group 3'!B117","v":15},{"$f":"'Comparison Group 3'!C117","v":1.1636927851047323E-2},{"$f":"'Comparison Group 2'!B117","v":0},{"$f":"'Comparison Group 2'!C117","v":0},{"$f":"'Comparison Group 1'!B117","v":0},{"$f":"'Comparison Group 1'!C117","v":0},{"$f":"'Subject Data'!B117","v":0},{"$f":"'Subject Data'!C117","v":0},{"$f":"'Comparison Group 3'!I117","v":874},{"$f":"'Comparison Group 3'!J117","v":1.5883689232167198E-2},{"$f":"'Comparison Group 2'!I117","v":75},{"$f":"'Comparison Group 2'!J117","v":1.7600675865953252E-3},{"$f":"'Comparison Group 1'!I117","v":16},{"$f":"'Comparison Group 1'!J117","v":3.5033939128530766E-3},{"$f":"'Subject Data'!I117","v":0},{"$f":"'Subject Data'!J117","v":0}]
["Collision with Tree",{"$f":"'Comparison Group 3'!B118","v":0},{"$f":"'Comparison Group 3'!C118","v":0},{"$f":"'Comparison Group 2'!B118","v":0},{"$f":"'Comparison Group 2'!C118","v":0},{"$f":"'Comparison Group 1'!B118","v":0},{"$f":"'Comparison Group 1'!C118","v":0},{"$f":"'Subject Data'!B118","v":0},{"$f":"'Subject Data'!C118","v":0},{"$f":"'Comparison Group 3'!I118","v":1},{"$f":"'Comparison Group 3'!J118","v":1.817355747387551E-5},{"$f":"'Comparison Group 2'!I118","v":151},{"$f":"'Comparison Group 2'!J118","v":3.5436027410119214E-3},{"$f":"'Comparison Group 1'!I118","v":29},{"$f":"'Comparison Group 1'!J118","v":6.349901467046201E-3},{"$f":"'Subject Data'!I118","v":0},{"$f":"'Subject Data'!J118","v":0}]
["Collision with Utility Pole or Light Support",{"$f":"'Comparison Group 3'!B119","v":0},{"$f":"'Comparison Group 3'!C119","v":0},{"$f":"'Comparison Group 2'!B119","v":0},{"$f":"'Comparison Group 2'!C119","v":0},{"$f":"'Comparison Group 1'!B119","v":0},{"$f":"'Comparison Group 1'!C119","v":0},{"$f":"'Subject Data'!B119","v":0},{"$f":"'Subject Data'!C119","v":0},{"$f":"'Comparison Group 3'!I119","v":2},{"$f":"'Comparison Group 3'!J119","v":3.6347114947751021E-5},{"$f":"'Comparison Group 2'!I119","v":0},{"$f":"'Comparison Group 2'!J119","v":0},{"$f":"'Comparison Group 1'!I119","v":16},{"$f":"'Comparison Group 1'!J119","v":3.5033939128530766E-3},{"$f":"'Subject Data'!I119","v":0},{"$f":"'Subject Data'!J119","v":0}]
["Unknown",{"$f":"'Comparison Group 3'!B120","v":420},{"$f":"'Comparison Group 3'!C120","v":0.32583397982932505},{"$f":"'Comparison Group 2'!B120","v":0},{"$f":"'Comparison Group 2'!C120","v":0},{"$f":"'Comparison Group 1'!B120","v":0},{"$f":"'Comparison Group 1'!C120","v":0},{"$f":"'Subject Data'!B120","v":0},{"$f":"'Subject Data'!C120","v":0},{"$f":"'Comparison Group 3'!I120","v":23769},{"$f":"'Comparison Group 3'!J120","v":0.43196728759654701},{"$f":"'Comparison Group 2'!I120","v":0},{"$f":"'Comparison Group 2'!J120","v":0},{"$f":"'Comparison Group 1'!I120","v":0},{"$f":"'Comparison Group 1'!J120","v":0},{"$f":"'Subject Data'!I120","v":0},{"$f":"'Subject Data'!J120","v":0}]
["Location of First Harmful Event"]
["Gore",{"$f":"'Comparison Group 3'!B122","v":313},{"$f":"'Comparison Group 3'!C122","v":0.24282389449185415},{"$f":"'Comparison Group 2'!B122","v":150},{"$f":"'Comparison Group 2'!C122","v":0.15090543259557343},{"$f":"'Comparison Group 1'!B122","v":108},{"$f":"'Comparison Group 1'!C122","v":0.92307692307692313},{"$f":"'Subject Data'!B122","v":0},{"$f":"'Subject Data'!C122","v":0},{"$f":"'Comparison Group 3'!I122","v":7988},{"$f":"'Comparison Group 3'!J122","v":0.14517037710131758},{"$f":"'Comparison Group 2'!I122","v":3463},{"$f":"'Comparison Group 2'!J122","v":8.1313985160139005E-2},{"$f":"'Comparison Group 1'!I122","v":3854},{"$f":"'Comparison Group 1'!J122","v":0.84388000875848479},{"$f":"'Subject Data'!I122","v":5},{"$f":"'Subject Data'!J122","v":0.1}]
["In Parking Lane or Zone",{"$f":"'Comparison Group 3'!B123","v":798},{"$f":"'Comparison Group 3'!C123","v":0.61908456167571757},{"$f":"'Comparison Group 2'!B123","v":180},{"$f":"'Comparison Group 2'!C123","v":0.18108651911468812},{"$f":"'Comparison Group 1'!B123","v":0},{"$f":"'Comparison Group 1'!C123","v":0},{"$f":"'Subject Data'!B123","v":0},{"$f":"'Subject Data'!C123","v":0},{"$f":"'Comparison Group 3'!I123","v":41341},{"$f":"'Comparison Group 3'!J123","v":0.75131303952748751},{"$f":"'Comparison Group 2'!I123","v":5695},{"$f":"'Comparison Group 2'!J123","v":0.13372311449234525},{"$f":"'Comparison Group 1'!I123","v":4},{"$f":"'Comparison Group 1'!J123","v":8.7584847821326915E-4},{"$f":"'Subject Data'!I123","v":4},{"$f":"'Subject Data'!J123","v":0.08}]
["Median",{"$f":"'Comparison Group 3'!B124","v":127},{"$f":"'Comparison Group 3'!C124","v":9.8525989138867343E-2},{"$f":"'Comparison Group 2'!B124","v":7},{"$f":"'Comparison Group 2'!C124","v":7.0422535211267607E-3},{"$f":"'Comparison Group 1'!B124","v":0},{"$f":"'Comparison Group 1'!C124","v":0},{"$f":"'Subject Data'!B124","v":0},{"$f":"'Subject Data'!C124","v":0},{"$f":"'Comparison Group 3'!I124","v":4765},{"$f":"'Comparison Group 3'!J124","v":8.6597001363016804E-2},{"$f":"'Comparison Group 2'!I124","v":517},{"$f":"'Comparison Group 2'!J124","v":1.2139569831877525E-2},{"$f":"'Comparison Group 1'!I124","v":1},{"$f":"'Comparison Group 1'!J124","v":2.1896211955331729E-4},{"$f":"'Subject Data'!I124","v":5},{"$f":"'Subject Data'!J124","v":0.1}]
["Off-Roadway, Location Unknown",{"$f":"'Comparison Group 3'!B125","v":36},{"$f":"'Comparison Group 3'!C125","v":2.7928626842513578E-2},{"$f":"'Comparison Group 2'!B125","v":18},{"$f":"'Comparison Group 2'!C125","v":1.8108651911468814E-2},{"$f":"'Comparison Group 1'!B125","v":3},{"$f":"'Comparison Group 1'!C125","v":2.564102564102564E-2},{"$f":"'Subject Data'!B125","v":1},{"$f":"'Subject Data'!C125","v":0.14285714285714285},{"$f":"'Comparison Group 3'!I125","v":776},{"$f":"'Comparison Group 3'!J125","v":1.4102680599727397E-2},{"$f":"'Comparison Group 2'!I125","v":348},{"$f":"'Comparison Group 2'!J125","v":8.1713158636235565E-3},{"$f":"'Comparison Group 1'!I125","v":210},{"$f":"'Comparison Group 1'!J125","v":4.5982045106196627E-2},{"$f":"'Subject Data'!I125","v":5},{"$f":"'Subject Data'!J125","v":0.1}]
["On Roadway",{"$f":"'Comparison Group 3'!B126","v":11},{"$f":"'Comparison Group 3'!C126","v":8.5337470907680367E-3},{"$f":"'Comparison Group 2'!B126","v":25},{"$f":"'Comparison Group 2'!C126","v":2.5150905432595575E-2},{"$f":"'Comparison Group 1'!B126","v":0},{"$f":"'Comparison Group 1'!C126","v":0},{"$f":"'Subject Data'!B126","v":0},{"$f":"'Subject Data'!C126","v":0},{"$f":"'Comparison Group 3'!I126","v":121},{"$f":"'Comparison Group 3'!J126","v":2.1990004543389367E-3},{"$f":"'Comparison Group 2'!I126","v":223},{"$f":"'Comparison Group 2'!J126","v":5.236216774678313E-3},{"$f":"'Comparison Group 1'!I126","v":5},{"$f":"'Comparison Group 1'!J126","v":1.0948105977665863E-3},{"$f":"'Subject Data'!I126","v":3},{"$f":"'Subject Data'!J126","v":0.06}]
["On Shoulder, Left Side",{"$f":"'Comparison Group 3'!B127","v":1},{"$f":"'Comparison Group 3'!C127","v":7.7579519006982156E-4},{"$f":"'Comparison Group 2'!B127","v":5},{"$f":"'Comparison Group 2'!C127","v":5.0301810865191147E-3},{"$f":"'Comparison Group 1'!B127","v":0},{"$f":"'Comparison Group 1'!C127","v":0},{"$f":"'Subject Data'!B127","v":1},{"$f":"'Subject Data'!C127","v":0.14285714285714285},{"$f":"'Comparison Group 3'!I127","v":21},{"$f":"'Comparison Group 3'!J127","v":3.8164470695138572E-4},{"$f":"'Comparison Group 2'!I127","v":222},{"$f":"'Comparison Group 2'!J127","v":5.2127359819667514E-3},{"$f":"'Comparison Group 1'!I127","v":12},{"$f":"'Comparison Group 1'!J127","v":2.6275454346398074E-3},{"$f":"'Subject Data'!I127","v":3},{"$f":"'Subject Data'!J127","v":0.06}]
["On Shoulder, Right Side",{"$f":"'Comparison Group 3'!B128","v":1},{"$f":"'Comparison Group 3'!C128","v":7.7579519006982156E-4},{"$f":"'Comparison Group 2'!B128","v":77},{"$f":"'Comparison Group 2'!C128","v":7.746478873239436E-2},{"$f":"'Comparison Group 1'!B128","v":0},{"$f":"'Comparison Group 1'!C128","v":0},{"$f":"'Subject Data'!B128","v":2},{"$f":"'Subject Data'!C128","v":0.2857142857142857},{"$f":"'Comparison Group 3'!I128","v":6},{"$f":"'Comparison Group 3'!J128","v":1.0904134484325306E-4},{"$f":"'Comparison Group 2'!I128","v":528},{"$f":"'Comparison Group 2'!J128","v":1.2397858551704706E-2},{"$f":"'Comparison Group 1'!I128","v":24},{"$f":"'Comparison Group 1'!J128","v":5.2550908692796149E-3},{"$f":"'Subject Data'!I128","v":6},{"$f":"'Subject Data'!J128","v":0.12}]
["Outside Road/Right-of-Way",{"$f":"'Comparison Group 3'!B129","v":0},{"$f":"'Comparison Group 3'!C129","v":0},{"$f":"'Comparison Group 2'!B129","v":19},{"$f":"'Comparison Group 2'!C129","v":1.9114688128772636E-2},{"$f":"'Comparison Group 1'!B129","v":0},{"$f":"'Comparison Group 1'!C129","v":0},{"$f":"'Subject Data'!B129","v":2},{"$f":"'Subject Data'!C129","v":0.2857142857142857},{"$f":"'Comparison Group 3'!I129","v":1},{"$f":"'Comparison Group 3'!J129","v":1.817355747387551E-5},{"$f":"'Comparison Group 2'!I129","v":2945},{"$f":"'Comparison Group 2'!J129","v":6.9150934535549921E-2},{"$f":"'Comparison Group 1'!I129","v":0},{"$f":"'Comparison Group 1'!J129","v":0},{"$f":"'Subject Data'!I129","v":6},{"$f":"'Subject Data'!J129","v":0.12}]
["Roadside",{"$f":"'Comparison Group 3'!B130","v":1},{"$f":"'Comparison Group 3'!C130","v":7.7579519006982156E-4},{"$f":"'Comparison Group 2'!B130","v":144},{"$f":"'Comparison Group 2'!C130","v":0.14486921529175051},{"$f":"'Comparison Group 1'!B130","v":1},{"$f":"'Comparison Group 1'!C130","v":8.5470085470085479E-3},{"$f":"'Subject Data'!B130","v":0},{"$f":"'Subject Data'!C130","v":0},{"$f":"'Comparison Group 3'!I130","v":3},{"$f":"'Comparison Group 3'!J130","v":5.4520672421626531E-5},{"$f":"'Comparison Group 2'!I130","v":574},{"$f":"'Comparison Group 2'!J130","v":1.3477975016436555E-2},{"$f":"'Comparison Group 1'!I130","v":142},{"$f":"'Comparison Group 1'!J130","v":3.1092620976571055E-2},{"$f":"'Subject Data'!I130","v":4},{"$f":"'Subject Data'!J130","v":0.08}]
["Separator/Traffic Island",{"$f":"'Comparison Group 3'!B131","v":0},{"$f":"'Comparison Group 3'!C131","v":0},{"$f":"'Comparison Group 2'!B131","v":155},{"$f":"'Comparison Group 2'!C131","v":0.15593561368209255},{"$f":"'Comparison Group 1'!B131","v":1},{"$f":"'Comparison Group 1'!C131","v":8.5470085470085479E-3},{"$f":"'Subject Data'!B131","v":0},{"$f":"'Subject Data'!C131","v":0},{"$f":"'Comparison Group 3'!I131","v":1},{"$f":"'Comparison Group 3'!J131","v":1.817355747387551E-5},{"$f":"'Comparison Group 2'!I131","v":17847},{"$f":"'Comparison Group 2'!J131","v":0.41906170752324601},{"$f":"'Comparison Group 1'!I131","v":2},{"$f":"'Comparison Group 1'!J131","v":4.3792423910663457E-4},{"$f":"'Subject Data'!I131","v":4},{"$f":"'Subject Data'!J131","v":0.08}]
["Unknown",{"$f":"'Comparison Group 3'!B132","v":1},{"$f":"'Comparison Group 3'!C132","v":7.7579519006982156E-4},{"$f":"'Comparison Group 2'!B132","v":214},{"$f":"'Comparison Group 2'!C132","v":0.2152917505030181},{"$f":"'Comparison Group 1'!B132","v":4},{"$f":"'Comparison Group 1'!C132","v":3.4188034188034191E-2},{"$f":"'Subject Data'!B132","v":1},{"$f":"'Subject Data'!C132","v":0.14285714285714285},{"$f":"'Comparison Group 3'!I132","v":2},{"$f":"'Comparison Group 3'!J132","v":3.6347114947751021E-5},{"$f":"'Comparison Group 2'!I132","v":10226},{"$f":"'Comparison Group 2'!J132","v":0.24011458626843243},{"$f":"'Comparison Group 1'!I132","v":313},{"$f":"'Comparison Group 1'!J132","v":6.8535143420188308E-2},{"$f":"'Subject Data'!I132","v":5},{"$f":"'Subject Data'!J132","v":0.1}]
["Manner of Crash"]
["Not a Collision Between Two Motor Vehicles",{"$f":"'Comparison Group 3'!B134","v":83},{"$f":"'Comparison Group 3'!C134","v":6.4391000775795196E-2},{"$f":"'Comparison Group 2'!B134","v":896},{"$f":"'Comparison Group 2'!C134","v":0.90140845070422537},{"$f":"'Comparison Group 1'!B134","v":10},{"$f":"'Comparison Group 1'!C134","v":8.5470085470085472E-2},{"$f":"'Subject Data'!B134","v":0},{"$f":"'Subject Data'!C134","v":0},{"$f":"'Comparison Group 3'!I134","v":3376},{"$f":"'Comparison Group 3'!J134","v":6.1353930031803727E-2},{"$f":"'Comparison Group 2'!I134","v":35853},{"$f":"'Comparison Group 2'!J134","v":0.84185686108763036},{"$f":"'Comparison Group 1'!I134","v":410},{"$f":"'Comparison Group 1'!J134","v":8.9774469016860078E-2},{"$f":"'Subject Data'!I134","v":8},{"$f":"'Subject Data'!J134","v":0.16}]
["Angle",{"$f":"'Comparison Group 3'!B135","v":482},{"$f":"'Comparison Group 3'!C135","v":0.37393328161365402},{"$f":"'Comparison Group 2'!B135","v":1},{"$f":"'Comparison Group 2'!C135","v":1.006036217303823E-3},{"$f":"'Comparison Group 1'!B135","v":6},{"$f":"'Comparison Group 1'!C135","v":5.128205128205128E-2},{"$f":"'Subject Data'!B135","v":1},{"$f":"'Subject Data'!C135","v":0.14285714285714285},{"$f":"'Comparison Group 3'!I135","v":15862},{"$f":"'Comparison Group 3'!J135","v":0.28826896865061336},{"$f":"'Comparison Group 2'!I135","v":18},{"$f":"'Comparison Group 2'!J135","v":4.2265426880811494E-4},{"$f":"'Comparison Group 1'!I135","v":347},{"$f":"'Comparison Group 1'!J135","v":7.5979855485001094E-2},{"$f":"'Subject Data'!I135","v":13},{"$f":"'Subject Data'!J135","v":0.26}]
["Front to Front",{"$f":"'Comparison Group 3'!B136","v":1},{"$f":"'Comparison Group 3'!C136","v":7.7579519006982156E-4},{"$f":"'Comparison Group 2'!B136","v":4},{"$f":"'Comparison Group 2'!C136","v":4.0241448692152921E-3},{"$f":"'Comparison Group 1'!B136","v":8},{"$f":"'Comparison Group 1'!C136","v":6.8376068376068383E-2},{"$f":"'Subject Data'!B136","v":0},{"$f":"'Subject Data'!C136","v":0},{"$f":"'Comparison Group 3'!I136","v":92},{"$f":"'Comparison Group 3'!J136","v":1.671967287596547E-3},{"$f":"'Comparison Group 2'!I136","v":23},{"$f":"'Comparison Group 2'!J136","v":5.4005823236592462E-4},{"$f":"'Comparison Group 1'!I136","v":347},{"$f":"'Comparison Group 1'!J136","v":7.5979855485001094E-2},{"$f":"'Subject Data'!I136","v":0},{"$f":"'Subject Data'!J136","v":0}]
["Front to Rear",{"$f":"'Comparison Group 3'!B137","v":122},{"$f":"'Comparison Group 3'!C137","v":9.4647013188518231E-2},{"$f":"'Comparison Group 2'!B137","v":16},{"$f":"'Comparison Group 2'!C137","v":1.6096579476861168E-2},{"$f":"'Comparison Group 1'!B137","v":5},{"$f":"'Comparison Group 1'!C137","v":4.2735042735042736E-2},{"$f":"'Subject Data'!B137","v":0},{"$f":"'Subject Data'!C137","v":0},{"$f":"'Comparison Group 3'!I137","v":8057},{"$f":"'Comparison Group 3'!J137","v":0.146424352567015},{"$f":"'Comparison Group 2'!I137","v":1673},{"$f":"'Comparison Group 2'!J137","v":3.9283366206443127E-2},{"$f":"'Comparison Group 1'!I137","v":387},{"$f":"'Comparison Group 1'!J137","v":8.4738340267133783E-2},{"$f":"'Subject Data'!I137","v":4},{"$f":"'Subject Data'!J137","v":0.08}]
["Rear to Rear",{"$f":"'Comparison Group 3'!B138","v":550},{"$f":"'Comparison Group 3'!C138","v":0.42668735453840184},{"$f":"'Comparison Group 2'!B138","v":0},{"$f":"'Comparison Group 2'!C138","v":0},{"$f":"'Comparison Group 1'!B138","v":14},{"$f":"'Comparison Group 1'!C138","v":0.11965811965811966},{"$f":"'Subject Data'!B138","v":5},{"$f":"'Subject Data'!C138","v":0.7142857142857143},{"$f":"'Comparison Group 3'!I138","v":25398},{"$f":"'Comparison Group 3'!J138","v":0.46157201272149023},{"$f":"'Comparison Group 2'!I138","v":39},{"$f":"'Comparison Group 2'!J138","v":9.1575091575091575E-4},{"$f":"'Comparison Group 1'!I138","v":354},{"$f":"'Comparison Group 1'!J138","v":7.7512590321874311E-2},{"$f":"'Subject Data'!I138","v":25},{"$f":"'Subject Data'!J138","v":0.5}]
["Rear to Side",{"$f":"'Comparison Group 3'!B139","v":0},{"$f":"'Comparison Group 3'!C139","v":0},{"$f":"'Comparison Group 2'!B139","v":0},{"$f":"'Comparison Group 2'!C139","v":0},{"$f":"'Comparison Group 1'!B139","v":9},{"$f":"'Comparison Group 1'!C139","v":7.6923076923076927E-2},{"$f":"'Subject Data'!B139","v":0},{"$f":"'Subject Data'!C139","v":0},{"$f":"'Comparison Group 3'!I139","v":25},{"$f":"'Comparison Group 3'!J139","v":4.5433893684688776E-4},{"$f":"'Comparison Group 2'!I139","v":6},{"$f":"'Comparison Group 2'!J139","v":1.4088475626937165E-4},{"$f":"'Comparison Group 1'!I139","v":359},{"$f":"'Comparison Group 1'!J139","v":7.8607400919640899E-2},{"$f":"'Subject Data'!I139","v":0},{"$f":"'Subject Data'!J139","v":0}]
["Sideswipe, Opposite Direction",{"$f":"'Comparison Group 3'!B140","v":46},{"$f":"'Comparison Group 3'!C140","v":3.5686578743211794E-2},{"$f":"'Comparison Group 2'!B140","v":2},{"$f":"'Comparison Group 2'!C140","v":2.012072434607646E-3},{"$f":"'Comparison Group 1'!B140","v":7},{"$f":"'Comparison Group 1'!C140","v":5.9829059829059832E-2},{"$f":"'Subject Data'!B140","v":0},{"$f":"'Subject Data'!C140","v":0},{"$f":"'Comparison Group 3'!I140","v":1795},{"$f":"'Comparison Group 3'!J140","v":3.2621535665606542E-2},{"$f":"'Comparison Group 2'!I140","v":290},{"$f":"'Comparison Group 2'!J140","v":6.8094298863529629E-3},{"$f":"'Comparison Group 1'!I140","v":359},{"$f":"'Comparison Group 1'!J140","v":7.8607400919640899E-2},{"$f":"'Subject Data'!I140","v":0},{"$f":"'Subject Data'!J140","v":0}]
["Sideswipe, Same Direction",{"$f":"'Comparison Group 3'!B141","v":5},{"$f":"'Comparison Group 3'!C141","v":3.8789759503491078E-3},{"$f":"'Comparison Group 2'!B141","v":0},{"$f":"'Comparison Group 2'!C141","v":0},{"$f":"'Comparison Group 1'!B141","v":9},{"$f":"'Comparison Group 1'!C141","v":7.6923076923076927E-2},{"$f":"'Subject Data'!B141","v":1},{"$f":"'Subject Data'!C141","v":0.14285714285714285},{"$f":"'Comparison Group 3'!I141","v":414},{"$f":"'Comparison Group 3'!J141","v":7.5238527941844614E-3},{"$f":"'Comparison Group 2'!I141","v":12},{"$f":"'Comparison Group 2'!J141","v":2.8176951253874329E-4},{"$f":"'Comparison Group 1'!I141","v":391},{"$f":"'Comparison Group 1'!J141","v":8.5614188745347056E-2},{"$f":"'Subject Data'!I141","v":0},{"$f":"'Subject Data'!J141","v":0}]
["Other",{"$f":"'Comparison Group 3'!B142","v":0},{"$f":"'Comparison Group 3'!C142","v":0},{"$f":"'Comparison Group 2'!B142","v":11},{"$f":"'Comparison Group 2'!C142","v":1.1066398390342052E-2},{"$f":"'Comparison Group 1'!B142","v":13},{"$f":"'Comparison Group 1'!C142","v":0.1111111111111111},{"$f":"'Subject Data'!B142","v":0},{"$f":"'Subject Data'!C142","v":0},{"$f":"'Comparison Group 3'!I142","v":6},{"$f":"'Comparison Group 3'!J142","v":1.0904134484325306E-4},{"$f":"'Comparison Group 2'!I142","v":1231},{"$f":"'Comparison Group 2'!J142","v":2.890485582793275E-2},{"$f":"'Comparison Group 1'!I142","v":411},{"$f":"'Comparison Group 1'!J142","v":8.9993431136413407E-2},{"$f":"'Subject Data'!I142","v":0},{"$f":"'Subject Data'!J142","v":0}]
["Unknown",{"$f":"'Comparison Group 3'!B143","v":0},{"$f":"'Comparison Group 3'!C143","v":0},{"$f":"'Comparison Group 2'!B143","v":64},{"$f":"'Comparison Group 2'!C143","v":6.4386317907444673E-2},{"$f":"'Comparison Group 1'!B143","v":36},{"$f":"'Comparison Group 1'!C143","v":0.30769230769230771},{"$f":"'Subject Data'!B143","v":0},{"$f":"'Subject Data'!C143","v":0},{"$f":"'Comparison Group 3'!I143","v":0},{"$f":"'Comparison Group 3'!J143","v":0},{"$f":"'Comparison Group 2'!I143","v":3443},{"$f":"'Comparison Group 2'!J143","v":8.0844369305907771E-2},{"$f":"'Comparison Group 1'!I143","v":1202},{"$f":"'Comparison Group 1'!J143","v":0.26319246770308735},{"$f":"'Subject Data'!I143","v":0},{"$f":"'Subject Data'!J143","v":0}]
["Weather"]
["Blowing Sand, Soil, Dirt",{"$f":"'Comparison Group 3'!B145","v":1162},{"$f":"'Comparison Group 3'!C145","v":0.90147401086113266},{"$f":"'Comparison Group 2'!B145","v":204},{"$f":"'Comparison Group 2'!C145","v":0.20523138832997989},{"$f":"'Comparison Group 1'!B145","v":34},{"$f":"'Comparison Group 1'!C145","v":0.29059829059829062},{"$f":"'Subject Data'!B145","v":2},{"$f":"'Subject Data'!C145","v":0.2857142857142857},{"$f":"'Comparison Group 3'!I145","v":45988},{"$f":"'Comparison Group 3'!J145","v":0.83576556110858702},{"$f":"'Comparison Group 2'!I145","v":5164},{"$f":"'Comparison Group 2'!J145","v":0.12125481356250586},{"$f":"'Comparison Group 1'!I145","v":1067},{"$f":"'Comparison Group 1'!J145","v":0.23363258156338954},{"$f":"'Subject Data'!I145","v":6},{"$f":"'Subject Data'!J145","v":0.12}]
["Blowing Snow",{"$f":"'Comparison Group 3'!B146","v":2},{"$f":"'Comparison Group 3'!C146","v":1.5515903801396431E-3},{"$f":"'Comparison Group 2'!B146","v":651},{"$f":"'Comparison Group 2'!C146","v":0.65492957746478875},{"$f":"'Comparison Group 1'!B146","v":67},{"$f":"'Comparison Group 1'!C146","v":0.57264957264957261},{"$f":"'Subject Data'!B146","v":2},{"$f":"'Subject Data'!C146","v":0.2857142857142857},{"$f":"'Comparison Group 3'!I146","v":24},{"$f":"'Comparison Group 3'!J146","v":4.3616537937301225E-4},{"$f":"'Comparison Group 2'!I146","v":32859},{"$f":"'Comparison Group 2'!J146","v":0.77155536770921385},{"$f":"'Comparison Group 1'!I146","v":3162},{"$f":"'Comparison Group 1'!J146","v":0.69235822202758923},{"$f":"'Subject Data'!I146","v":6},{"$f":"'Subject Data'!J146","v":0.12}]
["Clear",{"$f":"'Comparison Group 3'!B147","v":5},{"$f":"'Comparison Group 3'!C147","v":3.8789759503491078E-3},{"$f":"'Comparison Group 2'!B147","v":101},{"$f":"'Comparison Group 2'!C147","v":0.10160965794768612},{"$f":"'Comparison Group 1'!B147","v":11},{"$f":"'Comparison Group 1'!C147","v":9.4017094017094016E-2},{"$f":"'Subject Data'!B147","v":0},{"$f":"'Subject Data'!C147","v":0},{"$f":"'Comparison Group 3'!I147","v":32},{"$f":"'Comparison Group 3'!J147","v":5.8155383916401633E-4},{"$f":"'Comparison Group 2'!I147","v":3816},{"$f":"'Comparison Group 2'!J147","v":8.960270498732037E-2},{"$f":"'Comparison Group 1'!I147","v":286},{"$f":"'Comparison Group 1'!J147","v":6.2623166192248739E-2},{"$f":"'Subject Data'!I147","v":4},{"$f":"'Subject Data'!J147","v":0.08}]
["Cloudy",{"$f":"'Comparison Group 3'!B148","v":24},{"$f":"'Comparison Group 3'!C148","v":1.8619084561675717E-2},{"$f":"'Comparison Group 2'!B148","v":29},{"$f":"'Comparison Group 2'!C148","v":2.9175050301810865E-2},{"$f":"'Comparison Group 1'!B148","v":3},{"$f":"'Comparison Group 1'!C148","v":2.564102564102564E-2},{"$f":"'Subject Data'!B148","v":0},{"$f":"'Subject Data'!C148","v":0},{"$f":"'Comparison Group 3'!I148","v":2425},{"$f":"'Comparison Group 3'!J148","v":4.4070876874148117E-2},{"$f":"'Comparison Group 2'!I148","v":629},{"$f":"'Comparison Group 2'!J148","v":1.4769418615572462E-2},{"$f":"'Comparison Group 1'!I148","v":41},{"$f":"'Comparison Group 1'!J148","v":8.9774469016860089E-3},{"$f":"'Subject Data'!I148","v":4},{"$f":"'Subject Data'!J148","v":0.08}]
["Fog, Smog, Smoke",{"$f":"'Comparison Group 3'!B149","v":0},{"$f":"'Comparison Group 3'!C149","v":0},{"$f":"'Comparison Group 2'!B149","v":6},{"$f":"'Comparison Group 2'!C149","v":6.0362173038229373E-3},{"$f":"'Comparison Group 1'!B149","v":1},{"$f":"'Comparison Group 1'!C149","v":8.5470085470085479E-3},{"$f":"'Subject Data'!B149","v":1},{"$f":"'Subject Data'!C149","v":0.14285714285714285},{"$f":"'Comparison Group 3'!I149","v":63},{"$f":"'Comparison Group 3'!J149","v":1.1449341208541572E-3},{"$f":"'Comparison Group 2'!I149","v":93},{"$f":"'Comparison Group 2'!J149","v":2.1837137221752605E-3},{"$f":"'Comparison Group 1'!I149","v":8},{"$f":"'Comparison Group 1'!J149","v":1.7516969564265383E-3},{"$f":"'Subject Data'!I149","v":3},{"$f":"'Subject Data'!J149","v":0.06}]
["Freezing Rain or Freezing Drizzle",{"$f":"'Comparison Group 3'!B150","v":1},{"$f":"'Comparison Group 3'!C150","v":7.7579519006982156E-4},{"$f":"'Comparison Group 2'!B150","v":0},{"$f":"'Comparison Group 2'!C150","v":0},{"$f":"'Comparison Group 1'!B150","v":1},{"$f":"'Comparison Group 1'!C150","v":8.5470085470085479E-3},{"$f":"'Subject Data'!B150","v":0},{"$f":"'Subject Data'!C150","v":0},{"$f":"'Comparison Group 3'!I150","v":20},{"$f":"'Comparison Group 3'!J150","v":3.6347114947751021E-4},{"$f":"'Comparison Group 2'!I150","v":17},{"$f":"'Comparison Group 2'!J150","v":3.9917347609655303E-4},{"$f":"'Comparison Group 1'!I150","v":3},{"$f":"'Comparison Group 1'!J150","v":6.5688635865995186E-4},{"$f":"'Subject Data'!I150","v":2},{"$f":"'Subject Data'!J150","v":0.04}]
["Rain",{"$f":"'Comparison Group 3'!B151","v":4},{"$f":"'Comparison Group 3'!C151","v":3.1031807602792862E-3},{"$f":"'Comparison Group 2'!B151","v":1},{"$f":"'Comparison Group 2'!C151","v":1.006036217303823E-3},{"$f":"'Comparison Group 1'!B151","v":0},{"$f":"'Comparison Group 1'!C151","v":0},{"$f":"'Subject Data'!B151","v":0},{"$f":"'Subject Data'!C151","v":0},{"$f":"'Comparison Group 3'!I151","v":398},{"$f":"'Comparison Group 3'!J151","v":7.2330758746024532E-3},{"$f":"'Comparison Group 2'!I151","v":5},{"$f":"'Comparison Group 2'!J151","v":1.1740396355780971E-4},{"$f":"'Comparison Group 1'!I151","v":0},{"$f":"'Comparison Group 1'!J151","v":0},{"$f":"'Subject Data'!I151","v":5},{"$f":"'Subject Data'!J151","v":0.1}]
["Severe Crosswinds",{"$f":"'Comparison Group 3'!B152","v":0},{"$f":"'Comparison Group 3'!C152","v":0},{"$f":"'Comparison Group 2'!B152","v":0},{"$f":"'Comparison Group 2'!C152","v":0},{"$f":"'Comparison Group 1'!B152","v":0},{"$f":"'Comparison Group 1'!C152","v":0},{"$f":"'Subject Data'!B152","v":0},{"$f":"'Subject Data'!C152","v":0},{"$f":"'Comparison Group 3'!I152","v":19},{"$f":"'Comparison Group 3'!J152","v":3.452975920036347E-4},{"$f":"'Comparison Group 2'!I152","v":1},{"$f":"'Comparison Group 2'!J152","v":2.3480792711561942E-5},{"$f":"'Comparison Group 1'!I152","v":0},{"$f":"'Comparison Group 1'!J152","v":0},{"$f":"'Subject Data'!I152","v":4},{"$f":"'Subject Data'!J152","v":0.08}]
["Sleet or Hail",{"$f":"'Comparison Group 3'!B153","v":14},{"$f":"'Comparison Group 3'!C153","v":1.0861132660977503E-2},{"$f":"'Comparison Group 2'!B153","v":1},{"$f":"'Comparison Group 2'!C153","v":1.006036217303823E-3},{"$f":"'Comparison Group 1'!B153","v":0},{"$f":"'Comparison Group 1'!C153","v":0},{"$f":"'Subject Data'!B153","v":0},{"$f":"'Subject Data'!C153","v":0},{"$f":"'Comparison Group 3'!I153","v":1623},{"$f":"'Comparison Group 3'!J153","v":2.9495683780099955E-2},{"$f":"'Comparison Group 2'!I153","v":2},{"$f":"'Comparison Group 2'!J153","v":4.6961585423123884E-5},{"$f":"'Comparison Group 1'!I153","v":0},{"$f":"'Comparison Group 1'!J153","v":0},{"$f":"'Subject Data'!I153","v":5},{"$f":"'Subject Data'!J153","v":0.1}]
["Snow",{"$f":"'Comparison Group 3'!B154","v":1},{"$f":"'Comparison Group 3'!C154","v":7.7579519006982156E-4},{"$f":"'Comparison Group 2'!B154","v":0},{"$f":"'Comparison Group 2'!C154","v":0},{"$f":"'Comparison Group 1'!B154","v":0},{"$f":"'Comparison Group 1'!C154","v":0},{"$f":"'Subject Data'!B154","v":1},{"$f":"'Subject Data'!C154","v":0.14285714285714285},{"$f":"'Comparison Group 3'!I154","v":65},{"$f":"'Comparison Group 3'!J154","v":1.1812812358019081E-3},{"$f":"'Comparison Group 2'!I154","v":0},{"$f":"'Comparison Group 2'!J154","v":0},{"$f":"'Comparison Group 1'!I154","v":0},{"$f":"'Comparison Group 1'!J154","v":0},{"$f":"'Subject Data'!I154","v":5},{"$f":"'Subject Data'!J154","v":0.1}]
["Other",{"$f":"'Comparison Group 3'!B155","v":2},{"$f":"'Comparison Group 3'!C155","v":1.5515903801396431E-3},{"$f":"'Comparison Group 2'!B155","v":0},{"$f":"'Comparison Group 2'!C155","v":0},{"$f":"'Comparison Group 1'!B155","v":0},{"$f":"'Comparison Group 1'!C155","v":0},{"$f":"'Subject Data'!B155","v":0},{"$f":"'Subject Data'!C155","v":0},{"$f":"'Comparison Group 3'!I155","v":359},{"$f":"'Comparison Group 3'!J155","v":6.5243071331213083E-3},{"$f":"'Comparison Group 2'!I155","v":1},{"$f":"'Comparison Group 2'!J155","v":2.3480792711561942E-5},{"$f":"'Comparison Group 1'!I155","v":0},{"$f":"'Comparison Group 1'!J155","v":0},{"$f":"'Subject Data'!I155","v":3},{"$f":"'Subject Data'!J155","v":0.06}]
["Unknown",{"$f":"'Comparison Group 3'!B156","v":74},{"$f":"'Comparison Group 3'!C156","v":5.7408844065166796E-2},{"$f":"'Comparison Group 2'!B156","v":1},{"$f":"'Comparison Group 2'!C156","v":1.006036217303823E-3},{"$f":"'Comparison Group 1'!B156","v":0},{"$f":"'Comparison Group 1'!C156","v":0},{"$f":"'Subject Data'!B156","v":1},{"$f":"'Subject Data'!C156","v":0.14285714285714285},{"$f":"'Comparison Group 3'!I156","v":4009},{"$f":"'Comparison Group 3'!J156","v":7.2857791912766923E-2},{"$f":"'Comparison Group 2'!I156","v":1},{"$f":"'Comparison Group 2'!J156","v":2.3480792711561942E-5},{"$f":"'Comparison Group 1'!I156","v":0},{"$f":"'Comparison Group 1'!J156","v":0},{"$f":"'Subject Data'!I156","v":3},{"$f":"'Subject Data'!J156","v":0.06}]
["Light Conditions"]
["Daylight",{"$f":"'Comparison Group 3'!B158","v":55},{"$f":"'Comparison Group 3'!C158","v":4.2668735453840187E-2},{"$f":"'Comparison Group 2'!B158","v":184},{"$f":"'Comparison Group 2'!C158","v":0.18511066398390341},{"$f":"'Comparison Group 1'!B158","v":8},{"$f":"'Comparison Group 1'!C158","v":6.8376068376068383E-2},{"$f":"'Subject Data'!B158","v":0},{"$f":"'Subject Data'!C158","v":0},{"$f":"'Comparison Group 3'!I158","v":1886},{"$f":"'Comparison Group 3'!J158","v":3.4275329395729213E-2},{"$f":"'Comparison Group 2'!I158","v":6560},{"$f":"'Comparison Group 2'!J158","v":0.15403400018784635},{"$f":"'Comparison Group 1'!I158","v":512},{"$f":"'Comparison Group 1'!J158","v":0.11210860521129845},{"$f":"'Subject Data'!I158","v":6},{"$f":"'Subject Data'!J158","v":0.12}]
["Dawn/Dusk",{"$f":"'Comparison Group 3'!B159","v":67},{"$f":"'Comparison Group 3'!C159","v":5.1978277734678044E-2},{"$f":"'Comparison Group 2'!B159","v":156},{"$f":"'Comparison Group 2'!C159","v":0.15694164989939638},{"$f":"'Comparison Group 1'!B159","v":39},{"$f":"'Comparison Group 1'!C159","v":0.33333333333333331},{"$f":"'Subject Data'!B159","v":2},{"$f":"'Subject Data'!C159","v":0.2857142857142857},{"$f":"'Comparison Group 3'!I159","v":2128},{"$f":"'Comparison Group 3'!J159","v":3.8673330304407089E-2},{"$f":"'Comparison Group 2'!I159","v":7353},{"$f":"'Comparison Group 2'!J159","v":0.17265426880811496},{"$f":"'Comparison Group 1'!I159","v":1340},{"$f":"'Comparison Group 1'!J159","v":0.29340924020144515},{"$f":"'Subject Data'!I159","v":8},{"$f":"'Subject Data'!J159","v":0.16}]
["Dark - Lighted",{"$f":"'Comparison Group 3'!B160","v":5},{"$f":"'Comparison Group 3'!C160","v":3.8789759503491078E-3},{"$f":"'Comparison Group 2'!B160","v":151},{"$f":"'Comparison Group 2'!C160","v":0.15191146881287726},{"$f":"'Comparison Group 1'!B160","v":0},{"$f":"'Comparison Group 1'!C160","v":0},{"$f":"'Subject Data'!B160","v":1},{"$f":"'Subject Data'!C160","v":0.14285714285714285},{"$f":"'Comparison Group 3'!I160","v":161},{"$f":"'Comparison Group 3'!J160","v":2.9259427532939571E-3},{"$f":"'Comparison Group 2'!I160","v":5727},{"$f":"'Comparison Group 2'!J160","v":0.13447449985911525},{"$f":"'Comparison Group 1'!I160","v":5},{"$f":"'Comparison Group 1'!J160","v":1.0948105977665863E-3},{"$f":"'Subject Data'!I160","v":5},{"$f":"'Subject Data'!J160","v":0.1}]
["Dark - Not Lighted",{"$f":"'Comparison Group 3'!B161","v":340},{"$f":"'Comparison Group 3'!C161","v":0.26377036462373932},{"$f":"'Comparison Group 2'!B161","v":102},{"$f":"'Comparison Group 2'!C161","v":0.10261569416498995},{"$f":"'Comparison Group 1'!B161","v":9},{"$f":"'Comparison Group 1'!C161","v":7.6923076923076927E-2},{"$f":"'Subject Data'!B161","v":2},{"$f":"'Subject Data'!C161","v":0.2857142857142857},{"$f":"'Comparison Group 3'!I161","v":13243},{"$f":"'Comparison Group 3'!J161","v":0.24067242162653341},{"$f":"'Comparison Group 2'!I161","v":3945},{"$f":"'Comparison Group 2'!J161","v":9.2631727247111856E-2},{"$f":"'Comparison Group 1'!I161","v":687},{"$f":"'Comparison Group 1'!J161","v":0.15042697613312897},{"$f":"'Subject Data'!I161","v":5},{"$f":"'Subject Data'!J161","v":0.1}]
["Dark - Unknown Lighting",{"$f":"'Comparison Group 3'!B162","v":821},{"$f":"'Comparison Group 3'!C162","v":0.63692785104732352},{"$f":"'Comparison Group 2'!B162","v":134},{"$f":"'Comparison Group 2'!C162","v":0.13480885311871227},{"$f":"'Comparison Group 1'!B162","v":61},{"$f":"'Comparison Group 1'!C162","v":0.5213675213675214},{"$f":"'Subject Data'!B162","v":1},{"$f":"'Subject Data'!C162","v":0.14285714285714285},{"$f":"'Comparison Group 3'!I162","v":37589},{"$f":"'Comparison Group 3'!J162","v":0.68312585188550656},{"$f":"'Comparison Group 2'!I162","v":6088},{"$f":"'Comparison Group 2'!J162","v":0.1429510660279891},{"$f":"'Comparison Group 1'!I162","v":2010},{"$f":"'Comparison Group 1'!J162","v":0.4401138603021677},{"$f":"'Subject Data'!I162","v":4},{"$f":"'Subject Data'!J162","v":0.08}]
["Other",{"$f":"'Comparison Group 3'!B163","v":1},{"$f":"'Comparison Group 3'!C163","v":7.7579519006982156E-4},{"$f":"'Comparison Group 2'!B163","v":138},{"$f":"'Comparison Group 2'!C163","v":0.13883299798792756},{"$f":"'Comparison Group 1'!B163","v":0},{"$f":"'Comparison Group 1'!C163","v":0},{"$f":"'Subject Data'!B163","v":0},{"$f":"'Subject Data'!C163","v":0},{"$f":"'Comparison Group 3'!I163","v":18},{"$f":"'Comparison Group 3'!J163","v":3.2712403452975919E-4},{"$f":"'Comparison Group 2'!I163","v":6384},{"$f":"'Comparison Group 2'!J163","v":0.14990138067061143},{"$f":"'Comparison Group 1'!I163","v":5},{"$f":"'Comparison Group 1'!J163","v":1.0948105977665863E-3},{"$f":"'Subject Data'!I163","v":9},{"$f":"'Subject Data'!J163","v":0.18}]
["Unknown",{"$f":"'Comparison Group 3'!B164","v":0},{"$f":"'Comparison Group 3'!C164","v":0},{"$f":"'Comparison Group 2'!B164","v":129},{"$f":"'Comparison Group 2'!C164","v":0.12977867203219315},{"$f":"'Comparison Group 1'!B164","v":0},{"$f":"'Comparison Group 1'!C164","v":0},{"$f":"'Subject Data'!B164","v":1},{"$f":"'Subject Data'!C164","v":0.14285714285714285},{"$f":"'Comparison Group 3'!I164","v":0},{"$f":"'Comparison Group 3'!J164","v":0},{"$f":"'Comparison Group 2'!I164","v":6531},{"$f":"'Comparison Group 2'!J164","v":0.15335305719921105},{"$f":"'Comparison Group 1'!I164","v":8},{"$f":"'Comparison Group 1'!J164","v":1.7516969564265383E-3},{"$f":"'Subject Data'!I164","v":13},{"$f":"'Subject Data'!J164","v":0.26}]
["Road Surface Condition"]
["Dry",{"$f":"'Comparison Group 3'!B166","v":550},{"$f":"'Comparison Group 3'!C166","v":0.42668735453840184},{"$f":"'Comparison Group 2'!B166","v":204},{"$f":"'Comparison Group 2'!C166","v":0.20523138832997989},{"$f":"'Comparison Group 1'!B166","v":108},{"$f":"'Comparison Group 1'!C166","v":0.92307692307692313},{"$f":"'Subject Data'!B166","v":4},{"$f":"'Subject Data'!C166","v":0.5714285714285714},{"$f":"'Comparison Group 3'!I166","v":414},{"$f":"'Comparison Group 3'!J166","v":7.5238527941844614E-3},{"$f":"'Comparison Group 2'!I166","v":5164},{"$f":"'Comparison Group 2'!J166","v":0.12125481356250586},{"$f":"'Comparison Group 1'!I166","v":3854},{"$f":"'Comparison Group 1'!J166","v":0.84388000875848479},{"$f":"'Subject Data'!I166","v":22},{"$f":"'Subject Data'!J166","v":0.44}]
["Ice/Frost",{"$f":"'Comparison Group 3'!B167","v":0},{"$f":"'Comparison Group 3'!C167","v":0},{"$f":"'Comparison Group 2'!B167","v":651},{"$f":"'Comparison Group 2'!C167","v":0.65492957746478875},{"$f":"'Comparison Group 1'!B167","v":0},{"$f":"'Comparison Group 1'!C167","v":0},{"$f":"'Subject Data'!B167","v":2},{"$f":"'Subject Data'!C167","v":0.2857142857142857},{"$f":"'Comparison Group 3'!I167","v":6},{"$f":"'Comparison Group 3'!J167","v":1.0904134484325306E-4},{"$f":"'Comparison Group 2'!I167","v":32859},{"$f":"'Comparison Group 2'!J167","v":0.77155536770921385},{"$f":"'Comparison Group 1'!I167","v":4},{"$f":"'Comparison Group 1'!J167","v":8.7584847821326915E-4},{"$f":"'Subject Data'!I167","v":28},{"$f":"'Subject Data'!J167","v":0.56000000000000005}]
["Mud, Dirt, Gravel",{"$f":"'Comparison Group 3'!B168","v":46},{"$f":"'Comparison Group 3'!C168","v":3.5686578743211794E-2},{"$f":"'Comparison Group 2'!B168","v":101},{"$f":"'Comparison Group 2'!C168","v":0.10160965794768612},{"$f":"'Comparison Group 1'!B168","v":0},{"$f":"'Comparison Group 1'!C168","v":0},{"$f":"'Subject Data'!B168","v":0},{"$f":"'Subject Data'!C168","v":0},{"$f":"'Comparison Group 3'!I168","v":0},{"$f":"'Comparison Group 3'!J168","v":0},{"$f":"'Comparison Group 2'!I168","v":3816},{"$f":"'Comparison Group 2'!J168","v":8.960270498732037E-2},{"$f":"'Comparison Group 1'!I168","v":1},{"$f":"'Comparison Group 1'!J168","v":2.1896211955331729E-4},{"$f":"'Subject Data'!I168","v":0},{"$f":"'Subject Data'!J168","v":0}]
["Oil",{"$f":"'Comparison Group 3'!B169","v":5},{"$f":"'Comparison Group 3'!C169","v":3.8789759503491078E-3},{"$f":"'Comparison Group 2'!B169","v":29},{"$f":"'Comparison Group 2'!C169","v":2.9175050301810865E-2},{"$f":"'Comparison Group 1'!B169","v":3},{"$f":"'Comparison Group 1'!C169","v":2.564102564102564E-2},{"$f":"'Subject Data'!B169","v":1},{"$f":"'Subject Data'!C169","v":0.14285714285714285},{"$f":"'Comparison Group 3'!I169","v":3376},{"$f":"'Comparison Group 3'!J169","v":6.1353930031803727E-2},{"$f":"'Comparison Group 2'!I169","v":629},{"$f":"'Comparison Group 2'!J169","v":1.4769418615572462E-2},{"$f":"'Comparison Group 1'!I169","v":210},{"$f":"'Comparison Group 1'!J169","v":4.5982045106196627E-2},{"$f":"'Subject Data'!I169","v":0},{"$f":"'Subject Data'!J169","v":0}]
["Sand",{"$f":"'Comparison Group 3'!B170","v":0},{"$f":"'Comparison Group 3'!C170","v":0},{"$f":"'Comparison Group 2'!B170","v":6},{"$f":"'Comparison Group 2'!C170","v":6.0362173038229373E-3},{"$f":"'Comparison Group 1'!B170","v":0},{"$f":"'Comparison Group 1'!C170","v":0},{"$f":"'Subject Data'!B170","v":0},{"$f":"'Subject Data'!C170","v":0},{"$f":"'Comparison Group 3'!I170","v":15862},{"$f":"'Comparison Group 3'!J170","v":0.28826896865061336},{"$f":"'Comparison Group 2'!I170","v":93},{"$f":"'Comparison Group 2'!J170","v":2.1837137221752605E-3},{"$f":"'Comparison Group 1'!I170","v":5},{"$f":"'Comparison Group 1'!J170","v":1.0948105977665863E-3},{"$f":"'Subject Data'!I170","v":0},{"$f":"'Subject Data'!J170","v":0}]
["Sluch",{"$f":"'Comparison Group 3'!B171","v":0},{"$f":"'Comparison Group 3'!C171","v":0},{"$f":"'Comparison Group 2'!B171","v":0},{"$f":"'Comparison Group 2'!C171","v":0},{"$f":"'Comparison Group 1'!B171","v":0},{"$f":"'Comparison Group 1'!C171","v":0},{"$f":"'Subject Data'!B171","v":0},{"$f":"'Subject Data'!C171","v":0},{"$f":"'Comparison Group 3'!I171","v":92},{"$f":"'Comparison Group 3'!J171","v":1.671967287596547E-3},{"$f":"'Comparison Group 2'!I171","v":17},{"$f":"'Comparison Group 2'!J171","v":3.9917347609655303E-4},{"$f":"'Comparison Group 1'!I171","v":12},{"$f":"'Comparison Group 1'!J171","v":2.6275454346398074E-3},{"$f":"'Subject Data'!I171","v":0},{"$f":"'Subject Data'!J171","v":0}]
["Snow",{"$f":"'Comparison Group 3'!B172","v":83},{"$f":"'Comparison Group 3'!C172","v":6.4391000775795196E-2},{"$f":"'Comparison Group 2'!B172","v":1},{"$f":"'Comparison Group 2'!C172","v":1.006036217303823E-3},{"$f":"'Comparison Group 1'!B172","v":0},{"$f":"'Comparison Group 1'!C172","v":0},{"$f":"'Subject Data'!B172","v":0},{"$f":"'Subject Data'!C172","v":0},{"$f":"'Comparison Group 3'!I172","v":8057},{"$f":"'Comparison Group 3'!J172","v":0.146424352567015},{"$f":"'Comparison Group 2'!I172","v":5},{"$f":"'Comparison Group 2'!J172","v":1.1740396355780971E-4},{"$f":"'Comparison Group 1'!I172","v":24},{"$f":"'Comparison Group 1'!J172","v":5.2550908692796149E-3},{"$f":"'Subject Data'!I172","v":0},{"$f":"'Subject Data'!J172","v":0}]
["Water (Standing, Moving)",{"$f":"'Comparison Group 3'!B173","v":482},{"$f":"'Comparison Group 3'!C173","v":0.37393328161365402},{"$f":"'Comparison Group 2'!B173","v":0},{"$f":"'Comparison Group 2'!C173","v":0},{"$f":"'Comparison Group 1'!B173","v":0},{"$f":"'Comparison Group 1'!C173","v":0},{"$f":"'Subject Data'!B173","v":0},{"$f":"'Subject Data'!C173","v":0},{"$f":"'Comparison Group 3'!I173","v":25398},{"$f":"'Comparison Group 3'!J173","v":0.46157201272149023},{"$f":"'Comparison Group 2'!I173","v":1},{"$f":"'Comparison Group 2'!J173","v":2.3480792711561942E-5},{"$f":"'Comparison Group 1'!I173","v":0},{"$f":"'Comparison Group 1'!J173","v":0},{"$f":"'Subject Data'!I173","v":0},{"$f":"'Subject Data'!J173","v":0}]
["Wet",{"$f":"'Comparison Group 3'!B174","v":1},{"$f":"'Comparison Group 3'!C174","v":7.7579519006982156E-4},{"$f":"'Comparison Group 2'!B174","v":1},{"$f":"'Comparison Group 2'!C174","v":1.006036217303823E-3},{"$f":"'Comparison Group 1'!B174","v":1},{"$f":"'Comparison Group 1'!C174","v":8.5470085470085479E-3},{"$f":"'Subject Data'!B174","v":0},{"$f":"'Subject Data'!C174","v":0},{"$f":"'Comparison Group 3'!I174","v":25},{"$f":"'Comparison Group 3'!J174","v":4.5433893684688776E-4},{"$f":"'Comparison Group 2'!I174","v":2},{"$f":"'Comparison Group 2'!J174","v":4.6961585423123884E-5},{"$f":"'Comparison Group 1'!I174","v":142},{"$f":"'Comparison Group 1'!J174","v":3.1092620976571055E-2},{"$f":"'Subject Data'!I174","v":0},{"$f":"'Subject Data'!J174","v":0}]
["Other",{"$f":"'Comparison Group 3'!B175","v":122},{"$f":"'Comparison Group 3'!C175","v":9.4647013188518231E-2},{"$f":"'Comparison Group 2'!B175","v":0},{"$f":"'Comparison Group 2'!C175","v":0},{"$f":"'Comparison Group 1'!B175","v":1},{"$f":"'Comparison Group 1'!C175","v":8.5470085470085479E-3},{"$f":"'Subject Data'!B175","v":0},{"$f":"'Subject Data'!C175","v":0},{"$f":"'Comparison Group 3'!I175","v":1795},{"$f":"'Comparison Group 3'!J175","v":3.2621535665606542E-2},{"$f":"'Comparison Group 2'!I175","v":0},{"$f":"'Comparison Group 2'!J175","v":0},{"$f":"'Comparison Group 1'!I175","v":2},{"$f":"'Comparison Group 1'!J175","v":4.3792423910663457E-4},{"$f":"'Subject Data'!I175","v":0},{"$f":"'Subject Data'!J175","v":0}]
["Unknown",{"$f":"'Comparison Group 3'!B176","v":0},{"$f":"'Comparison Group 3'!C176","v":0},{"$f":"'Comparison Group 2'!B176","v":1},{"$f":"'Comparison Group 2'!C176","v":1.006036217303823E-3},{"$f":"'Comparison Group 1'!B176","v":4},{"$f":"'Comparison Group 1'!C176","v":3.4188034188034191E-2},{"$f":"'Subject Data'!B176","v":0},{"$f":"'Subject Data'!C176","v":0},{"$f":"'Comparison Group 3'!I176","v":0},{"$f":"'Comparison Group 3'!J176","v":0},{"$f":"'Comparison Group 2'!I176","v":2},{"$f":"'Comparison Group 2'!J176","v":4.6961585423123884E-5},{"$f":"'Comparison Group 1'!I176","v":313},{"$f":"'Comparison Group 1'!J176","v":6.8535143420188308E-2},{"$f":"'Subject Data'!I176","v":0},{"$f":"'Subject Data'!J176","v":0}]
["Contributing Circumstances - Roadway Environment, Selection 1"]
["None",{"$f":"'Comparison Group 3'!B178","v":0},{"$f":"'Comparison Group 3'!C178","v":0},{"$f":"'Comparison Group 2'!B178","v":0},{"$f":"'Comparison Group 2'!C178","v":0},{"$f":"'Comparison Group 1'!B178","v":5},{"$f":"'Comparison Group 1'!C178","v":4.2735042735042736E-2},{"$f":"'Subject Data'!B178","v":1},{"$f":"'Subject Data'!C178","v":0.14285714285714285},{"$f":"'Comparison Group 3'!I178","v":9},{"$f":"'Comparison Group 3'!J178","v":1.6356201726487959E-4},{"$f":"'Comparison Group 2'!I178","v":9},{"$f":"'Comparison Group 2'!J178","v":2.1132713440405747E-4},{"$f":"'Comparison Group 1'!I178","v":115},{"$f":"'Comparison Group 1'!J178","v":2.5180643748631486E-2},{"$f":"'Subject Data'!I178","v":0},{"$f":"'Subject Data'!J178","v":0}]
["Animal(s)",{"$f":"'Comparison Group 3'!B179","v":117},{"$f":"'Comparison Group 3'!C179","v":9.0768037238169119E-2},{"$f":"'Comparison Group 2'!B179","v":103},{"$f":"'Comparison Group 2'!C179","v":0.10362173038229376},{"$f":"'Comparison Group 1'!B179","v":2},{"$f":"'Comparison Group 1'!C179","v":1.7094017094017096E-2},{"$f":"'Subject Data'!B179","v":0},{"$f":"'Subject Data'!C179","v":0},{"$f":"'Comparison Group 3'!I179","v":3619},{"$f":"'Comparison Group 3'!J179","v":6.5770104497955478E-2},{"$f":"'Comparison Group 2'!I179","v":2978},{"$f":"'Comparison Group 2'!J179","v":6.9925800695031459E-2},{"$f":"'Comparison Group 1'!I179","v":92},{"$f":"'Comparison Group 1'!J179","v":2.014451499890519E-2},{"$f":"'Subject Data'!I179","v":0},{"$f":"'Subject Data'!J179","v":0}]
["Debris",{"$f":"'Comparison Group 3'!B180","v":1},{"$f":"'Comparison Group 3'!C180","v":7.7579519006982156E-4},{"$f":"'Comparison Group 2'!B180","v":1},{"$f":"'Comparison Group 2'!C180","v":1.006036217303823E-3},{"$f":"'Comparison Group 1'!B180","v":5},{"$f":"'Comparison Group 1'!C180","v":4.2735042735042736E-2},{"$f":"'Subject Data'!B180","v":0},{"$f":"'Subject Data'!C180","v":0},{"$f":"'Comparison Group 3'!I180","v":42},{"$f":"'Comparison Group 3'!J180","v":7.6328941390277143E-4},{"$f":"'Comparison Group 2'!I180","v":30},{"$f":"'Comparison Group 2'!J180","v":7.0442378134685823E-4},{"$f":"'Comparison Group 1'!I180","v":100},{"$f":"'Comparison Group 1'!J180","v":2.1896211955331729E-2},{"$f":"'Subject Data'!I180","v":1},{"$f":"'Subject Data'!J180","v":0.02}]
["Glare",{"$f":"'Comparison Group 3'!B181","v":40},{"$f":"'Comparison Group 3'!C181","v":3.1031807602792862E-2},{"$f":"'Comparison Group 2'!B181","v":35},{"$f":"'Comparison Group 2'!C181","v":3.5211267605633804E-2},{"$f":"'Comparison Group 1'!B181","v":4},{"$f":"'Comparison Group 1'!C181","v":3.4188034188034191E-2},{"$f":"'Subject Data'!B181","v":0},{"$f":"'Subject Data'!C181","v":0},{"$f":"'Comparison Group 3'!I181","v":472},{"$f":"'Comparison Group 3'!J181","v":8.5779191276692413E-3},{"$f":"'Comparison Group 2'!I181","v":406},{"$f":"'Comparison Group 2'!J181","v":9.5332018408941493E-3},{"$f":"'Comparison Group 1'!I181","v":75},{"$f":"'Comparison Group 1'!J181","v":1.6422158966498797E-2},{"$f":"'Subject Data'!I181","v":3},{"$f":"'Subject Data'!J181","v":0.06}]
["Non-Highway Work",{"$f":"'Comparison Group 3'!B182","v":6},{"$f":"'Comparison Group 3'!C182","v":4.6547711404189293E-3},{"$f":"'Comparison Group 2'!B182","v":3},{"$f":"'Comparison Group 2'!C182","v":3.0181086519114686E-3},{"$f":"'Comparison Group 1'!B182","v":1},{"$f":"'Comparison Group 1'!C182","v":8.5470085470085479E-3},{"$f":"'Subject Data'!B182","v":1},{"$f":"'Subject Data'!C182","v":0.14285714285714285},{"$f":"'Comparison Group 3'!I182","v":113},{"$f":"'Comparison Group 3'!J182","v":2.0536119945479326E-3},{"$f":"'Comparison Group 2'!I182","v":71},{"$f":"'Comparison Group 2'!J182","v":1.667136282520898E-3},{"$f":"'Comparison Group 1'!I182","v":53},{"$f":"'Comparison Group 1'!J182","v":1.1604992336325816E-2},{"$f":"'Subject Data'!I182","v":1},{"$f":"'Subject Data'!J182","v":0.02}]
["Obstructed Crosswalks",{"$f":"'Comparison Group 3'!B183","v":135},{"$f":"'Comparison Group 3'!C183","v":0.10473235065942592},{"$f":"'Comparison Group 2'!B183","v":122},{"$f":"'Comparison Group 2'!C183","v":0.1227364185110664},{"$f":"'Comparison Group 1'!B183","v":3},{"$f":"'Comparison Group 1'!C183","v":2.564102564102564E-2},{"$f":"'Subject Data'!B183","v":0},{"$f":"'Subject Data'!C183","v":0},{"$f":"'Comparison Group 3'!I183","v":5920},{"$f":"'Comparison Group 3'!J183","v":0.10758746024534302},{"$f":"'Comparison Group 2'!I183","v":4873},{"$f":"'Comparison Group 2'!J183","v":0.11442190288344134},{"$f":"'Comparison Group 1'!I183","v":72},{"$f":"'Comparison Group 1'!J183","v":1.5765272607838846E-2},{"$f":"'Subject Data'!I183","v":2},{"$f":"'Subject Data'!J183","v":0.04}]
["Obstruction in Roadway",{"$f":"'Comparison Group 3'!B184","v":2},{"$f":"'Comparison Group 3'!C184","v":1.5515903801396431E-3},{"$f":"'Comparison Group 2'!B184","v":1},{"$f":"'Comparison Group 2'!C184","v":1.006036217303823E-3},{"$f":"'Comparison Group 1'!B184","v":4},{"$f":"'Comparison Group 1'!C184","v":3.4188034188034191E-2},{"$f":"'Subject Data'!B184","v":0},{"$f":"'Subject Data'!C184","v":0},{"$f":"'Comparison Group 3'!I184","v":327},{"$f":"'Comparison Group 3'!J184","v":5.9427532939572919E-3},{"$f":"'Comparison Group 2'!I184","v":188},{"$f":"'Comparison Group 2'!J184","v":4.4143890297736448E-3},{"$f":"'Comparison Group 1'!I184","v":165},{"$f":"'Comparison Group 1'!J184","v":3.612874972629735E-2},{"$f":"'Subject Data'!I184","v":5},{"$f":"'Subject Data'!J184","v":0.1}]
["Prior Crash",{"$f":"'Comparison Group 3'!B185","v":53},{"$f":"'Comparison Group 3'!C185","v":4.1117145073700546E-2},{"$f":"'Comparison Group 2'!B185","v":27},{"$f":"'Comparison Group 2'!C185","v":2.716297786720322E-2},{"$f":"'Comparison Group 1'!B185","v":2},{"$f":"'Comparison Group 1'!C185","v":1.7094017094017096E-2},{"$f":"'Subject Data'!B185","v":0},{"$f":"'Subject Data'!C185","v":0},{"$f":"'Comparison Group 3'!I185","v":1359},{"$f":"'Comparison Group 3'!J185","v":2.4697864606996821E-2},{"$f":"'Comparison Group 2'!I185","v":625},{"$f":"'Comparison Group 2'!J185","v":1.4675495444726214E-2},{"$f":"'Comparison Group 1'!I185","v":312},{"$f":"'Comparison Group 1'!J185","v":6.8316181300634993E-2},{"$f":"'Subject Data'!I185","v":2},{"$f":"'Subject Data'!J185","v":0.04}]
["Prior Non-Recurring Incident",{"$f":"'Comparison Group 3'!B186","v":4},{"$f":"'Comparison Group 3'!C186","v":3.1031807602792862E-3},{"$f":"'Comparison Group 2'!B186","v":2},{"$f":"'Comparison Group 2'!C186","v":2.012072434607646E-3},{"$f":"'Comparison Group 1'!B186","v":2},{"$f":"'Comparison Group 1'!C186","v":1.7094017094017096E-2},{"$f":"'Subject Data'!B186","v":0},{"$f":"'Subject Data'!C186","v":0},{"$f":"'Comparison Group 3'!I186","v":128},{"$f":"'Comparison Group 3'!J186","v":2.3262153566560653E-3},{"$f":"'Comparison Group 2'!I186","v":41},{"$f":"'Comparison Group 2'!J186","v":9.6271250117403967E-4},{"$f":"'Comparison Group 1'!I186","v":256},{"$f":"'Comparison Group 1'!J186","v":5.6054302605649226E-2},{"$f":"'Subject Data'!I186","v":1},{"$f":"'Subject Data'!J186","v":0.02}]
["Regular Congestion",{"$f":"'Comparison Group 3'!B187","v":10},{"$f":"'Comparison Group 3'!C187","v":7.7579519006982156E-3},{"$f":"'Comparison Group 2'!B187","v":6},{"$f":"'Comparison Group 2'!C187","v":6.0362173038229373E-3},{"$f":"'Comparison Group 1'!B187","v":0},{"$f":"'Comparison Group 1'!C187","v":0},{"$f":"'Subject Data'!B187","v":0},{"$f":"'Subject Data'!C187","v":0},{"$f":"'Comparison Group 3'!I187","v":89},{"$f":"'Comparison Group 3'!J187","v":1.6174466151749206E-3},{"$f":"'Comparison Group 2'!I187","v":60},{"$f":"'Comparison Group 2'!J187","v":1.4088475626937165E-3},{"$f":"'Comparison Group 1'!I187","v":142},{"$f":"'Comparison Group 1'!J187","v":3.1092620976571055E-2},{"$f":"'Subject Data'!I187","v":3},{"$f":"'Subject Data'!J187","v":0.06}]
["Related to a Bus Stop",{"$f":"'Comparison Group 3'!B188","v":6},{"$f":"'Comparison Group 3'!C188","v":4.6547711404189293E-3},{"$f":"'Comparison Group 2'!B188","v":5},{"$f":"'Comparison Group 2'!C188","v":5.0301810865191147E-3},{"$f":"'Comparison Group 1'!B188","v":5},{"$f":"'Comparison Group 1'!C188","v":4.2735042735042736E-2},{"$f":"'Subject Data'!B188","v":0},{"$f":"'Subject Data'!C188","v":0},{"$f":"'Comparison Group 3'!I188","v":554},{"$f":"'Comparison Group 3'!J188","v":1.0068150840527033E-2},{"$f":"'Comparison Group 2'!I188","v":495},{"$f":"'Comparison Group 2'!J188","v":1.1622992392223161E-2},{"$f":"'Comparison Group 1'!I188","v":139},{"$f":"'Comparison Group 1'!J188","v":3.04357346179111E-2},{"$f":"'Subject Data'!I188","v":3},{"$f":"'Subject Data'!J188","v":0.06}]
["Road Surface Condition (wet, icy, snow, slush, etc.)",{"$f":"'Comparison Group 3'!B189","v":0},{"$f":"'Comparison Group 3'!C189","v":0},{"$f":"'Comparison Group 2'!B189","v":0},{"$f":"'Comparison Group 2'!C189","v":0},{"$f":"'Comparison Group 1'!B189","v":1},{"$f":"'Comparison Group 1'!C189","v":8.5470085470085479E-3},{"$f":"'Subject Data'!B189","v":0},{"$f":"'Subject Data'!C189","v":0},{"$f":"'Comparison Group 3'!I189","v":51},{"$f":"'Comparison Group 3'!J189","v":9.2685143116765108E-4},{"$f":"'Comparison Group 2'!I189","v":29},{"$f":"'Comparison Group 2'!J189","v":6.8094298863529638E-4},{"$f":"'Comparison Group 1'!I189","v":176},{"$f":"'Comparison Group 1'!J189","v":3.8537333041383841E-2},{"$f":"'Subject Data'!I189","v":5},{"$f":"'Subject Data'!J189","v":0.1}]
["Ruts, Holes, Bumps",{"$f":"'Comparison Group 3'!B190","v":1},{"$f":"'Comparison Group 3'!C190","v":7.7579519006982156E-4},{"$f":"'Comparison Group 2'!B190","v":1},{"$f":"'Comparison Group 2'!C190","v":1.006036217303823E-3},{"$f":"'Comparison Group 1'!B190","v":4},{"$f":"'Comparison Group 1'!C190","v":3.4188034188034191E-2},{"$f":"'Subject Data'!B190","v":0},{"$f":"'Subject Data'!C190","v":0},{"$f":"'Comparison Group 3'!I190","v":69},{"$f":"'Comparison Group 3'!J190","v":1.2539754656974102E-3},{"$f":"'Comparison Group 2'!I190","v":38},{"$f":"'Comparison Group 2'!J190","v":8.9227012303935379E-4},{"$f":"'Comparison Group 1'!I190","v":202},{"$f":"'Comparison Group 1'!J190","v":4.4230348149770088E-2},{"$f":"'Subject Data'!I190","v":4},{"$f":"'Subject Data'!J190","v":0.08}]
["Shoulders (none, low, soft, high)",{"$f":"'Comparison Group 3'!B191","v":8},{"$f":"'Comparison Group 3'!C191","v":6.2063615205585725E-3},{"$f":"'Comparison Group 2'!B191","v":4},{"$f":"'Comparison Group 2'!C191","v":4.0241448692152921E-3},{"$f":"'Comparison Group 1'!B191","v":9},{"$f":"'Comparison Group 1'!C191","v":7.6923076923076927E-2},{"$f":"'Subject Data'!B191","v":1},{"$f":"'Subject Data'!C191","v":0.14285714285714285},{"$f":"'Comparison Group 3'!I191","v":308},{"$f":"'Comparison Group 3'!J191","v":5.5974557019536578E-3},{"$f":"'Comparison Group 2'!I191","v":165},{"$f":"'Comparison Group 2'!J191","v":3.8743307974077206E-3},{"$f":"'Comparison Group 1'!I191","v":230},{"$f":"'Comparison Group 1'!J191","v":5.0361287497262971E-2},{"$f":"'Subject Data'!I191","v":4},{"$f":"'Subject Data'!J191","v":0.08}]
["Toll Booth/Plaza Related",{"$f":"'Comparison Group 3'!B192","v":7},{"$f":"'Comparison Group 3'!C192","v":5.4305663304887513E-3},{"$f":"'Comparison Group 2'!B192","v":6},{"$f":"'Comparison Group 2'!C192","v":6.0362173038229373E-3},{"$f":"'Comparison Group 1'!B192","v":4},{"$f":"'Comparison Group 1'!C192","v":3.4188034188034191E-2},{"$f":"'Subject Data'!B192","v":0},{"$f":"'Subject Data'!C192","v":0},{"$f":"'Comparison Group 3'!I192","v":748},{"$f":"'Comparison Group 3'!J192","v":1.3593820990458883E-2},{"$f":"'Comparison Group 2'!I192","v":515},{"$f":"'Comparison Group 2'!J192","v":1.20926082464544E-2},{"$f":"'Comparison Group 1'!I192","v":252},{"$f":"'Comparison Group 1'!J192","v":5.5178454127435952E-2},{"$f":"'Subject Data'!I192","v":3},{"$f":"'Subject Data'!J192","v":0.06}]
["Traffic Control Device",{"$f":"'Comparison Group 3'!B193","v":20},{"$f":"'Comparison Group 3'!C193","v":1.5515903801396431E-2},{"$f":"'Comparison Group 2'!B193","v":14},{"$f":"'Comparison Group 2'!C193","v":1.4084507042253521E-2},{"$f":"'Comparison Group 1'!B193","v":8},{"$f":"'Comparison Group 1'!C193","v":6.8376068376068383E-2},{"$f":"'Subject Data'!B193","v":0},{"$f":"'Subject Data'!C193","v":0},{"$f":"'Comparison Group 3'!I193","v":588},{"$f":"'Comparison Group 3'!J193","v":1.0686051794638801E-2},{"$f":"'Comparison Group 2'!I193","v":347},{"$f":"'Comparison Group 2'!J193","v":8.1478350709119941E-3},{"$f":"'Comparison Group 1'!I193","v":362},{"$f":"'Comparison Group 1'!J193","v":7.9264287278300857E-2},{"$f":"'Subject Data'!I193","v":6},{"$f":"'Subject Data'!J193","v":0.12}]
["Traffic Incident",{"$f":"'Comparison Group 3'!B194","v":22},{"$f":"'Comparison Group 3'!C194","v":1.7067494181536073E-2},{"$f":"'Comparison Group 2'!B194","v":16},{"$f":"'Comparison Group 2'!C194","v":1.6096579476861168E-2},{"$f":"'Comparison Group 1'!B194","v":6},{"$f":"'Comparison Group 1'!C194","v":5.128205128205128E-2},{"$f":"'Subject Data'!B194","v":0},{"$f":"'Subject Data'!C194","v":0},{"$f":"'Comparison Group 3'!I194","v":224},{"$f":"'Comparison Group 3'!J194","v":4.0708768741481143E-3},{"$f":"'Comparison Group 2'!I194","v":174},{"$f":"'Comparison Group 2'!J194","v":4.0856579318117783E-3},{"$f":"'Comparison Group 1'!I194","v":349},{"$f":"'Comparison Group 1'!J194","v":7.6417779724107723E-2},{"$f":"'Subject Data'!I194","v":2},{"$f":"'Subject Data'!J194","v":0.04}]
["Visual Obstruction(s)",{"$f":"'Comparison Group 3'!B195","v":7},{"$f":"'Comparison Group 3'!C195","v":5.4305663304887513E-3},{"$f":"'Comparison Group 2'!B195","v":5},{"$f":"'Comparison Group 2'!C195","v":5.0301810865191147E-3},{"$f":"'Comparison Group 1'!B195","v":11},{"$f":"'Comparison Group 1'!C195","v":9.4017094017094016E-2},{"$f":"'Subject Data'!B195","v":3},{"$f":"'Subject Data'!C195","v":0.42857142857142855},{"$f":"'Comparison Group 3'!I195","v":298},{"$f":"'Comparison Group 3'!J195","v":5.4157201272149024E-3},{"$f":"'Comparison Group 2'!I195","v":210},{"$f":"'Comparison Group 2'!J195","v":4.9309664694280079E-3},{"$f":"'Comparison Group 1'!I195","v":483},{"$f":"'Comparison Group 1'!J195","v":0.10575870374425224},{"$f":"'Subject Data'!I195","v":1},{"$f":"'Subject Data'!J195","v":0.02}]
["Weather Conditions",{"$f":"'Comparison Group 3'!B196","v":2},{"$f":"'Comparison Group 3'!C196","v":1.5515903801396431E-3},{"$f":"'Comparison Group 2'!B196","v":2},{"$f":"'Comparison Group 2'!C196","v":2.012072434607646E-3},{"$f":"'Comparison Group 1'!B196","v":10},{"$f":"'Comparison Group 1'!C196","v":8.5470085470085472E-2},{"$f":"'Subject Data'!B196","v":1},{"$f":"'Subject Data'!C196","v":0.14285714285714285},{"$f":"'Comparison Group 3'!I196","v":81},{"$f":"'Comparison Group 3'!J196","v":1.4720581553839165E-3},{"$f":"'Comparison Group 2'!I196","v":60},{"$f":"'Comparison Group 2'!J196","v":1.4088475626937165E-3},{"$f":"'Comparison Group 1'!I196","v":272},{"$f":"'Comparison Group 1'!J196","v":5.9557696518502297E-2},{"$f":"'Subject Data'!I196","v":2},{"$f":"'Subject Data'!J196","v":0.04}]
["Work Zone (construction/maintenance/utility)",{"$f":"'Comparison Group 3'!B197","v":27},{"$f":"'Comparison Group 3'!C197","v":2.0946470131885182E-2},{"$f":"'Comparison Group 2'!B197","v":22},{"$f":"'Comparison Group 2'!C197","v":2.2132796780684104E-2},{"$f":"'Comparison Group 1'!B197","v":6},{"$f":"'Comparison Group 1'!C197","v":5.128205128205128E-2},{"$f":"'Subject Data'!B197","v":0},{"$f":"'Subject Data'!C197","v":0},{"$f":"'Comparison Group 3'!I197","v":700},{"$f":"'Comparison Group 3'!J197","v":1.2721490231712857E-2},{"$f":"'Comparison Group 2'!I197","v":539},{"$f":"'Comparison Group 2'!J197","v":1.2656147271531887E-2},{"$f":"'Comparison Group 1'!I197","v":159},{"$f":"'Comparison Group 1'!J197","v":3.4814977008977448E-2},{"$f":"'Subject Data'!I197","v":1},{"$f":"'Subject Data'!J197","v":0.02}]
["Worn, Travel-polished Surface",{"$f":"'Comparison Group 3'!B198","v":1},{"$f":"'Comparison Group 3'!C198","v":7.7579519006982156E-4},{"$f":"'Comparison Group 2'!B198","v":1},{"$f":"'Comparison Group 2'!C198","v":1.006036217303823E-3},{"$f":"'Comparison Group 1'!B198","v":11},{"$f":"'Comparison Group 1'!C198","v":9.4017094017094016E-2},{"$f":"'Subject Data'!B198","v":0},{"$f":"'Subject Data'!C198","v":0},{"$f":"'Comparison Group 3'!I198","v":60},{"$f":"'Comparison Group 3'!J198","v":1.0904134484325306E-3},{"$f":"'Comparison Group 2'!I198","v":39},{"$f":"'Comparison Group 2'!J198","v":9.1575091575091575E-4},{"$f":"'Comparison Group 1'!I198","v":169},{"$f":"'Comparison Group 1'!J198","v":3.7004598204510616E-2},{"$f":"'Subject Data'!I198","v":1},{"$f":"'Subject Data'!J198","v":0.02}]
["Other",{"$f":"'Comparison Group 3'!B199","v":10},{"$f":"'Comparison Group 3'!C199","v":7.7579519006982156E-3},{"$f":"'Comparison Group 2'!B199","v":6},{"$f":"'Comparison Group 2'!C199","v":6.0362173038229373E-3},{"$f":"'Comparison Group 1'!B199","v":7},{"$f":"'Comparison Group 1'!C199","v":5.9829059829059832E-2},{"$f":"'Subject Data'!B199","v":0},{"$f":"'Subject Data'!C199","v":0},{"$f":"'Comparison Group 3'!I199","v":407},{"$f":"'Comparison Group 3'!J199","v":7.3966378918673328E-3},{"$f":"'Comparison Group 2'!I199","v":340},{"$f":"'Comparison Group 2'!J199","v":7.9834695219310609E-3},{"$f":"'Comparison Group 1'!I199","v":161},{"$f":"'Comparison Group 1'!J199","v":3.5252901248084084E-2},{"$f":"'Subject Data'!I199","v":0},{"$f":"'Subject Data'!J199","v":0}]
["Unknown",{"$f":"'Comparison Group 3'!B200","v":810},{"$f":"'Comparison Group 3'!C200","v":0.62839410395655548},{"$f":"'Comparison Group 2'!B200","v":612},{"$f":"'Comparison Group 2'!C200","v":0.61569416498993967},{"$f":"'Comparison Group 1'!B200","v":7},{"$f":"'Comparison Group 1'!C200","v":5.9829059829059832E-2},{"$f":"'Subject Data'!B200","v":0},{"$f":"'Subject Data'!C200","v":0},{"$f":"'Comparison Group 3'!I200","v":38859},{"$f":"'Comparison Group 3'!J200","v":0.70620626987732849},{"$f":"'Comparison Group 2'!I200","v":30356},{"$f":"'Comparison Group 2'!J200","v":0.71278294355217431},{"$f":"'Comparison Group 1'!I200","v":231},{"$f":"'Comparison Group 1'!J200","v":5.0580249616816293E-2},{"$f":"'Subject Data'!I200","v":0},{"$f":"'Subject Data'!J200","v":0}]
["Contributing Circumstances - Roadway Environment, Selection 2"]
["None",{"$f":"'Comparison Group 3'!B202","v":6},{"$f":"'Comparison Group 3'!C202","v":4.6547711404189293E-3},{"$f":"'Comparison Group 2'!B202","v":150},{"$f":"'Comparison Group 2'!C202","v":0.15090543259557343},{"$f":"'Comparison Group 1'!B202","v":9},{"$f":"'Comparison Group 1'!C202","v":7.6923076923076927E-2},{"$f":"'Subject Data'!B202","v":0},{"$f":"'Subject Data'!C202","v":0},{"$f":"'Comparison Group 3'!I202","v":128},{"$f":"'Comparison Group 3'!J202","v":2.3262153566560653E-3},{"$f":"'Comparison Group 2'!I202","v":3463},{"$f":"'Comparison Group 2'!J202","v":8.1313985160139005E-2},{"$f":"'Comparison Group 1'!I202","v":230},{"$f":"'Comparison Group 1'!J202","v":5.0361287497262971E-2},{"$f":"'Subject Data'!I202","v":4},{"$f":"'Subject Data'!J202","v":0.08}]
["Animal(s)",{"$f":"'Comparison Group 3'!B203","v":0},{"$f":"'Comparison Group 3'!C203","v":0},{"$f":"'Comparison Group 2'!B203","v":1},{"$f":"'Comparison Group 2'!C203","v":1.006036217303823E-3},{"$f":"'Comparison Group 1'!B203","v":4},{"$f":"'Comparison Group 1'!C203","v":3.4188034188034191E-2},{"$f":"'Subject Data'!B203","v":0},{"$f":"'Subject Data'!C203","v":0},{"$f":"'Comparison Group 3'!I203","v":89},{"$f":"'Comparison Group 3'!J203","v":1.6174466151749206E-3},{"$f":"'Comparison Group 2'!I203","v":26},{"$f":"'Comparison Group 2'!J203","v":6.105006105006105E-4},{"$f":"'Comparison Group 1'!I203","v":252},{"$f":"'Comparison Group 1'!J203","v":5.5178454127435952E-2},{"$f":"'Subject Data'!I203","v":0},{"$f":"'Subject Data'!J203","v":0}]
["Debris",{"$f":"'Comparison Group 3'!B204","v":1},{"$f":"'Comparison Group 3'!C204","v":7.7579519006982156E-4},{"$f":"'Comparison Group 2'!B204","v":35},{"$f":"'Comparison Group 2'!C204","v":3.5211267605633804E-2},{"$f":"'Comparison Group 1'!B204","v":8},{"$f":"'Comparison Group 1'!C204","v":6.8376068376068383E-2},{"$f":"'Subject Data'!B204","v":0},{"$f":"'Subject Data'!C204","v":0},{"$f":"'Comparison Group 3'!I204","v":554},{"$f":"'Comparison Group 3'!J204","v":1.0068150840527033E-2},{"$f":"'Comparison Group 2'!I204","v":409},{"$f":"'Comparison Group 2'!J204","v":9.6036442190288347E-3},{"$f":"'Comparison Group 1'!I204","v":362},{"$f":"'Comparison Group 1'!J204","v":7.9264287278300857E-2},{"$f":"'Subject Data'!I204","v":1},{"$f":"'Subject Data'!J204","v":0.02}]
["Glare",{"$f":"'Comparison Group 3'!B205","v":8},{"$f":"'Comparison Group 3'!C205","v":6.2063615205585725E-3},{"$f":"'Comparison Group 2'!B205","v":3},{"$f":"'Comparison Group 2'!C205","v":3.0181086519114686E-3},{"$f":"'Comparison Group 1'!B205","v":6},{"$f":"'Comparison Group 1'!C205","v":5.128205128205128E-2},{"$f":"'Subject Data'!B205","v":0},{"$f":"'Subject Data'!C205","v":0},{"$f":"'Comparison Group 3'!I205","v":51},{"$f":"'Comparison Group 3'!J205","v":9.2685143116765108E-4},{"$f":"'Comparison Group 2'!I205","v":68},{"$f":"'Comparison Group 2'!J205","v":1.5966939043862121E-3},{"$f":"'Comparison Group 1'!I205","v":349},{"$f":"'Comparison Group 1'!J205","v":7.6417779724107723E-2},{"$f":"'Subject Data'!I205","v":0},{"$f":"'Subject Data'!J205","v":0}]
["Non-Highway Work",{"$f":"'Comparison Group 3'!B206","v":7},{"$f":"'Comparison Group 3'!C206","v":5.4305663304887513E-3},{"$f":"'Comparison Group 2'!B206","v":180},{"$f":"'Comparison Group 2'!C206","v":0.18108651911468812},{"$f":"'Comparison Group 1'!B206","v":11},{"$f":"'Comparison Group 1'!C206","v":9.4017094017094016E-2},{"$f":"'Subject Data'!B206","v":1},{"$f":"'Subject Data'!C206","v":0.14285714285714285},{"$f":"'Comparison Group 3'!I206","v":69},{"$f":"'Comparison Group 3'!J206","v":1.2539754656974102E-3},{"$f":"'Comparison Group 2'!I206","v":5695},{"$f":"'Comparison Group 2'!J206","v":0.13372311449234525},{"$f":"'Comparison Group 1'!I206","v":483},{"$f":"'Comparison Group 1'!J206","v":0.10575870374425224},{"$f":"'Subject Data'!I206","v":0},{"$f":"'Subject Data'!J206","v":0}]
["Obstructed Crosswalks",{"$f":"'Comparison Group 3'!B207","v":20},{"$f":"'Comparison Group 3'!C207","v":1.5515903801396431E-2},{"$f":"'Comparison Group 2'!B207","v":1},{"$f":"'Comparison Group 2'!C207","v":1.006036217303823E-3},{"$f":"'Comparison Group 1'!B207","v":10},{"$f":"'Comparison Group 1'!C207","v":8.5470085470085472E-2},{"$f":"'Subject Data'!B207","v":1},{"$f":"'Subject Data'!C207","v":0.14285714285714285},{"$f":"'Comparison Group 3'!I207","v":308},{"$f":"'Comparison Group 3'!J207","v":5.5974557019536578E-3},{"$f":"'Comparison Group 2'!I207","v":183},{"$f":"'Comparison Group 2'!J207","v":4.2969850662158355E-3},{"$f":"'Comparison Group 1'!I207","v":272},{"$f":"'Comparison Group 1'!J207","v":5.9557696518502297E-2},{"$f":"'Subject Data'!I207","v":3},{"$f":"'Subject Data'!J207","v":0.06}]
["Obstruction in Roadway",{"$f":"'Comparison Group 3'!B208","v":22},{"$f":"'Comparison Group 3'!C208","v":1.7067494181536073E-2},{"$f":"'Comparison Group 2'!B208","v":12},{"$f":"'Comparison Group 2'!C208","v":1.2072434607645875E-2},{"$f":"'Comparison Group 1'!B208","v":6},{"$f":"'Comparison Group 1'!C208","v":5.128205128205128E-2},{"$f":"'Subject Data'!B208","v":0},{"$f":"'Subject Data'!C208","v":0},{"$f":"'Comparison Group 3'!I208","v":748},{"$f":"'Comparison Group 3'!J208","v":1.3593820990458883E-2},{"$f":"'Comparison Group 2'!I208","v":534},{"$f":"'Comparison Group 2'!J208","v":1.2538743307974077E-2},{"$f":"'Comparison Group 1'!I208","v":159},{"$f":"'Comparison Group 1'!J208","v":3.4814977008977448E-2},{"$f":"'Subject Data'!I208","v":1},{"$f":"'Subject Data'!J208","v":0.02}]
["Prior Crash",{"$f":"'Comparison Group 3'!B209","v":7},{"$f":"'Comparison Group 3'!C209","v":5.4305663304887513E-3},{"$f":"'Comparison Group 2'!B209","v":2},{"$f":"'Comparison Group 2'!C209","v":2.012072434607646E-3},{"$f":"'Comparison Group 1'!B209","v":11},{"$f":"'Comparison Group 1'!C209","v":9.4017094017094016E-2},{"$f":"'Subject Data'!B209","v":0},{"$f":"'Subject Data'!C209","v":0},{"$f":"'Comparison Group 3'!I209","v":588},{"$f":"'Comparison Group 3'!J209","v":1.0686051794638801E-2},{"$f":"'Comparison Group 2'!I209","v":47},{"$f":"'Comparison Group 2'!J209","v":1.1035972574434112E-3},{"$f":"'Comparison Group 1'!I209","v":169},{"$f":"'Comparison Group 1'!J209","v":3.7004598204510616E-2},{"$f":"'Subject Data'!I209","v":2},{"$f":"'Subject Data'!J209","v":0.04}]
["Prior Non-Recurring Incident",{"$f":"'Comparison Group 3'!B210","v":2},{"$f":"'Comparison Group 3'!C210","v":1.5515903801396431E-3},{"$f":"'Comparison Group 2'!B210","v":155},{"$f":"'Comparison Group 2'!C210","v":0.15593561368209255},{"$f":"'Comparison Group 1'!B210","v":7},{"$f":"'Comparison Group 1'!C210","v":5.9829059829059832E-2},{"$f":"'Subject Data'!B210","v":0},{"$f":"'Subject Data'!C210","v":0},{"$f":"'Comparison Group 3'!I210","v":224},{"$f":"'Comparison Group 3'!J210","v":4.0708768741481143E-3},{"$f":"'Comparison Group 2'!I210","v":17847},{"$f":"'Comparison Group 2'!J210","v":0.41906170752324601},{"$f":"'Comparison Group 1'!I210","v":161},{"$f":"'Comparison Group 1'!J210","v":3.5252901248084084E-2},{"$f":"'Subject Data'!I210","v":2},{"$f":"'Subject Data'!J210","v":0.04}]
["Regular Congestion",{"$f":"'Comparison Group 3'!B211","v":27},{"$f":"'Comparison Group 3'!C211","v":2.0946470131885182E-2},{"$f":"'Comparison Group 2'!B211","v":8},{"$f":"'Comparison Group 2'!C211","v":8.0482897384305842E-3},{"$f":"'Comparison Group 1'!B211","v":7},{"$f":"'Comparison Group 1'!C211","v":5.9829059829059832E-2},{"$f":"'Subject Data'!B211","v":0},{"$f":"'Subject Data'!C211","v":0},{"$f":"'Comparison Group 3'!I211","v":298},{"$f":"'Comparison Group 3'!J211","v":5.4157201272149024E-3},{"$f":"'Comparison Group 2'!I211","v":476},{"$f":"'Comparison Group 2'!J211","v":1.1176857330703484E-2},{"$f":"'Comparison Group 1'!I211","v":231},{"$f":"'Comparison Group 1'!J211","v":5.0580249616816293E-2},{"$f":"'Subject Data'!I211","v":2},{"$f":"'Subject Data'!J211","v":0.04}]
["Related to a Bus Stop",{"$f":"'Comparison Group 3'!B212","v":1},{"$f":"'Comparison Group 3'!C212","v":7.7579519006982156E-4},{"$f":"'Comparison Group 2'!B212","v":0},{"$f":"'Comparison Group 2'!C212","v":0},{"$f":"'Comparison Group 1'!B212","v":5},{"$f":"'Comparison Group 1'!C212","v":4.2735042735042736E-2},{"$f":"'Subject Data'!B212","v":0},{"$f":"'Subject Data'!C212","v":0},{"$f":"'Comparison Group 3'!I212","v":81},{"$f":"'Comparison Group 3'!J212","v":1.4720581553839165E-3},{"$f":"'Comparison Group 2'!I212","v":20},{"$f":"'Comparison Group 2'!J212","v":4.6961585423123885E-4},{"$f":"'Comparison Group 1'!I212","v":115},{"$f":"'Comparison Group 1'!J212","v":2.5180643748631486E-2},{"$f":"'Subject Data'!I212","v":1},{"$f":"'Subject Data'!J212","v":0.02}]
["Road Surface Condition (wet, icy, snow, slush, etc.)",{"$f":"'Comparison Group 3'!B213","v":10},{"$f":"'Comparison Group 3'!C213","v":7.7579519006982156E-3},{"$f":"'Comparison Group 2'!B213","v":1},{"$f":"'Comparison Group 2'!C213","v":1.006036217303823E-3},{"$f":"'Comparison Group 1'!B213","v":2},{"$f":"'Comparison Group 1'!C213","v":1.7094017094017096E-2},{"$f":"'Subject Data'!B213","v":1},{"$f":"'Subject Data'!C213","v":0.14285714285714285},{"$f":"'Comparison Group 3'!I213","v":700},{"$f":"'Comparison Group 3'!J213","v":1.2721490231712857E-2},{"$f":"'Comparison Group 2'!I213","v":51},{"$f":"'Comparison Group 2'!J213","v":1.197520428289659E-3},{"$f":"'Comparison Group 1'!I213","v":92},{"$f":"'Comparison Group 1'!J213","v":2.014451499890519E-2},{"$f":"'Subject Data'!I213","v":3},{"$f":"'Subject Data'!J213","v":0.06}]
["Ruts, Holes, Bumps",{"$f":"'Comparison Group 3'!B214","v":810},{"$f":"'Comparison Group 3'!C214","v":0.62839410395655548},{"$f":"'Comparison Group 2'!B214","v":6},{"$f":"'Comparison Group 2'!C214","v":6.0362173038229373E-3},{"$f":"'Comparison Group 1'!B214","v":5},{"$f":"'Comparison Group 1'!C214","v":4.2735042735042736E-2},{"$f":"'Subject Data'!B214","v":0},{"$f":"'Subject Data'!C214","v":0},{"$f":"'Comparison Group 3'!I214","v":60},{"$f":"'Comparison Group 3'!J214","v":1.0904134484325306E-3},{"$f":"'Comparison Group 2'!I214","v":182},{"$f":"'Comparison Group 2'!J214","v":4.2735042735042739E-3},{"$f":"'Comparison Group 1'!I214","v":100},{"$f":"'Comparison Group 1'!J214","v":2.1896211955331729E-2},{"$f":"'Subject Data'!I214","v":2},{"$f":"'Subject Data'!J214","v":0.04}]
["Shoulders (none, low, soft, high)",{"$f":"'Comparison Group 3'!B215","v":0},{"$f":"'Comparison Group 3'!C215","v":0},{"$f":"'Comparison Group 2'!B215","v":7},{"$f":"'Comparison Group 2'!C215","v":7.0422535211267607E-3},{"$f":"'Comparison Group 1'!B215","v":4},{"$f":"'Comparison Group 1'!C215","v":3.4188034188034191E-2},{"$f":"'Subject Data'!B215","v":1},{"$f":"'Subject Data'!C215","v":0.14285714285714285},{"$f":"'Comparison Group 3'!I215","v":407},{"$f":"'Comparison Group 3'!J215","v":7.3966378918673328E-3},{"$f":"'Comparison Group 2'!I215","v":517},{"$f":"'Comparison Group 2'!J215","v":1.2139569831877525E-2},{"$f":"'Comparison Group 1'!I215","v":75},{"$f":"'Comparison Group 1'!J215","v":1.6422158966498797E-2},{"$f":"'Subject Data'!I215","v":4},{"$f":"'Subject Data'!J215","v":0.08}]
["Toll Booth/Plaza Related",{"$f":"'Comparison Group 3'!B216","v":117},{"$f":"'Comparison Group 3'!C216","v":9.0768037238169119E-2},{"$f":"'Comparison Group 2'!B216","v":18},{"$f":"'Comparison Group 2'!C216","v":1.8108651911468814E-2},{"$f":"'Comparison Group 1'!B216","v":1},{"$f":"'Comparison Group 1'!C216","v":8.5470085470085479E-3},{"$f":"'Subject Data'!B216","v":0},{"$f":"'Subject Data'!C216","v":0},{"$f":"'Comparison Group 3'!I216","v":38859},{"$f":"'Comparison Group 3'!J216","v":0.70620626987732849},{"$f":"'Comparison Group 2'!I216","v":348},{"$f":"'Comparison Group 2'!J216","v":8.1713158636235565E-3},{"$f":"'Comparison Group 1'!I216","v":53},{"$f":"'Comparison Group 1'!J216","v":1.1604992336325816E-2},{"$f":"'Subject Data'!I216","v":4},{"$f":"'Subject Data'!J216","v":0.08}]
["Traffic Control Device",{"$f":"'Comparison Group 3'!B217","v":1},{"$f":"'Comparison Group 3'!C217","v":7.7579519006982156E-4},{"$f":"'Comparison Group 2'!B217","v":25},{"$f":"'Comparison Group 2'!C217","v":2.5150905432595575E-2},{"$f":"'Comparison Group 1'!B217","v":3},{"$f":"'Comparison Group 1'!C217","v":2.564102564102564E-2},{"$f":"'Subject Data'!B217","v":0},{"$f":"'Subject Data'!C217","v":0},{"$f":"'Comparison Group 3'!I217","v":9},{"$f":"'Comparison Group 3'!J217","v":1.6356201726487959E-4},{"$f":"'Comparison Group 2'!I217","v":223},{"$f":"'Comparison Group 2'!J217","v":5.236216774678313E-3},{"$f":"'Comparison Group 1'!I217","v":72},{"$f":"'Comparison Group 1'!J217","v":1.5765272607838846E-2},{"$f":"'Subject Data'!I217","v":4},{"$f":"'Subject Data'!J217","v":0.08}]
["Traffic Incident",{"$f":"'Comparison Group 3'!B218","v":40},{"$f":"'Comparison Group 3'!C218","v":3.1031807602792862E-2},{"$f":"'Comparison Group 2'!B218","v":5},{"$f":"'Comparison Group 2'!C218","v":5.0301810865191147E-3},{"$f":"'Comparison Group 1'!B218","v":4},{"$f":"'Comparison Group 1'!C218","v":3.4188034188034191E-2},{"$f":"'Subject Data'!B218","v":1},{"$f":"'Subject Data'!C218","v":0.14285714285714285},{"$f":"'Comparison Group 3'!I218","v":3619},{"$f":"'Comparison Group 3'!J218","v":6.5770104497955478E-2},{"$f":"'Comparison Group 2'!I218","v":222},{"$f":"'Comparison Group 2'!J218","v":5.2127359819667514E-3},{"$f":"'Comparison Group 1'!I218","v":165},{"$f":"'Comparison Group 1'!J218","v":3.612874972629735E-2},{"$f":"'Subject Data'!I218","v":3},{"$f":"'Subject Data'!J218","v":0.06}]
["Visual Obstruction(s)",{"$f":"'Comparison Group 3'!B219","v":6},{"$f":"'Comparison Group 3'!C219","v":4.6547711404189293E-3},{"$f":"'Comparison Group 2'!B219","v":3},{"$f":"'Comparison Group 2'!C219","v":3.0181086519114686E-3},{"$f":"'Comparison Group 1'!B219","v":2},{"$f":"'Comparison Group 1'!C219","v":1.7094017094017096E-2},{"$f":"'Subject Data'!B219","v":0},{"$f":"'Subject Data'!C219","v":0},{"$f":"'Comparison Group 3'!I219","v":42},{"$f":"'Comparison Group 3'!J219","v":7.6328941390277143E-4},{"$f":"'Comparison Group 2'!I219","v":64},{"$f":"'Comparison Group 2'!J219","v":1.5027707335399643E-3},{"$f":"'Comparison Group 1'!I219","v":312},{"$f":"'Comparison Group 1'!J219","v":6.8316181300634993E-2},{"$f":"'Subject Data'!I219","v":6},{"$f":"'Subject Data'!J219","v":0.12}]
["Weather Conditions",{"$f":"'Comparison Group 3'!B220","v":135},{"$f":"'Comparison Group 3'!C220","v":0.10473235065942592},{"$f":"'Comparison Group 2'!B220","v":17},{"$f":"'Comparison Group 2'!C220","v":1.7102615694164991E-2},{"$f":"'Comparison Group 1'!B220","v":2},{"$f":"'Comparison Group 1'!C220","v":1.7094017094017096E-2},{"$f":"'Subject Data'!B220","v":1},{"$f":"'Subject Data'!C220","v":0.14285714285714285},{"$f":"'Comparison Group 3'!I220","v":472},{"$f":"'Comparison Group 3'!J220","v":8.5779191276692413E-3},{"$f":"'Comparison Group 2'!I220","v":496},{"$f":"'Comparison Group 2'!J220","v":1.1646473184934723E-2},{"$f":"'Comparison Group 1'!I220","v":256},{"$f":"'Comparison Group 1'!J220","v":5.6054302605649226E-2},{"$f":"'Subject Data'!I220","v":2},{"$f":"'Subject Data'!J220","v":0.04}]
["Work Zone (construction/maintenance/utility)",{"$f":"'Comparison Group 3'!B221","v":2},{"$f":"'Comparison Group 3'!C221","v":1.5515903801396431E-3},{"$f":"'Comparison Group 2'!B221","v":2},{"$f":"'Comparison Group 2'!C221","v":2.012072434607646E-3},{"$f":"'Comparison Group 1'!B221","v":0},{"$f":"'Comparison Group 1'!C221","v":0},{"$f":"'Subject Data'!B221","v":0},{"$f":"'Subject Data'!C221","v":0},{"$f":"'Comparison Group 3'!I221","v":113},{"$f":"'Comparison Group 3'!J221","v":2.0536119945479326E-3},{"$f":"'Comparison Group 2'!I221","v":50},{"$f":"'Comparison Group 2'!J221","v":1.1740396355780971E-3},{"$f":"'Comparison Group 1'!I221","v":142},{"$f":"'Comparison Group 1'!J221","v":3.1092620976571055E-2},{"$f":"'Subject Data'!I221","v":2},{"$f":"'Subject Data'!J221","v":0.04}]
["Worn, Travel-polished Surface",{"$f":"'Comparison Group 3'!B222","v":53},{"$f":"'Comparison Group 3'!C222","v":4.1117145073700546E-2},{"$f":"'Comparison Group 2'!B222","v":13},{"$f":"'Comparison Group 2'!C222","v":1.3078470824949699E-2},{"$f":"'Comparison Group 1'!B222","v":5},{"$f":"'Comparison Group 1'!C222","v":4.2735042735042736E-2},{"$f":"'Subject Data'!B222","v":1},{"$f":"'Subject Data'!C222","v":0.14285714285714285},{"$f":"'Comparison Group 3'!I222","v":5920},{"$f":"'Comparison Group 3'!J222","v":0.10758746024534302},{"$f":"'Comparison Group 2'!I222","v":325},{"$f":"'Comparison Group 2'!J222","v":7.631257631257631E-3},{"$f":"'Comparison Group 1'!I222","v":139},{"$f":"'Comparison Group 1'!J222","v":3.04357346179111E-2},{"$f":"'Subject Data'!I222","v":3},{"$f":"'Subject Data'!J222","v":0.06}]
["Other",{"$f":"'Comparison Group 3'!B223","v":4},{"$f":"'Comparison Group 3'!C223","v":3.1031807602792862E-3},{"$f":"'Comparison Group 2'!B223","v":9},{"$f":"'Comparison Group 2'!C223","v":9.0543259557344068E-3},{"$f":"'Comparison Group 1'!B223","v":1},{"$f":"'Comparison Group 1'!C223","v":8.5470085470085479E-3},{"$f":"'Subject Data'!B223","v":0},{"$f":"'Subject Data'!C223","v":0},{"$f":"'Comparison Group 3'!I223","v":327},{"$f":"'Comparison Group 3'!J223","v":5.9427532939572919E-3},{"$f":"'Comparison Group 2'!I223","v":146},{"$f":"'Comparison Group 2'!J223","v":3.4281957358880434E-3},{"$f":"'Comparison Group 1'!I223","v":176},{"$f":"'Comparison Group 1'!J223","v":3.8537333041383841E-2},{"$f":"'Subject Data'!I223","v":0},{"$f":"'Subject Data'!J223","v":0}]
["Unknown",{"$f":"'Comparison Group 3'!B224","v":10},{"$f":"'Comparison Group 3'!C224","v":7.7579519006982156E-3},{"$f":"'Comparison Group 2'!B224","v":341},{"$f":"'Comparison Group 2'!C224","v":0.34305835010060365},{"$f":"'Comparison Group 1'!B224","v":4},{"$f":"'Comparison Group 1'!C224","v":3.4188034188034191E-2},{"$f":"'Subject Data'!B224","v":0},{"$f":"'Subject Data'!C224","v":0},{"$f":"'Comparison Group 3'!I224","v":1359},{"$f":"'Comparison Group 3'!J224","v":2.4697864606996821E-2},{"$f":"'Comparison Group 2'!I224","v":11196},{"$f":"'Comparison Group 2'!J224","v":0.26289095519864752},{"$f":"'Comparison Group 1'!I224","v":202},{"$f":"'Comparison Group 1'!J224","v":4.4230348149770088E-2},{"$f":"'Subject Data'!I224","v":1},{"$f":"'Subject Data'!J224","v":0.02}]
["Within Interchange Area"]
["No",{"$f":"'Comparison Group 3'!B226","v":244},{"$f":"'Comparison Group 3'!C226","v":0.18929402637703646},{"$f":"'Comparison Group 2'!B226","v":838},{"$f":"'Comparison Group 2'!C226","v":0.84305835010060359},{"$f":"'Comparison Group 1'!B226","v":21},{"$f":"'Comparison Group 1'!C226","v":0.17948717948717949},{"$f":"'Subject Data'!B226","v":3},{"$f":"'Subject Data'!C226","v":0.42857142857142855},{"$f":"'Comparison Group 3'!I226","v":10475},{"$f":"'Comparison Group 3'!J226","v":0.19036801453884597},{"$f":"'Comparison Group 2'!I226","v":36340},{"$f":"'Comparison Group 2'!J226","v":0.853292007138161},{"$f":"'Comparison Group 1'!I226","v":627},{"$f":"'Comparison Group 1'!J226","v":0.13728924895992994},{"$f":"'Subject Data'!I226","v":43},{"$f":"'Subject Data'!J226","v":0.86}]
["Yes",{"$f":"'Comparison Group 3'!B227","v":838},{"$f":"'Comparison Group 3'!C227","v":0.65011636927851046},{"$f":"'Comparison Group 2'!B227","v":155},{"$f":"'Comparison Group 2'!C227","v":0.15593561368209255},{"$f":"'Comparison Group 1'!B227","v":80},{"$f":"'Comparison Group 1'!C227","v":0.68376068376068377},{"$f":"'Subject Data'!B227","v":4},{"$f":"'Subject Data'!C227","v":0.5714285714285714},{"$f":"'Comparison Group 3'!I227","v":36340},{"$f":"'Comparison Group 3'!J227","v":0.6604270786006361},{"$f":"'Comparison Group 2'!I227","v":6108},{"$f":"'Comparison Group 2'!J227","v":0.14342068188222035},{"$f":"'Comparison Group 1'!I227","v":3561},{"$f":"'Comparison Group 1'!J227","v":0.77972410772936285},{"$f":"'Subject Data'!I227","v":5},{"$f":"'Subject Data'!J227","v":0.1}]
["Unknown",{"$f":"'Comparison Group 3'!B228","v":207},{"$f":"'Comparison Group 3'!C228","v":0.16058960434445307},{"$f":"'Comparison Group 2'!B228","v":1},{"$f":"'Comparison Group 2'!C228","v":1.006036217303823E-3},{"$f":"'Comparison Group 1'!B228","v":16},{"$f":"'Comparison Group 1'!C228","v":0.13675213675213677},{"$f":"'Subject Data'!B228","v":0},{"$f":"'Subject Data'!C228","v":0},{"$f":"'Comparison Group 3'!I228","v":8210},{"$f":"'Comparison Group 3'!J228","v":0.14920490686051793},{"$f":"'Comparison Group 2'!I228","v":140},{"$f":"'Comparison Group 2'!J228","v":3.2873109796186721E-3},{"$f":"'Comparison Group 1'!I228","v":379},{"$f":"'Comparison Group 1'!J228","v":8.298664331070725E-2},{"$f":"'Subject Data'!I228","v":2},{"$f":"'Subject Data'!J228","v":0.04}]
["Relation to Junction"]
["Acceleration/Deceleration Lane",{"$f":"'Comparison Group 3'!B230","v":1207},{"$f":"'Comparison Group 3'!C230","v":0.93638479441427458},{"$f":"'Comparison Group 2'!B230","v":651},{"$f":"'Comparison Group 2'!C230","v":0.65492957746478875},{"$f":"'Comparison Group 1'!B230","v":34},{"$f":"'Comparison Group 1'!C230","v":0.29059829059829062},{"$f":"'Subject Data'!B230","v":0},{"$f":"'Subject Data'!C230","v":0},{"$f":"'Comparison Group 3'!I230","v":54272},{"$f":"'Comparison Group 3'!J230","v":0.98631531122217175},{"$f":"'Comparison Group 2'!I230","v":32859},{"$f":"'Comparison Group 2'!J230","v":0.77155536770921385},{"$f":"'Comparison Group 1'!I230","v":1067},{"$f":"'Comparison Group 1'!J230","v":0.23363258156338954},{"$f":"'Subject Data'!I230","v":3},{"$f":"'Subject Data'!J230","v":0.06}]
["Crossover-Related",{"$f":"'Comparison Group 3'!B231","v":1},{"$f":"'Comparison Group 3'!C231","v":7.7579519006982156E-4},{"$f":"'Comparison Group 2'!B231","v":101},{"$f":"'Comparison Group 2'!C231","v":0.10160965794768612},{"$f":"'Comparison Group 1'!B231","v":67},{"$f":"'Comparison Group 1'!C231","v":0.57264957264957261},{"$f":"'Subject Data'!B231","v":0},{"$f":"'Subject Data'!C231","v":0},{"$f":"'Comparison Group 3'!I231","v":3},{"$f":"'Comparison Group 3'!J231","v":5.4520672421626531E-5},{"$f":"'Comparison Group 2'!I231","v":3816},{"$f":"'Comparison Group 2'!J231","v":8.960270498732037E-2},{"$f":"'Comparison Group 1'!I231","v":3162},{"$f":"'Comparison Group 1'!J231","v":0.69235822202758923},{"$f":"'Subject Data'!I231","v":5},{"$f":"'Subject Data'!J231","v":0.1}]
["Driveway Access or Related",{"$f":"'Comparison Group 3'!B232","v":0},{"$f":"'Comparison Group 3'!C232","v":0},{"$f":"'Comparison Group 2'!B232","v":29},{"$f":"'Comparison Group 2'!C232","v":2.9175050301810865E-2},{"$f":"'Comparison Group 1'!B232","v":11},{"$f":"'Comparison Group 1'!C232","v":9.4017094017094016E-2},{"$f":"'Subject Data'!B232","v":4},{"$f":"'Subject Data'!C232","v":0.5714285714285714},{"$f":"'Comparison Group 3'!I232","v":2},{"$f":"'Comparison Group 3'!J232","v":3.6347114947751021E-5},{"$f":"'Comparison Group 2'!I232","v":629},{"$f":"'Comparison Group 2'!J232","v":1.4769418615572462E-2},{"$f":"'Comparison Group 1'!I232","v":286},{"$f":"'Comparison Group 1'!J232","v":6.2623166192248739E-2},{"$f":"'Subject Data'!I232","v":3},{"$f":"'Subject Data'!J232","v":0.06}]
["Entrance/Exit Ramp or Related",{"$f":"'Comparison Group 3'!B233","v":2},{"$f":"'Comparison Group 3'!C233","v":1.5515903801396431E-3},{"$f":"'Comparison Group 2'!B233","v":6},{"$f":"'Comparison Group 2'!C233","v":6.0362173038229373E-3},{"$f":"'Comparison Group 1'!B233","v":3},{"$f":"'Comparison Group 1'!C233","v":2.564102564102564E-2},{"$f":"'Subject Data'!B233","v":0},{"$f":"'Subject Data'!C233","v":0},{"$f":"'Comparison Group 3'!I233","v":7},{"$f":"'Comparison Group 3'!J233","v":1.2721490231712857E-4},{"$f":"'Comparison Group 2'!I233","v":93},{"$f":"'Comparison Group 2'!J233","v":2.1837137221752605E-3},{"$f":"'Comparison Group 1'!I233","v":41},{"$f":"'Comparison Group 1'!J233","v":8.9774469016860089E-3},{"$f":"'Subject Data'!I233","v":4},{"$f":"'Subject Data'!J233","v":0.08}]
["Intersection or Related",{"$f":"'Comparison Group 3'!B234","v":4},{"$f":"'Comparison Group 3'!C234","v":3.1031807602792862E-3},{"$f":"'Comparison Group 2'!B234","v":0},{"$f":"'Comparison Group 2'!C234","v":0},{"$f":"'Comparison Group 1'!B234","v":1},{"$f":"'Comparison Group 1'!C234","v":8.5470085470085479E-3},{"$f":"'Subject Data'!B234","v":0},{"$f":"'Subject Data'!C234","v":0},{"$f":"'Comparison Group 3'!I234","v":47},{"$f":"'Comparison Group 3'!J234","v":8.5415720127214904E-4},{"$f":"'Comparison Group 2'!I234","v":17},{"$f":"'Comparison Group 2'!J234","v":3.9917347609655303E-4},{"$f":"'Comparison Group 1'!I234","v":8},{"$f":"'Comparison Group 1'!J234","v":1.7516969564265383E-3},{"$f":"'Subject Data'!I234","v":4},{"$f":"'Subject Data'!J234","v":0.08}]
["Non-Junction",{"$f":"'Comparison Group 3'!B235","v":1},{"$f":"'Comparison Group 3'!C235","v":7.7579519006982156E-4},{"$f":"'Comparison Group 2'!B235","v":1},{"$f":"'Comparison Group 2'!C235","v":1.006036217303823E-3},{"$f":"'Comparison Group 1'!B235","v":1},{"$f":"'Comparison Group 1'!C235","v":8.5470085470085479E-3},{"$f":"'Subject Data'!B235","v":1},{"$f":"'Subject Data'!C235","v":0.14285714285714285},{"$f":"'Comparison Group 3'!I235","v":2},{"$f":"'Comparison Group 3'!J235","v":3.6347114947751021E-5},{"$f":"'Comparison Group 2'!I235","v":5},{"$f":"'Comparison Group 2'!J235","v":1.1740396355780971E-4},{"$f":"'Comparison Group 1'!I235","v":3},{"$f":"'Comparison Group 1'!J235","v":6.5688635865995186E-4},{"$f":"'Subject Data'!I235","v":6},{"$f":"'Subject Data'!J235","v":0.12}]
["Railway Grade Crossing",{"$f":"'Comparison Group 3'!B236","v":1},{"$f":"'Comparison Group 3'!C236","v":7.7579519006982156E-4},{"$f":"'Comparison Group 2'!B236","v":0},{"$f":"'Comparison Group 2'!C236","v":0},{"$f":"'Comparison Group 1'!B236","v":0},{"$f":"'Comparison Group 1'!C236","v":0},{"$f":"'Subject Data'!B236","v":0},{"$f":"'Subject Data'!C236","v":0},{"$f":"'Comparison Group 3'!I236","v":8},{"$f":"'Comparison Group 3'!J236","v":1.4538845979100408E-4},{"$f":"'Comparison Group 2'!I236","v":1},{"$f":"'Comparison Group 2'!J236","v":2.3480792711561942E-5},{"$f":"'Comparison Group 1'!I236","v":0},{"$f":"'Comparison Group 1'!J236","v":0},{"$f":"'Subject Data'!I236","v":5},{"$f":"'Subject Data'!J236","v":0.1}]
["Shared-Use Path or Trail",{"$f":"'Comparison Group 3'!B237","v":2},{"$f":"'Comparison Group 3'!C237","v":1.5515903801396431E-3},{"$f":"'Comparison Group 2'!B237","v":1},{"$f":"'Comparison Group 2'!C237","v":1.006036217303823E-3},{"$f":"'Comparison Group 1'!B237","v":0},{"$f":"'Comparison Group 1'!C237","v":0},{"$f":"'Subject Data'!B237","v":1},{"$f":"'Subject Data'!C237","v":0.14285714285714285},{"$f":"'Comparison Group 3'!I237","v":8},{"$f":"'Comparison Group 3'!J237","v":1.4538845979100408E-4},{"$f":"'Comparison Group 2'!I237","v":2},{"$f":"'Comparison Group 2'!J237","v":4.6961585423123884E-5},{"$f":"'Comparison Group 1'!I237","v":0},{"$f":"'Comparison Group 1'!J237","v":0},{"$f":"'Subject Data'!I237","v":4},{"$f":"'Subject Data'!J237","v":0.08}]
["Through Roadway",{"$f":"'Comparison Group 3'!B238","v":0},{"$f":"'Comparison Group 3'!C238","v":0},{"$f":"'Comparison Group 2'!B238","v":0},{"$f":"'Comparison Group 2'!C238","v":0},{"$f":"'Comparison Group 1'!B238","v":0},{"$f":"'Comparison Group 1'!C238","v":0},{"$f":"'Subject Data'!B238","v":0},{"$f":"'Subject Data'!C238","v":0},{"$f":"'Comparison Group 3'!I238","v":4},{"$f":"'Comparison Group 3'!J238","v":7.2694229895502041E-5},{"$f":"'Comparison Group 2'!I238","v":0},{"$f":"'Comparison Group 2'!J238","v":0},{"$f":"'Comparison Group 1'!I238","v":0},{"$f":"'Comparison Group 1'!J238","v":0},{"$f":"'Subject Data'!I238","v":7},{"$f":"'Subject Data'!J238","v":0.14000000000000001}]
["Other",{"$f":"'Comparison Group 3'!B239","v":1},{"$f":"'Comparison Group 3'!C239","v":7.7579519006982156E-4},{"$f":"'Comparison Group 2'!B239","v":0},{"$f":"'Comparison Group 2'!C239","v":0},{"$f":"'Comparison Group 1'!B239","v":0},{"$f":"'Comparison Group 1'!C239","v":0},{"$f":"'Subject Data'!B239","v":0},{"$f":"'Subject Data'!C239","v":0},{"$f":"'Comparison Group 3'!I239","v":15},{"$f":"'Comparison Group 3'!J239","v":2.7260336210813266E-4},{"$f":"'Comparison Group 2'!I239","v":1},{"$f":"'Comparison Group 2'!J239","v":2.3480792711561942E-5},{"$f":"'Comparison Group 1'!I239","v":0},{"$f":"'Comparison Group 1'!J239","v":0},{"$f":"'Subject Data'!I239","v":6},{"$f":"'Subject Data'!J239","v":0.12}]
["Unknown",{"$f":"'Comparison Group 3'!B240","v":70},{"$f":"'Comparison Group 3'!C240","v":5.4305663304887508E-2},{"$f":"'Comparison Group 2'!B240","v":205},{"$f":"'Comparison Group 2'!C240","v":0.20623742454728369},{"$f":"'Comparison Group 1'!B240","v":0},{"$f":"'Comparison Group 1'!C240","v":0},{"$f":"'Subject Data'!B240","v":1},{"$f":"'Subject Data'!C240","v":0.14285714285714285},{"$f":"'Comparison Group 3'!I240","v":657},{"$f":"'Comparison Group 3'!J240","v":1.1940027260336212E-2},{"$f":"'Comparison Group 2'!I240","v":5165},{"$f":"'Comparison Group 2'!J240","v":0.12127829435521743},{"$f":"'Comparison Group 1'!I240","v":0},{"$f":"'Comparison Group 1'!J240","v":0},{"$f":"'Subject Data'!I240","v":3},{"$f":"'Subject Data'!J240","v":0.06}]
["Type of Intersection"]
["Not at Intersection",{"$f":"'Comparison Group 3'!B242","v":55},{"$f":"'Comparison Group 3'!C242","v":4.2668735453840187E-2},{"$f":"'Comparison Group 2'!B242","v":295},{"$f":"'Comparison Group 2'!C242","v":0.29678068410462777},{"$f":"'Comparison Group 1'!B242","v":0},{"$f":"'Comparison Group 1'!C242","v":0},{"$f":"'Subject Data'!B242","v":0},{"$f":"'Subject Data'!C242","v":0},{"$f":"'Comparison Group 3'!I242","v":1886},{"$f":"'Comparison Group 3'!J242","v":3.4275329395729213E-2},{"$f":"'Comparison Group 2'!I242","v":8798},{"$f":"'Comparison Group 2'!J242","v":0.20658401427632198},{"$f":"'Comparison Group 1'!I242","v":5},{"$f":"'Comparison Group 1'!J242","v":1.0948105977665863E-3},{"$f":"'Subject Data'!I242","v":2},{"$f":"'Subject Data'!J242","v":0.04}]
["Two-Leg",{"$f":"'Comparison Group 3'!B243","v":67},{"$f":"'Comparison Group 3'!C243","v":5.1978277734678044E-2},{"$f":"'Comparison Group 2'!B243","v":58},{"$f":"'Comparison Group 2'!C243","v":5.8350100603621731E-2},{"$f":"'Comparison Group 1'!B243","v":21},{"$f":"'Comparison Group 1'!C243","v":0.17948717948717949},{"$f":"'Subject Data'!B243","v":3},{"$f":"'Subject Data'!C243","v":0.42857142857142855},{"$f":"'Comparison Group 3'!I243","v":2128},{"$f":"'Comparison Group 3'!J243","v":3.8673330304407089E-2},{"$f":"'Comparison Group 2'!I243","v":1839},{"$f":"'Comparison Group 2'!J243","v":4.3181177796562414E-2},{"$f":"'Comparison Group 1'!I243","v":627},{"$f":"'Comparison Group 1'!J243","v":0.13728924895992994},{"$f":"'Subject Data'!I243","v":12},{"$f":"'Subject Data'!J243","v":0.24}]
["Three-Leg",{"$f":"'Comparison Group 3'!B244","v":5},{"$f":"'Comparison Group 3'!C244","v":3.8789759503491078E-3},{"$f":"'Comparison Group 2'!B244","v":45},{"$f":"'Comparison Group 2'!C244","v":4.527162977867203E-2},{"$f":"'Comparison Group 1'!B244","v":80},{"$f":"'Comparison Group 1'!C244","v":0.68376068376068377},{"$f":"'Subject Data'!B244","v":1},{"$f":"'Subject Data'!C244","v":0.14285714285714285},{"$f":"'Comparison Group 3'!I244","v":161},{"$f":"'Comparison Group 3'!J244","v":2.9259427532939571E-3},{"$f":"'Comparison Group 2'!I244","v":1823},{"$f":"'Comparison Group 2'!J244","v":4.2805485113177423E-2},{"$f":"'Comparison Group 1'!I244","v":3561},{"$f":"'Comparison Group 1'!J244","v":0.77972410772936285},{"$f":"'Subject Data'!I244","v":3},{"$f":"'Subject Data'!J244","v":0.06}]
["Four-Leg",{"$f":"'Comparison Group 3'!B245","v":340},{"$f":"'Comparison Group 3'!C245","v":0.26377036462373932},{"$f":"'Comparison Group 2'!B245","v":595},{"$f":"'Comparison Group 2'!C245","v":0.59859154929577463},{"$f":"'Comparison Group 1'!B245","v":0},{"$f":"'Comparison Group 1'!C245","v":0},{"$f":"'Subject Data'!B245","v":3},{"$f":"'Subject Data'!C245","v":0.42857142857142855},{"$f":"'Comparison Group 3'!I245","v":13243},{"$f":"'Comparison Group 3'!J245","v":0.24067242162653341},{"$f":"'Comparison Group 2'!I245","v":30098},{"$f":"'Comparison Group 2'!J245","v":0.70672489903259139},{"$f":"'Comparison Group 1'!I245","v":0},{"$f":"'Comparison Group 1'!J245","v":0},{"$f":"'Subject Data'!I245","v":33},{"$f":"'Subject Data'!J245","v":0.66}]
["Five or More Legs",{"$f":"'Comparison Group 3'!B246","v":822},{"$f":"'Comparison Group 3'!C246","v":0.63770364623739328},{"$f":"'Comparison Group 2'!B246","v":1},{"$f":"'Comparison Group 2'!C246","v":1.006036217303823E-3},{"$f":"'Comparison Group 1'!B246","v":16},{"$f":"'Comparison Group 1'!C246","v":0.13675213675213677},{"$f":"'Subject Data'!B246","v":0},{"$f":"'Subject Data'!C246","v":0},{"$f":"'Comparison Group 3'!I246","v":37607},{"$f":"'Comparison Group 3'!J246","v":0.6834529759200364},{"$f":"'Comparison Group 2'!I246","v":30},{"$f":"'Comparison Group 2'!J246","v":7.0442378134685823E-4},{"$f":"'Comparison Group 1'!I246","v":374},{"$f":"'Comparison Group 1'!J246","v":8.1891832712940663E-2},{"$f":"'Subject Data'!I246","v":0},{"$f":"'Subject Data'!J246","v":0}]
["Intersection Geometry"]
["Angled or Skewed",{"$f":"'Comparison Group 3'!B248","v":9},{"$f":"'Comparison Group 3'!C248","v":6.9821567106283944E-3},{"$f":"'Comparison Group 2'!B248","v":286},{"$f":"'Comparison Group 2'!C248","v":0.28772635814889336},{"$f":"'Comparison Group 1'!B248","v":11},{"$f":"'Comparison Group 1'!C248","v":9.4017094017094016E-2},{"$f":"'Subject Data'!B248","v":3},{"$f":"'Subject Data'!C248","v":0.42857142857142855},{"$f":"'Comparison Group 3'!I248","v":93},{"$f":"'Comparison Group 3'!J248","v":1.6901408450704226E-3},{"$f":"'Comparison Group 2'!I248","v":11077},{"$f":"'Comparison Group 2'!J248","v":0.26009674086597162},{"$f":"'Comparison Group 1'!I248","v":286},{"$f":"'Comparison Group 1'!J248","v":6.2623166192248739E-2},{"$f":"'Subject Data'!I248","v":14},{"$f":"'Subject Data'!J248","v":0.28000000000000003}]
["Roundabout or Traffic Circle",{"$f":"'Comparison Group 3'!B249","v":113},{"$f":"'Comparison Group 3'!C249","v":8.7664856477889838E-2},{"$f":"'Comparison Group 2'!B249","v":623},{"$f":"'Comparison Group 2'!C249","v":0.62676056338028174},{"$f":"'Comparison Group 1'!B249","v":5},{"$f":"'Comparison Group 1'!C249","v":4.2735042735042736E-2},{"$f":"'Subject Data'!B249","v":1},{"$f":"'Subject Data'!C249","v":0.14285714285714285},{"$f":"'Comparison Group 3'!I249","v":3319},{"$f":"'Comparison Group 3'!J249","v":6.0318037255792822E-2},{"$f":"'Comparison Group 2'!I249","v":28623},{"$f":"'Comparison Group 2'!J249","v":0.67209072978303752},{"$f":"'Comparison Group 1'!I249","v":52},{"$f":"'Comparison Group 1'!J249","v":1.1386030216772498E-2},{"$f":"'Subject Data'!I249","v":3},{"$f":"'Subject Data'!J249","v":0.06}]
["Perpindicular",{"$f":"'Comparison Group 3'!B250","v":154},{"$f":"'Comparison Group 3'!C250","v":0.11947245927075252},{"$f":"'Comparison Group 2'!B250","v":29},{"$f":"'Comparison Group 2'!C250","v":2.9175050301810865E-2},{"$f":"'Comparison Group 1'!B250","v":34},{"$f":"'Comparison Group 1'!C250","v":0.29059829059829062},{"$f":"'Subject Data'!B250","v":3},{"$f":"'Subject Data'!C250","v":0.42857142857142855},{"$f":"'Comparison Group 3'!I250","v":4118},{"$f":"'Comparison Group 3'!J250","v":7.483870967741936E-2},{"$f":"'Comparison Group 2'!I250","v":1284},{"$f":"'Comparison Group 2'!J250","v":3.0149337841645533E-2},{"$f":"'Comparison Group 1'!I250","v":1067},{"$f":"'Comparison Group 1'!J250","v":0.23363258156338954},{"$f":"'Subject Data'!I250","v":33},{"$f":"'Subject Data'!J250","v":0.66}]
["Not at Intersection",{"$f":"'Comparison Group 3'!B251","v":1013},{"$f":"'Comparison Group 3'!C251","v":0.78588052754072923},{"$f":"'Comparison Group 2'!B251","v":56},{"$f":"'Comparison Group 2'!C251","v":5.6338028169014086E-2},{"$f":"'Comparison Group 1'!B251","v":67},{"$f":"'Comparison Group 1'!C251","v":0.57264957264957261},{"$f":"'Subject Data'!B251","v":0},{"$f":"'Subject Data'!C251","v":0},{"$f":"'Comparison Group 3'!I251","v":47495},{"$f":"'Comparison Group 3'!J251","v":0.86315311222171742},{"$f":"'Comparison Group 2'!I251","v":1604},{"$f":"'Comparison Group 2'!J251","v":3.7663191509345356E-2},{"$f":"'Comparison Group 1'!I251","v":3162},{"$f":"'Comparison Group 1'!J251","v":0.69235822202758923},{"$f":"'Subject Data'!I251","v":0},{"$f":"'Subject Data'!J251","v":0}]
["Traffic Control Device"]
["Signalized",{"$f":"'Comparison Group 3'!B253","v":154},{"$f":"'Comparison Group 3'!C253","v":0.11947245927075252},{"$f":"'Comparison Group 2'!B253","v":6},{"$f":"'Comparison Group 2'!C253","v":6.0362173038229373E-3},{"$f":"'Comparison Group 1'!B253","v":2},{"$f":"'Comparison Group 1'!C253","v":1.7094017094017096E-2},{"$f":"'Subject Data'!B253","v":0},{"$f":"'Subject Data'!C253","v":0},{"$f":"'Comparison Group 3'!I253","v":211},{"$f":"'Comparison Group 3'!J253","v":3.834620626987733E-3},{"$f":"'Comparison Group 2'!I253","v":138},{"$f":"'Comparison Group 2'!J253","v":3.2403493941955482E-3},{"$f":"'Comparison Group 1'!I253","v":61},{"$f":"'Comparison Group 1'!J253","v":1.3356689292752353E-2},{"$f":"'Subject Data'!I253","v":0},{"$f":"'Subject Data'!J253","v":0}]
["Stop - All Way",{"$f":"'Comparison Group 3'!B254","v":1001},{"$f":"'Comparison Group 3'!C254","v":0.77657098525989143},{"$f":"'Comparison Group 2'!B254","v":9},{"$f":"'Comparison Group 2'!C254","v":9.0543259557344068E-3},{"$f":"'Comparison Group 1'!B254","v":0},{"$f":"'Comparison Group 1'!C254","v":0},{"$f":"'Subject Data'!B254","v":0},{"$f":"'Subject Data'!C254","v":0},{"$f":"'Comparison Group 3'!I254","v":93},{"$f":"'Comparison Group 3'!J254","v":1.6901408450704226E-3},{"$f":"'Comparison Group 2'!I254","v":81},{"$f":"'Comparison Group 2'!J254","v":1.9019442096365174E-3},{"$f":"'Comparison Group 1'!I254","v":6},{"$f":"'Comparison Group 1'!J254","v":1.3137727173199037E-3},{"$f":"'Subject Data'!I254","v":0},{"$f":"'Subject Data'!J254","v":0}]
["Stop - Partial",{"$f":"'Comparison Group 3'!B255","v":2},{"$f":"'Comparison Group 3'!C255","v":1.5515903801396431E-3},{"$f":"'Comparison Group 2'!B255","v":64},{"$f":"'Comparison Group 2'!C255","v":6.4386317907444673E-2},{"$f":"'Comparison Group 1'!B255","v":11},{"$f":"'Comparison Group 1'!C255","v":9.4017094017094016E-2},{"$f":"'Subject Data'!B255","v":6},{"$f":"'Subject Data'!C255","v":0.8571428571428571},{"$f":"'Comparison Group 3'!I255","v":3319},{"$f":"'Comparison Group 3'!J255","v":6.0318037255792822E-2},{"$f":"'Comparison Group 2'!I255","v":2068},{"$f":"'Comparison Group 2'!J255","v":4.8558279327510098E-2},{"$f":"'Comparison Group 1'!I255","v":375},{"$f":"'Comparison Group 1'!J255","v":8.2110794832493977E-2},{"$f":"'Subject Data'!I255","v":36},{"$f":"'Subject Data'!J255","v":0.72}]
["Yield",{"$f":"'Comparison Group 3'!B256","v":10},{"$f":"'Comparison Group 3'!C256","v":7.7579519006982156E-3},{"$f":"'Comparison Group 2'!B256","v":99},{"$f":"'Comparison Group 2'!C256","v":9.9597585513078471E-2},{"$f":"'Comparison Group 1'!B256","v":19},{"$f":"'Comparison Group 1'!C256","v":0.1623931623931624},{"$f":"'Subject Data'!B256","v":0},{"$f":"'Subject Data'!C256","v":0},{"$f":"'Comparison Group 3'!I256","v":4118},{"$f":"'Comparison Group 3'!J256","v":7.483870967741936E-2},{"$f":"'Comparison Group 2'!I256","v":2714},{"$f":"'Comparison Group 2'!J256","v":6.3726871419179112E-2},{"$f":"'Comparison Group 1'!I256","v":633},{"$f":"'Comparison Group 1'!J256","v":0.13860302167724983},{"$f":"'Subject Data'!I256","v":2},{"$f":"'Subject Data'!J256","v":0.04}]
["No Controls",{"$f":"'Comparison Group 3'!B257","v":9},{"$f":"'Comparison Group 3'!C257","v":6.9821567106283944E-3},{"$f":"'Comparison Group 2'!B257","v":815},{"$f":"'Comparison Group 2'!C257","v":0.81991951710261568},{"$f":"'Comparison Group 1'!B257","v":84},{"$f":"'Comparison Group 1'!C257","v":0.71794871794871795},{"$f":"'Subject Data'!B257","v":1},{"$f":"'Subject Data'!C257","v":0.14285714285714285},{"$f":"'Comparison Group 3'!I257","v":47232},{"$f":"'Comparison Group 3'!J257","v":0.85837346660608815},{"$f":"'Comparison Group 2'!I257","v":37556},{"$f":"'Comparison Group 2'!J257","v":0.88184465107542032},{"$f":"'Comparison Group 1'!I257","v":3477},{"$f":"'Comparison Group 1'!J257","v":0.76133128968688413},{"$f":"'Subject Data'!I257","v":3},{"$f":"'Subject Data'!J257","v":0.06}]
["Not an Intersection",{"$f":"'Comparison Group 3'!B258","v":113},{"$f":"'Comparison Group 3'!C258","v":8.7664856477889838E-2},{"$f":"'Comparison Group 2'!B258","v":1},{"$f":"'Comparison Group 2'!C258","v":1.006036217303823E-3},{"$f":"'Comparison Group 1'!B258","v":1},{"$f":"'Comparison Group 1'!C258","v":8.5470085470085479E-3},{"$f":"'Subject Data'!B258","v":0},{"$f":"'Subject Data'!C258","v":0},{"$f":"'Comparison Group 3'!I258","v":52},{"$f":"'Comparison Group 3'!J258","v":9.4502498864152654E-4},{"$f":"'Comparison Group 2'!I258","v":31},{"$f":"'Comparison Group 2'!J258","v":7.2790457405842019E-4},{"$f":"'Comparison Group 1'!I258","v":15},{"$f":"'Comparison Group 1'!J258","v":3.2844317932997592E-3},{"$f":"'Subject Data'!I258","v":9},{"$f":"'Subject Data'!J258","v":0.18}]
["Crash in Work Zone"]
["Yes",{"$f":"'Comparison Group 3'!B260","v":122},{"$f":"'Comparison Group 3'!C260","v":9.4647013188518231E-2},{"$f":"'Comparison Group 2'!B260","v":45},{"$f":"'Comparison Group 2'!C260","v":4.527162977867203E-2},{"$f":"'Comparison Group 1'!B260","v":80},{"$f":"'Comparison Group 1'!C260","v":0.68376068376068377},{"$f":"'Subject Data'!B260","v":7},{"$f":"'Subject Data'!C260","v":1},{"$f":"'Comparison Group 3'!I260","v":8057},{"$f":"'Comparison Group 3'!J260","v":0.146424352567015},{"$f":"'Comparison Group 2'!I260","v":1823},{"$f":"'Comparison Group 2'!J260","v":4.2805485113177423E-2},{"$f":"'Comparison Group 1'!I260","v":3561},{"$f":"'Comparison Group 1'!J260","v":0.77972410772936285},{"$f":"'Subject Data'!I260","v":14},{"$f":"'Subject Data'!J260","v":0.28000000000000003}]
["No",{"$f":"'Comparison Group 3'!B261","v":550},{"$f":"'Comparison Group 3'!C261","v":0.42668735453840184},{"$f":"'Comparison Group 2'!B261","v":595},{"$f":"'Comparison Group 2'!C261","v":0.59859154929577463},{"$f":"'Comparison Group 1'!B261","v":16},{"$f":"'Comparison Group 1'!C261","v":0.13675213675213677},{"$f":"'Subject Data'!B261","v":0},{"$f":"'Subject Data'!C261","v":0},{"$f":"'Comparison Group 3'!I261","v":25398},{"$f":"'Comparison Group 3'!J261","v":0.46157201272149023},{"$f":"'Comparison Group 2'!I261","v":30098},{"$f":"'Comparison Group 2'!J261","v":0.70672489903259139},{"$f":"'Comparison Group 1'!I261","v":379},{"$f":"'Comparison Group 1'!J261","v":8.298664331070725E-2},{"$f":"'Subject Data'!I261","v":9},{"$f":"'Subject Data'!J261","v":0.18}]
["Unknown",{"$f":"'Comparison Group 3'!B262","v":617},{"$f":"'Comparison Group 3'!C262","v":0.4786656322730799},{"$f":"'Comparison Group 2'!B262","v":354},{"$f":"'Comparison Group 2'!C262","v":0.35613682092555332},{"$f":"'Comparison Group 1'!B262","v":21},{"$f":"'Comparison Group 1'!C262","v":0.17948717948717949},{"$f":"'Subject Data'!B262","v":0},{"$f":"'Subject Data'!C262","v":0},{"$f":"'Comparison Group 3'!I262","v":21570},{"$f":"'Comparison Group 3'!J262","v":0.3920036347114948},{"$f":"'Comparison Group 2'!I262","v":10667},{"$f":"'Comparison Group 2'!J262","v":0.25046961585423122},{"$f":"'Comparison Group 1'!I262","v":627},{"$f":"'Comparison Group 1'!J262","v":0.13728924895992994},{"$f":"'Subject Data'!I262","v":27},{"$f":"'Subject Data'!J262","v":0.54}]
["Number of Motor Vehicles Involved"]
["One",{"$f":"'Comparison Group 3'!B264","v":313},{"$f":"'Comparison Group 3'!C264","v":0.24282389449185415},{"$f":"'Comparison Group 2'!B264","v":204},{"$f":"'Comparison Group 2'!C264","v":0.10669456066945607},{"$f":"'Comparison Group 1'!B264","v":34},{"$f":"'Comparison Group 1'!C264","v":0.29059829059829062},{"$f":"'Subject Data'!B264","v":3},{"$f":"'Subject Data'!C264","v":0.42857142857142855},{"$f":"'Comparison Group 3'!I264","v":7988},{"$f":"'Comparison Group 3'!J264","v":0.14517037710131758},{"$f":"'Comparison Group 2'!I264","v":5164},{"$f":"'Comparison Group 2'!J264","v":0.12125481356250586},{"$f":"'Comparison Group 1'!I264","v":1067},{"$f":"'Comparison Group 1'!J264","v":0.23363258156338954},{"$f":"'Subject Data'!I264","v":33},{"$f":"'Subject Data'!J264","v":0.66}]
["Two",{"$f":"'Comparison Group 3'!B265","v":798},{"$f":"'Comparison Group 3'!C265","v":0.61908456167571757},{"$f":"'Comparison Group 2'!B265","v":651},{"$f":"'Comparison Group 2'!C265","v":0.34048117154811713},{"$f":"'Comparison Group 1'!B265","v":67},{"$f":"'Comparison Group 1'!C265","v":0.57264957264957261},{"$f":"'Subject Data'!B265","v":0},{"$f":"'Subject Data'!C265","v":0},{"$f":"'Comparison Group 3'!I265","v":41341},{"$f":"'Comparison Group 3'!J265","v":0.75131303952748751},{"$f":"'Comparison Group 2'!I265","v":32859},{"$f":"'Comparison Group 2'!J265","v":0.77155536770921385},{"$f":"'Comparison Group 1'!I265","v":3162},{"$f":"'Comparison Group 1'!J265","v":0.69235822202758923},{"$f":"'Subject Data'!I265","v":0},{"$f":"'Subject Data'!J265","v":0}]
["Three",{"$f":"'Comparison Group 3'!B266","v":127},{"$f":"'Comparison Group 3'!C266","v":9.8525989138867343E-2},{"$f":"'Comparison Group 2'!B266","v":101},{"$f":"'Comparison Group 2'!C266","v":5.2824267782426777E-2},{"$f":"'Comparison Group 1'!B266","v":11},{"$f":"'Comparison Group 1'!C266","v":9.4017094017094016E-2},{"$f":"'Subject Data'!B266","v":3},{"$f":"'Subject Data'!C266","v":0.42857142857142855},{"$f":"'Comparison Group 3'!I266","v":4765},{"$f":"'Comparison Group 3'!J266","v":8.6597001363016804E-2},{"$f":"'Comparison Group 2'!I266","v":3816},{"$f":"'Comparison Group 2'!J266","v":8.960270498732037E-2},{"$f":"'Comparison Group 1'!I266","v":286},{"$f":"'Comparison Group 1'!J266","v":6.2623166192248739E-2},{"$f":"'Subject Data'!I266","v":14},{"$f":"'Subject Data'!J266","v":0.28000000000000003}]
["Four or More",{"$f":"'Comparison Group 3'!B267","v":51},{"$f":"'Comparison Group 3'!C267","v":3.9565554693560899E-2},{"$f":"'Comparison Group 2'!B267","v":956},{"$f":"'Comparison Group 2'!C267","v":0.5},{"$f":"'Comparison Group 1'!B267","v":5},{"$f":"'Comparison Group 1'!C267","v":4.2735042735042736E-2},{"$f":"'Subject Data'!B267","v":1},{"$f":"'Subject Data'!C267","v":0.14285714285714285},{"$f":"'Comparison Group 3'!I267","v":931},{"$f":"'Comparison Group 3'!J267","v":1.69195820081781E-2},{"$f":"'Comparison Group 2'!I267","v":749},{"$f":"'Comparison Group 2'!J267","v":1.7587113740959896E-2},{"$f":"'Comparison Group 1'!I267","v":52},{"$f":"'Comparison Group 1'!J267","v":1.1386030216772498E-2},{"$f":"'Subject Data'!I267","v":3},{"$f":"'Subject Data'!J267","v":0.06}]
["Horizontal Alignment"]
["Straight",{"$f":"'Comparison Group 3'!B269","v":838},{"$f":"'Comparison Group 3'!C269","v":0.65011636927851046},{"$f":"'Comparison Group 2'!B269","v":595},{"$f":"'Comparison Group 2'!C269","v":0.59859154929577463},{"$f":"'Comparison Group 1'!B269","v":34},{"$f":"'Comparison Group 1'!C269","v":0.29059829059829062},{"$f":"'Subject Data'!B269","v":0},{"$f":"'Subject Data'!C269","v":0},{"$f":"'Comparison Group 3'!I269","v":36340},{"$f":"'Comparison Group 3'!J269","v":0.6604270786006361},{"$f":"'Comparison Group 2'!I269","v":30098},{"$f":"'Comparison Group 2'!J269","v":0.70672489903259139},{"$f":"'Comparison Group 1'!I269","v":1067},{"$f":"'Comparison Group 1'!J269","v":0.23363258156338954},{"$f":"'Subject Data'!I269","v":9},{"$f":"'Subject Data'!J269","v":0.18}]
["Horizontal Curve Left",{"$f":"'Comparison Group 3'!B270","v":207},{"$f":"'Comparison Group 3'!C270","v":0.16058960434445307},{"$f":"'Comparison Group 2'!B270","v":354},{"$f":"'Comparison Group 2'!C270","v":0.35613682092555332},{"$f":"'Comparison Group 1'!B270","v":67},{"$f":"'Comparison Group 1'!C270","v":0.57264957264957261},{"$f":"'Subject Data'!B270","v":0},{"$f":"'Subject Data'!C270","v":0},{"$f":"'Comparison Group 3'!I270","v":8210},{"$f":"'Comparison Group 3'!J270","v":0.14920490686051793},{"$f":"'Comparison Group 2'!I270","v":10667},{"$f":"'Comparison Group 2'!J270","v":0.25046961585423122},{"$f":"'Comparison Group 1'!I270","v":3162},{"$f":"'Comparison Group 1'!J270","v":0.69235822202758923},{"$f":"'Subject Data'!I270","v":27},{"$f":"'Subject Data'!J270","v":0.54}]
["Horizontal Curve Right",{"$f":"'Comparison Group 3'!B271","v":244},{"$f":"'Comparison Group 3'!C271","v":0.18929402637703646},{"$f":"'Comparison Group 2'!B271","v":45},{"$f":"'Comparison Group 2'!C271","v":4.527162977867203E-2},{"$f":"'Comparison Group 1'!B271","v":16},{"$f":"'Comparison Group 1'!C271","v":0.13675213675213677},{"$f":"'Subject Data'!B271","v":7},{"$f":"'Subject Data'!C271","v":1},{"$f":"'Comparison Group 3'!I271","v":10475},{"$f":"'Comparison Group 3'!J271","v":0.19036801453884597},{"$f":"'Comparison Group 2'!I271","v":1823},{"$f":"'Comparison Group 2'!J271","v":4.2805485113177423E-2},{"$f":"'Comparison Group 1'!I271","v":338},{"$f":"'Comparison Group 1'!J271","v":7.4009196409021233E-2},{"$f":"'Subject Data'!I271","v":14},{"$f":"'Subject Data'!J271","v":0.28000000000000003}]
["Vertical Alignment"]
["Level",{"$f":"'Comparison Group 3'!B273","v":55},{"$f":"'Comparison Group 3'!C273","v":4.2668735453840187E-2},{"$f":"'Comparison Group 2'!B273","v":9},{"$f":"'Comparison Group 2'!C273","v":9.0543259557344068E-3},{"$f":"'Comparison Group 1'!B273","v":2},{"$f":"'Comparison Group 1'!C273","v":1.7094017094017096E-2},{"$f":"'Subject Data'!B273","v":0},{"$f":"'Subject Data'!C273","v":0},{"$f":"'Comparison Group 3'!I273","v":1886},{"$f":"'Comparison Group 3'!J273","v":3.4275329395729213E-2},{"$f":"'Comparison Group 2'!I273","v":81},{"$f":"'Comparison Group 2'!J273","v":1.9019442096365174E-3},{"$f":"'Comparison Group 1'!I273","v":122},{"$f":"'Comparison Group 1'!J273","v":2.6713378585504707E-2},{"$f":"'Subject Data'!I273","v":1},{"$f":"'Subject Data'!J273","v":0.02}]
["Uphill",{"$f":"'Comparison Group 3'!B274","v":67},{"$f":"'Comparison Group 3'!C274","v":5.1978277734678044E-2},{"$f":"'Comparison Group 2'!B274","v":64},{"$f":"'Comparison Group 2'!C274","v":6.4386317907444673E-2},{"$f":"'Comparison Group 1'!B274","v":14},{"$f":"'Comparison Group 1'!C274","v":0.11965811965811966},{"$f":"'Subject Data'!B274","v":0},{"$f":"'Subject Data'!C274","v":0},{"$f":"'Comparison Group 3'!I274","v":2128},{"$f":"'Comparison Group 3'!J274","v":3.8673330304407089E-2},{"$f":"'Comparison Group 2'!I274","v":2068},{"$f":"'Comparison Group 2'!J274","v":4.8558279327510098E-2},{"$f":"'Comparison Group 1'!I274","v":252},{"$f":"'Comparison Group 1'!J274","v":5.5178454127435952E-2},{"$f":"'Subject Data'!I274","v":0},{"$f":"'Subject Data'!J274","v":0}]
["Hillcrest",{"$f":"'Comparison Group 3'!B275","v":5},{"$f":"'Comparison Group 3'!C275","v":3.8789759503491078E-3},{"$f":"'Comparison Group 2'!B275","v":99},{"$f":"'Comparison Group 2'!C275","v":9.9597585513078471E-2},{"$f":"'Comparison Group 1'!B275","v":0},{"$f":"'Comparison Group 1'!C275","v":0},{"$f":"'Subject Data'!B275","v":2},{"$f":"'Subject Data'!C275","v":0.2857142857142857},{"$f":"'Comparison Group 3'!I275","v":161},{"$f":"'Comparison Group 3'!J275","v":2.9259427532939571E-3},{"$f":"'Comparison Group 2'!I275","v":2714},{"$f":"'Comparison Group 2'!J275","v":6.3726871419179112E-2},{"$f":"'Comparison Group 1'!I275","v":5},{"$f":"'Comparison Group 1'!J275","v":1.0948105977665863E-3},{"$f":"'Subject Data'!I275","v":6},{"$f":"'Subject Data'!J275","v":0.12}]
["Downhill",{"$f":"'Comparison Group 3'!B276","v":340},{"$f":"'Comparison Group 3'!C276","v":0.26377036462373932},{"$f":"'Comparison Group 2'!B276","v":815},{"$f":"'Comparison Group 2'!C276","v":0.81991951710261568},{"$f":"'Comparison Group 1'!B276","v":21},{"$f":"'Comparison Group 1'!C276","v":0.17948717948717949},{"$f":"'Subject Data'!B276","v":2},{"$f":"'Subject Data'!C276","v":0.2857142857142857},{"$f":"'Comparison Group 3'!I276","v":13243},{"$f":"'Comparison Group 3'!J276","v":0.24067242162653341},{"$f":"'Comparison Group 2'!I276","v":37556},{"$f":"'Comparison Group 2'!J276","v":0.88184465107542032},{"$f":"'Comparison Group 1'!I276","v":627},{"$f":"'Comparison Group 1'!J276","v":0.13728924895992994},{"$f":"'Subject Data'!I276","v":10},{"$f":"'Subject Data'!J276","v":0.2}]
["Sag",{"$f":"'Comparison Group 3'!B277","v":821},{"$f":"'Comparison Group 3'!C277","v":0.63692785104732352},{"$f":"'Comparison Group 2'!B277","v":1},{"$f":"'Comparison Group 2'!C277","v":1.006036217303823E-3},{"$f":"'Comparison Group 1'!B277","v":80},{"$f":"'Comparison Group 1'!C277","v":0.68376068376068377},{"$f":"'Subject Data'!B277","v":3},{"$f":"'Subject Data'!C277","v":0.42857142857142855},{"$f":"'Comparison Group 3'!I277","v":37589},{"$f":"'Comparison Group 3'!J277","v":0.68312585188550656},{"$f":"'Comparison Group 2'!I277","v":31},{"$f":"'Comparison Group 2'!J277","v":7.2790457405842019E-4},{"$f":"'Comparison Group 1'!I277","v":3561},{"$f":"'Comparison Group 1'!J277","v":0.77972410772936285},{"$f":"'Subject Data'!I277","v":31},{"$f":"'Subject Data'!J277","v":0.62}]
["Unknown",{"$f":"'Comparison Group 3'!B278","v":1},{"$f":"'Comparison Group 3'!C278","v":7.7579519006982156E-4},{"$f":"'Comparison Group 2'!B278","v":6},{"$f":"'Comparison Group 2'!C278","v":6.0362173038229373E-3},{"$f":"'Comparison Group 1'!B278","v":0},{"$f":"'Comparison Group 1'!C278","v":0},{"$f":"'Subject Data'!B278","v":0},{"$f":"'Subject Data'!C278","v":0},{"$f":"'Comparison Group 3'!I278","v":18},{"$f":"'Comparison Group 3'!J278","v":3.2712403452975919E-4},{"$f":"'Comparison Group 2'!I278","v":138},{"$f":"'Comparison Group 2'!J278","v":3.2403493941955482E-3},{"$f":"'Comparison Group 1'!I278","v":0},{"$f":"'Comparison Group 1'!J278","v":0},{"$f":"'Subject Data'!I278","v":2},{"$f":"'Subject Data'!J278","v":0.04}]
["Roadway Owner"]
["State",{"$f":"'Comparison Group 3'!B280","v":144},{"$f":"'Comparison Group 3'!C280","v":0.11171450737005431},{"$f":"'Comparison Group 2'!B280","v":284},{"$f":"'Comparison Group 2'!C280","v":0.2857142857142857},{"$f":"'Comparison Group 1'!B280","v":19},{"$f":"'Comparison Group 1'!C280","v":0.1623931623931624},{"$f":"'Subject Data'!B280","v":2},{"$f":"'Subject Data'!C280","v":0.2857142857142857},{"$f":"'Comparison Group 3'!I280","v":5109},{"$f":"'Comparison Group 3'!J280","v":9.2848705134029985E-2},{"$f":"'Comparison Group 2'!I280","v":8798},{"$f":"'Comparison Group 2'!J280","v":0.20658401427632198},{"$f":"'Comparison Group 1'!I280","v":633},{"$f":"'Comparison Group 1'!J280","v":0.13860302167724983},{"$f":"'Subject Data'!I280","v":10},{"$f":"'Subject Data'!J280","v":0.2}]
["County",{"$f":"'Comparison Group 3'!B281","v":163},{"$f":"'Comparison Group 3'!C281","v":0.12645461598138091},{"$f":"'Comparison Group 2'!B281","v":58},{"$f":"'Comparison Group 2'!C281","v":5.8350100603621731E-2},{"$f":"'Comparison Group 1'!B281","v":84},{"$f":"'Comparison Group 1'!C281","v":0.71794871794871795},{"$f":"'Subject Data'!B281","v":3},{"$f":"'Subject Data'!C281","v":0.42857142857142855},{"$f":"'Comparison Group 3'!I281","v":7988},{"$f":"'Comparison Group 3'!J281","v":0.14517037710131758},{"$f":"'Comparison Group 2'!I281","v":1839},{"$f":"'Comparison Group 2'!J281","v":4.3181177796562414E-2},{"$f":"'Comparison Group 1'!I281","v":3477},{"$f":"'Comparison Group 1'!J281","v":0.76133128968688413},{"$f":"'Subject Data'!I281","v":31},{"$f":"'Subject Data'!J281","v":0.62}]
["Municipality",{"$f":"'Comparison Group 3'!B282","v":173},{"$f":"'Comparison Group 3'!C282","v":0.13421256788207914},{"$f":"'Comparison Group 2'!B282","v":41},{"$f":"'Comparison Group 2'!C282","v":4.124748490945674E-2},{"$f":"'Comparison Group 1'!B282","v":0},{"$f":"'Comparison Group 1'!C282","v":0},{"$f":"'Subject Data'!B282","v":0},{"$f":"'Subject Data'!C282","v":0},{"$f":"'Comparison Group 3'!I282","v":8258},{"$f":"'Comparison Group 3'!J282","v":0.15007723761926398},{"$f":"'Comparison Group 2'!I282","v":1823},{"$f":"'Comparison Group 2'!J282","v":4.2805485113177423E-2},{"$f":"'Comparison Group 1'!I282","v":6},{"$f":"'Comparison Group 1'!J282","v":1.3137727173199037E-3},{"$f":"'Subject Data'!I282","v":2},{"$f":"'Subject Data'!J282","v":0.04}]
["Federal",{"$f":"'Comparison Group 3'!B283","v":170},{"$f":"'Comparison Group 3'!C283","v":0.13188518231186966},{"$f":"'Comparison Group 2'!B283","v":488},{"$f":"'Comparison Group 2'!C283","v":0.49094567404426559},{"$f":"'Comparison Group 1'!B283","v":11},{"$f":"'Comparison Group 1'!C283","v":9.4017094017094016E-2},{"$f":"'Subject Data'!B283","v":0},{"$f":"'Subject Data'!C283","v":0},{"$f":"'Comparison Group 3'!I283","v":8534},{"$f":"'Comparison Group 3'!J283","v":0.15509313948205361},{"$f":"'Comparison Group 2'!I283","v":27249},{"$f":"'Comparison Group 2'!J283","v":0.63982812059735139},{"$f":"'Comparison Group 1'!I283","v":375},{"$f":"'Comparison Group 1'!J283","v":8.2110794832493977E-2},{"$f":"'Subject Data'!I283","v":1},{"$f":"'Subject Data'!J283","v":0.02}]
["Tribal",{"$f":"'Comparison Group 3'!B284","v":220},{"$f":"'Comparison Group 3'!C284","v":0.17067494181536075},{"$f":"'Comparison Group 2'!B284","v":1},{"$f":"'Comparison Group 2'!C284","v":1.006036217303823E-3},{"$f":"'Comparison Group 1'!B284","v":1},{"$f":"'Comparison Group 1'!C284","v":8.5470085470085479E-3},{"$f":"'Subject Data'!B284","v":0},{"$f":"'Subject Data'!C284","v":0},{"$f":"'Comparison Group 3'!I284","v":8496},{"$f":"'Comparison Group 3'!J284","v":0.15440254429804634},{"$f":"'Comparison Group 2'!I284","v":30},{"$f":"'Comparison Group 2'!J284","v":7.0442378134685823E-4},{"$f":"'Comparison Group 1'!I284","v":15},{"$f":"'Comparison Group 1'!J284","v":3.2844317932997592E-3},{"$f":"'Subject Data'!I284","v":0},{"$f":"'Subject Data'!J284","v":0}]
["Unknown",{"$f":"'Comparison Group 3'!B285","v":419},{"$f":"'Comparison Group 3'!C285","v":0.32505818463925523},{"$f":"'Comparison Group 2'!B285","v":122},{"$f":"'Comparison Group 2'!C285","v":0.1227364185110664},{"$f":"'Comparison Group 1'!B285","v":2},{"$f":"'Comparison Group 1'!C285","v":1.7094017094017096E-2},{"$f":"'Subject Data'!B285","v":2},{"$f":"'Subject Data'!C285","v":0.2857142857142857},{"$f":"'Comparison Group 3'!I285","v":16640},{"$f":"'Comparison Group 3'!J285","v":0.30240799636528848},{"$f":"'Comparison Group 2'!I285","v":2849},{"$f":"'Comparison Group 2'!J285","v":6.6896778435239973E-2},{"$f":"'Comparison Group 1'!I285","v":61},{"$f":"'Comparison Group 1'!J285","v":1.3356689292752353E-2},{"$f":"'Subject Data'!I285","v":6},{"$f":"'Subject Data'!J285","v":0.12}]
["Area Type"]
["Urban",{"$f":"'Comparison Group 3'!B287","v":244},{"$f":"'Comparison Group 3'!C287","v":0.18929402637703646},{"$f":"'Comparison Group 2'!B287","v":1},{"$f":"'Comparison Group 2'!C287","v":1.006036217303823E-3},{"$f":"'Comparison Group 1'!B287","v":103},{"$f":"'Comparison Group 1'!C287","v":0.88034188034188032},{"$f":"'Subject Data'!B287","v":4},{"$f":"'Subject Data'!C287","v":0.5714285714285714},{"$f":"'Comparison Group 3'!I287","v":10475},{"$f":"'Comparison Group 3'!J287","v":0.19036801453884597},{"$f":"'Comparison Group 2'!I287","v":140},{"$f":"'Comparison Group 2'!J287","v":3.2873109796186721E-3},{"$f":"'Comparison Group 1'!I287","v":4086},{"$f":"'Comparison Group 1'!J287","v":0.89467922049485438},{"$f":"'Subject Data'!I287","v":19},{"$f":"'Subject Data'!J287","v":0.38}]
["Rural",{"$f":"'Comparison Group 3'!B288","v":838},{"$f":"'Comparison Group 3'!C288","v":0.65011636927851046},{"$f":"'Comparison Group 2'!B288","v":838},{"$f":"'Comparison Group 2'!C288","v":0.84305835010060359},{"$f":"'Comparison Group 1'!B288","v":1},{"$f":"'Comparison Group 1'!C288","v":8.5470085470085479E-3},{"$f":"'Subject Data'!B288","v":3},{"$f":"'Subject Data'!C288","v":0.42857142857142855},{"$f":"'Comparison Group 3'!I288","v":36340},{"$f":"'Comparison Group 3'!J288","v":0.6604270786006361},{"$f":"'Comparison Group 2'!I288","v":36340},{"$f":"'Comparison Group 2'!J288","v":0.853292007138161},{"$f":"'Comparison Group 1'!I288","v":11},{"$f":"'Comparison Group 1'!J288","v":2.4085833150864901E-3},{"$f":"'Subject Data'!I288","v":22},{"$f":"'Subject Data'!J288","v":0.44}]
["Unknown",{"$f":"'Comparison Group 3'!B289","v":207},{"$f":"'Comparison Group 3'!C289","v":0.16058960434445307},{"$f":"'Comparison Group 2'!B289","v":155},{"$f":"'Comparison Group 2'!C289","v":0.15593561368209255},{"$f":"'Comparison Group 1'!B289","v":13},{"$f":"'Comparison Group 1'!C289","v":0.1111111111111111},{"$f":"'Subject Data'!B289","v":0},{"$f":"'Subject Data'!C289","v":0},{"$f":"'Comparison Group 3'!I289","v":8210},{"$f":"'Comparison Group 3'!J289","v":0.14920490686051793},{"$f":"'Comparison Group 2'!I289","v":6108},{"$f":"'Comparison Group 2'!J289","v":0.14342068188222035},{"$f":"'Comparison Group 1'!I289","v":470},{"$f":"'Comparison Group 1'!J289","v":0.10291219619005912},{"$f":"'Subject Data'!I289","v":9},{"$f":"'Subject Data'!J289","v":0.18}]
["Functional Class"]
["Interstate",{"$f":"'Comparison Group 3'!B291","v":1028},{"$f":"'Comparison Group 3'!C291","v":0.79751745539177654},{"$f":"'Comparison Group 2'!B291","v":62},{"$f":"'Comparison Group 2'!C291","v":6.2374245472837021E-2},{"$f":"'Comparison Group 1'!B291","v":19},{"$f":"'Comparison Group 1'!C291","v":0.1623931623931624},{"$f":"'Subject Data'!B291","v":0},{"$f":"'Subject Data'!C291","v":0},{"$f":"'Comparison Group 3'!I291","v":39064},{"$f":"'Comparison Group 3'!J291","v":0.70993184915947294},{"$f":"'Comparison Group 2'!I291","v":3468},{"$f":"'Comparison Group 2'!J291","v":8.143138912369681E-2},{"$f":"'Comparison Group 1'!I291","v":700},{"$f":"'Comparison Group 1'!J291","v":0.1532734836873221},{"$f":"'Subject Data'!I291","v":4},{"$f":"'Subject Data'!J291","v":0.08}]
["Principal Arterial - Other Freeway or Expressway",{"$f":"'Comparison Group 3'!B292","v":38},{"$f":"'Comparison Group 3'!C292","v":2.9480217222653218E-2},{"$f":"'Comparison Group 2'!B292","v":58},{"$f":"'Comparison Group 2'!C292","v":5.8350100603621731E-2},{"$f":"'Comparison Group 1'!B292","v":14},{"$f":"'Comparison Group 1'!C292","v":0.11965811965811966},{"$f":"'Subject Data'!B292","v":1},{"$f":"'Subject Data'!C292","v":0.14285714285714285},{"$f":"'Comparison Group 3'!I292","v":2091},{"$f":"'Comparison Group 3'!J292","v":3.8000908677873695E-2},{"$f":"'Comparison Group 2'!I292","v":3283},{"$f":"'Comparison Group 2'!J292","v":7.7087442472057857E-2},{"$f":"'Comparison Group 1'!I292","v":695},{"$f":"'Comparison Group 1'!J292","v":0.15217867308955552},{"$f":"'Subject Data'!I292","v":9},{"$f":"'Subject Data'!J292","v":0.18}]
["Principal Arterial - Other",{"$f":"'Comparison Group 3'!B293","v":30},{"$f":"'Comparison Group 3'!C293","v":2.3273855702094646E-2},{"$f":"'Comparison Group 2'!B293","v":96},{"$f":"'Comparison Group 2'!C293","v":9.6579476861166996E-2},{"$f":"'Comparison Group 1'!B293","v":18},{"$f":"'Comparison Group 1'!C293","v":0.15384615384615385},{"$f":"'Subject Data'!B293","v":1},{"$f":"'Subject Data'!C293","v":0.14285714285714285},{"$f":"'Comparison Group 3'!I293","v":3703},{"$f":"'Comparison Group 3'!J293","v":6.7296683325761011E-2},{"$f":"'Comparison Group 2'!I293","v":3209},{"$f":"'Comparison Group 2'!J293","v":7.5349863811402268E-2},{"$f":"'Comparison Group 1'!I293","v":763},{"$f":"'Comparison Group 1'!J293","v":0.16706809721918109},{"$f":"'Subject Data'!I293","v":13},{"$f":"'Subject Data'!J293","v":0.26}]
["Minor Arterial",{"$f":"'Comparison Group 3'!B294","v":174},{"$f":"'Comparison Group 3'!C294","v":0.13498836307214895},{"$f":"'Comparison Group 2'!B294","v":81},{"$f":"'Comparison Group 2'!C294","v":8.1488933601609664E-2},{"$f":"'Comparison Group 1'!B294","v":23},{"$f":"'Comparison Group 1'!C294","v":0.19658119658119658},{"$f":"'Subject Data'!B294","v":2},{"$f":"'Subject Data'!C294","v":0.2857142857142857},{"$f":"'Comparison Group 3'!I294","v":9862},{"$f":"'Comparison Group 3'!J294","v":0.17922762380736029},{"$f":"'Comparison Group 2'!I294","v":3291},{"$f":"'Comparison Group 2'!J294","v":7.7275288813750356E-2},{"$f":"'Comparison Group 1'!I294","v":597},{"$f":"'Comparison Group 1'!J294","v":0.13072038537333042},{"$f":"'Subject Data'!I294","v":6},{"$f":"'Subject Data'!J294","v":0.12}]
["Collector",{"$f":"'Comparison Group 3'!B295","v":11},{"$f":"'Comparison Group 3'!C295","v":8.5337470907680367E-3},{"$f":"'Comparison Group 2'!B295","v":92},{"$f":"'Comparison Group 2'!C295","v":9.2555331991951706E-2},{"$f":"'Comparison Group 1'!B295","v":19},{"$f":"'Comparison Group 1'!C295","v":0.1623931623931624},{"$f":"'Subject Data'!B295","v":1},{"$f":"'Subject Data'!C295","v":0.14285714285714285},{"$f":"'Comparison Group 3'!I295","v":217},{"$f":"'Comparison Group 3'!J295","v":3.9436619718309857E-3},{"$f":"'Comparison Group 2'!I295","v":3476},{"$f":"'Comparison Group 2'!J295","v":8.1619235465389309E-2},{"$f":"'Comparison Group 1'!I295","v":494},{"$f":"'Comparison Group 1'!J295","v":0.10816728705933873},{"$f":"'Subject Data'!I295","v":8},{"$f":"'Subject Data'!J295","v":0.16}]
["Local",{"$f":"'Comparison Group 3'!B296","v":8},{"$f":"'Comparison Group 3'!C296","v":6.2063615205585725E-3},{"$f":"'Comparison Group 2'!B296","v":104},{"$f":"'Comparison Group 2'!C296","v":0.10462776659959759},{"$f":"'Comparison Group 1'!B296","v":11},{"$f":"'Comparison Group 1'!C296","v":9.4017094017094016E-2},{"$f":"'Subject Data'!B296","v":0},{"$f":"'Subject Data'!C296","v":0},{"$f":"'Comparison Group 3'!I296","v":81},{"$f":"'Comparison Group 3'!J296","v":1.4720581553839165E-3},{"$f":"'Comparison Group 2'!I296","v":3608},{"$f":"'Comparison Group 2'!J296","v":8.4718700103315489E-2},{"$f":"'Comparison Group 1'!I296","v":663},{"$f":"'Comparison Group 1'!J296","v":0.14517188526384936},{"$f":"'Subject Data'!I296","v":5},{"$f":"'Subject Data'!J296","v":0.1}]
["Unknown",{"$f":"'Comparison Group 3'!B297","v":0},{"$f":"'Comparison Group 3'!C297","v":0},{"$f":"'Comparison Group 2'!B297","v":501},{"$f":"'Comparison Group 2'!C297","v":0.50402414486921532},{"$f":"'Comparison Group 1'!B297","v":13},{"$f":"'Comparison Group 1'!C297","v":0.1111111111111111},{"$f":"'Subject Data'!B297","v":2},{"$f":"'Subject Data'!C297","v":0.2857142857142857},{"$f":"'Comparison Group 3'!I297","v":7},{"$f":"'Comparison Group 3'!J297","v":1.2721490231712857E-4},{"$f":"'Comparison Group 2'!I297","v":22253},{"$f":"'Comparison Group 2'!J297","v":0.52251808021038793},{"$f":"'Comparison Group 1'!I297","v":655},{"$f":"'Comparison Group 1'!J297","v":0.14342018830742281},{"$f":"'Subject Data'!I297","v":5},{"$f":"'Subject Data'!J297","v":0.1}]
["Access Control"]
["No Access Control",{"$f":"'Comparison Group 3'!B299","v":340},{"$f":"'Comparison Group 3'!C299","v":0.26377036462373932},{"$f":"'Comparison Group 2'!B299","v":501},{"$f":"'Comparison Group 2'!C299","v":0.50402414486921532},{"$f":"'Comparison Group 1'!B299","v":67},{"$f":"'Comparison Group 1'!C299","v":0.57264957264957261},{"$f":"'Subject Data'!B299","v":4},{"$f":"'Subject Data'!C299","v":0.5714285714285714},{"$f":"'Comparison Group 3'!I299","v":13243},{"$f":"'Comparison Group 3'!J299","v":0.24067242162653341},{"$f":"'Comparison Group 2'!I299","v":22253},{"$f":"'Comparison Group 2'!J299","v":0.52251808021038793},{"$f":"'Comparison Group 1'!I299","v":3162},{"$f":"'Comparison Group 1'!J299","v":0.69235822202758923},{"$f":"'Subject Data'!I299","v":22},{"$f":"'Subject Data'!J299","v":0.44}]
["Partial Access Control",{"$f":"'Comparison Group 3'!B300","v":821},{"$f":"'Comparison Group 3'!C300","v":0.63692785104732352},{"$f":"'Comparison Group 2'!B300","v":92},{"$f":"'Comparison Group 2'!C300","v":9.2555331991951706E-2},{"$f":"'Comparison Group 1'!B300","v":16},{"$f":"'Comparison Group 1'!C300","v":0.13675213675213677},{"$f":"'Subject Data'!B300","v":3},{"$f":"'Subject Data'!C300","v":0.42857142857142855},{"$f":"'Comparison Group 3'!I300","v":37589},{"$f":"'Comparison Group 3'!J300","v":0.68312585188550656},{"$f":"'Comparison Group 2'!I300","v":3476},{"$f":"'Comparison Group 2'!J300","v":8.1619235465389309E-2},{"$f":"'Comparison Group 1'!I300","v":338},{"$f":"'Comparison Group 1'!J300","v":7.4009196409021233E-2},{"$f":"'Subject Data'!I300","v":9},{"$f":"'Subject Data'!J300","v":0.18}]
["Full Access Control",{"$f":"'Comparison Group 3'!B301","v":128},{"$f":"'Comparison Group 3'!C301","v":9.9301784328937159E-2},{"$f":"'Comparison Group 2'!B301","v":401},{"$f":"'Comparison Group 2'!C301","v":0.40342052313883298},{"$f":"'Comparison Group 1'!B301","v":34},{"$f":"'Comparison Group 1'!C301","v":0.29059829059829062},{"$f":"'Subject Data'!B301","v":0},{"$f":"'Subject Data'!C301","v":0},{"$f":"'Comparison Group 3'!I301","v":4193},{"$f":"'Comparison Group 3'!J301","v":7.6201726487960017E-2},{"$f":"'Comparison Group 2'!I301","v":16859},{"$f":"'Comparison Group 2'!J301","v":0.39586268432422278},{"$f":"'Comparison Group 1'!I301","v":1067},{"$f":"'Comparison Group 1'!J301","v":0.23363258156338954},{"$f":"'Subject Data'!I301","v":19},{"$f":"'Subject Data'!J301","v":0.38}]
["Roadway Lighting"]
["Continuous Lighting on Both Sides",{"$f":"'Comparison Group 3'!B303","v":373},{"$f":"'Comparison Group 3'!C303","v":0.28937160589604344},{"$f":"'Comparison Group 2'!B303","v":99},{"$f":"'Comparison Group 2'!C303","v":9.9597585513078471E-2},{"$f":"'Comparison Group 1'!B303","v":25},{"$f":"'Comparison Group 1'!C303","v":0.21367521367521367},{"$f":"'Subject Data'!B303","v":0},{"$f":"'Subject Data'!C303","v":0},{"$f":"'Comparison Group 3'!I303","v":11178},{"$f":"'Comparison Group 3'!J303","v":0.20314402544298046},{"$f":"'Comparison Group 2'!I303","v":2714},{"$f":"'Comparison Group 2'!J303","v":6.3726871419179112E-2},{"$f":"'Comparison Group 1'!I303","v":835},{"$f":"'Comparison Group 1'!J303","v":0.18283336982701992},{"$f":"'Subject Data'!I303","v":2},{"$f":"'Subject Data'!J303","v":0.04}]
["Continuous Lighting on One Side",{"$f":"'Comparison Group 3'!B304","v":117},{"$f":"'Comparison Group 3'!C304","v":9.0768037238169119E-2},{"$f":"'Comparison Group 2'!B304","v":815},{"$f":"'Comparison Group 2'!C304","v":0.81991951710261568},{"$f":"'Comparison Group 1'!B304","v":29},{"$f":"'Comparison Group 1'!C304","v":0.24786324786324787},{"$f":"'Subject Data'!B304","v":0},{"$f":"'Subject Data'!C304","v":0},{"$f":"'Comparison Group 3'!I304","v":2911},{"$f":"'Comparison Group 3'!J304","v":5.2903225806451612E-2},{"$f":"'Comparison Group 2'!I304","v":37556},{"$f":"'Comparison Group 2'!J304","v":0.88184465107542032},{"$f":"'Comparison Group 1'!I304","v":510},{"$f":"'Comparison Group 1'!J304","v":0.11167068097219181},{"$f":"'Subject Data'!I304","v":4},{"$f":"'Subject Data'!J304","v":0.08}]
["No Lighting",{"$f":"'Comparison Group 3'!B305","v":64},{"$f":"'Comparison Group 3'!C305","v":4.965089216446858E-2},{"$f":"'Comparison Group 2'!B305","v":1},{"$f":"'Comparison Group 2'!C305","v":1.006036217303823E-3},{"$f":"'Comparison Group 1'!B305","v":10},{"$f":"'Comparison Group 1'!C305","v":8.5470085470085472E-2},{"$f":"'Subject Data'!B305","v":1},{"$f":"'Subject Data'!C305","v":0.14285714285714285},{"$f":"'Comparison Group 3'!I305","v":2284},{"$f":"'Comparison Group 3'!J305","v":4.1508405270331665E-2},{"$f":"'Comparison Group 2'!I305","v":31},{"$f":"'Comparison Group 2'!J305","v":7.2790457405842019E-4},{"$f":"'Comparison Group 1'!I305","v":151},{"$f":"'Comparison Group 1'!J305","v":3.3063280052550909E-2},{"$f":"'Subject Data'!I305","v":43},{"$f":"'Subject Data'!J305","v":0.86}]
["Spot Illumination on Both Sides",{"$f":"'Comparison Group 3'!B306","v":734},{"$f":"'Comparison Group 3'!C306","v":0.56943366951124907},{"$f":"'Comparison Group 2'!B306","v":6},{"$f":"'Comparison Group 2'!C306","v":6.0362173038229373E-3},{"$f":"'Comparison Group 1'!B306","v":53},{"$f":"'Comparison Group 1'!C306","v":0.45299145299145299},{"$f":"'Subject Data'!B306","v":2},{"$f":"'Subject Data'!C306","v":0.2857142857142857},{"$f":"'Comparison Group 3'!I306","v":38622},{"$f":"'Comparison Group 3'!J306","v":0.70189913675602},{"$f":"'Comparison Group 2'!I306","v":138},{"$f":"'Comparison Group 2'!J306","v":3.2403493941955482E-3},{"$f":"'Comparison Group 1'!I306","v":3071},{"$f":"'Comparison Group 1'!J306","v":0.67243266914823741},{"$f":"'Subject Data'!I306","v":0},{"$f":"'Subject Data'!J306","v":0}]
["Spot Illumination on One Side",{"$f":"'Comparison Group 3'!B307","v":1},{"$f":"'Comparison Group 3'!C307","v":7.7579519006982156E-4},{"$f":"'Comparison Group 2'!B307","v":73},{"$f":"'Comparison Group 2'!C307","v":7.344064386317907E-2},{"$f":"'Comparison Group 1'!B307","v":0},{"$f":"'Comparison Group 1'!C307","v":0},{"$f":"'Subject Data'!B307","v":4},{"$f":"'Subject Data'!C307","v":0.5714285714285714},{"$f":"'Comparison Group 3'!I307","v":30},{"$f":"'Comparison Group 3'!J307","v":5.4520672421626531E-4},{"$f":"'Comparison Group 2'!I307","v":2149},{"$f":"'Comparison Group 2'!J307","v":5.0460223537146617E-2},{"$f":"'Comparison Group 1'!I307","v":0},{"$f":"'Comparison Group 1'!J307","v":0},{"$f":"'Subject Data'!I307","v":1},{"$f":"'Subject Data'!J307","v":0.02}]
["Alcohol Involvement"]
["Yes",{"$f":"'Comparison Group 3'!B309","v":117},{"$f":"'Comparison Group 3'!C309","v":9.0768037238169119E-2},{"$f":"'Comparison Group 2'!B309","v":92},{"$f":"'Comparison Group 2'!C309","v":9.2555331991951706E-2},{"$f":"'Comparison Group 1'!B309","v":19},{"$f":"'Comparison Group 1'!C309","v":0.1623931623931624},{"$f":"'Subject Data'!B309","v":5},{"$f":"'Subject Data'!C309","v":0.7142857142857143},{"$f":"'Comparison Group 3'!I309","v":3619},{"$f":"'Comparison Group 3'!J309","v":6.5770104497955478E-2},{"$f":"'Comparison Group 2'!I309","v":3476},{"$f":"'Comparison Group 2'!J309","v":8.1619235465389309E-2},{"$f":"'Comparison Group 1'!I309","v":633},{"$f":"'Comparison Group 1'!J309","v":0.13860302167724983},{"$f":"'Subject Data'!I309","v":11},{"$f":"'Subject Data'!J309","v":0.22}]
["No",{"$f":"'Comparison Group 3'!B310","v":135},{"$f":"'Comparison Group 3'!C310","v":0.10473235065942592},{"$f":"'Comparison Group 2'!B310","v":401},{"$f":"'Comparison Group 2'!C310","v":0.40342052313883298},{"$f":"'Comparison Group 1'!B310","v":84},{"$f":"'Comparison Group 1'!C310","v":0.71794871794871795},{"$f":"'Subject Data'!B310","v":0},{"$f":"'Subject Data'!C310","v":0},{"$f":"'Comparison Group 3'!I310","v":5920},{"$f":"'Comparison Group 3'!J310","v":0.10758746024534302},{"$f":"'Comparison Group 2'!I310","v":16859},{"$f":"'Comparison Group 2'!J310","v":0.39586268432422278},{"$f":"'Comparison Group 1'!I310","v":3477},{"$f":"'Comparison Group 1'!J310","v":0.76133128968688413},{"$f":"'Subject Data'!I310","v":25},{"$f":"'Subject Data'!J310","v":0.5}]
["Unknown",{"$f":"'Comparison Group 3'!B311","v":1037},{"$f":"'Comparison Group 3'!C311","v":0.80449961210240495},{"$f":"'Comparison Group 2'!B311","v":501},{"$f":"'Comparison Group 2'!C311","v":0.50402414486921532},{"$f":"'Comparison Group 1'!B311","v":14},{"$f":"'Comparison Group 1'!C311","v":0.11965811965811966},{"$f":"'Subject Data'!B311","v":2},{"$f":"'Subject Data'!C311","v":0.2857142857142857},{"$f":"'Comparison Group 3'!I311","v":45486},{"$f":"'Comparison Group 3'!J311","v":0.82664243525670145},{"$f":"'Comparison Group 2'!I311","v":22253},{"$f":"'Comparison Group 2'!J311","v":0.52251808021038793},{"$f":"'Comparison Group 1'!I311","v":457},{"$f":"'Comparison Group 1'!J311","v":0.100065688635866},{"$f":"'Subject Data'!I311","v":14},{"$f":"'Subject Data'!J311","v":0.28000000000000003}]
["Drug Involvement"]
["Yes",{"$f":"'Comparison Group 3'!B313","v":838},{"$f":"'Comparison Group 3'!C313","v":0.65011636927851046},{"$f":"'Comparison Group 2'!B313","v":838},{"$f":"'Comparison Group 2'!C313","v":0.84305835010060359},{"$f":"'Comparison Group 1'!B313","v":103},{"$f":"'Comparison Group 1'!C313","v":0.88034188034188032},{"$f":"'Subject Data'!B313","v":0},{"$f":"'Subject Data'!C313","v":0},{"$f":"'Comparison Group 3'!I313","v":36340},{"$f":"'Comparison Group 3'!J313","v":0.6604270786006361},{"$f":"'Comparison Group 2'!I313","v":36340},{"$f":"'Comparison Group 2'!J313","v":0.853292007138161},{"$f":"'Comparison Group 1'!I313","v":4086},{"$f":"'Comparison Group 1'!J313","v":0.89467922049485438},{"$f":"'Subject Data'!I313","v":14},{"$f":"'Subject Data'!J313","v":0.28000000000000003}]
["No",{"$f":"'Comparison Group 3'!B314","v":244},{"$f":"'Comparison Group 3'!C314","v":0.18929402637703646},{"$f":"'Comparison Group 2'!B314","v":155},{"$f":"'Comparison Group 2'!C314","v":0.15593561368209255},{"$f":"'Comparison Group 1'!B314","v":1},{"$f":"'Comparison Group 1'!C314","v":8.5470085470085479E-3},{"$f":"'Subject Data'!B314","v":4},{"$f":"'Subject Data'!C314","v":0.5714285714285714},{"$f":"'Comparison Group 3'!I314","v":10475},{"$f":"'Comparison Group 3'!J314","v":0.19036801453884597},{"$f":"'Comparison Group 2'!I314","v":6108},{"$f":"'Comparison Group 2'!J314","v":0.14342068188222035},{"$f":"'Comparison Group 1'!I314","v":11},{"$f":"'Comparison Group 1'!J314","v":2.4085833150864901E-3},{"$f":"'Subject Data'!I314","v":11},{"$f":"'Subject Data'!J314","v":0.22}]
["Unknown",{"$f":"'Comparison Group 3'!B315","v":207},{"$f":"'Comparison Group 3'!C315","v":0.16058960434445307},{"$f":"'Comparison Group 2'!B315","v":1},{"$f":"'Comparison Group 2'!C315","v":1.006036217303823E-3},{"$f":"'Comparison Group 1'!B315","v":13},{"$f":"'Comparison Group 1'!C315","v":0.1111111111111111},{"$f":"'Subject Data'!B315","v":3},{"$f":"'Subject Data'!C315","v":0.42857142857142855},{"$f":"'Comparison Group 3'!I315","v":8210},{"$f":"'Comparison Group 3'!J315","v":0.14920490686051793},{"$f":"'Comparison Group 2'!I315","v":140},{"$f":"'Comparison Group 2'!J315","v":3.2873109796186721E-3},{"$f":"'Comparison Group 1'!I315","v":470},{"$f":"'Comparison Group 1'!J315","v":0.10291219619005912},{"$f":"'Subject Data'!I315","v":25},{"$f":"'Subject Data'!J315","v":0.5}]
["Vehicle Data"]
["Motor Vehicle Body Type"]
["All-Terrain Vehicle",{"$f":"'Comparison Group 3'!B318","v":46},{"$f":"'Comparison Group 3'!C318","v":1.882930822758903E-2},{"$f":"'Comparison Group 2'!B318","v":1036},{"$f":"'Comparison Group 2'!C318","v":0.53874154966198651},{"$f":"'Comparison Group 1'!B318","v":110},{"$f":"'Comparison Group 1'!C318","v":0.5092592592592593},{"$f":"'Subject Data'!B318","v":6},{"$f":"'Subject Data'!C318","v":0.6},{"$f":"'Comparison Group 3'!I318","v":3850},{"$f":"'Comparison Group 3'!J318","v":3.5728205794465374E-2},{"$f":"'Comparison Group 2'!I318","v":45956},{"$f":"'Comparison Group 2'!J318","v":0.54336285278503615},{"$f":"'Comparison Group 1'!I318","v":4496},{"$f":"'Comparison Group 1'!J318","v":0.53491969066032119},{"$f":"'Subject Data'!I318","v":28},{"$f":"'Subject Data'!J318","v":0.35897435897435898}]
["Golf Cart",{"$f":"'Comparison Group 3'!B319","v":64},{"$f":"'Comparison Group 3'!C319","v":2.6197298403602128E-2},{"$f":"'Comparison Group 2'!B319","v":1},{"$f":"'Comparison Group 2'!C319","v":5.2002080083203334E-4},{"$f":"'Comparison Group 1'!B319","v":0},{"$f":"'Comparison Group 1'!C319","v":0},{"$f":"'Subject Data'!B319","v":0},{"$f":"'Subject Data'!C319","v":0},{"$f":"'Comparison Group 3'!I319","v":3174},{"$f":"'Comparison Group 3'!J319","v":2.9454889660164442E-2},{"$f":"'Comparison Group 2'!I319","v":2},{"$f":"'Comparison Group 2'!J319","v":2.3647090816652283E-5},{"$f":"'Comparison Group 1'!I319","v":0},{"$f":"'Comparison Group 1'!J319","v":0},{"$f":"'Subject Data'!I319","v":0},{"$f":"'Subject Data'!J319","v":0}]
["Snowmobile",{"$f":"'Comparison Group 3'!B320","v":205},{"$f":"'Comparison Group 3'!C320","v":8.3913221449038067E-2},{"$f":"'Comparison Group 2'!B320","v":1},{"$f":"'Comparison Group 2'!C320","v":5.2002080083203334E-4},{"$f":"'Comparison Group 1'!B320","v":0},{"$f":"'Comparison Group 1'!C320","v":0},{"$f":"'Subject Data'!B320","v":0},{"$f":"'Subject Data'!C320","v":0},{"$f":"'Comparison Group 3'!I320","v":8667},{"$f":"'Comparison Group 3'!J320","v":8.0430223278086077E-2},{"$f":"'Comparison Group 2'!I320","v":3},{"$f":"'Comparison Group 2'!J320","v":3.5470636224978419E-5},{"$f":"'Comparison Group 1'!I320","v":0},{"$f":"'Comparison Group 1'!J320","v":0},{"$f":"'Subject Data'!I320","v":0},{"$f":"'Subject Data'!J320","v":0}]
["Low Speed Vehicle",{"$f":"'Comparison Group 3'!B321","v":158},{"$f":"'Comparison Group 3'!C321","v":6.467458043389275E-2},{"$f":"'Comparison Group 2'!B321","v":1},{"$f":"'Comparison Group 2'!C321","v":5.2002080083203334E-4},{"$f":"'Comparison Group 1'!B321","v":0},{"$f":"'Comparison Group 1'!C321","v":0},{"$f":"'Subject Data'!B321","v":0},{"$f":"'Subject Data'!C321","v":0},{"$f":"'Comparison Group 3'!I321","v":6912},{"$f":"'Comparison Group 3'!J321","v":6.414372946788173E-2},{"$f":"'Comparison Group 2'!I321","v":1},{"$f":"'Comparison Group 2'!J321","v":1.1823545408326141E-5},{"$f":"'Comparison Group 1'!I321","v":0},{"$f":"'Comparison Group 1'!J321","v":0},{"$f":"'Subject Data'!I321","v":10},{"$f":"'Subject Data'!J321","v":0.12820512820512819}]
["Moped or motorized bicycle",{"$f":"'Comparison Group 3'!B322","v":120},{"$f":"'Comparison Group 3'!C322","v":4.911993450675399E-2},{"$f":"'Comparison Group 2'!B322","v":5},{"$f":"'Comparison Group 2'!C322","v":2.6001040041601664E-3},{"$f":"'Comparison Group 1'!B322","v":0},{"$f":"'Comparison Group 1'!C322","v":0},{"$f":"'Subject Data'!B322","v":0},{"$f":"'Subject Data'!C322","v":0},{"$f":"'Comparison Group 3'!I322","v":5356},{"$f":"'Comparison Group 3'!J322","v":4.9703966294845858E-2},{"$f":"'Comparison Group 2'!I322","v":23},{"$f":"'Comparison Group 2'!J322","v":2.7194154439150122E-4},{"$f":"'Comparison Group 1'!I322","v":0},{"$f":"'Comparison Group 1'!J322","v":0},{"$f":"'Subject Data'!I322","v":1},{"$f":"'Subject Data'!J322","v":1.282051282051282E-2}]
["Recreational Off-Highway Vehicles",{"$f":"'Comparison Group 3'!B323","v":111},{"$f":"'Comparison Group 3'!C323","v":4.5435939418747441E-2},{"$f":"'Comparison Group 2'!B323","v":194},{"$f":"'Comparison Group 2'!C323","v":0.10088403536141445},{"$f":"'Comparison Group 1'!B323","v":0},{"$f":"'Comparison Group 1'!C323","v":0},{"$f":"'Subject Data'!B323","v":0},{"$f":"'Subject Data'!C323","v":0},{"$f":"'Comparison Group 3'!I323","v":4369},{"$f":"'Comparison Group 3'!J323","v":4.0544553536628371E-2},{"$f":"'Comparison Group 2'!I323","v":12056},{"$f":"'Comparison Group 2'!J323","v":0.14254466344277994},{"$f":"'Comparison Group 1'!I323","v":0},{"$f":"'Comparison Group 1'!J323","v":0},{"$f":"'Subject Data'!I323","v":1},{"$f":"'Subject Data'!J323","v":1.282051282051282E-2}]
["2-Wheeled Motorcycle",{"$f":"'Comparison Group 3'!B324","v":64},{"$f":"'Comparison Group 3'!C324","v":2.6197298403602128E-2},{"$f":"'Comparison Group 2'!B324","v":53},{"$f":"'Comparison Group 2'!C324","v":2.7561102444097763E-2},{"$f":"'Comparison Group 1'!B324","v":0},{"$f":"'Comparison Group 1'!C324","v":0},{"$f":"'Subject Data'!B324","v":1},{"$f":"'Subject Data'!C324","v":0.1},{"$f":"'Comparison Group 3'!I324","v":2416},{"$f":"'Comparison Group 3'!J324","v":2.2420609142708662E-2},{"$f":"'Comparison Group 2'!I324","v":203},{"$f":"'Comparison Group 2'!J324","v":2.4001797178902066E-3},{"$f":"'Comparison Group 1'!I324","v":2},{"$f":"'Comparison Group 1'!J324","v":2.379535990481856E-4},{"$f":"'Subject Data'!I324","v":1},{"$f":"'Subject Data'!J324","v":1.282051282051282E-2}]
["3-Wheeled Motorcycle",{"$f":"'Comparison Group 3'!B325","v":24},{"$f":"'Comparison Group 3'!C325","v":9.8239869013507976E-3},{"$f":"'Comparison Group 2'!B325","v":25},{"$f":"'Comparison Group 2'!C325","v":1.3000520020800831E-2},{"$f":"'Comparison Group 1'!B325","v":0},{"$f":"'Comparison Group 1'!C325","v":0},{"$f":"'Subject Data'!B325","v":0},{"$f":"'Subject Data'!C325","v":0},{"$f":"'Comparison Group 3'!I325","v":842},{"$f":"'Comparison Group 3'!J325","v":7.8138050075168431E-3},{"$f":"'Comparison Group 2'!I325","v":62},{"$f":"'Comparison Group 2'!J325","v":7.3305981531622067E-4},{"$f":"'Comparison Group 1'!I325","v":0},{"$f":"'Comparison Group 1'!J325","v":0},{"$f":"'Subject Data'!I325","v":0},{"$f":"'Subject Data'!J325","v":0}]
["Autocycle",{"$f":"'Comparison Group 3'!B326","v":9},{"$f":"'Comparison Group 3'!C326","v":3.6839950880065493E-3},{"$f":"'Comparison Group 2'!B326","v":25},{"$f":"'Comparison Group 2'!C326","v":1.3000520020800831E-2},{"$f":"'Comparison Group 1'!B326","v":0},{"$f":"'Comparison Group 1'!C326","v":0},{"$f":"'Subject Data'!B326","v":0},{"$f":"'Subject Data'!C326","v":0},{"$f":"'Comparison Group 3'!I326","v":294},{"$f":"'Comparison Group 3'!J326","v":2.7283357152137195E-3},{"$f":"'Comparison Group 2'!I326","v":203},{"$f":"'Comparison Group 2'!J326","v":2.4001797178902066E-3},{"$f":"'Comparison Group 1'!I326","v":0},{"$f":"'Comparison Group 1'!J326","v":0},{"$f":"'Subject Data'!I326","v":0},{"$f":"'Subject Data'!J326","v":0}]
["Passenger Car",{"$f":"'Comparison Group 3'!B327","v":0},{"$f":"'Comparison Group 3'!C327","v":0},{"$f":"'Comparison Group 2'!B327","v":77},{"$f":"'Comparison Group 2'!C327","v":4.0041601664066562E-2},{"$f":"'Comparison Group 1'!B327","v":1},{"$f":"'Comparison Group 1'!C327","v":4.6296296296296294E-3},{"$f":"'Subject Data'!B327","v":0},{"$f":"'Subject Data'!C327","v":0},{"$f":"'Comparison Group 3'!I327","v":22},{"$f":"'Comparison Group 3'!J327","v":2.0416117596837357E-4},{"$f":"'Comparison Group 2'!I327","v":1308},{"$f":"'Comparison Group 2'!J327","v":1.5465197394090592E-2},{"$f":"'Comparison Group 1'!I327","v":4},{"$f":"'Comparison Group 1'!J327","v":4.759071980963712E-4},{"$f":"'Subject Data'!I327","v":9},{"$f":"'Subject Data'!J327","v":0.11538461538461539}]
["Passenger Van",{"$f":"'Comparison Group 3'!B328","v":92},{"$f":"'Comparison Group 3'!C328","v":3.7658616455178061E-2},{"$f":"'Comparison Group 2'!B328","v":2},{"$f":"'Comparison Group 2'!C328","v":1.0400416016640667E-3},{"$f":"'Comparison Group 1'!B328","v":0},{"$f":"'Comparison Group 1'!C328","v":0},{"$f":"'Subject Data'!B328","v":0},{"$f":"'Subject Data'!C328","v":0},{"$f":"'Comparison Group 3'!I328","v":7702},{"$f":"'Comparison Group 3'!J328","v":7.147497169583697E-2},{"$f":"'Comparison Group 2'!I328","v":14},{"$f":"'Comparison Group 2'!J328","v":1.6552963571656596E-4},{"$f":"'Comparison Group 1'!I328","v":9},{"$f":"'Comparison Group 1'!J328","v":1.0707911957168353E-3},{"$f":"'Subject Data'!I328","v":0},{"$f":"'Subject Data'!J328","v":0}]
["Sport Utility Vehicle",{"$f":"'Comparison Group 3'!B329","v":129},{"$f":"'Comparison Group 3'!C329","v":5.2803929594760539E-2},{"$f":"'Comparison Group 2'!B329","v":67},{"$f":"'Comparison Group 2'!C329","v":3.4841393655746226E-2},{"$f":"'Comparison Group 1'!B329","v":0},{"$f":"'Comparison Group 1'!C329","v":0},{"$f":"'Subject Data'!B329","v":0},{"$f":"'Subject Data'!C329","v":0},{"$f":"'Comparison Group 3'!I329","v":6350},{"$f":"'Comparison Group 3'!J329","v":5.8928339427235098E-2},{"$f":"'Comparison Group 2'!I329","v":3},{"$f":"'Comparison Group 2'!J329","v":3.5470636224978419E-5},{"$f":"'Comparison Group 1'!I329","v":0},{"$f":"'Comparison Group 1'!J329","v":0},{"$f":"'Subject Data'!I329","v":0},{"$f":"'Subject Data'!J329","v":0}]
["Pickup",{"$f":"'Comparison Group 3'!B330","v":205},{"$f":"'Comparison Group 3'!C330","v":8.3913221449038067E-2},{"$f":"'Comparison Group 2'!B330","v":0},{"$f":"'Comparison Group 2'!C330","v":0},{"$f":"'Comparison Group 1'!B330","v":0},{"$f":"'Comparison Group 1'!C330","v":0},{"$f":"'Subject Data'!B330","v":0},{"$f":"'Subject Data'!C330","v":0},{"$f":"'Comparison Group 3'!I330","v":17336},{"$f":"'Comparison Group 3'!J330","v":0.16087900666307839},{"$f":"'Comparison Group 2'!I330","v":2335},{"$f":"'Comparison Group 2'!J330","v":2.7607978528441539E-2},{"$f":"'Comparison Group 1'!I330","v":2},{"$f":"'Comparison Group 1'!J330","v":2.379535990481856E-4},{"$f":"'Subject Data'!I330","v":0},{"$f":"'Subject Data'!J330","v":0}]
["Cargo Van",{"$f":"'Comparison Group 3'!B331","v":161},{"$f":"'Comparison Group 3'!C331","v":6.5902578796561598E-2},{"$f":"'Comparison Group 2'!B331","v":1},{"$f":"'Comparison Group 2'!C331","v":5.2002080083203334E-4},{"$f":"'Comparison Group 1'!B331","v":0},{"$f":"'Comparison Group 1'!C331","v":0},{"$f":"'Subject Data'!B331","v":0},{"$f":"'Subject Data'!C331","v":0},{"$f":"'Comparison Group 3'!I331","v":6915},{"$f":"'Comparison Group 3'!J331","v":6.4171569628241054E-2},{"$f":"'Comparison Group 2'!I331","v":2},{"$f":"'Comparison Group 2'!J331","v":2.3647090816652283E-5},{"$f":"'Comparison Group 1'!I331","v":0},{"$f":"'Comparison Group 1'!J331","v":0},{"$f":"'Subject Data'!I331","v":0},{"$f":"'Subject Data'!J331","v":0}]
["Construction Equipment",{"$f":"'Comparison Group 3'!B332","v":121},{"$f":"'Comparison Group 3'!C332","v":4.9529267294310272E-2},{"$f":"'Comparison Group 2'!B332","v":0},{"$f":"'Comparison Group 2'!C332","v":0},{"$f":"'Comparison Group 1'!B332","v":0},{"$f":"'Comparison Group 1'!C332","v":0},{"$f":"'Subject Data'!B332","v":0},{"$f":"'Subject Data'!C332","v":0},{"$f":"'Comparison Group 3'!I332","v":5356},{"$f":"'Comparison Group 3'!J332","v":4.9703966294845858E-2},{"$f":"'Comparison Group 2'!I332","v":0},{"$f":"'Comparison Group 2'!J332","v":0},{"$f":"'Comparison Group 1'!I332","v":4},{"$f":"'Comparison Group 1'!J332","v":4.759071980963712E-4},{"$f":"'Subject Data'!I332","v":0},{"$f":"'Subject Data'!J332","v":0}]
["Farm Equipment",{"$f":"'Comparison Group 3'!B333","v":112},{"$f":"'Comparison Group 3'!C333","v":4.5845272206303724E-2},{"$f":"'Comparison Group 2'!B333","v":77},{"$f":"'Comparison Group 2'!C333","v":4.0041601664066562E-2},{"$f":"'Comparison Group 1'!B333","v":0},{"$f":"'Comparison Group 1'!C333","v":0},{"$f":"'Subject Data'!B333","v":0},{"$f":"'Subject Data'!C333","v":0},{"$f":"'Comparison Group 3'!I333","v":4370},{"$f":"'Comparison Group 3'!J333","v":4.0553833590081481E-2},{"$f":"'Comparison Group 2'!I333","v":1074},{"$f":"'Comparison Group 2'!J333","v":1.2698487768542275E-2},{"$f":"'Comparison Group 1'!I333","v":0},{"$f":"'Comparison Group 1'!J333","v":0},{"$f":"'Subject Data'!I333","v":0},{"$f":"'Subject Data'!J333","v":0}]
["Single-Unit Truck",{"$f":"'Comparison Group 3'!B334","v":129},{"$f":"'Comparison Group 3'!C334","v":5.2803929594760539E-2},{"$f":"'Comparison Group 2'!B334","v":0},{"$f":"'Comparison Group 2'!C334","v":0},{"$f":"'Comparison Group 1'!B334","v":0},{"$f":"'Comparison Group 1'!C334","v":0},{"$f":"'Subject Data'!B334","v":0},{"$f":"'Subject Data'!C334","v":0},{"$f":"'Comparison Group 3'!I334","v":4833},{"$f":"'Comparison Group 3'!J334","v":4.4850498338870434E-2},{"$f":"'Comparison Group 2'!I334","v":389},{"$f":"'Comparison Group 2'!J334","v":4.5993591638388686E-3},{"$f":"'Comparison Group 1'!I334","v":1},{"$f":"'Comparison Group 1'!J334","v":1.189767995240928E-4},{"$f":"'Subject Data'!I334","v":0},{"$f":"'Subject Data'!J334","v":0}]
["Truck Tractor",{"$f":"'Comparison Group 3'!B335","v":49},{"$f":"'Comparison Group 3'!C335","v":2.0057306590257881E-2},{"$f":"'Comparison Group 2'!B335","v":64},{"$f":"'Comparison Group 2'!C335","v":3.3281331253250133E-2},{"$f":"'Comparison Group 1'!B335","v":0},{"$f":"'Comparison Group 1'!C335","v":0},{"$f":"'Subject Data'!B335","v":0},{"$f":"'Subject Data'!C335","v":0},{"$f":"'Comparison Group 3'!I335","v":1687},{"$f":"'Comparison Group 3'!J335","v":1.565545017539301E-2},{"$f":"'Comparison Group 2'!I335","v":10},{"$f":"'Comparison Group 2'!J335","v":1.1823545408326141E-4},{"$f":"'Comparison Group 1'!I335","v":0},{"$f":"'Comparison Group 1'!J335","v":0},{"$f":"'Subject Data'!I335","v":0},{"$f":"'Subject Data'!J335","v":0}]
["Motor Home",{"$f":"'Comparison Group 3'!B336","v":19},{"$f":"'Comparison Group 3'!C336","v":7.777322963569382E-3},{"$f":"'Comparison Group 2'!B336","v":0},{"$f":"'Comparison Group 2'!C336","v":0},{"$f":"'Comparison Group 1'!B336","v":2},{"$f":"'Comparison Group 1'!C336","v":9.2592592592592587E-3},{"$f":"'Subject Data'!B336","v":0},{"$f":"'Subject Data'!C336","v":0},{"$f":"'Comparison Group 3'!I336","v":590},{"$f":"'Comparison Group 3'!J336","v":5.4752315373336547E-3},{"$f":"'Comparison Group 2'!I336","v":16},{"$f":"'Comparison Group 2'!J336","v":1.8917672653321826E-4},{"$f":"'Comparison Group 1'!I336","v":15},{"$f":"'Comparison Group 1'!J336","v":1.784651992861392E-3},{"$f":"'Subject Data'!I336","v":0},{"$f":"'Subject Data'!J336","v":0}]
["9- or 12-Passenger Van",{"$f":"'Comparison Group 3'!B337","v":0},{"$f":"'Comparison Group 3'!C337","v":0},{"$f":"'Comparison Group 2'!B337","v":2},{"$f":"'Comparison Group 2'!C337","v":1.0400416016640667E-3},{"$f":"'Comparison Group 1'!B337","v":2},{"$f":"'Comparison Group 1'!C337","v":9.2592592592592587E-3},{"$f":"'Subject Data'!B337","v":0},{"$f":"'Subject Data'!C337","v":0},{"$f":"'Comparison Group 3'!I337","v":46},{"$f":"'Comparison Group 3'!J337","v":4.2688245884296293E-4},{"$f":"'Comparison Group 2'!I337","v":188},{"$f":"'Comparison Group 2'!J337","v":2.2228265367653143E-3},{"$f":"'Comparison Group 1'!I337","v":20},{"$f":"'Comparison Group 1'!J337","v":2.3795359904818562E-3},{"$f":"'Subject Data'!I337","v":0},{"$f":"'Subject Data'!J337","v":0}]
["15-Passenger Van",{"$f":"'Comparison Group 3'!B338","v":158},{"$f":"'Comparison Group 3'!C338","v":6.467458043389275E-2},{"$f":"'Comparison Group 2'!B338","v":0},{"$f":"'Comparison Group 2'!C338","v":0},{"$f":"'Comparison Group 1'!B338","v":0},{"$f":"'Comparison Group 1'!C338","v":0},{"$f":"'Subject Data'!B338","v":0},{"$f":"'Subject Data'!C338","v":0},{"$f":"'Comparison Group 3'!I338","v":6370},{"$f":"'Comparison Group 3'!J338","v":5.9113940496297257E-2},{"$f":"'Comparison Group 2'!I338","v":0},{"$f":"'Comparison Group 2'!J338","v":0},{"$f":"'Comparison Group 1'!I338","v":1},{"$f":"'Comparison Group 1'!J338","v":1.189767995240928E-4},{"$f":"'Subject Data'!I338","v":0},{"$f":"'Subject Data'!J338","v":0}]
["Large Limo",{"$f":"'Comparison Group 3'!B339","v":120},{"$f":"'Comparison Group 3'!C339","v":4.911993450675399E-2},{"$f":"'Comparison Group 2'!B339","v":26},{"$f":"'Comparison Group 2'!C339","v":1.3520540821632865E-2},{"$f":"'Comparison Group 1'!B339","v":0},{"$f":"'Comparison Group 1'!C339","v":0},{"$f":"'Subject Data'!B339","v":0},{"$f":"'Subject Data'!C339","v":0},{"$f":"'Comparison Group 3'!I339","v":5357},{"$f":"'Comparison Group 3'!J339","v":4.9713246348298969E-2},{"$f":"'Comparison Group 2'!I339","v":1},{"$f":"'Comparison Group 2'!J339","v":1.1823545408326141E-5},{"$f":"'Comparison Group 1'!I339","v":0},{"$f":"'Comparison Group 1'!J339","v":0},{"$f":"'Subject Data'!I339","v":0},{"$f":"'Subject Data'!J339","v":0}]
["Mini-bus",{"$f":"'Comparison Group 3'!B340","v":111},{"$f":"'Comparison Group 3'!C340","v":4.5435939418747441E-2},{"$f":"'Comparison Group 2'!B340","v":0},{"$f":"'Comparison Group 2'!C340","v":0},{"$f":"'Comparison Group 1'!B340","v":0},{"$f":"'Comparison Group 1'!C340","v":0},{"$f":"'Subject Data'!B340","v":0},{"$f":"'Subject Data'!C340","v":0},{"$f":"'Comparison Group 3'!I340","v":4369},{"$f":"'Comparison Group 3'!J340","v":4.0544553536628371E-2},{"$f":"'Comparison Group 2'!I340","v":3337},{"$f":"'Comparison Group 2'!J340","v":3.9455171027584335E-2},{"$f":"'Comparison Group 1'!I340","v":1},{"$f":"'Comparison Group 1'!J340","v":1.189767995240928E-4},{"$f":"'Subject Data'!I340","v":0},{"$f":"'Subject Data'!J340","v":0}]
["School Bus",{"$f":"'Comparison Group 3'!B341","v":207},{"$f":"'Comparison Group 3'!C341","v":8.4731887024150632E-2},{"$f":"'Comparison Group 2'!B341","v":32},{"$f":"'Comparison Group 2'!C341","v":1.6640665626625067E-2},{"$f":"'Comparison Group 1'!B341","v":0},{"$f":"'Comparison Group 1'!C341","v":0},{"$f":"'Subject Data'!B341","v":0},{"$f":"'Subject Data'!C341","v":0},{"$f":"'Comparison Group 3'!I341","v":186},{"$f":"'Comparison Group 3'!J341","v":1.7260899422780675E-3},{"$f":"'Comparison Group 2'!I341","v":11},{"$f":"'Comparison Group 2'!J341","v":1.3005899949158754E-4},{"$f":"'Comparison Group 1'!I341","v":2},{"$f":"'Comparison Group 1'!J341","v":2.379535990481856E-4},{"$f":"'Subject Data'!I341","v":0},{"$f":"'Subject Data'!J341","v":0}]
["Transit Bus",{"$f":"'Comparison Group 3'!B342","v":0},{"$f":"'Comparison Group 3'!C342","v":0},{"$f":"'Comparison Group 2'!B342","v":0},{"$f":"'Comparison Group 2'!C342","v":0},{"$f":"'Comparison Group 1'!B342","v":1},{"$f":"'Comparison Group 1'!C342","v":4.6296296296296294E-3},{"$f":"'Subject Data'!B342","v":0},{"$f":"'Subject Data'!C342","v":0},{"$f":"'Comparison Group 3'!I342","v":92},{"$f":"'Comparison Group 3'!J342","v":8.5376491768592586E-4},{"$f":"'Comparison Group 2'!I342","v":2365},{"$f":"'Comparison Group 2'!J342","v":2.7962684890691324E-2},{"$f":"'Comparison Group 1'!I342","v":1},{"$f":"'Comparison Group 1'!J342","v":1.189767995240928E-4},{"$f":"'Subject Data'!I342","v":0},{"$f":"'Subject Data'!J342","v":0}]
["Motorcoach",{"$f":"'Comparison Group 3'!B343","v":17},{"$f":"'Comparison Group 3'!C343","v":6.9586573884568154E-3},{"$f":"'Comparison Group 2'!B343","v":12},{"$f":"'Comparison Group 2'!C343","v":6.2402496099843996E-3},{"$f":"'Comparison Group 1'!B343","v":0},{"$f":"'Comparison Group 1'!C343","v":0},{"$f":"'Subject Data'!B343","v":3},{"$f":"'Subject Data'!C343","v":0.3},{"$f":"'Comparison Group 3'!I343","v":108},{"$f":"'Comparison Group 3'!J343","v":1.002245772935652E-3},{"$f":"'Comparison Group 2'!I343","v":366},{"$f":"'Comparison Group 2'!J343","v":4.3274176194473676E-3},{"$f":"'Comparison Group 1'!I343","v":5},{"$f":"'Comparison Group 1'!J343","v":5.9488399762046404E-4},{"$f":"'Subject Data'!I343","v":28},{"$f":"'Subject Data'!J343","v":0.35897435897435898}]
["Other Bus Type",{"$f":"'Comparison Group 3'!B344","v":3},{"$f":"'Comparison Group 3'!C344","v":1.2279983626688497E-3},{"$f":"'Comparison Group 2'!B344","v":0},{"$f":"'Comparison Group 2'!C344","v":0},{"$f":"'Comparison Group 1'!B344","v":0},{"$f":"'Comparison Group 1'!C344","v":0},{"$f":"'Subject Data'!B344","v":0},{"$f":"'Subject Data'!C344","v":0},{"$f":"'Comparison Group 3'!I344","v":126},{"$f":"'Comparison Group 3'!J344","v":1.1692867350915942E-3},{"$f":"'Comparison Group 2'!I344","v":1},{"$f":"'Comparison Group 2'!J344","v":1.1823545408326141E-5},{"$f":"'Comparison Group 1'!I344","v":1},{"$f":"'Comparison Group 1'!J344","v":1.189767995240928E-4},{"$f":"'Subject Data'!I344","v":0},{"$f":"'Subject Data'!J344","v":0}]
["Other Trucks",{"$f":"'Comparison Group 3'!B345","v":2},{"$f":"'Comparison Group 3'!C345","v":8.1866557511256651E-4},{"$f":"'Comparison Group 2'!B345","v":43},{"$f":"'Comparison Group 2'!C345","v":2.2360894435777431E-2},{"$f":"'Comparison Group 1'!B345","v":0},{"$f":"'Comparison Group 1'!C345","v":0},{"$f":"'Subject Data'!B345","v":0},{"$f":"'Subject Data'!C345","v":0},{"$f":"'Comparison Group 3'!I345","v":25},{"$f":"'Comparison Group 3'!J345","v":2.3200133632769724E-4},{"$f":"'Comparison Group 2'!I345","v":9},{"$f":"'Comparison Group 2'!J345","v":1.0641190867493527E-4},{"$f":"'Comparison Group 1'!I345","v":0},{"$f":"'Comparison Group 1'!J345","v":0},{"$f":"'Subject Data'!I345","v":0},{"$f":"'Subject Data'!J345","v":0}]
["Other",{"$f":"'Comparison Group 3'!B346","v":7},{"$f":"'Comparison Group 3'!C346","v":2.8653295128939827E-3},{"$f":"'Comparison Group 2'!B346","v":179},{"$f":"'Comparison Group 2'!C346","v":9.3083723348933958E-2},{"$f":"'Comparison Group 1'!B346","v":100},{"$f":"'Comparison Group 1'!C346","v":0.46296296296296297},{"$f":"'Subject Data'!B346","v":0},{"$f":"'Subject Data'!C346","v":0},{"$f":"'Comparison Group 3'!I346","v":38},{"$f":"'Comparison Group 3'!J346","v":3.5264203121809979E-4},{"$f":"'Comparison Group 2'!I346","v":14639},{"$f":"'Comparison Group 2'!J346","v":0.17308488123248639},{"$f":"'Comparison Group 1'!I346","v":3841},{"$f":"'Comparison Group 1'!J346","v":0.45698988697204046},{"$f":"'Subject Data'!I346","v":0},{"$f":"'Subject Data'!J346","v":0}]
["Posted Speed Limit"]
["5 MPH",{"$f":"'Comparison Group 3'!B348","v":19},{"$f":"'Comparison Group 3'!C348","v":7.777322963569382E-3},{"$f":"'Comparison Group 2'!B348","v":17},{"$f":"'Comparison Group 2'!C348","v":8.8403536141445655E-3},{"$f":"'Comparison Group 1'!B348","v":3},{"$f":"'Comparison Group 1'!C348","v":1.3888888888888888E-2},{"$f":"'Subject Data'!B348","v":0},{"$f":"'Subject Data'!C348","v":0},{"$f":"'Comparison Group 3'!I348","v":595},{"$f":"'Comparison Group 3'!J348","v":5.5216318045991945E-3},{"$f":"'Comparison Group 2'!I348","v":3397},{"$f":"'Comparison Group 2'!J348","v":4.0164583752083899E-2},{"$f":"'Comparison Group 1'!I348","v":153},{"$f":"'Comparison Group 1'!J348","v":1.8203450327186198E-2},{"$f":"'Subject Data'!I348","v":0},{"$f":"'Subject Data'!J348","v":0}]
["10 MPH",{"$f":"'Comparison Group 3'!B349","v":5},{"$f":"'Comparison Group 3'!C349","v":2.0466639377814161E-3},{"$f":"'Comparison Group 2'!B349","v":2},{"$f":"'Comparison Group 2'!C349","v":1.0400416016640667E-3},{"$f":"'Comparison Group 1'!B349","v":0},{"$f":"'Comparison Group 1'!C349","v":0},{"$f":"'Subject Data'!B349","v":0},{"$f":"'Subject Data'!C349","v":0},{"$f":"'Comparison Group 3'!I349","v":1500},{"$f":"'Comparison Group 3'!J349","v":1.3920080179661835E-2},{"$f":"'Comparison Group 2'!I349","v":48},{"$f":"'Comparison Group 2'!J349","v":5.6753017959965471E-4},{"$f":"'Comparison Group 1'!I349","v":60},{"$f":"'Comparison Group 1'!J349","v":7.138607971445568E-3},{"$f":"'Subject Data'!I349","v":0},{"$f":"'Subject Data'!J349","v":0}]
["15 MPH",{"$f":"'Comparison Group 3'!B350","v":57},{"$f":"'Comparison Group 3'!C350","v":2.3331968890708144E-2},{"$f":"'Comparison Group 2'!B350","v":175},{"$f":"'Comparison Group 2'!C350","v":9.100364014560583E-2},{"$f":"'Comparison Group 1'!B350","v":111},{"$f":"'Comparison Group 1'!C350","v":0.51388888888888884},{"$f":"'Subject Data'!B350","v":0},{"$f":"'Subject Data'!C350","v":0},{"$f":"'Comparison Group 3'!I350","v":4600},{"$f":"'Comparison Group 3'!J350","v":4.2688245884296296E-2},{"$f":"'Comparison Group 2'!I350","v":754},{"$f":"'Comparison Group 2'!J350","v":8.9149532378779098E-3},{"$f":"'Comparison Group 1'!I350","v":3612},{"$f":"'Comparison Group 1'!J350","v":0.42974419988102319},{"$f":"'Subject Data'!I350","v":1},{"$f":"'Subject Data'!J350","v":1.282051282051282E-2}]
["20 MPH",{"$f":"'Comparison Group 3'!B351","v":3},{"$f":"'Comparison Group 3'!C351","v":1.2279983626688497E-3},{"$f":"'Comparison Group 2'!B351","v":1},{"$f":"'Comparison Group 2'!C351","v":5.2002080083203334E-4},{"$f":"'Comparison Group 1'!B351","v":21},{"$f":"'Comparison Group 1'!C351","v":9.7222222222222224E-2},{"$f":"'Subject Data'!B351","v":0},{"$f":"'Subject Data'!C351","v":0},{"$f":"'Comparison Group 3'!I351","v":380},{"$f":"'Comparison Group 3'!J351","v":3.5264203121809982E-3},{"$f":"'Comparison Group 2'!I351","v":9},{"$f":"'Comparison Group 2'!J351","v":1.0641190867493527E-4},{"$f":"'Comparison Group 1'!I351","v":874},{"$f":"'Comparison Group 1'!J351","v":0.10398572278405711},{"$f":"'Subject Data'!I351","v":0},{"$f":"'Subject Data'!J351","v":0}]
["25 MPH",{"$f":"'Comparison Group 3'!B352","v":1335},{"$f":"'Comparison Group 3'!C352","v":0.54645927138763817},{"$f":"'Comparison Group 2'!B352","v":4},{"$f":"'Comparison Group 2'!C352","v":2.0800832033281333E-3},{"$f":"'Comparison Group 1'!B352","v":2},{"$f":"'Comparison Group 1'!C352","v":9.2592592592592587E-3},{"$f":"'Subject Data'!B352","v":2},{"$f":"'Subject Data'!C352","v":0.16666666666666666},{"$f":"'Comparison Group 3'!I352","v":49057},{"$f":"'Comparison Group 3'!J352","v":0.45525158224911377},{"$f":"'Comparison Group 2'!I352","v":324},{"$f":"'Comparison Group 2'!J352","v":3.8308287122976697E-3},{"$f":"'Comparison Group 1'!I352","v":320},{"$f":"'Comparison Group 1'!J352","v":3.8072575847709698E-2},{"$f":"'Subject Data'!I352","v":0},{"$f":"'Subject Data'!J352","v":0}]
["30 MPH",{"$f":"'Comparison Group 3'!B353","v":308},{"$f":"'Comparison Group 3'!C353","v":0.12607449856733524},{"$f":"'Comparison Group 2'!B353","v":160},{"$f":"'Comparison Group 2'!C353","v":8.3203328133125323E-2},{"$f":"'Comparison Group 1'!B353","v":5},{"$f":"'Comparison Group 1'!C353","v":2.3148148148148147E-2},{"$f":"'Subject Data'!B353","v":0},{"$f":"'Subject Data'!C353","v":0},{"$f":"'Comparison Group 3'!I353","v":9961},{"$f":"'Comparison Group 3'!J353","v":9.2438612446407692E-2},{"$f":"'Comparison Group 2'!I353","v":795},{"$f":"'Comparison Group 2'!J353","v":9.3997185996192827E-3},{"$f":"'Comparison Group 1'!I353","v":100},{"$f":"'Comparison Group 1'!J353","v":1.1897679952409279E-2},{"$f":"'Subject Data'!I353","v":0},{"$f":"'Subject Data'!J353","v":0}]
["35 MPH",{"$f":"'Comparison Group 3'!B354","v":49},{"$f":"'Comparison Group 3'!C354","v":2.0057306590257881E-2},{"$f":"'Comparison Group 2'!B354","v":815},{"$f":"'Comparison Group 2'!C354","v":0.42381695267810715},{"$f":"'Comparison Group 1'!B354","v":35},{"$f":"'Comparison Group 1'!C354","v":0.16203703703703703},{"$f":"'Subject Data'!B354","v":0},{"$f":"'Subject Data'!C354","v":0},{"$f":"'Comparison Group 3'!I354","v":3813},{"$f":"'Comparison Group 3'!J354","v":3.5384843816700387E-2},{"$f":"'Comparison Group 2'!I354","v":43798},{"$f":"'Comparison Group 2'!J354","v":0.51784764179386833},{"$f":"'Comparison Group 1'!I354","v":580},{"$f":"'Comparison Group 1'!J354","v":6.9006543723973829E-2},{"$f":"'Subject Data'!I354","v":0},{"$f":"'Subject Data'!J354","v":0}]
["40 MPH",{"$f":"'Comparison Group 3'!B355","v":21},{"$f":"'Comparison Group 3'!C355","v":8.5959885386819486E-3},{"$f":"'Comparison Group 2'!B355","v":3},{"$f":"'Comparison Group 2'!C355","v":1.5600624024960999E-3},{"$f":"'Comparison Group 1'!B355","v":8},{"$f":"'Comparison Group 1'!C355","v":3.7037037037037035E-2},{"$f":"'Subject Data'!B355","v":2},{"$f":"'Subject Data'!C355","v":0.16666666666666666},{"$f":"'Comparison Group 3'!I355","v":607},{"$f":"'Comparison Group 3'!J355","v":5.6329924460364889E-3},{"$f":"'Comparison Group 2'!I355","v":82},{"$f":"'Comparison Group 2'!J355","v":9.6953072348274357E-4},{"$f":"'Comparison Group 1'!I355","v":676},{"$f":"'Comparison Group 1'!J355","v":8.0428316478286729E-2},{"$f":"'Subject Data'!I355","v":2},{"$f":"'Subject Data'!J355","v":2.564102564102564E-2}]
["45 MPH",{"$f":"'Comparison Group 3'!B356","v":279},{"$f":"'Comparison Group 3'!C356","v":0.11420384772820302},{"$f":"'Comparison Group 2'!B356","v":248},{"$f":"'Comparison Group 2'!C356","v":0.12896515860634425},{"$f":"'Comparison Group 1'!B356","v":4},{"$f":"'Comparison Group 1'!C356","v":1.8518518518518517E-2},{"$f":"'Subject Data'!B356","v":1},{"$f":"'Subject Data'!C356","v":8.3333333333333329E-2},{"$f":"'Comparison Group 3'!I356","v":4847},{"$f":"'Comparison Group 3'!J356","v":4.4980419087213945E-2},{"$f":"'Comparison Group 2'!I356","v":12633},{"$f":"'Comparison Group 2'!J356","v":0.14936684914338413},{"$f":"'Comparison Group 1'!I356","v":101},{"$f":"'Comparison Group 1'!J356","v":1.2016656751933374E-2},{"$f":"'Subject Data'!I356","v":27},{"$f":"'Subject Data'!J356","v":0.34615384615384615}]
["50 MPH",{"$f":"'Comparison Group 3'!B357","v":42},{"$f":"'Comparison Group 3'!C357","v":1.7191977077363897E-2},{"$f":"'Comparison Group 2'!B357","v":4},{"$f":"'Comparison Group 2'!C357","v":2.0800832033281333E-3},{"$f":"'Comparison Group 1'!B357","v":6},{"$f":"'Comparison Group 1'!C357","v":2.7777777777777776E-2},{"$f":"'Subject Data'!B357","v":0},{"$f":"'Subject Data'!C357","v":0},{"$f":"'Comparison Group 3'!I357","v":4165},{"$f":"'Comparison Group 3'!J357","v":3.8651422632194364E-2},{"$f":"'Comparison Group 2'!I357","v":247},{"$f":"'Comparison Group 2'!J357","v":2.9204157158565567E-3},{"$f":"'Comparison Group 1'!I357","v":316},{"$f":"'Comparison Group 1'!J357","v":3.7596668649613328E-2},{"$f":"'Subject Data'!I357","v":0},{"$f":"'Subject Data'!J357","v":0}]
["55 MPH",{"$f":"'Comparison Group 3'!B358","v":22},{"$f":"'Comparison Group 3'!C358","v":9.005321326238231E-3},{"$f":"'Comparison Group 2'!B358","v":3},{"$f":"'Comparison Group 2'!C358","v":1.5600624024960999E-3},{"$f":"'Comparison Group 1'!B358","v":7},{"$f":"'Comparison Group 1'!C358","v":3.2407407407407406E-2},{"$f":"'Subject Data'!B358","v":4},{"$f":"'Subject Data'!C358","v":0.33333333333333331},{"$f":"'Comparison Group 3'!I358","v":632},{"$f":"'Comparison Group 3'!J358","v":5.8649937823641862E-3},{"$f":"'Comparison Group 2'!I358","v":95},{"$f":"'Comparison Group 2'!J358","v":1.1232368137909833E-3},{"$f":"'Comparison Group 1'!I358","v":1175},{"$f":"'Comparison Group 1'!J358","v":0.13979773944080903},{"$f":"'Subject Data'!I358","v":18},{"$f":"'Subject Data'!J358","v":0.23076923076923078}]
["60 MPH",{"$f":"'Comparison Group 3'!B359","v":92},{"$f":"'Comparison Group 3'!C359","v":3.7658616455178061E-2},{"$f":"'Comparison Group 2'!B359","v":394},{"$f":"'Comparison Group 2'!C359","v":0.20488819552782112},{"$f":"'Comparison Group 1'!B359","v":3},{"$f":"'Comparison Group 1'!C359","v":1.3888888888888888E-2},{"$f":"'Subject Data'!B359","v":1},{"$f":"'Subject Data'!C359","v":8.3333333333333329E-2},{"$f":"'Comparison Group 3'!I359","v":8515},{"$f":"'Comparison Group 3'!J359","v":7.9019655153213686E-2},{"$f":"'Comparison Group 2'!I359","v":19659},{"$f":"'Comparison Group 2'!J359","v":0.2324390791822836},{"$f":"'Comparison Group 1'!I359","v":29},{"$f":"'Comparison Group 1'!J359","v":3.4503271861986914E-3},{"$f":"'Subject Data'!I359","v":2},{"$f":"'Subject Data'!J359","v":2.564102564102564E-2}]
["65 MPH",{"$f":"'Comparison Group 3'!B360","v":169},{"$f":"'Comparison Group 3'!C360","v":6.9177241097011871E-2},{"$f":"'Comparison Group 2'!B360","v":1},{"$f":"'Comparison Group 2'!C360","v":5.2002080083203334E-4},{"$f":"'Comparison Group 1'!B360","v":3},{"$f":"'Comparison Group 1'!C360","v":1.3888888888888888E-2},{"$f":"'Subject Data'!B360","v":0},{"$f":"'Subject Data'!C360","v":0},{"$f":"'Comparison Group 3'!I360","v":18284},{"$f":"'Comparison Group 3'!J360","v":0.16967649733662465},{"$f":"'Comparison Group 2'!I360","v":29},{"$f":"'Comparison Group 2'!J360","v":3.4288281684145805E-4},{"$f":"'Comparison Group 1'!I360","v":110},{"$f":"'Comparison Group 1'!J360","v":1.3087447947650209E-2},{"$f":"'Subject Data'!I360","v":1},{"$f":"'Subject Data'!J360","v":1.282051282051282E-2}]
["70 MPH",{"$f":"'Comparison Group 3'!B361","v":5},{"$f":"'Comparison Group 3'!C361","v":2.0466639377814161E-3},{"$f":"'Comparison Group 2'!B361","v":61},{"$f":"'Comparison Group 2'!C361","v":3.1721268850754034E-2},{"$f":"'Comparison Group 1'!B361","v":4},{"$f":"'Comparison Group 1'!C361","v":1.8518518518518517E-2},{"$f":"'Subject Data'!B361","v":2},{"$f":"'Subject Data'!C361","v":0.16666666666666666},{"$f":"'Comparison Group 3'!I361","v":126},{"$f":"'Comparison Group 3'!J361","v":1.1692867350915942E-3},{"$f":"'Comparison Group 2'!I361","v":2271},{"$f":"'Comparison Group 2'!J361","v":2.6851271622308666E-2},{"$f":"'Comparison Group 1'!I361","v":19},{"$f":"'Comparison Group 1'!J361","v":2.2605591909577631E-3},{"$f":"'Subject Data'!I361","v":14},{"$f":"'Subject Data'!J361","v":0.17948717948717949}]
["Unknown",{"$f":"'Comparison Group 3'!B362","v":37},{"$f":"'Comparison Group 3'!C362","v":1.514531313958248E-2},{"$f":"'Comparison Group 2'!B362","v":35},{"$f":"'Comparison Group 2'!C362","v":1.8200728029121163E-2},{"$f":"'Comparison Group 1'!B362","v":4},{"$f":"'Comparison Group 1'!C362","v":1.8518518518518517E-2},{"$f":"'Subject Data'!B362","v":0},{"$f":"'Subject Data'!C362","v":0},{"$f":"'Comparison Group 3'!I362","v":676},{"$f":"'Comparison Group 3'!J362","v":6.2733161343009334E-3},{"$f":"'Comparison Group 2'!I362","v":436},{"$f":"'Comparison Group 2'!J362","v":5.155065798030197E-3},{"$f":"'Comparison Group 1'!I362","v":280},{"$f":"'Comparison Group 1'!J362","v":3.3313503866745982E-2},{"$f":"'Subject Data'!I362","v":13},{"$f":"'Subject Data'!J362","v":0.16666666666666666}]
["Traffic Way"]
["One-Way",{"$f":"'Comparison Group 3'!B364","v":1197},{"$f":"'Comparison Group 3'!C364","v":0.48997134670487108},{"$f":"'Comparison Group 2'!B364","v":815},{"$f":"'Comparison Group 2'!C364","v":0.42381695267810715},{"$f":"'Comparison Group 1'!B364","v":146},{"$f":"'Comparison Group 1'!C364","v":0.67592592592592593},{"$f":"'Subject Data'!B364","v":7},{"$f":"'Subject Data'!C364","v":0.7},{"$f":"'Comparison Group 3'!I364","v":53334},{"$f":"'Comparison Group 3'!J364","v":0.4949423708680562},{"$f":"'Comparison Group 2'!I364","v":43798},{"$f":"'Comparison Group 2'!J364","v":0.51784764179386833},{"$f":"'Comparison Group 1'!I364","v":4388},{"$f":"'Comparison Group 1'!J364","v":0.52207019631171925},{"$f":"'Subject Data'!I364","v":40},{"$f":"'Subject Data'!J364","v":0.51282051282051277}]
["Two-Way",{"$f":"'Comparison Group 3'!B365","v":1246},{"$f":"'Comparison Group 3'!C365","v":0.51002865329512892},{"$f":"'Comparison Group 2'!B365","v":1108},{"$f":"'Comparison Group 2'!C365","v":0.57618304732189285},{"$f":"'Comparison Group 1'!B365","v":70},{"$f":"'Comparison Group 1'!C365","v":0.32407407407407407},{"$f":"'Subject Data'!B365","v":3},{"$f":"'Subject Data'!C365","v":0.3},{"$f":"'Comparison Group 3'!I365","v":54424},{"$f":"'Comparison Group 3'!J365","v":0.50505762913194385},{"$f":"'Comparison Group 2'!I365","v":40779},{"$f":"'Comparison Group 2'!J365","v":0.48215235820613167},{"$f":"'Comparison Group 1'!I365","v":4017},{"$f":"'Comparison Group 1'!J365","v":0.47792980368828081},{"$f":"'Subject Data'!I365","v":38},{"$f":"'Subject Data'!J365","v":0.48717948717948717}]
["Median Type"]
["Not Divided",{"$f":"'Comparison Group 3'!B367","v":219},{"$f":"'Comparison Group 3'!C367","v":8.9643880474826035E-2},{"$f":"'Comparison Group 2'!B367","v":105},{"$f":"'Comparison Group 2'!C367","v":5.4602184087363496E-2},{"$f":"'Comparison Group 1'!B367","v":68},{"$f":"'Comparison Group 1'!C367","v":0.31481481481481483},{"$f":"'Subject Data'!B367","v":2},{"$f":"'Subject Data'!C367","v":0.22222222222222221},{"$f":"'Comparison Group 3'!I367","v":2529},{"$f":"'Comparison Group 3'!J367","v":2.3469255182909855E-2},{"$f":"'Comparison Group 2'!I367","v":9448},{"$f":"'Comparison Group 2'!J367","v":0.11170885701786537},{"$f":"'Comparison Group 1'!I367","v":2496},{"$f":"'Comparison Group 1'!J367","v":0.29696609161213561},{"$f":"'Subject Data'!I367","v":18},{"$f":"'Subject Data'!J367","v":0.23076923076923078}]
["Continuous Left-Turn Lane",{"$f":"'Comparison Group 3'!B368","v":33},{"$f":"'Comparison Group 3'!C368","v":1.3507981989357348E-2},{"$f":"'Comparison Group 2'!B368","v":152},{"$f":"'Comparison Group 2'!C368","v":7.9043161726469052E-2},{"$f":"'Comparison Group 1'!B368","v":0},{"$f":"'Comparison Group 1'!C368","v":0},{"$f":"'Subject Data'!B368","v":0},{"$f":"'Subject Data'!C368","v":0},{"$f":"'Comparison Group 3'!I368","v":349},{"$f":"'Comparison Group 3'!J368","v":3.2387386551346537E-3},{"$f":"'Comparison Group 2'!I368","v":7816},{"$f":"'Comparison Group 2'!J368","v":9.2412830911477117E-2},{"$f":"'Comparison Group 1'!I368","v":17},{"$f":"'Comparison Group 1'!J368","v":2.0226055919095776E-3},{"$f":"'Subject Data'!I368","v":0},{"$f":"'Subject Data'!J368","v":0}]
["Divided with Flush Median",{"$f":"'Comparison Group 3'!B369","v":2169},{"$f":"'Comparison Group 3'!C369","v":0.88784281620957839},{"$f":"'Comparison Group 2'!B369","v":490},{"$f":"'Comparison Group 2'!C369","v":0.25481019240769631},{"$f":"'Comparison Group 1'!B369","v":52},{"$f":"'Comparison Group 1'!C369","v":0.24074074074074073},{"$f":"'Subject Data'!B369","v":2},{"$f":"'Subject Data'!C369","v":0.22222222222222221},{"$f":"'Comparison Group 3'!I369","v":104525},{"$f":"'Comparison Group 3'!J369","v":0.96999758718610218},{"$f":"'Comparison Group 2'!I369","v":20110},{"$f":"'Comparison Group 2'!J369","v":0.23777149816143869},{"$f":"'Comparison Group 1'!I369","v":1919},{"$f":"'Comparison Group 1'!J369","v":0.2283164782867341},{"$f":"'Subject Data'!I369","v":17},{"$f":"'Subject Data'!J369","v":0.21794871794871795}]
["Divided with Raised Median",{"$f":"'Comparison Group 3'!B370","v":12},{"$f":"'Comparison Group 3'!C370","v":4.9119934506753988E-3},{"$f":"'Comparison Group 2'!B370","v":382},{"$f":"'Comparison Group 2'!C370","v":0.19864794591783672},{"$f":"'Comparison Group 1'!B370","v":0},{"$f":"'Comparison Group 1'!C370","v":0},{"$f":"'Subject Data'!B370","v":0},{"$f":"'Subject Data'!C370","v":0},{"$f":"'Comparison Group 3'!I370","v":141},{"$f":"'Comparison Group 3'!J370","v":1.3084875368882124E-3},{"$f":"'Comparison Group 2'!I370","v":16013},{"$f":"'Comparison Group 2'!J370","v":0.1893304326235265},{"$f":"'Comparison Group 1'!I370","v":29},{"$f":"'Comparison Group 1'!J370","v":3.4503271861986914E-3},{"$f":"'Subject Data'!I370","v":1},{"$f":"'Subject Data'!J370","v":1.282051282051282E-2}]
["Divided with Depressed Median",{"$f":"'Comparison Group 3'!B371","v":10},{"$f":"'Comparison Group 3'!C371","v":4.0933278755628322E-3},{"$f":"'Comparison Group 2'!B371","v":292},{"$f":"'Comparison Group 2'!C371","v":0.1518460738429537},{"$f":"'Comparison Group 1'!B371","v":59},{"$f":"'Comparison Group 1'!C371","v":0.27314814814814814},{"$f":"'Subject Data'!B371","v":4},{"$f":"'Subject Data'!C371","v":0.44444444444444442},{"$f":"'Comparison Group 3'!I371","v":134},{"$f":"'Comparison Group 3'!J371","v":1.2435271627164572E-3},{"$f":"'Comparison Group 2'!I371","v":12498},{"$f":"'Comparison Group 2'!J371","v":0.14777067051326009},{"$f":"'Comparison Group 1'!I371","v":2227},{"$f":"'Comparison Group 1'!J371","v":0.26496133254015469},{"$f":"'Subject Data'!I371","v":16},{"$f":"'Subject Data'!J371","v":0.20512820512820512}]
["Unknown",{"$f":"'Comparison Group 3'!B372","v":0},{"$f":"'Comparison Group 3'!C372","v":0},{"$f":"'Comparison Group 2'!B372","v":502},{"$f":"'Comparison Group 2'!C372","v":0.26105044201768068},{"$f":"'Comparison Group 1'!B372","v":37},{"$f":"'Comparison Group 1'!C372","v":0.17129629629629631},{"$f":"'Subject Data'!B372","v":1},{"$f":"'Subject Data'!C372","v":0.1111111111111111},{"$f":"'Comparison Group 3'!I372","v":80},{"$f":"'Comparison Group 3'!J372","v":7.4240427624863118E-4},{"$f":"'Comparison Group 2'!I372","v":18692},{"$f":"'Comparison Group 2'!J372","v":0.22100571077243222},{"$f":"'Comparison Group 1'!I372","v":1717},{"$f":"'Comparison Group 1'!J372","v":0.20428316478286734},{"$f":"'Subject Data'!I372","v":26},{"$f":"'Subject Data'!J372","v":0.33333333333333331}]
["Barrier Type"]
["No Barrier",{"$f":"'Comparison Group 3'!B374","v":705},{"$f":"'Comparison Group 3'!C374","v":0.28857961522717968},{"$f":"'Comparison Group 2'!B374","v":548},{"$f":"'Comparison Group 2'!C374","v":0.28497139885595424},{"$f":"'Comparison Group 1'!B374","v":2},{"$f":"'Comparison Group 1'!C374","v":9.2592592592592587E-3},{"$f":"'Subject Data'!B374","v":1},{"$f":"'Subject Data'!C374","v":0.1},{"$f":"'Comparison Group 3'!I374","v":27676},{"$f":"'Comparison Group 3'!J374","v":0.25683475936821398},{"$f":"'Comparison Group 2'!I374","v":21266},{"$f":"'Comparison Group 2'!J374","v":0.2514395166534637},{"$f":"'Comparison Group 1'!I374","v":182},{"$f":"'Comparison Group 1'!J374","v":2.1653777513384889E-2},{"$f":"'Subject Data'!I374","v":2},{"$f":"'Subject Data'!J374","v":2.564102564102564E-2}]
["Cable Barrier",{"$f":"'Comparison Group 3'!B375","v":7},{"$f":"'Comparison Group 3'!C375","v":2.8653295128939827E-3},{"$f":"'Comparison Group 2'!B375","v":6},{"$f":"'Comparison Group 2'!C375","v":3.1201248049921998E-3},{"$f":"'Comparison Group 1'!B375","v":1},{"$f":"'Comparison Group 1'!C375","v":4.6296296296296294E-3},{"$f":"'Subject Data'!B375","v":0},{"$f":"'Subject Data'!C375","v":0},{"$f":"'Comparison Group 3'!I375","v":574},{"$f":"'Comparison Group 3'!J375","v":5.3267506820839292E-3},{"$f":"'Comparison Group 2'!I375","v":421},{"$f":"'Comparison Group 2'!J375","v":4.9777126169053051E-3},{"$f":"'Comparison Group 1'!I375","v":7},{"$f":"'Comparison Group 1'!J375","v":8.3283759666864961E-4},{"$f":"'Subject Data'!I375","v":0},{"$f":"'Subject Data'!J375","v":0}]
["Concrete Barrier",{"$f":"'Comparison Group 3'!B376","v":576},{"$f":"'Comparison Group 3'!C376","v":0.23577568563241916},{"$f":"'Comparison Group 2'!B376","v":438},{"$f":"'Comparison Group 2'!C376","v":0.22776911076443057},{"$f":"'Comparison Group 1'!B376","v":2},{"$f":"'Comparison Group 1'!C376","v":9.2592592592592587E-3},{"$f":"'Subject Data'!B376","v":9},{"$f":"'Subject Data'!C376","v":0.9},{"$f":"'Comparison Group 3'!I376","v":26226},{"$f":"'Comparison Group 3'!J376","v":0.24337868186120751},{"$f":"'Comparison Group 2'!I376","v":20271},{"$f":"'Comparison Group 2'!J376","v":0.23967508897217921},{"$f":"'Comparison Group 1'!I376","v":46},{"$f":"'Comparison Group 1'!J376","v":5.4729327781082686E-3},{"$f":"'Subject Data'!I376","v":76},{"$f":"'Subject Data'!J376","v":0.97435897435897434}]
["Earth Embankment",{"$f":"'Comparison Group 3'!B377","v":11},{"$f":"'Comparison Group 3'!C377","v":4.5026606631191155E-3},{"$f":"'Comparison Group 2'!B377","v":10},{"$f":"'Comparison Group 2'!C377","v":5.2002080083203327E-3},{"$f":"'Comparison Group 1'!B377","v":101},{"$f":"'Comparison Group 1'!C377","v":0.46759259259259262},{"$f":"'Subject Data'!B377","v":0},{"$f":"'Subject Data'!C377","v":0},{"$f":"'Comparison Group 3'!I377","v":533},{"$f":"'Comparison Group 3'!J377","v":4.9462684905065054E-3},{"$f":"'Comparison Group 2'!I377","v":424},{"$f":"'Comparison Group 2'!J377","v":5.0131832531302833E-3},{"$f":"'Comparison Group 1'!I377","v":3079},{"$f":"'Comparison Group 1'!J377","v":0.36632956573468173},{"$f":"'Subject Data'!I377","v":0},{"$f":"'Subject Data'!J377","v":0}]
["Guardrail",{"$f":"'Comparison Group 3'!B378","v":582},{"$f":"'Comparison Group 3'!C378","v":0.23823168235775685},{"$f":"'Comparison Group 2'!B378","v":469},{"$f":"'Comparison Group 2'!C378","v":0.24388975559022361},{"$f":"'Comparison Group 1'!B378","v":0},{"$f":"'Comparison Group 1'!C378","v":0},{"$f":"'Subject Data'!B378","v":0},{"$f":"'Subject Data'!C378","v":0},{"$f":"'Comparison Group 3'!I378","v":26757},{"$f":"'Comparison Group 3'!J378","v":0.2483063902448078},{"$f":"'Comparison Group 2'!I378","v":21514},{"$f":"'Comparison Group 2'!J378","v":0.2543717559147286},{"$f":"'Comparison Group 1'!I378","v":0},{"$f":"'Comparison Group 1'!J378","v":0},{"$f":"'Subject Data'!I378","v":0},{"$f":"'Subject Data'!J378","v":0}]
["Box Barrier",{"$f":"'Comparison Group 3'!B379","v":5},{"$f":"'Comparison Group 3'!C379","v":2.0466639377814161E-3},{"$f":"'Comparison Group 2'!B379","v":4},{"$f":"'Comparison Group 2'!C379","v":2.0800832033281333E-3},{"$f":"'Comparison Group 1'!B379","v":91},{"$f":"'Comparison Group 1'!C379","v":0.42129629629629628},{"$f":"'Subject Data'!B379","v":0},{"$f":"'Subject Data'!C379","v":0},{"$f":"'Comparison Group 3'!I379","v":412},{"$f":"'Comparison Group 3'!J379","v":3.8233820226804506E-3},{"$f":"'Comparison Group 2'!I379","v":337},{"$f":"'Comparison Group 2'!J379","v":3.9845348026059093E-3},{"$f":"'Comparison Group 1'!I379","v":3897},{"$f":"'Comparison Group 1'!J379","v":0.46365258774538964},{"$f":"'Subject Data'!I379","v":0},{"$f":"'Subject Data'!J379","v":0}]
["Other Barrier",{"$f":"'Comparison Group 3'!B380","v":557},{"$f":"'Comparison Group 3'!C380","v":0.22799836266884976},{"$f":"'Comparison Group 2'!B380","v":448},{"$f":"'Comparison Group 2'!C380","v":0.2329693187727509},{"$f":"'Comparison Group 1'!B380","v":19},{"$f":"'Comparison Group 1'!C380","v":8.7962962962962965E-2},{"$f":"'Subject Data'!B380","v":0},{"$f":"'Subject Data'!C380","v":0},{"$f":"'Comparison Group 3'!I380","v":25580},{"$f":"'Comparison Group 3'!J380","v":0.23738376733049982},{"$f":"'Comparison Group 2'!I380","v":20344},{"$f":"'Comparison Group 2'!J380","v":0.24053820778698701},{"$f":"'Comparison Group 1'!I380","v":1194},{"$f":"'Comparison Group 1'!J380","v":0.14205829863176681},{"$f":"'Subject Data'!I380","v":0},{"$f":"'Subject Data'!J380","v":0}]
["Number of Lanes"]
["One",{"$f":"'Comparison Group 3'!B382","v":191},{"$f":"'Comparison Group 3'!C382","v":7.8182562423250099E-2},{"$f":"'Comparison Group 2'!B382","v":105},{"$f":"'Comparison Group 2'!C382","v":5.4602184087363496E-2},{"$f":"'Comparison Group 1'!B382","v":20},{"$f":"'Comparison Group 1'!C382","v":9.2592592592592587E-2},{"$f":"'Subject Data'!B382","v":1},{"$f":"'Subject Data'!C382","v":0.1},{"$f":"'Comparison Group 3'!I382","v":968},{"$f":"'Comparison Group 3'!J382","v":8.9830917426084369E-3},{"$f":"'Comparison Group 2'!I382","v":9448},{"$f":"'Comparison Group 2'!J382","v":0.11170885701786537},{"$f":"'Comparison Group 1'!I382","v":1300},{"$f":"'Comparison Group 1'!J382","v":0.15466983938132065},{"$f":"'Subject Data'!I382","v":2},{"$f":"'Subject Data'!J382","v":2.564102564102564E-2}]
["Two",{"$f":"'Comparison Group 3'!B383","v":1012},{"$f":"'Comparison Group 3'!C383","v":0.41424478100695866},{"$f":"'Comparison Group 2'!B383","v":152},{"$f":"'Comparison Group 2'!C383","v":7.9043161726469052E-2},{"$f":"'Comparison Group 1'!B383","v":24},{"$f":"'Comparison Group 1'!C383","v":0.1111111111111111},{"$f":"'Subject Data'!B383","v":0},{"$f":"'Subject Data'!C383","v":0},{"$f":"'Comparison Group 3'!I383","v":54907},{"$f":"'Comparison Group 3'!J383","v":0.5095398949497949},{"$f":"'Comparison Group 2'!I383","v":7816},{"$f":"'Comparison Group 2'!J383","v":9.2412830911477117E-2},{"$f":"'Comparison Group 1'!I383","v":761},{"$f":"'Comparison Group 1'!J383","v":9.0541344437834625E-2},{"$f":"'Subject Data'!I383","v":0},{"$f":"'Subject Data'!J383","v":0}]
["Three",{"$f":"'Comparison Group 3'!B384","v":3},{"$f":"'Comparison Group 3'!C384","v":1.2279983626688497E-3},{"$f":"'Comparison Group 2'!B384","v":490},{"$f":"'Comparison Group 2'!C384","v":0.25481019240769631},{"$f":"'Comparison Group 1'!B384","v":44},{"$f":"'Comparison Group 1'!C384","v":0.20370370370370369},{"$f":"'Subject Data'!B384","v":0},{"$f":"'Subject Data'!C384","v":0},{"$f":"'Comparison Group 3'!I384","v":123},{"$f":"'Comparison Group 3'!J384","v":1.1414465747322704E-3},{"$f":"'Comparison Group 2'!I384","v":20110},{"$f":"'Comparison Group 2'!J384","v":0.23777149816143869},{"$f":"'Comparison Group 1'!I384","v":1915},{"$f":"'Comparison Group 1'!J384","v":0.22784057108863773},{"$f":"'Subject Data'!I384","v":0},{"$f":"'Subject Data'!J384","v":0}]
["Four",{"$f":"'Comparison Group 3'!B385","v":322},{"$f":"'Comparison Group 3'!C385","v":0.1318051575931232},{"$f":"'Comparison Group 2'!B385","v":382},{"$f":"'Comparison Group 2'!C385","v":0.19864794591783672},{"$f":"'Comparison Group 1'!B385","v":48},{"$f":"'Comparison Group 1'!C385","v":0.22222222222222221},{"$f":"'Subject Data'!B385","v":1},{"$f":"'Subject Data'!C385","v":0.1},{"$f":"'Comparison Group 3'!I385","v":16709},{"$f":"'Comparison Group 3'!J385","v":0.15506041314797972},{"$f":"'Comparison Group 2'!I385","v":16013},{"$f":"'Comparison Group 2'!J385","v":0.1893304326235265},{"$f":"'Comparison Group 1'!I385","v":1540},{"$f":"'Comparison Group 1'!J385","v":0.18322427126710292},{"$f":"'Subject Data'!I385","v":7},{"$f":"'Subject Data'!J385","v":8.9743589743589744E-2}]
["Five",{"$f":"'Comparison Group 3'!B386","v":13},{"$f":"'Comparison Group 3'!C386","v":5.3213262382316821E-3},{"$f":"'Comparison Group 2'!B386","v":292},{"$f":"'Comparison Group 2'!C386","v":0.1518460738429537},{"$f":"'Comparison Group 1'!B386","v":25},{"$f":"'Comparison Group 1'!C386","v":0.11574074074074074},{"$f":"'Subject Data'!B386","v":0},{"$f":"'Subject Data'!C386","v":0},{"$f":"'Comparison Group 3'!I386","v":457},{"$f":"'Comparison Group 3'!J386","v":4.2409844280703055E-3},{"$f":"'Comparison Group 2'!I386","v":12498},{"$f":"'Comparison Group 2'!J386","v":0.14777067051326009},{"$f":"'Comparison Group 1'!I386","v":1161},{"$f":"'Comparison Group 1'!J386","v":0.13813206424747174},{"$f":"'Subject Data'!I386","v":5},{"$f":"'Subject Data'!J386","v":6.4102564102564097E-2}]
["Six",{"$f":"'Comparison Group 3'!B387","v":3},{"$f":"'Comparison Group 3'!C387","v":1.2279983626688497E-3},{"$f":"'Comparison Group 2'!B387","v":268},{"$f":"'Comparison Group 2'!C387","v":0.13936557462298491},{"$f":"'Comparison Group 1'!B387","v":24},{"$f":"'Comparison Group 1'!C387","v":0.1111111111111111},{"$f":"'Subject Data'!B387","v":0},{"$f":"'Subject Data'!C387","v":0},{"$f":"'Comparison Group 3'!I387","v":133},{"$f":"'Comparison Group 3'!J387","v":1.2342471092633494E-3},{"$f":"'Comparison Group 2'!I387","v":10059},{"$f":"'Comparison Group 2'!J387","v":0.11893304326235266},{"$f":"'Comparison Group 1'!I387","v":1008},{"$f":"'Comparison Group 1'!J387","v":0.11992861392028555},{"$f":"'Subject Data'!I387","v":4},{"$f":"'Subject Data'!J387","v":5.128205128205128E-2}]
["Seven",{"$f":"'Comparison Group 3'!B388","v":492},{"$f":"'Comparison Group 3'!C388","v":0.20139173147769138},{"$f":"'Comparison Group 2'!B388","v":131},{"$f":"'Comparison Group 2'!C388","v":6.812272490899636E-2},{"$f":"'Comparison Group 1'!B388","v":20},{"$f":"'Comparison Group 1'!C388","v":9.2592592592592587E-2},{"$f":"'Subject Data'!B388","v":0},{"$f":"'Subject Data'!C388","v":0},{"$f":"'Comparison Group 3'!I388","v":24827},{"$f":"'Comparison Group 3'!J388","v":0.23039588708030959},{"$f":"'Comparison Group 2'!I388","v":5801},{"$f":"'Comparison Group 2'!J388","v":6.8588386913699936E-2},{"$f":"'Comparison Group 1'!I388","v":458},{"$f":"'Comparison Group 1'!J388","v":5.4491374182034501E-2},{"$f":"'Subject Data'!I388","v":0},{"$f":"'Subject Data'!J388","v":0}]
["Eight",{"$f":"'Comparison Group 3'!B389","v":2},{"$f":"'Comparison Group 3'!C389","v":8.1866557511256651E-4},{"$f":"'Comparison Group 2'!B389","v":60},{"$f":"'Comparison Group 2'!C389","v":3.1201248049921998E-2},{"$f":"'Comparison Group 1'!B389","v":6},{"$f":"'Comparison Group 1'!C389","v":2.7777777777777776E-2},{"$f":"'Subject Data'!B389","v":0},{"$f":"'Subject Data'!C389","v":0},{"$f":"'Comparison Group 3'!I389","v":56},{"$f":"'Comparison Group 3'!J389","v":5.1968299337404181E-4},{"$f":"'Comparison Group 2'!I389","v":2049},{"$f":"'Comparison Group 2'!J389","v":2.4226444541660262E-2},{"$f":"'Comparison Group 1'!I389","v":183},{"$f":"'Comparison Group 1'!J389","v":2.1772754312908982E-2},{"$f":"'Subject Data'!I389","v":0},{"$f":"'Subject Data'!J389","v":0}]
["Nine",{"$f":"'Comparison Group 3'!B390","v":82},{"$f":"'Comparison Group 3'!C390","v":3.3565288579615229E-2},{"$f":"'Comparison Group 2'!B390","v":19},{"$f":"'Comparison Group 2'!C390","v":9.8803952158086315E-3},{"$f":"'Comparison Group 1'!B390","v":5},{"$f":"'Comparison Group 1'!C390","v":2.3148148148148147E-2},{"$f":"'Subject Data'!B390","v":7},{"$f":"'Subject Data'!C390","v":0.7},{"$f":"'Comparison Group 3'!I390","v":3605},{"$f":"'Comparison Group 3'!J390","v":3.3454592698453946E-2},{"$f":"'Comparison Group 2'!I390","v":723},{"$f":"'Comparison Group 2'!J390","v":8.5484233302197989E-3},{"$f":"'Comparison Group 1'!I390","v":36},{"$f":"'Comparison Group 1'!J390","v":4.2831647828673412E-3},{"$f":"'Subject Data'!I390","v":43},{"$f":"'Subject Data'!J390","v":0.55128205128205132}]
["Ten or More",{"$f":"'Comparison Group 3'!B391","v":3},{"$f":"'Comparison Group 3'!C391","v":1.2279983626688497E-3},{"$f":"'Comparison Group 2'!B391","v":0},{"$f":"'Comparison Group 2'!C391","v":0},{"$f":"'Comparison Group 1'!B391","v":0},{"$f":"'Comparison Group 1'!C391","v":0},{"$f":"'Subject Data'!B391","v":0},{"$f":"'Subject Data'!C391","v":0},{"$f":"'Comparison Group 3'!I391","v":46},{"$f":"'Comparison Group 3'!J391","v":4.2688245884296293E-4},{"$f":"'Comparison Group 2'!I391","v":33},{"$f":"'Comparison Group 2'!J391","v":3.9017699847476267E-4},{"$f":"'Comparison Group 1'!I391","v":7},{"$f":"'Comparison Group 1'!J391","v":8.3283759666864961E-4},{"$f":"'Subject Data'!I391","v":0},{"$f":"'Subject Data'!J391","v":0}]
["Unknown",{"$f":"'Comparison Group 3'!B392","v":320},{"$f":"'Comparison Group 3'!C392","v":0.13098649201801063},{"$f":"'Comparison Group 2'!B392","v":24},{"$f":"'Comparison Group 2'!C392","v":1.2480499219968799E-2},{"$f":"'Comparison Group 1'!B392","v":0},{"$f":"'Comparison Group 1'!C392","v":0},{"$f":"'Subject Data'!B392","v":1},{"$f":"'Subject Data'!C392","v":0.1},{"$f":"'Comparison Group 3'!I392","v":5927},{"$f":"'Comparison Group 3'!J392","v":5.5002876816570463E-2},{"$f":"'Comparison Group 2'!I392","v":27},{"$f":"'Comparison Group 2'!J392","v":3.1923572602480577E-4},{"$f":"'Comparison Group 1'!I392","v":36},{"$f":"'Comparison Group 1'!J392","v":4.2831647828673412E-3},{"$f":"'Subject Data'!I392","v":17},{"$f":"'Subject Data'!J392","v":0.21794871794871795}]
["Motor Vehicle Maneuver Prior to Crash"]
["Backing",{"$f":"'Comparison Group 3'!B394","v":57},{"$f":"'Comparison Group 3'!C394","v":2.3331968890708144E-2},{"$f":"'Comparison Group 2'!B394","v":36},{"$f":"'Comparison Group 2'!C394","v":1.8720748829953199E-2},{"$f":"'Comparison Group 1'!B394","v":3},{"$f":"'Comparison Group 1'!C394","v":1.3888888888888888E-2},{"$f":"'Subject Data'!B394","v":0},{"$f":"'Subject Data'!C394","v":0},{"$f":"'Comparison Group 3'!I394","v":4600},{"$f":"'Comparison Group 3'!J394","v":4.2688245884296296E-2},{"$f":"'Comparison Group 2'!I394","v":3248},{"$f":"'Comparison Group 2'!J394","v":3.8402875486243306E-2},{"$f":"'Comparison Group 1'!I394","v":41},{"$f":"'Comparison Group 1'!J394","v":4.8780487804878049E-3},{"$f":"'Subject Data'!I394","v":1},{"$f":"'Subject Data'!J394","v":1.282051282051282E-2}]
["Changing Lanes",{"$f":"'Comparison Group 3'!B395","v":3},{"$f":"'Comparison Group 3'!C395","v":1.2279983626688497E-3},{"$f":"'Comparison Group 2'!B395","v":2},{"$f":"'Comparison Group 2'!C395","v":1.0400416016640667E-3},{"$f":"'Comparison Group 1'!B395","v":1},{"$f":"'Comparison Group 1'!C395","v":4.6296296296296294E-3},{"$f":"'Subject Data'!B395","v":0},{"$f":"'Subject Data'!C395","v":0},{"$f":"'Comparison Group 3'!I395","v":380},{"$f":"'Comparison Group 3'!J395","v":3.5264203121809982E-3},{"$f":"'Comparison Group 2'!I395","v":296},{"$f":"'Comparison Group 2'!J395","v":3.4997694408645378E-3},{"$f":"'Comparison Group 1'!I395","v":239},{"$f":"'Comparison Group 1'!J395","v":2.843545508625818E-2},{"$f":"'Subject Data'!I395","v":7},{"$f":"'Subject Data'!J395","v":8.9743589743589744E-2}]
["Entering Traffic Lane",{"$f":"'Comparison Group 3'!B396","v":1335},{"$f":"'Comparison Group 3'!C396","v":0.54645927138763817},{"$f":"'Comparison Group 2'!B396","v":1076},{"$f":"'Comparison Group 2'!C396","v":0.55954238169526782},{"$f":"'Comparison Group 1'!B396","v":3},{"$f":"'Comparison Group 1'!C396","v":1.3888888888888888E-2},{"$f":"'Subject Data'!B396","v":0},{"$f":"'Subject Data'!C396","v":0},{"$f":"'Comparison Group 3'!I396","v":49057},{"$f":"'Comparison Group 3'!J396","v":0.45525158224911377},{"$f":"'Comparison Group 2'!I396","v":38712},{"$f":"'Comparison Group 2'!J396","v":0.45771308984712156},{"$f":"'Comparison Group 1'!I396","v":153},{"$f":"'Comparison Group 1'!J396","v":1.8203450327186198E-2},{"$f":"'Subject Data'!I396","v":0},{"$f":"'Subject Data'!J396","v":0}]
["Leaving Traffic Lane",{"$f":"'Comparison Group 3'!B397","v":308},{"$f":"'Comparison Group 3'!C397","v":0.12607449856733524},{"$f":"'Comparison Group 2'!B397","v":264},{"$f":"'Comparison Group 2'!C397","v":0.13728549141965679},{"$f":"'Comparison Group 1'!B397","v":0},{"$f":"'Comparison Group 1'!C397","v":0},{"$f":"'Subject Data'!B397","v":0},{"$f":"'Subject Data'!C397","v":0},{"$f":"'Comparison Group 3'!I397","v":9961},{"$f":"'Comparison Group 3'!J397","v":9.2438612446407692E-2},{"$f":"'Comparison Group 2'!I397","v":8194},{"$f":"'Comparison Group 2'!J397","v":9.6882131075824399E-2},{"$f":"'Comparison Group 1'!I397","v":60},{"$f":"'Comparison Group 1'!J397","v":7.138607971445568E-3},{"$f":"'Subject Data'!I397","v":1},{"$f":"'Subject Data'!J397","v":1.282051282051282E-2}]
["Making U-Turn",{"$f":"'Comparison Group 3'!B398","v":49},{"$f":"'Comparison Group 3'!C398","v":2.0057306590257881E-2},{"$f":"'Comparison Group 2'!B398","v":44},{"$f":"'Comparison Group 2'!C398","v":2.2880915236609463E-2},{"$f":"'Comparison Group 1'!B398","v":111},{"$f":"'Comparison Group 1'!C398","v":0.51388888888888884},{"$f":"'Subject Data'!B398","v":4},{"$f":"'Subject Data'!C398","v":0.4},{"$f":"'Comparison Group 3'!I398","v":3813},{"$f":"'Comparison Group 3'!J398","v":3.5384843816700387E-2},{"$f":"'Comparison Group 2'!I398","v":3211},{"$f":"'Comparison Group 2'!J398","v":3.7965404306135236E-2},{"$f":"'Comparison Group 1'!I398","v":3612},{"$f":"'Comparison Group 1'!J398","v":0.42974419988102319},{"$f":"'Subject Data'!I398","v":26},{"$f":"'Subject Data'!J398","v":0.33333333333333331}]
["Movements Essentially Straight Ahead",{"$f":"'Comparison Group 3'!B399","v":21},{"$f":"'Comparison Group 3'!C399","v":8.5959885386819486E-3},{"$f":"'Comparison Group 2'!B399","v":14},{"$f":"'Comparison Group 2'!C399","v":7.2802912116484656E-3},{"$f":"'Comparison Group 1'!B399","v":21},{"$f":"'Comparison Group 1'!C399","v":9.7222222222222224E-2},{"$f":"'Subject Data'!B399","v":0},{"$f":"'Subject Data'!C399","v":0},{"$f":"'Comparison Group 3'!I399","v":607},{"$f":"'Comparison Group 3'!J399","v":5.6329924460364889E-3},{"$f":"'Comparison Group 2'!I399","v":472},{"$f":"'Comparison Group 2'!J399","v":5.580713432729938E-3},{"$f":"'Comparison Group 1'!I399","v":874},{"$f":"'Comparison Group 1'!J399","v":0.10398572278405711},{"$f":"'Subject Data'!I399","v":8},{"$f":"'Subject Data'!J399","v":0.10256410256410256}]
["Negotiating a Curve",{"$f":"'Comparison Group 3'!B400","v":279},{"$f":"'Comparison Group 3'!C400","v":0.11420384772820302},{"$f":"'Comparison Group 2'!B400","v":198},{"$f":"'Comparison Group 2'!C400","v":0.10296411856474259},{"$f":"'Comparison Group 1'!B400","v":2},{"$f":"'Comparison Group 1'!C400","v":9.2592592592592587E-3},{"$f":"'Subject Data'!B400","v":2},{"$f":"'Subject Data'!C400","v":0.2},{"$f":"'Comparison Group 3'!I400","v":4847},{"$f":"'Comparison Group 3'!J400","v":4.4980419087213945E-2},{"$f":"'Comparison Group 2'!I400","v":3023},{"$f":"'Comparison Group 2'!J400","v":3.5742577769369926E-2},{"$f":"'Comparison Group 1'!I400","v":320},{"$f":"'Comparison Group 1'!J400","v":3.8072575847709698E-2},{"$f":"'Subject Data'!I400","v":9},{"$f":"'Subject Data'!J400","v":0.11538461538461539}]
["Overtaking/Passing",{"$f":"'Comparison Group 3'!B401","v":42},{"$f":"'Comparison Group 3'!C401","v":1.7191977077363897E-2},{"$f":"'Comparison Group 2'!B401","v":28},{"$f":"'Comparison Group 2'!C401","v":1.4560582423296931E-2},{"$f":"'Comparison Group 1'!B401","v":5},{"$f":"'Comparison Group 1'!C401","v":2.3148148148148147E-2},{"$f":"'Subject Data'!B401","v":0},{"$f":"'Subject Data'!C401","v":0},{"$f":"'Comparison Group 3'!I401","v":4165},{"$f":"'Comparison Group 3'!J401","v":3.8651422632194364E-2},{"$f":"'Comparison Group 2'!I401","v":3405},{"$f":"'Comparison Group 2'!J401","v":4.025917211535051E-2},{"$f":"'Comparison Group 1'!I401","v":100},{"$f":"'Comparison Group 1'!J401","v":1.1897679952409279E-2},{"$f":"'Subject Data'!I401","v":1},{"$f":"'Subject Data'!J401","v":1.282051282051282E-2}]
["Parked",{"$f":"'Comparison Group 3'!B402","v":22},{"$f":"'Comparison Group 3'!C402","v":9.005321326238231E-3},{"$f":"'Comparison Group 2'!B402","v":11},{"$f":"'Comparison Group 2'!C402","v":5.7202288091523657E-3},{"$f":"'Comparison Group 1'!B402","v":35},{"$f":"'Comparison Group 1'!C402","v":0.16203703703703703},{"$f":"'Subject Data'!B402","v":3},{"$f":"'Subject Data'!C402","v":0.3},{"$f":"'Comparison Group 3'!I402","v":632},{"$f":"'Comparison Group 3'!J402","v":5.8649937823641862E-3},{"$f":"'Comparison Group 2'!I402","v":424},{"$f":"'Comparison Group 2'!J402","v":5.0131832531302833E-3},{"$f":"'Comparison Group 1'!I402","v":580},{"$f":"'Comparison Group 1'!J402","v":6.9006543723973829E-2},{"$f":"'Subject Data'!I402","v":8},{"$f":"'Subject Data'!J402","v":0.10256410256410256}]
["Slowing",{"$f":"'Comparison Group 3'!B403","v":92},{"$f":"'Comparison Group 3'!C403","v":3.7658616455178061E-2},{"$f":"'Comparison Group 2'!B403","v":74},{"$f":"'Comparison Group 2'!C403","v":3.8481539261570462E-2},{"$f":"'Comparison Group 1'!B403","v":8},{"$f":"'Comparison Group 1'!C403","v":3.7037037037037035E-2},{"$f":"'Subject Data'!B403","v":0},{"$f":"'Subject Data'!C403","v":0},{"$f":"'Comparison Group 3'!I403","v":8515},{"$f":"'Comparison Group 3'!J403","v":7.9019655153213686E-2},{"$f":"'Comparison Group 2'!I403","v":6732},{"$f":"'Comparison Group 2'!J403","v":7.9596107688851572E-2},{"$f":"'Comparison Group 1'!I403","v":676},{"$f":"'Comparison Group 1'!J403","v":8.0428316478286729E-2},{"$f":"'Subject Data'!I403","v":8},{"$f":"'Subject Data'!J403","v":0.10256410256410256}]
["Stopped in Traffic",{"$f":"'Comparison Group 3'!B404","v":169},{"$f":"'Comparison Group 3'!C404","v":6.9177241097011871E-2},{"$f":"'Comparison Group 2'!B404","v":140},{"$f":"'Comparison Group 2'!C404","v":7.2802912116484653E-2},{"$f":"'Comparison Group 1'!B404","v":4},{"$f":"'Comparison Group 1'!C404","v":1.8518518518518517E-2},{"$f":"'Subject Data'!B404","v":0},{"$f":"'Subject Data'!C404","v":0},{"$f":"'Comparison Group 3'!I404","v":18284},{"$f":"'Comparison Group 3'!J404","v":0.16967649733662465},{"$f":"'Comparison Group 2'!I404","v":14771},{"$f":"'Comparison Group 2'!J404","v":0.17464558922638543},{"$f":"'Comparison Group 1'!I404","v":101},{"$f":"'Comparison Group 1'!J404","v":1.2016656751933374E-2},{"$f":"'Subject Data'!I404","v":2},{"$f":"'Subject Data'!J404","v":2.564102564102564E-2}]
["Turning Left",{"$f":"'Comparison Group 3'!B405","v":5},{"$f":"'Comparison Group 3'!C405","v":2.0466639377814161E-3},{"$f":"'Comparison Group 2'!B405","v":2},{"$f":"'Comparison Group 2'!C405","v":1.0400416016640667E-3},{"$f":"'Comparison Group 1'!B405","v":6},{"$f":"'Comparison Group 1'!C405","v":2.7777777777777776E-2},{"$f":"'Subject Data'!B405","v":1},{"$f":"'Subject Data'!C405","v":0.1},{"$f":"'Comparison Group 3'!I405","v":126},{"$f":"'Comparison Group 3'!J405","v":1.1692867350915942E-3},{"$f":"'Comparison Group 2'!I405","v":92},{"$f":"'Comparison Group 2'!J405","v":1.0877661775660049E-3},{"$f":"'Comparison Group 1'!I405","v":316},{"$f":"'Comparison Group 1'!J405","v":3.7596668649613328E-2},{"$f":"'Subject Data'!I405","v":1},{"$f":"'Subject Data'!J405","v":1.282051282051282E-2}]
["Turning Right",{"$f":"'Comparison Group 3'!B406","v":19},{"$f":"'Comparison Group 3'!C406","v":7.777322963569382E-3},{"$f":"'Comparison Group 2'!B406","v":8},{"$f":"'Comparison Group 2'!C406","v":4.1601664066562667E-3},{"$f":"'Comparison Group 1'!B406","v":7},{"$f":"'Comparison Group 1'!C406","v":3.2407407407407406E-2},{"$f":"'Subject Data'!B406","v":0},{"$f":"'Subject Data'!C406","v":0},{"$f":"'Comparison Group 3'!I406","v":548},{"$f":"'Comparison Group 3'!J406","v":5.085469292303124E-3},{"$f":"'Comparison Group 2'!I406","v":336},{"$f":"'Comparison Group 2'!J406","v":3.972711257197583E-3},{"$f":"'Comparison Group 1'!I406","v":1175},{"$f":"'Comparison Group 1'!J406","v":0.13979773944080903},{"$f":"'Subject Data'!I406","v":4},{"$f":"'Subject Data'!J406","v":5.128205128205128E-2}]
["Other",{"$f":"'Comparison Group 3'!B407","v":18},{"$f":"'Comparison Group 3'!C407","v":7.3679901760130987E-3},{"$f":"'Comparison Group 2'!B407","v":11},{"$f":"'Comparison Group 2'!C407","v":5.7202288091523657E-3},{"$f":"'Comparison Group 1'!B407","v":3},{"$f":"'Comparison Group 1'!C407","v":1.3888888888888888E-2},{"$f":"'Subject Data'!B407","v":0},{"$f":"'Subject Data'!C407","v":0},{"$f":"'Comparison Group 3'!I407","v":128},{"$f":"'Comparison Group 3'!J407","v":1.18784684199781E-3},{"$f":"'Comparison Group 2'!I407","v":93},{"$f":"'Comparison Group 2'!J407","v":1.099589722974331E-3},{"$f":"'Comparison Group 1'!I407","v":29},{"$f":"'Comparison Group 1'!J407","v":3.4503271861986914E-3},{"$f":"'Subject Data'!I407","v":1},{"$f":"'Subject Data'!J407","v":1.282051282051282E-2}]
["Unknown",{"$f":"'Comparison Group 3'!B408","v":24},{"$f":"'Comparison Group 3'!C408","v":9.8239869013507976E-3},{"$f":"'Comparison Group 2'!B408","v":15},{"$f":"'Comparison Group 2'!C408","v":7.8003120124804995E-3},{"$f":"'Comparison Group 1'!B408","v":7},{"$f":"'Comparison Group 1'!C408","v":3.2407407407407406E-2},{"$f":"'Subject Data'!B408","v":0},{"$f":"'Subject Data'!C408","v":0},{"$f":"'Comparison Group 3'!I408","v":2095},{"$f":"'Comparison Group 3'!J408","v":1.9441711984261031E-2},{"$f":"'Comparison Group 2'!I408","v":1568},{"$f":"'Comparison Group 2'!J408","v":1.8539319200255387E-2},{"$f":"'Comparison Group 1'!I408","v":129},{"$f":"'Comparison Group 1'!J408","v":1.5348007138607971E-2},{"$f":"'Subject Data'!I408","v":1},{"$f":"'Subject Data'!J408","v":1.282051282051282E-2}]
["Most Harmful Event"]
["Cargo/Equipment Loss or Shift",{"$f":"'Comparison Group 3'!B410","v":11},{"$f":"'Comparison Group 3'!C410","v":4.5026606631191155E-3},{"$f":"'Comparison Group 2'!B410","v":10},{"$f":"'Comparison Group 2'!C410","v":5.2002080083203327E-3},{"$f":"'Comparison Group 1'!B410","v":0},{"$f":"'Comparison Group 1'!C410","v":0},{"$f":"'Subject Data'!B410","v":0},{"$f":"'Subject Data'!C410","v":0},{"$f":"'Comparison Group 3'!I410","v":155},{"$f":"'Comparison Group 3'!J410","v":1.438408285231723E-3},{"$f":"'Comparison Group 2'!I410","v":132},{"$f":"'Comparison Group 2'!J410","v":1.5607079938990507E-3},{"$f":"'Comparison Group 1'!I410","v":0},{"$f":"'Comparison Group 1'!J410","v":0},{"$f":"'Subject Data'!I410","v":0},{"$f":"'Subject Data'!J410","v":0}]
["Fell/Jumped from Motor Vehicle",{"$f":"'Comparison Group 3'!B411","v":0},{"$f":"'Comparison Group 3'!C411","v":0},{"$f":"'Comparison Group 2'!B411","v":0},{"$f":"'Comparison Group 2'!C411","v":0},{"$f":"'Comparison Group 1'!B411","v":8},{"$f":"'Comparison Group 1'!C411","v":3.7037037037037035E-2},{"$f":"'Subject Data'!B411","v":0},{"$f":"'Subject Data'!C411","v":0},{"$f":"'Comparison Group 3'!I411","v":2},{"$f":"'Comparison Group 3'!J411","v":1.8560106906215781E-5},{"$f":"'Comparison Group 2'!I411","v":0},{"$f":"'Comparison Group 2'!J411","v":0},{"$f":"'Comparison Group 1'!I411","v":269},{"$f":"'Comparison Group 1'!J411","v":3.2004759071980964E-2},{"$f":"'Subject Data'!I411","v":0},{"$f":"'Subject Data'!J411","v":0}]
["Fire/Explosion",{"$f":"'Comparison Group 3'!B412","v":6},{"$f":"'Comparison Group 3'!C412","v":2.4559967253376994E-3},{"$f":"'Comparison Group 2'!B412","v":5},{"$f":"'Comparison Group 2'!C412","v":2.6001040041601664E-3},{"$f":"'Comparison Group 1'!B412","v":0},{"$f":"'Comparison Group 1'!C412","v":0},{"$f":"'Subject Data'!B412","v":0},{"$f":"'Subject Data'!C412","v":0},{"$f":"'Comparison Group 3'!I412","v":1315},{"$f":"'Comparison Group 3'!J412","v":1.2203270290836876E-2},{"$f":"'Comparison Group 2'!I412","v":1130},{"$f":"'Comparison Group 2'!J412","v":1.3360606311408538E-2},{"$f":"'Comparison Group 1'!I412","v":1},{"$f":"'Comparison Group 1'!J412","v":1.189767995240928E-4},{"$f":"'Subject Data'!I412","v":0},{"$f":"'Subject Data'!J412","v":0}]
["Immersion, Full or Partial",{"$f":"'Comparison Group 3'!B413","v":0},{"$f":"'Comparison Group 3'!C413","v":0},{"$f":"'Comparison Group 2'!B413","v":0},{"$f":"'Comparison Group 2'!C413","v":0},{"$f":"'Comparison Group 1'!B413","v":3},{"$f":"'Comparison Group 1'!C413","v":1.3888888888888888E-2},{"$f":"'Subject Data'!B413","v":0},{"$f":"'Subject Data'!C413","v":0},{"$f":"'Comparison Group 3'!I413","v":21},{"$f":"'Comparison Group 3'!J413","v":1.9488112251526569E-4},{"$f":"'Comparison Group 2'!I413","v":14},{"$f":"'Comparison Group 2'!J413","v":1.6552963571656596E-4},{"$f":"'Comparison Group 1'!I413","v":47},{"$f":"'Comparison Group 1'!J413","v":5.591909577632362E-3},{"$f":"'Subject Data'!I413","v":1},{"$f":"'Subject Data'!J413","v":1.282051282051282E-2}]
["Jackknife",{"$f":"'Comparison Group 3'!B414","v":80},{"$f":"'Comparison Group 3'!C414","v":3.2746623004502658E-2},{"$f":"'Comparison Group 2'!B414","v":57},{"$f":"'Comparison Group 2'!C414","v":2.9641185647425898E-2},{"$f":"'Comparison Group 1'!B414","v":0},{"$f":"'Comparison Group 1'!C414","v":0},{"$f":"'Subject Data'!B414","v":0},{"$f":"'Subject Data'!C414","v":0},{"$f":"'Comparison Group 3'!I414","v":338},{"$f":"'Comparison Group 3'!J414","v":3.1366580671504667E-3},{"$f":"'Comparison Group 2'!I414","v":249},{"$f":"'Comparison Group 2'!J414","v":2.944062806673209E-3},{"$f":"'Comparison Group 1'!I414","v":12},{"$f":"'Comparison Group 1'!J414","v":1.4277215942891136E-3},{"$f":"'Subject Data'!I414","v":4},{"$f":"'Subject Data'!J414","v":5.128205128205128E-2}]
["Other Non-Collision",{"$f":"'Comparison Group 3'!B415","v":0},{"$f":"'Comparison Group 3'!C415","v":0},{"$f":"'Comparison Group 2'!B415","v":0},{"$f":"'Comparison Group 2'!C415","v":0},{"$f":"'Comparison Group 1'!B415","v":5},{"$f":"'Comparison Group 1'!C415","v":2.3148148148148147E-2},{"$f":"'Subject Data'!B415","v":0},{"$f":"'Subject Data'!C415","v":0},{"$f":"'Comparison Group 3'!I415","v":2},{"$f":"'Comparison Group 3'!J415","v":1.8560106906215781E-5},{"$f":"'Comparison Group 2'!I415","v":1},{"$f":"'Comparison Group 2'!J415","v":1.1823545408326141E-5},{"$f":"'Comparison Group 1'!I415","v":636},{"$f":"'Comparison Group 1'!J415","v":7.5669244497323027E-2},{"$f":"'Subject Data'!I415","v":0},{"$f":"'Subject Data'!J415","v":0}]
["Overturn/Rollover",{"$f":"'Comparison Group 3'!B416","v":1},{"$f":"'Comparison Group 3'!C416","v":4.0933278755628325E-4},{"$f":"'Comparison Group 2'!B416","v":0},{"$f":"'Comparison Group 2'!C416","v":0},{"$f":"'Comparison Group 1'!B416","v":0},{"$f":"'Comparison Group 1'!C416","v":0},{"$f":"'Subject Data'!B416","v":0},{"$f":"'Subject Data'!C416","v":0},{"$f":"'Comparison Group 3'!I416","v":131},{"$f":"'Comparison Group 3'!J416","v":1.2156870023571336E-3},{"$f":"'Comparison Group 2'!I416","v":105},{"$f":"'Comparison Group 2'!J416","v":1.2414722678742447E-3},{"$f":"'Comparison Group 1'!I416","v":0},{"$f":"'Comparison Group 1'!J416","v":0},{"$f":"'Subject Data'!I416","v":0},{"$f":"'Subject Data'!J416","v":0}]
["Thrown or Falling Object",{"$f":"'Comparison Group 3'!B417","v":63},{"$f":"'Comparison Group 3'!C417","v":2.5787965616045846E-2},{"$f":"'Comparison Group 2'!B417","v":52},{"$f":"'Comparison Group 2'!C417","v":2.704108164326573E-2},{"$f":"'Comparison Group 1'!B417","v":1},{"$f":"'Comparison Group 1'!C417","v":4.6296296296296294E-3},{"$f":"'Subject Data'!B417","v":0},{"$f":"'Subject Data'!C417","v":0},{"$f":"'Comparison Group 3'!I417","v":321},{"$f":"'Comparison Group 3'!J417","v":2.9788971584476325E-3},{"$f":"'Comparison Group 2'!I417","v":264},{"$f":"'Comparison Group 2'!J417","v":3.1214159877981013E-3},{"$f":"'Comparison Group 1'!I417","v":26},{"$f":"'Comparison Group 1'!J417","v":3.0933967876264129E-3},{"$f":"'Subject Data'!I417","v":0},{"$f":"'Subject Data'!J417","v":0}]
["Collision with Animal",{"$f":"'Comparison Group 3'!B418","v":336},{"$f":"'Comparison Group 3'!C418","v":0.13753581661891118},{"$f":"'Comparison Group 2'!B418","v":269},{"$f":"'Comparison Group 2'!C418","v":0.13988559542381696},{"$f":"'Comparison Group 1'!B418","v":0},{"$f":"'Comparison Group 1'!C418","v":0},{"$f":"'Subject Data'!B418","v":0},{"$f":"'Subject Data'!C418","v":0},{"$f":"'Comparison Group 3'!I418","v":18300},{"$f":"'Comparison Group 3'!J418","v":0.16982497819187439},{"$f":"'Comparison Group 2'!I418","v":9731},{"$f":"'Comparison Group 2'!J418","v":0.11505492036842167},{"$f":"'Comparison Group 1'!I418","v":1},{"$f":"'Comparison Group 1'!J418","v":1.189767995240928E-4},{"$f":"'Subject Data'!I418","v":0},{"$f":"'Subject Data'!J418","v":0}]
["Collision with Construction Equipment",{"$f":"'Comparison Group 3'!B419","v":0},{"$f":"'Comparison Group 3'!C419","v":0},{"$f":"'Comparison Group 2'!B419","v":0},{"$f":"'Comparison Group 2'!C419","v":0},{"$f":"'Comparison Group 1'!B419","v":4},{"$f":"'Comparison Group 1'!C419","v":1.8518518518518517E-2},{"$f":"'Subject Data'!B419","v":0},{"$f":"'Subject Data'!C419","v":0},{"$f":"'Comparison Group 3'!I419","v":39},{"$f":"'Comparison Group 3'!J419","v":3.6192208467120769E-4},{"$f":"'Comparison Group 2'!I419","v":26},{"$f":"'Comparison Group 2'!J419","v":3.0741218061647963E-4},{"$f":"'Comparison Group 1'!I419","v":24},{"$f":"'Comparison Group 1'!J419","v":2.8554431885782273E-3},{"$f":"'Subject Data'!I419","v":1},{"$f":"'Subject Data'!J419","v":1.282051282051282E-2}]
["Collision with Farm Equipment",{"$f":"'Comparison Group 3'!B420","v":107},{"$f":"'Comparison Group 3'!C420","v":4.3798608268522311E-2},{"$f":"'Comparison Group 2'!B420","v":81},{"$f":"'Comparison Group 2'!C420","v":4.2121684867394697E-2},{"$f":"'Comparison Group 1'!B420","v":1},{"$f":"'Comparison Group 1'!C420","v":4.6296296296296294E-3},{"$f":"'Subject Data'!B420","v":0},{"$f":"'Subject Data'!C420","v":0},{"$f":"'Comparison Group 3'!I420","v":5568},{"$f":"'Comparison Group 3'!J420","v":5.1671337626904734E-2},{"$f":"'Comparison Group 2'!I420","v":4209},{"$f":"'Comparison Group 2'!J420","v":4.9765302623644724E-2},{"$f":"'Comparison Group 1'!I420","v":28},{"$f":"'Comparison Group 1'!J420","v":3.3313503866745984E-3},{"$f":"'Subject Data'!I420","v":0},{"$f":"'Subject Data'!J420","v":0}]
["Collision with Motor Vehicle in Transport",{"$f":"'Comparison Group 3'!B421","v":3},{"$f":"'Comparison Group 3'!C421","v":1.2279983626688497E-3},{"$f":"'Comparison Group 2'!B421","v":1},{"$f":"'Comparison Group 2'!C421","v":5.2002080083203334E-4},{"$f":"'Comparison Group 1'!B421","v":0},{"$f":"'Comparison Group 1'!C421","v":0},{"$f":"'Subject Data'!B421","v":0},{"$f":"'Subject Data'!C421","v":0},{"$f":"'Comparison Group 3'!I421","v":150},{"$f":"'Comparison Group 3'!J421","v":1.3920080179661836E-3},{"$f":"'Comparison Group 2'!I421","v":80},{"$f":"'Comparison Group 2'!J421","v":9.4588363266609129E-4},{"$f":"'Comparison Group 1'!I421","v":6},{"$f":"'Comparison Group 1'!J421","v":7.1386079714455682E-4},{"$f":"'Subject Data'!I421","v":1},{"$f":"'Subject Data'!J421","v":1.282051282051282E-2}]
["Collision with Other Non-Fixed Object",{"$f":"'Comparison Group 3'!B422","v":0},{"$f":"'Comparison Group 3'!C422","v":0},{"$f":"'Comparison Group 2'!B422","v":0},{"$f":"'Comparison Group 2'!C422","v":0},{"$f":"'Comparison Group 1'!B422","v":0},{"$f":"'Comparison Group 1'!C422","v":0},{"$f":"'Subject Data'!B422","v":0},{"$f":"'Subject Data'!C422","v":0},{"$f":"'Comparison Group 3'!I422","v":42},{"$f":"'Comparison Group 3'!J422","v":3.8976224503053139E-4},{"$f":"'Comparison Group 2'!I422","v":30},{"$f":"'Comparison Group 2'!J422","v":3.5470636224978419E-4},{"$f":"'Comparison Group 1'!I422","v":25},{"$f":"'Comparison Group 1'!J422","v":2.9744199881023199E-3},{"$f":"'Subject Data'!I422","v":0},{"$f":"'Subject Data'!J422","v":0}]
["Collision with Other Non-motorist",{"$f":"'Comparison Group 3'!B423","v":149},{"$f":"'Comparison Group 3'!C423","v":6.0990585345886209E-2},{"$f":"'Comparison Group 2'!B423","v":130},{"$f":"'Comparison Group 2'!C423","v":6.7602704108164324E-2},{"$f":"'Comparison Group 1'!B423","v":3},{"$f":"'Comparison Group 1'!C423","v":1.3888888888888888E-2},{"$f":"'Subject Data'!B423","v":1},{"$f":"'Subject Data'!C423","v":0.1111111111111111},{"$f":"'Comparison Group 3'!I423","v":8274},{"$f":"'Comparison Group 3'!J423","v":7.6783162271014685E-2},{"$f":"'Comparison Group 2'!I423","v":4366},{"$f":"'Comparison Group 2'!J423","v":5.1621599252751928E-2},{"$f":"'Comparison Group 1'!I423","v":91},{"$f":"'Comparison Group 1'!J423","v":1.0826888756692445E-2},{"$f":"'Subject Data'!I423","v":0},{"$f":"'Subject Data'!J423","v":0}]
["Collision with Parked Motor Vehicle",{"$f":"'Comparison Group 3'!B424","v":0},{"$f":"'Comparison Group 3'!C424","v":0},{"$f":"'Comparison Group 2'!B424","v":0},{"$f":"'Comparison Group 2'!C424","v":0},{"$f":"'Comparison Group 1'!B424","v":1},{"$f":"'Comparison Group 1'!C424","v":4.6296296296296294E-3},{"$f":"'Subject Data'!B424","v":0},{"$f":"'Subject Data'!C424","v":0},{"$f":"'Comparison Group 3'!I424","v":16},{"$f":"'Comparison Group 3'!J424","v":1.4848085524972625E-4},{"$f":"'Comparison Group 2'!I424","v":9},{"$f":"'Comparison Group 2'!J424","v":1.0641190867493527E-4},{"$f":"'Comparison Group 1'!I424","v":191},{"$f":"'Comparison Group 1'!J424","v":2.2724568709101726E-2},{"$f":"'Subject Data'!I424","v":0},{"$f":"'Subject Data'!J424","v":0}]
["Collision with Pedalcycle",{"$f":"'Comparison Group 3'!B425","v":25},{"$f":"'Comparison Group 3'!C425","v":1.0233319688907082E-2},{"$f":"'Comparison Group 2'!B425","v":18},{"$f":"'Comparison Group 2'!C425","v":9.3603744149765994E-3},{"$f":"'Comparison Group 1'!B425","v":2},{"$f":"'Comparison Group 1'!C425","v":9.2592592592592587E-3},{"$f":"'Subject Data'!B425","v":0},{"$f":"'Subject Data'!C425","v":0},{"$f":"'Comparison Group 3'!I425","v":1200},{"$f":"'Comparison Group 3'!J425","v":1.1136064143729469E-2},{"$f":"'Comparison Group 2'!I425","v":755},{"$f":"'Comparison Group 2'!J425","v":8.9267767832862371E-3},{"$f":"'Comparison Group 1'!I425","v":26},{"$f":"'Comparison Group 1'!J425","v":3.0933967876264129E-3},{"$f":"'Subject Data'!I425","v":1},{"$f":"'Subject Data'!J425","v":1.282051282051282E-2}]
["Collision with Pedestrian",{"$f":"'Comparison Group 3'!B426","v":0},{"$f":"'Comparison Group 3'!C426","v":0},{"$f":"'Comparison Group 2'!B426","v":0},{"$f":"'Comparison Group 2'!C426","v":0},{"$f":"'Comparison Group 1'!B426","v":3},{"$f":"'Comparison Group 1'!C426","v":1.3888888888888888E-2},{"$f":"'Subject Data'!B426","v":0},{"$f":"'Subject Data'!C426","v":0},{"$f":"'Comparison Group 3'!I426","v":13},{"$f":"'Comparison Group 3'!J426","v":1.2064069489040257E-4},{"$f":"'Comparison Group 2'!I426","v":9},{"$f":"'Comparison Group 2'!J426","v":1.0641190867493527E-4},{"$f":"'Comparison Group 1'!I426","v":37},{"$f":"'Comparison Group 1'!J426","v":4.4021415823914337E-3},{"$f":"'Subject Data'!I426","v":0},{"$f":"'Subject Data'!J426","v":0}]
["Collision with Railway Vehicle",{"$f":"'Comparison Group 3'!B427","v":25},{"$f":"'Comparison Group 3'!C427","v":1.0233319688907082E-2},{"$f":"'Comparison Group 2'!B427","v":24},{"$f":"'Comparison Group 2'!C427","v":1.2480499219968799E-2},{"$f":"'Comparison Group 1'!B427","v":1},{"$f":"'Comparison Group 1'!C427","v":4.6296296296296294E-3},{"$f":"'Subject Data'!B427","v":0},{"$f":"'Subject Data'!C427","v":0},{"$f":"'Comparison Group 3'!I427","v":311},{"$f":"'Comparison Group 3'!J427","v":2.8860966239165537E-3},{"$f":"'Comparison Group 2'!I427","v":271},{"$f":"'Comparison Group 2'!J427","v":3.2041808056563841E-3},{"$f":"'Comparison Group 1'!I427","v":39},{"$f":"'Comparison Group 1'!J427","v":4.6400951814396189E-3},{"$f":"'Subject Data'!I427","v":0},{"$f":"'Subject Data'!J427","v":0}]
["Strikes Object ar Rest from MV in Transport",{"$f":"'Comparison Group 3'!B428","v":0},{"$f":"'Comparison Group 3'!C428","v":0},{"$f":"'Comparison Group 2'!B428","v":0},{"$f":"'Comparison Group 2'!C428","v":0},{"$f":"'Comparison Group 1'!B428","v":0},{"$f":"'Comparison Group 1'!C428","v":0},{"$f":"'Subject Data'!B428","v":0},{"$f":"'Subject Data'!C428","v":0},{"$f":"'Comparison Group 3'!I428","v":5},{"$f":"'Comparison Group 3'!J428","v":4.6400267265539449E-5},{"$f":"'Comparison Group 2'!I428","v":3},{"$f":"'Comparison Group 2'!J428","v":3.5470636224978419E-5},{"$f":"'Comparison Group 1'!I428","v":16},{"$f":"'Comparison Group 1'!J428","v":1.9036287923854848E-3},{"$f":"'Subject Data'!I428","v":0},{"$f":"'Subject Data'!J428","v":0}]
["Struck by Falling, Shifting Cargo, or Anything Set in Motion by Motor Vehicle",{"$f":"'Comparison Group 3'!B429","v":14},{"$f":"'Comparison Group 3'!C429","v":5.7306590257879654E-3},{"$f":"'Comparison Group 2'!B429","v":12},{"$f":"'Comparison Group 2'!C429","v":6.2402496099843996E-3},{"$f":"'Comparison Group 1'!B429","v":3},{"$f":"'Comparison Group 1'!C429","v":1.3888888888888888E-2},{"$f":"'Subject Data'!B429","v":0},{"$f":"'Subject Data'!C429","v":0},{"$f":"'Comparison Group 3'!I429","v":2632},{"$f":"'Comparison Group 3'!J429","v":2.4425100688579966E-2},{"$f":"'Comparison Group 2'!I429","v":19466},{"$f":"'Comparison Group 2'!J429","v":0.23015713491847664},{"$f":"'Comparison Group 1'!I429","v":119},{"$f":"'Comparison Group 1'!J429","v":1.4158239143367043E-2},{"$f":"'Subject Data'!I429","v":0},{"$f":"'Subject Data'!J429","v":0}]
["Collision with Bridge Overhead Structure",{"$f":"'Comparison Group 3'!B430","v":0},{"$f":"'Comparison Group 3'!C430","v":0},{"$f":"'Comparison Group 2'!B430","v":2},{"$f":"'Comparison Group 2'!C430","v":1.0400416016640667E-3},{"$f":"'Comparison Group 1'!B430","v":0},{"$f":"'Comparison Group 1'!C430","v":0},{"$f":"'Subject Data'!B430","v":0},{"$f":"'Subject Data'!C430","v":0},{"$f":"'Comparison Group 3'!I430","v":44},{"$f":"'Comparison Group 3'!J430","v":4.0832235193674713E-4},{"$f":"'Comparison Group 2'!I430","v":34},{"$f":"'Comparison Group 2'!J430","v":4.0200054388308881E-4},{"$f":"'Comparison Group 1'!I430","v":20},{"$f":"'Comparison Group 1'!J430","v":2.3795359904818562E-3},{"$f":"'Subject Data'!I430","v":5},{"$f":"'Subject Data'!J430","v":6.4102564102564097E-2}]
["Collision with Bridge Pier or Support",{"$f":"'Comparison Group 3'!B431","v":162},{"$f":"'Comparison Group 3'!C431","v":6.6311911584117894E-2},{"$f":"'Comparison Group 2'!B431","v":72},{"$f":"'Comparison Group 2'!C431","v":3.7441497659906398E-2},{"$f":"'Comparison Group 1'!B431","v":2},{"$f":"'Comparison Group 1'!C431","v":9.2592592592592587E-3},{"$f":"'Subject Data'!B431","v":0},{"$f":"'Subject Data'!C431","v":0},{"$f":"'Comparison Group 3'!I431","v":677},{"$f":"'Comparison Group 3'!J431","v":6.2825961877540411E-3},{"$f":"'Comparison Group 2'!I431","v":505},{"$f":"'Comparison Group 2'!J431","v":5.9708904312047008E-3},{"$f":"'Comparison Group 1'!I431","v":52},{"$f":"'Comparison Group 1'!J431","v":6.1867935752528257E-3},{"$f":"'Subject Data'!I431","v":1},{"$f":"'Subject Data'!J431","v":1.282051282051282E-2}]
["Collision with Bridge Rail",{"$f":"'Comparison Group 3'!B432","v":0},{"$f":"'Comparison Group 3'!C432","v":0},{"$f":"'Comparison Group 2'!B432","v":1},{"$f":"'Comparison Group 2'!C432","v":5.2002080083203334E-4},{"$f":"'Comparison Group 1'!B432","v":0},{"$f":"'Comparison Group 1'!C432","v":0},{"$f":"'Subject Data'!B432","v":0},{"$f":"'Subject Data'!C432","v":0},{"$f":"'Comparison Group 3'!I432","v":7},{"$f":"'Comparison Group 3'!J432","v":6.4960374171755227E-5},{"$f":"'Comparison Group 2'!I432","v":8},{"$f":"'Comparison Group 2'!J432","v":9.4588363266609132E-5},{"$f":"'Comparison Group 1'!I432","v":3},{"$f":"'Comparison Group 1'!J432","v":3.5693039857227841E-4},{"$f":"'Subject Data'!I432","v":1},{"$f":"'Subject Data'!J432","v":1.282051282051282E-2}]
["Collision with Cable Barrier",{"$f":"'Comparison Group 3'!B433","v":3},{"$f":"'Comparison Group 3'!C433","v":1.2279983626688497E-3},{"$f":"'Comparison Group 2'!B433","v":4},{"$f":"'Comparison Group 2'!C433","v":2.0800832033281333E-3},{"$f":"'Comparison Group 1'!B433","v":3},{"$f":"'Comparison Group 1'!C433","v":1.3888888888888888E-2},{"$f":"'Subject Data'!B433","v":3},{"$f":"'Subject Data'!C433","v":0.33333333333333331},{"$f":"'Comparison Group 3'!I433","v":263},{"$f":"'Comparison Group 3'!J433","v":2.440654058167375E-3},{"$f":"'Comparison Group 2'!I433","v":219},{"$f":"'Comparison Group 2'!J433","v":2.5893564444234248E-3},{"$f":"'Comparison Group 1'!I433","v":56},{"$f":"'Comparison Group 1'!J433","v":6.6627007733491969E-3},{"$f":"'Subject Data'!I433","v":7},{"$f":"'Subject Data'!J433","v":8.9743589743589744E-2}]
["Collision with Concrete Traffic Barrier",{"$f":"'Comparison Group 3'!B434","v":126},{"$f":"'Comparison Group 3'!C434","v":5.1575931232091692E-2},{"$f":"'Comparison Group 2'!B434","v":108},{"$f":"'Comparison Group 2'!C434","v":5.6162246489859596E-2},{"$f":"'Comparison Group 1'!B434","v":24},{"$f":"'Comparison Group 1'!C434","v":0.1111111111111111},{"$f":"'Subject Data'!B434","v":0},{"$f":"'Subject Data'!C434","v":0},{"$f":"'Comparison Group 3'!I434","v":644},{"$f":"'Comparison Group 3'!J434","v":5.9763544238014814E-3},{"$f":"'Comparison Group 2'!I434","v":531},{"$f":"'Comparison Group 2'!J434","v":6.2783026118211809E-3},{"$f":"'Comparison Group 1'!I434","v":276},{"$f":"'Comparison Group 1'!J434","v":3.2837596668649612E-2},{"$f":"'Subject Data'!I434","v":8},{"$f":"'Subject Data'!J434","v":0.10256410256410256}]
["Collision with Culvert",{"$f":"'Comparison Group 3'!B435","v":657},{"$f":"'Comparison Group 3'!C435","v":0.26893164142447812},{"$f":"'Comparison Group 2'!B435","v":283},{"$f":"'Comparison Group 2'!C435","v":0.14716588663546543},{"$f":"'Comparison Group 1'!B435","v":3},{"$f":"'Comparison Group 1'!C435","v":1.3888888888888888E-2},{"$f":"'Subject Data'!B435","v":1},{"$f":"'Subject Data'!C435","v":0.1111111111111111},{"$f":"'Comparison Group 3'!I435","v":36603},{"$f":"'Comparison Group 3'!J435","v":0.33967779654410807},{"$f":"'Comparison Group 2'!I435","v":1510},{"$f":"'Comparison Group 2'!J435","v":1.7853553566572474E-2},{"$f":"'Comparison Group 1'!I435","v":539},{"$f":"'Comparison Group 1'!J435","v":6.412849494348602E-2},{"$f":"'Subject Data'!I435","v":1},{"$f":"'Subject Data'!J435","v":1.282051282051282E-2}]
["Collision with Curb",{"$f":"'Comparison Group 3'!B436","v":0},{"$f":"'Comparison Group 3'!C436","v":0},{"$f":"'Comparison Group 2'!B436","v":3},{"$f":"'Comparison Group 2'!C436","v":1.5600624024960999E-3},{"$f":"'Comparison Group 1'!B436","v":19},{"$f":"'Comparison Group 1'!C436","v":8.7962962962962965E-2},{"$f":"'Subject Data'!B436","v":0},{"$f":"'Subject Data'!C436","v":0},{"$f":"'Comparison Group 3'!I436","v":80},{"$f":"'Comparison Group 3'!J436","v":7.4240427624863118E-4},{"$f":"'Comparison Group 2'!I436","v":56},{"$f":"'Comparison Group 2'!J436","v":6.6211854286626383E-4},{"$f":"'Comparison Group 1'!I436","v":78},{"$f":"'Comparison Group 1'!J436","v":9.2801903628792377E-3},{"$f":"'Subject Data'!I436","v":0},{"$f":"'Subject Data'!J436","v":0}]
["Collision with Ditch",{"$f":"'Comparison Group 3'!B437","v":214},{"$f":"'Comparison Group 3'!C437","v":8.7597216537044623E-2},{"$f":"'Comparison Group 2'!B437","v":167},{"$f":"'Comparison Group 2'!C437","v":8.6843473738949559E-2},{"$f":"'Comparison Group 1'!B437","v":0},{"$f":"'Comparison Group 1'!C437","v":0},{"$f":"'Subject Data'!B437","v":1},{"$f":"'Subject Data'!C437","v":0.1111111111111111},{"$f":"'Comparison Group 3'!I437","v":11137},{"$f":"'Comparison Group 3'!J437","v":0.10335195530726257},{"$f":"'Comparison Group 2'!I437","v":5615},{"$f":"'Comparison Group 2'!J437","v":6.6389207467751274E-2},{"$f":"'Comparison Group 1'!I437","v":3},{"$f":"'Comparison Group 1'!J437","v":3.5693039857227841E-4},{"$f":"'Subject Data'!I437","v":8},{"$f":"'Subject Data'!J437","v":0.10256410256410256}]
["Collision with Embankment",{"$f":"'Comparison Group 3'!B438","v":7},{"$f":"'Comparison Group 3'!C438","v":2.8653295128939827E-3},{"$f":"'Comparison Group 2'!B438","v":3},{"$f":"'Comparison Group 2'!C438","v":1.5600624024960999E-3},{"$f":"'Comparison Group 1'!B438","v":5},{"$f":"'Comparison Group 1'!C438","v":2.3148148148148147E-2},{"$f":"'Subject Data'!B438","v":0},{"$f":"'Subject Data'!C438","v":0},{"$f":"'Comparison Group 3'!I438","v":302},{"$f":"'Comparison Group 3'!J438","v":2.8025761428385827E-3},{"$f":"'Comparison Group 2'!I438","v":167},{"$f":"'Comparison Group 2'!J438","v":1.9745320831904656E-3},{"$f":"'Comparison Group 1'!I438","v":1053},{"$f":"'Comparison Group 1'!J438","v":0.12528256989886971},{"$f":"'Subject Data'!I438","v":0},{"$f":"'Subject Data'!J438","v":0}]
["Collision with Fence",{"$f":"'Comparison Group 3'!B439","v":0},{"$f":"'Comparison Group 3'!C439","v":0},{"$f":"'Comparison Group 2'!B439","v":3},{"$f":"'Comparison Group 2'!C439","v":1.5600624024960999E-3},{"$f":"'Comparison Group 1'!B439","v":0},{"$f":"'Comparison Group 1'!C439","v":0},{"$f":"'Subject Data'!B439","v":1},{"$f":"'Subject Data'!C439","v":0.1111111111111111},{"$f":"'Comparison Group 3'!I439","v":86},{"$f":"'Comparison Group 3'!J439","v":7.9808459696727857E-4},{"$f":"'Comparison Group 2'!I439","v":65},{"$f":"'Comparison Group 2'!J439","v":7.685304515411992E-4},{"$f":"'Comparison Group 1'!I439","v":3},{"$f":"'Comparison Group 1'!J439","v":3.5693039857227841E-4},{"$f":"'Subject Data'!I439","v":0},{"$f":"'Subject Data'!J439","v":0}]
["Collision with Guardrail End Terminal",{"$f":"'Comparison Group 3'!B440","v":307},{"$f":"'Comparison Group 3'!C440","v":0.12566516577977896},{"$f":"'Comparison Group 2'!B440","v":132},{"$f":"'Comparison Group 2'!C440","v":6.8642745709828396E-2},{"$f":"'Comparison Group 1'!B440","v":1},{"$f":"'Comparison Group 1'!C440","v":4.6296296296296294E-3},{"$f":"'Subject Data'!B440","v":1},{"$f":"'Subject Data'!C440","v":0.1111111111111111},{"$f":"'Comparison Group 3'!I440","v":16550},{"$f":"'Comparison Group 3'!J440","v":0.15358488464893558},{"$f":"'Comparison Group 2'!I440","v":8736},{"$f":"'Comparison Group 2'!J440","v":0.10329049268713716},{"$f":"'Comparison Group 1'!I440","v":97},{"$f":"'Comparison Group 1'!J440","v":1.1540749553837002E-2},{"$f":"'Subject Data'!I440","v":5},{"$f":"'Subject Data'!J440","v":6.4102564102564097E-2}]
["Collision with Guardrail Face",{"$f":"'Comparison Group 3'!B441","v":0},{"$f":"'Comparison Group 3'!C441","v":0},{"$f":"'Comparison Group 2'!B441","v":1},{"$f":"'Comparison Group 2'!C441","v":5.2002080083203334E-4},{"$f":"'Comparison Group 1'!B441","v":4},{"$f":"'Comparison Group 1'!C441","v":1.8518518518518517E-2},{"$f":"'Subject Data'!B441","v":0},{"$f":"'Subject Data'!C441","v":0},{"$f":"'Comparison Group 3'!I441","v":35},{"$f":"'Comparison Group 3'!J441","v":3.2480187085877615E-4},{"$f":"'Comparison Group 2'!I441","v":20},{"$f":"'Comparison Group 2'!J441","v":2.3647090816652282E-4},{"$f":"'Comparison Group 1'!I441","v":338},{"$f":"'Comparison Group 1'!J441","v":4.0214158239143365E-2},{"$f":"'Subject Data'!I441","v":3},{"$f":"'Subject Data'!J441","v":3.8461538461538464E-2}]
["Collision with Impact Attenuator/Crash Cushion",{"$f":"'Comparison Group 3'!B442","v":53},{"$f":"'Comparison Group 3'!C442","v":2.1694637740483011E-2},{"$f":"'Comparison Group 2'!B442","v":43},{"$f":"'Comparison Group 2'!C442","v":2.2360894435777431E-2},{"$f":"'Comparison Group 1'!B442","v":0},{"$f":"'Comparison Group 1'!C442","v":0},{"$f":"'Subject Data'!B442","v":0},{"$f":"'Subject Data'!C442","v":0},{"$f":"'Comparison Group 3'!I442","v":2402},{"$f":"'Comparison Group 3'!J442","v":2.2290688394365151E-2},{"$f":"'Comparison Group 2'!I442","v":1516},{"$f":"'Comparison Group 2'!J442","v":1.7924494839022431E-2},{"$f":"'Comparison Group 1'!I442","v":39},{"$f":"'Comparison Group 1'!J442","v":4.6400951814396189E-3},{"$f":"'Subject Data'!I442","v":0},{"$f":"'Subject Data'!J442","v":0}]
["Collision with Mailbox",{"$f":"'Comparison Group 3'!B443","v":1},{"$f":"'Comparison Group 3'!C443","v":4.0933278755628325E-4},{"$f":"'Comparison Group 2'!B443","v":1},{"$f":"'Comparison Group 2'!C443","v":5.2002080083203334E-4},{"$f":"'Comparison Group 1'!B443","v":0},{"$f":"'Comparison Group 1'!C443","v":0},{"$f":"'Subject Data'!B443","v":0},{"$f":"'Subject Data'!C443","v":0},{"$f":"'Comparison Group 3'!I443","v":19},{"$f":"'Comparison Group 3'!J443","v":1.763210156090499E-4},{"$f":"'Comparison Group 2'!I443","v":21},{"$f":"'Comparison Group 2'!J443","v":2.4829445357484894E-4},{"$f":"'Comparison Group 1'!I443","v":9},{"$f":"'Comparison Group 1'!J443","v":1.0707911957168353E-3},{"$f":"'Subject Data'!I443","v":0},{"$f":"'Subject Data'!J443","v":0}]
["Collision with Other Fixed Object",{"$f":"'Comparison Group 3'!B444","v":23},{"$f":"'Comparison Group 3'!C444","v":9.4146541137945152E-3},{"$f":"'Comparison Group 2'!B444","v":0},{"$f":"'Comparison Group 2'!C444","v":0},{"$f":"'Comparison Group 1'!B444","v":3},{"$f":"'Comparison Group 1'!C444","v":1.3888888888888888E-2},{"$f":"'Subject Data'!B444","v":1},{"$f":"'Subject Data'!C444","v":0.1111111111111111},{"$f":"'Comparison Group 3'!I444","v":18},{"$f":"'Comparison Group 3'!J444","v":1.6704096215594202E-4},{"$f":"'Comparison Group 2'!I444","v":4866},{"$f":"'Comparison Group 2'!J444","v":5.7533371956914998E-2},{"$f":"'Comparison Group 1'!I444","v":74},{"$f":"'Comparison Group 1'!J444","v":8.8042831647828675E-3},{"$f":"'Subject Data'!I444","v":0},{"$f":"'Subject Data'!J444","v":0}]
["Collision with Other Post, Pole, or Support",{"$f":"'Comparison Group 3'!B445","v":10},{"$f":"'Comparison Group 3'!C445","v":4.0933278755628322E-3},{"$f":"'Comparison Group 2'!B445","v":132},{"$f":"'Comparison Group 2'!C445","v":6.8642745709828396E-2},{"$f":"'Comparison Group 1'!B445","v":16},{"$f":"'Comparison Group 1'!C445","v":7.407407407407407E-2},{"$f":"'Subject Data'!B445","v":0},{"$f":"'Subject Data'!C445","v":0},{"$f":"'Comparison Group 3'!I445","v":15},{"$f":"'Comparison Group 3'!J445","v":1.3920080179661835E-4},{"$f":"'Comparison Group 2'!I445","v":2186},{"$f":"'Comparison Group 2'!J445","v":2.5846270262600942E-2},{"$f":"'Comparison Group 1'!I445","v":249},{"$f":"'Comparison Group 1'!J445","v":2.9625223081499109E-2},{"$f":"'Subject Data'!I445","v":0},{"$f":"'Subject Data'!J445","v":0}]
["Collision with Other Traffic Barrier",{"$f":"'Comparison Group 3'!B446","v":17},{"$f":"'Comparison Group 3'!C446","v":6.9586573884568154E-3},{"$f":"'Comparison Group 2'!B446","v":46},{"$f":"'Comparison Group 2'!C446","v":2.3920956838273531E-2},{"$f":"'Comparison Group 1'!B446","v":1},{"$f":"'Comparison Group 1'!C446","v":4.6296296296296294E-3},{"$f":"'Subject Data'!B446","v":0},{"$f":"'Subject Data'!C446","v":0},{"$f":"'Comparison Group 3'!I446","v":7},{"$f":"'Comparison Group 3'!J446","v":6.4960374171755227E-5},{"$f":"'Comparison Group 2'!I446","v":757},{"$f":"'Comparison Group 2'!J446","v":8.950423874102888E-3},{"$f":"'Comparison Group 1'!I446","v":14},{"$f":"'Comparison Group 1'!J446","v":1.6656751933372992E-3},{"$f":"'Subject Data'!I446","v":0},{"$f":"'Subject Data'!J446","v":0}]
["Collision with Traffic Sign Support",{"$f":"'Comparison Group 3'!B447","v":4},{"$f":"'Comparison Group 3'!C447","v":1.637331150225133E-3},{"$f":"'Comparison Group 2'!B447","v":0},{"$f":"'Comparison Group 2'!C447","v":0},{"$f":"'Comparison Group 1'!B447","v":1},{"$f":"'Comparison Group 1'!C447","v":4.6296296296296294E-3},{"$f":"'Subject Data'!B447","v":0},{"$f":"'Subject Data'!C447","v":0},{"$f":"'Comparison Group 3'!I447","v":2},{"$f":"'Comparison Group 3'!J447","v":1.8560106906215781E-5},{"$f":"'Comparison Group 2'!I447","v":9735},{"$f":"'Comparison Group 2'!J447","v":0.11510221455005498},{"$f":"'Comparison Group 1'!I447","v":38},{"$f":"'Comparison Group 1'!J447","v":4.5211183819155263E-3},{"$f":"'Subject Data'!I447","v":3},{"$f":"'Subject Data'!J447","v":3.8461538461538464E-2}]
["Collision with Traffic Signal Support",{"$f":"'Comparison Group 3'!B448","v":5},{"$f":"'Comparison Group 3'!C448","v":2.0466639377814161E-3},{"$f":"'Comparison Group 2'!B448","v":213},{"$f":"'Comparison Group 2'!C448","v":0.11076443057722309},{"$f":"'Comparison Group 1'!B448","v":0},{"$f":"'Comparison Group 1'!C448","v":0},{"$f":"'Subject Data'!B448","v":0},{"$f":"'Subject Data'!C448","v":0},{"$f":"'Comparison Group 3'!I448","v":5},{"$f":"'Comparison Group 3'!J448","v":4.6400267265539449E-5},{"$f":"'Comparison Group 2'!I448","v":2809},{"$f":"'Comparison Group 2'!J448","v":3.321233905198813E-2},{"$f":"'Comparison Group 1'!I448","v":32},{"$f":"'Comparison Group 1'!J448","v":3.8072575847709696E-3},{"$f":"'Subject Data'!I448","v":0},{"$f":"'Subject Data'!J448","v":0}]
["Collision with Tree",{"$f":"'Comparison Group 3'!B449","v":25},{"$f":"'Comparison Group 3'!C449","v":1.0233319688907082E-2},{"$f":"'Comparison Group 2'!B449","v":23},{"$f":"'Comparison Group 2'!C449","v":1.1960478419136765E-2},{"$f":"'Comparison Group 1'!B449","v":14},{"$f":"'Comparison Group 1'!C449","v":6.4814814814814811E-2},{"$f":"'Subject Data'!B449","v":0},{"$f":"'Subject Data'!C449","v":0},{"$f":"'Comparison Group 3'!I449","v":21},{"$f":"'Comparison Group 3'!J449","v":1.9488112251526569E-4},{"$f":"'Comparison Group 2'!I449","v":4238},{"$f":"'Comparison Group 2'!J449","v":5.0108185440486182E-2},{"$f":"'Comparison Group 1'!I449","v":1306},{"$f":"'Comparison Group 1'!J449","v":0.1553837001784652},{"$f":"'Subject Data'!I449","v":0},{"$f":"'Subject Data'!J449","v":0}]
["Collision with Utility Pole or Light Support",{"$f":"'Comparison Group 3'!B450","v":8},{"$f":"'Comparison Group 3'!C450","v":3.274662300450266E-3},{"$f":"'Comparison Group 2'!B450","v":0},{"$f":"'Comparison Group 2'!C450","v":0},{"$f":"'Comparison Group 1'!B450","v":23},{"$f":"'Comparison Group 1'!C450","v":0.10648148148148148},{"$f":"'Subject Data'!B450","v":0},{"$f":"'Subject Data'!C450","v":0},{"$f":"'Comparison Group 3'!I450","v":2},{"$f":"'Comparison Group 3'!J450","v":1.8560106906215781E-5},{"$f":"'Comparison Group 2'!I450","v":42},{"$f":"'Comparison Group 2'!J450","v":4.9658890714969787E-4},{"$f":"'Comparison Group 1'!I450","v":1407},{"$f":"'Comparison Group 1'!J450","v":0.16740035693039856},{"$f":"'Subject Data'!I450","v":0},{"$f":"'Subject Data'!J450","v":0}]
["Unknown",{"$f":"'Comparison Group 3'!B451","v":1},{"$f":"'Comparison Group 3'!C451","v":4.0933278755628325E-4},{"$f":"'Comparison Group 2'!B451","v":27},{"$f":"'Comparison Group 2'!C451","v":1.4040561622464899E-2},{"$f":"'Comparison Group 1'!B451","v":62},{"$f":"'Comparison Group 1'!C451","v":0.28703703703703703},{"$f":"'Subject Data'!B451","v":0},{"$f":"'Subject Data'!C451","v":0},{"$f":"'Comparison Group 3'!I451","v":4},{"$f":"'Comparison Group 3'!J451","v":3.7120213812431563E-5},{"$f":"'Comparison Group 2'!I451","v":91},{"$f":"'Comparison Group 2'!J451","v":1.0759426321576787E-3},{"$f":"'Comparison Group 1'!I451","v":1125},{"$f":"'Comparison Group 1'!J451","v":0.1338488994646044},{"$f":"'Subject Data'!I451","v":28},{"$f":"'Subject Data'!J451","v":0.35897435897435898}]
["Contributing Circumstance, Vehicle"]
["None",{"$f":"'Comparison Group 3'!B453","v":19},{"$f":"'Comparison Group 3'!C453","v":7.777322963569382E-3},{"$f":"'Comparison Group 2'!B453","v":34},{"$f":"'Comparison Group 2'!C453","v":1.7680707228289131E-2},{"$f":"'Comparison Group 1'!B453","v":3},{"$f":"'Comparison Group 1'!C453","v":1.3888888888888888E-2},{"$f":"'Subject Data'!B453","v":0},{"$f":"'Subject Data'!C453","v":0},{"$f":"'Comparison Group 3'!I453","v":595},{"$f":"'Comparison Group 3'!J453","v":5.5216318045991945E-3},{"$f":"'Comparison Group 2'!I453","v":403},{"$f":"'Comparison Group 2'!J453","v":4.764888799555435E-3},{"$f":"'Comparison Group 1'!I453","v":41},{"$f":"'Comparison Group 1'!J453","v":4.8780487804878049E-3},{"$f":"'Subject Data'!I453","v":0},{"$f":"'Subject Data'!J453","v":0}]
["Brakes",{"$f":"'Comparison Group 3'!B454","v":5},{"$f":"'Comparison Group 3'!C454","v":2.0466639377814161E-3},{"$f":"'Comparison Group 2'!B454","v":0},{"$f":"'Comparison Group 2'!C454","v":0},{"$f":"'Comparison Group 1'!B454","v":1},{"$f":"'Comparison Group 1'!C454","v":4.6296296296296294E-3},{"$f":"'Subject Data'!B454","v":0},{"$f":"'Subject Data'!C454","v":0},{"$f":"'Comparison Group 3'!I454","v":1500},{"$f":"'Comparison Group 3'!J454","v":1.3920080179661835E-2},{"$f":"'Comparison Group 2'!I454","v":3},{"$f":"'Comparison Group 2'!J454","v":3.5470636224978419E-5},{"$f":"'Comparison Group 1'!I454","v":239},{"$f":"'Comparison Group 1'!J454","v":2.843545508625818E-2},{"$f":"'Subject Data'!I454","v":1},{"$f":"'Subject Data'!J454","v":1.282051282051282E-2}]
["Exhaust System",{"$f":"'Comparison Group 3'!B455","v":57},{"$f":"'Comparison Group 3'!C455","v":2.3331968890708144E-2},{"$f":"'Comparison Group 2'!B455","v":17},{"$f":"'Comparison Group 2'!C455","v":8.8403536141445655E-3},{"$f":"'Comparison Group 1'!B455","v":3},{"$f":"'Comparison Group 1'!C455","v":1.3888888888888888E-2},{"$f":"'Subject Data'!B455","v":0},{"$f":"'Subject Data'!C455","v":0},{"$f":"'Comparison Group 3'!I455","v":4600},{"$f":"'Comparison Group 3'!J455","v":4.2688245884296296E-2},{"$f":"'Comparison Group 2'!I455","v":3397},{"$f":"'Comparison Group 2'!J455","v":4.0164583752083899E-2},{"$f":"'Comparison Group 1'!I455","v":153},{"$f":"'Comparison Group 1'!J455","v":1.8203450327186198E-2},{"$f":"'Subject Data'!I455","v":0},{"$f":"'Subject Data'!J455","v":0}]
["Body or Doors",{"$f":"'Comparison Group 3'!B456","v":3},{"$f":"'Comparison Group 3'!C456","v":1.2279983626688497E-3},{"$f":"'Comparison Group 2'!B456","v":2},{"$f":"'Comparison Group 2'!C456","v":1.0400416016640667E-3},{"$f":"'Comparison Group 1'!B456","v":0},{"$f":"'Comparison Group 1'!C456","v":0},{"$f":"'Subject Data'!B456","v":0},{"$f":"'Subject Data'!C456","v":0},{"$f":"'Comparison Group 3'!I456","v":380},{"$f":"'Comparison Group 3'!J456","v":3.5264203121809982E-3},{"$f":"'Comparison Group 2'!I456","v":48},{"$f":"'Comparison Group 2'!J456","v":5.6753017959965471E-4},{"$f":"'Comparison Group 1'!I456","v":60},{"$f":"'Comparison Group 1'!J456","v":7.138607971445568E-3},{"$f":"'Subject Data'!I456","v":0},{"$f":"'Subject Data'!J456","v":0}]
["Steering",{"$f":"'Comparison Group 3'!B457","v":1335},{"$f":"'Comparison Group 3'!C457","v":0.54645927138763817},{"$f":"'Comparison Group 2'!B457","v":175},{"$f":"'Comparison Group 2'!C457","v":9.100364014560583E-2},{"$f":"'Comparison Group 1'!B457","v":111},{"$f":"'Comparison Group 1'!C457","v":0.51388888888888884},{"$f":"'Subject Data'!B457","v":4},{"$f":"'Subject Data'!C457","v":0.4},{"$f":"'Comparison Group 3'!I457","v":49057},{"$f":"'Comparison Group 3'!J457","v":0.45525158224911377},{"$f":"'Comparison Group 2'!I457","v":754},{"$f":"'Comparison Group 2'!J457","v":8.9149532378779098E-3},{"$f":"'Comparison Group 1'!I457","v":3612},{"$f":"'Comparison Group 1'!J457","v":0.42974419988102319},{"$f":"'Subject Data'!I457","v":0},{"$f":"'Subject Data'!J457","v":0}]
["Power Train",{"$f":"'Comparison Group 3'!B458","v":308},{"$f":"'Comparison Group 3'!C458","v":0.12607449856733524},{"$f":"'Comparison Group 2'!B458","v":1},{"$f":"'Comparison Group 2'!C458","v":5.2002080083203334E-4},{"$f":"'Comparison Group 1'!B458","v":21},{"$f":"'Comparison Group 1'!C458","v":9.7222222222222224E-2},{"$f":"'Subject Data'!B458","v":0},{"$f":"'Subject Data'!C458","v":0},{"$f":"'Comparison Group 3'!I458","v":9961},{"$f":"'Comparison Group 3'!J458","v":9.2438612446407692E-2},{"$f":"'Comparison Group 2'!I458","v":9},{"$f":"'Comparison Group 2'!J458","v":1.0641190867493527E-4},{"$f":"'Comparison Group 1'!I458","v":874},{"$f":"'Comparison Group 1'!J458","v":0.10398572278405711},{"$f":"'Subject Data'!I458","v":0},{"$f":"'Subject Data'!J458","v":0}]
["Suspension",{"$f":"'Comparison Group 3'!B459","v":49},{"$f":"'Comparison Group 3'!C459","v":2.0057306590257881E-2},{"$f":"'Comparison Group 2'!B459","v":4},{"$f":"'Comparison Group 2'!C459","v":2.0800832033281333E-3},{"$f":"'Comparison Group 1'!B459","v":2},{"$f":"'Comparison Group 1'!C459","v":9.2592592592592587E-3},{"$f":"'Subject Data'!B459","v":2},{"$f":"'Subject Data'!C459","v":0.2},{"$f":"'Comparison Group 3'!I459","v":3813},{"$f":"'Comparison Group 3'!J459","v":3.5384843816700387E-2},{"$f":"'Comparison Group 2'!I459","v":324},{"$f":"'Comparison Group 2'!J459","v":3.8308287122976697E-3},{"$f":"'Comparison Group 1'!I459","v":320},{"$f":"'Comparison Group 1'!J459","v":3.8072575847709698E-2},{"$f":"'Subject Data'!I459","v":2},{"$f":"'Subject Data'!J459","v":2.564102564102564E-2}]
["Tires",{"$f":"'Comparison Group 3'!B460","v":21},{"$f":"'Comparison Group 3'!C460","v":8.5959885386819486E-3},{"$f":"'Comparison Group 2'!B460","v":160},{"$f":"'Comparison Group 2'!C460","v":8.3203328133125323E-2},{"$f":"'Comparison Group 1'!B460","v":5},{"$f":"'Comparison Group 1'!C460","v":2.3148148148148147E-2},{"$f":"'Subject Data'!B460","v":0},{"$f":"'Subject Data'!C460","v":0},{"$f":"'Comparison Group 3'!I460","v":607},{"$f":"'Comparison Group 3'!J460","v":5.6329924460364889E-3},{"$f":"'Comparison Group 2'!I460","v":795},{"$f":"'Comparison Group 2'!J460","v":9.3997185996192827E-3},{"$f":"'Comparison Group 1'!I460","v":100},{"$f":"'Comparison Group 1'!J460","v":1.1897679952409279E-2},{"$f":"'Subject Data'!I460","v":27},{"$f":"'Subject Data'!J460","v":0.34615384615384615}]
["Wheels",{"$f":"'Comparison Group 3'!B461","v":279},{"$f":"'Comparison Group 3'!C461","v":0.11420384772820302},{"$f":"'Comparison Group 2'!B461","v":815},{"$f":"'Comparison Group 2'!C461","v":0.42381695267810715},{"$f":"'Comparison Group 1'!B461","v":35},{"$f":"'Comparison Group 1'!C461","v":0.16203703703703703},{"$f":"'Subject Data'!B461","v":3},{"$f":"'Subject Data'!C461","v":0.3},{"$f":"'Comparison Group 3'!I461","v":4847},{"$f":"'Comparison Group 3'!J461","v":4.4980419087213945E-2},{"$f":"'Comparison Group 2'!I461","v":43798},{"$f":"'Comparison Group 2'!J461","v":0.51784764179386833},{"$f":"'Comparison Group 1'!I461","v":580},{"$f":"'Comparison Group 1'!J461","v":6.9006543723973829E-2},{"$f":"'Subject Data'!I461","v":0},{"$f":"'Subject Data'!J461","v":0}]
["Lights (head, signal, tail)",{"$f":"'Comparison Group 3'!B462","v":42},{"$f":"'Comparison Group 3'!C462","v":1.7191977077363897E-2},{"$f":"'Comparison Group 2'!B462","v":3},{"$f":"'Comparison Group 2'!C462","v":1.5600624024960999E-3},{"$f":"'Comparison Group 1'!B462","v":8},{"$f":"'Comparison Group 1'!C462","v":3.7037037037037035E-2},{"$f":"'Subject Data'!B462","v":0},{"$f":"'Subject Data'!C462","v":0},{"$f":"'Comparison Group 3'!I462","v":4165},{"$f":"'Comparison Group 3'!J462","v":3.8651422632194364E-2},{"$f":"'Comparison Group 2'!I462","v":82},{"$f":"'Comparison Group 2'!J462","v":9.6953072348274357E-4},{"$f":"'Comparison Group 1'!I462","v":676},{"$f":"'Comparison Group 1'!J462","v":8.0428316478286729E-2},{"$f":"'Subject Data'!I462","v":18},{"$f":"'Subject Data'!J462","v":0.23076923076923078}]
["Windows or Windshield",{"$f":"'Comparison Group 3'!B463","v":22},{"$f":"'Comparison Group 3'!C463","v":9.005321326238231E-3},{"$f":"'Comparison Group 2'!B463","v":248},{"$f":"'Comparison Group 2'!C463","v":0.12896515860634425},{"$f":"'Comparison Group 1'!B463","v":4},{"$f":"'Comparison Group 1'!C463","v":1.8518518518518517E-2},{"$f":"'Subject Data'!B463","v":0},{"$f":"'Subject Data'!C463","v":0},{"$f":"'Comparison Group 3'!I463","v":632},{"$f":"'Comparison Group 3'!J463","v":5.8649937823641862E-3},{"$f":"'Comparison Group 2'!I463","v":12633},{"$f":"'Comparison Group 2'!J463","v":0.14936684914338413},{"$f":"'Comparison Group 1'!I463","v":101},{"$f":"'Comparison Group 1'!J463","v":1.2016656751933374E-2},{"$f":"'Subject Data'!I463","v":2},{"$f":"'Subject Data'!J463","v":2.564102564102564E-2}]
["Mirrors",{"$f":"'Comparison Group 3'!B464","v":92},{"$f":"'Comparison Group 3'!C464","v":3.7658616455178061E-2},{"$f":"'Comparison Group 2'!B464","v":4},{"$f":"'Comparison Group 2'!C464","v":2.0800832033281333E-3},{"$f":"'Comparison Group 1'!B464","v":6},{"$f":"'Comparison Group 1'!C464","v":2.7777777777777776E-2},{"$f":"'Subject Data'!B464","v":1},{"$f":"'Subject Data'!C464","v":0.1},{"$f":"'Comparison Group 3'!I464","v":8515},{"$f":"'Comparison Group 3'!J464","v":7.9019655153213686E-2},{"$f":"'Comparison Group 2'!I464","v":247},{"$f":"'Comparison Group 2'!J464","v":2.9204157158565567E-3},{"$f":"'Comparison Group 1'!I464","v":316},{"$f":"'Comparison Group 1'!J464","v":3.7596668649613328E-2},{"$f":"'Subject Data'!I464","v":1},{"$f":"'Subject Data'!J464","v":1.282051282051282E-2}]
["Wipers",{"$f":"'Comparison Group 3'!B465","v":169},{"$f":"'Comparison Group 3'!C465","v":6.9177241097011871E-2},{"$f":"'Comparison Group 2'!B465","v":3},{"$f":"'Comparison Group 2'!C465","v":1.5600624024960999E-3},{"$f":"'Comparison Group 1'!B465","v":7},{"$f":"'Comparison Group 1'!C465","v":3.2407407407407406E-2},{"$f":"'Subject Data'!B465","v":0},{"$f":"'Subject Data'!C465","v":0},{"$f":"'Comparison Group 3'!I465","v":18284},{"$f":"'Comparison Group 3'!J465","v":0.16967649733662465},{"$f":"'Comparison Group 2'!I465","v":95},{"$f":"'Comparison Group 2'!J465","v":1.1232368137909833E-3},{"$f":"'Comparison Group 1'!I465","v":1175},{"$f":"'Comparison Group 1'!J465","v":0.13979773944080903},{"$f":"'Subject Data'!I465","v":14},{"$f":"'Subject Data'!J465","v":0.17948717948717949}]
["Truck Coupling, Tailer Hitch, Safety Chains",{"$f":"'Comparison Group 3'!B466","v":5},{"$f":"'Comparison Group 3'!C466","v":2.0466639377814161E-3},{"$f":"'Comparison Group 2'!B466","v":394},{"$f":"'Comparison Group 2'!C466","v":0.20488819552782112},{"$f":"'Comparison Group 1'!B466","v":3},{"$f":"'Comparison Group 1'!C466","v":1.3888888888888888E-2},{"$f":"'Subject Data'!B466","v":0},{"$f":"'Subject Data'!C466","v":0},{"$f":"'Comparison Group 3'!I466","v":126},{"$f":"'Comparison Group 3'!J466","v":1.1692867350915942E-3},{"$f":"'Comparison Group 2'!I466","v":19659},{"$f":"'Comparison Group 2'!J466","v":0.2324390791822836},{"$f":"'Comparison Group 1'!I466","v":29},{"$f":"'Comparison Group 1'!J466","v":3.4503271861986914E-3},{"$f":"'Subject Data'!I466","v":0},{"$f":"'Subject Data'!J466","v":0}]
["Other",{"$f":"'Comparison Group 3'!B467","v":19},{"$f":"'Comparison Group 3'!C467","v":7.777322963569382E-3},{"$f":"'Comparison Group 2'!B467","v":1},{"$f":"'Comparison Group 2'!C467","v":5.2002080083203334E-4},{"$f":"'Comparison Group 1'!B467","v":3},{"$f":"'Comparison Group 1'!C467","v":1.3888888888888888E-2},{"$f":"'Subject Data'!B467","v":0},{"$f":"'Subject Data'!C467","v":0},{"$f":"'Comparison Group 3'!I467","v":548},{"$f":"'Comparison Group 3'!J467","v":5.085469292303124E-3},{"$f":"'Comparison Group 2'!I467","v":29},{"$f":"'Comparison Group 2'!J467","v":3.4288281684145805E-4},{"$f":"'Comparison Group 1'!I467","v":110},{"$f":"'Comparison Group 1'!J467","v":1.3087447947650209E-2},{"$f":"'Subject Data'!I467","v":13},{"$f":"'Subject Data'!J467","v":0.16666666666666666}]
["Unknown",{"$f":"'Comparison Group 3'!B468","v":18},{"$f":"'Comparison Group 3'!C468","v":7.3679901760130987E-3},{"$f":"'Comparison Group 2'!B468","v":62},{"$f":"'Comparison Group 2'!C468","v":3.2241289651586062E-2},{"$f":"'Comparison Group 1'!B468","v":4},{"$f":"'Comparison Group 1'!C468","v":1.8518518518518517E-2},{"$f":"'Subject Data'!B468","v":0},{"$f":"'Subject Data'!C468","v":0},{"$f":"'Comparison Group 3'!I468","v":128},{"$f":"'Comparison Group 3'!J468","v":1.18784684199781E-3},{"$f":"'Comparison Group 2'!I468","v":2301},{"$f":"'Comparison Group 2'!J468","v":2.7205977984558451E-2},{"$f":"'Comparison Group 1'!I468","v":19},{"$f":"'Comparison Group 1'!J468","v":2.2605591909577631E-3},{"$f":"'Subject Data'!I468","v":0},{"$f":"'Subject Data'!J468","v":0}]
["Person-Level Data"]
["Person Type"]
["Driver",{"$f":"'Comparison Group 3'!B471","v":265},{"$f":"'Comparison Group 3'!C471","v":7.9939668174962286E-2},{"$f":"'Comparison Group 2'!B471","v":742},{"$f":"'Comparison Group 2'!C471","v":0.28494623655913981},{"$f":"'Comparison Group 1'!B471","v":68},{"$f":"'Comparison Group 1'!C471","v":0.23287671232876711},{"$f":"'Subject Data'!B471","v":1},{"$f":"'Subject Data'!C471","v":7.1428571428571425E-2},{"$f":"'Comparison Group 3'!I471","v":1353},{"$f":"'Comparison Group 3'!J471","v":9.2110996133108226E-3},{"$f":"'Comparison Group 2'!I471","v":29003},{"$f":"'Comparison Group 2'!J471","v":0.25160271702827203},{"$f":"'Comparison Group 1'!I471","v":2496},{"$f":"'Comparison Group 1'!J471","v":0.21747843513113183},{"$f":"'Subject Data'!I471","v":18},{"$f":"'Subject Data'!J471","v":0.16981132075471697}]
["Passenger",{"$f":"'Comparison Group 3'!B472","v":1414},{"$f":"'Comparison Group 3'!C472","v":0.42654600301659124},{"$f":"'Comparison Group 2'!B472","v":7},{"$f":"'Comparison Group 2'!C472","v":2.6881720430107529E-3},{"$f":"'Comparison Group 1'!B472","v":0},{"$f":"'Comparison Group 1'!C472","v":0},{"$f":"'Subject Data'!B472","v":0},{"$f":"'Subject Data'!C472","v":0},{"$f":"'Comparison Group 3'!I472","v":76868},{"$f":"'Comparison Group 3'!J472","v":0.52331027721801648},{"$f":"'Comparison Group 2'!I472","v":572},{"$f":"'Comparison Group 2'!J472","v":4.962133370346916E-3},{"$f":"'Comparison Group 1'!I472","v":17},{"$f":"'Comparison Group 1'!J472","v":1.4812233161976126E-3},{"$f":"'Subject Data'!I472","v":0},{"$f":"'Subject Data'!J472","v":0}]
["Occupant of Motor Vehicle Not in Transport",{"$f":"'Comparison Group 3'!B473","v":3},{"$f":"'Comparison Group 3'!C473","v":9.049773755656109E-4},{"$f":"'Comparison Group 2'!B473","v":591},{"$f":"'Comparison Group 2'!C473","v":0.22695852534562211},{"$f":"'Comparison Group 1'!B473","v":52},{"$f":"'Comparison Group 1'!C473","v":0.17808219178082191},{"$f":"'Subject Data'!B473","v":2},{"$f":"'Subject Data'!C473","v":0.14285714285714285},{"$f":"'Comparison Group 3'!I473","v":169},{"$f":"'Comparison Group 3'!J473","v":1.1505364631556015E-3},{"$f":"'Comparison Group 2'!I473","v":27632},{"$f":"'Comparison Group 2'!J473","v":0.239709212044451},{"$f":"'Comparison Group 1'!I473","v":1919},{"$f":"'Comparison Group 1'!J473","v":0.16720397316371874},{"$f":"'Subject Data'!I473","v":17},{"$f":"'Subject Data'!J473","v":0.16037735849056603}]
["Bicyclist",{"$f":"'Comparison Group 3'!B474","v":415},{"$f":"'Comparison Group 3'!C474","v":0.12518853695324283},{"$f":"'Comparison Group 2'!B474","v":12},{"$f":"'Comparison Group 2'!C474","v":4.608294930875576E-3},{"$f":"'Comparison Group 1'!B474","v":0},{"$f":"'Comparison Group 1'!C474","v":0},{"$f":"'Subject Data'!B474","v":4},{"$f":"'Subject Data'!C474","v":0.2857142857142857},{"$f":"'Comparison Group 3'!I474","v":19426},{"$f":"'Comparison Group 3'!J474","v":0.13225042209030008},{"$f":"'Comparison Group 2'!I474","v":580},{"$f":"'Comparison Group 2'!J474","v":5.0315338370650539E-3},{"$f":"'Comparison Group 1'!I474","v":29},{"$f":"'Comparison Group 1'!J474","v":2.5267927158665157E-3},{"$f":"'Subject Data'!I474","v":1},{"$f":"'Subject Data'!J474","v":9.433962264150943E-3}]
["Other Cyclist",{"$f":"'Comparison Group 3'!B475","v":16},{"$f":"'Comparison Group 3'!C475","v":4.8265460030165915E-3},{"$f":"'Comparison Group 2'!B475","v":630},{"$f":"'Comparison Group 2'!C475","v":0.24193548387096775},{"$f":"'Comparison Group 1'!B475","v":59},{"$f":"'Comparison Group 1'!C475","v":0.20205479452054795},{"$f":"'Subject Data'!B475","v":2},{"$f":"'Subject Data'!C475","v":0.14285714285714285},{"$f":"'Comparison Group 3'!I475","v":638},{"$f":"'Comparison Group 3'!J475","v":4.3434453461140459E-3},{"$f":"'Comparison Group 2'!I475","v":29325},{"$f":"'Comparison Group 2'!J475","v":0.25439608581367712},{"$f":"'Comparison Group 1'!I475","v":2227},{"$f":"'Comparison Group 1'!J475","v":0.19404025442188724},{"$f":"'Subject Data'!I475","v":16},{"$f":"'Subject Data'!J475","v":0.15094339622641509}]
["Pedestrian",{"$f":"'Comparison Group 3'!B476","v":3},{"$f":"'Comparison Group 3'!C476","v":9.049773755656109E-4},{"$f":"'Comparison Group 2'!B476","v":5},{"$f":"'Comparison Group 2'!C476","v":1.9201228878648233E-3},{"$f":"'Comparison Group 1'!B476","v":0},{"$f":"'Comparison Group 1'!C476","v":0},{"$f":"'Subject Data'!B476","v":0},{"$f":"'Subject Data'!C476","v":0},{"$f":"'Comparison Group 3'!I476","v":184},{"$f":"'Comparison Group 3'!J476","v":1.2526550841457436E-3},{"$f":"'Comparison Group 2'!I476","v":457},{"$f":"'Comparison Group 2'!J476","v":3.9645016612736717E-3},{"$f":"'Comparison Group 1'!I476","v":11},{"$f":"'Comparison Group 1'!J476","v":9.5843861636316107E-4},{"$f":"'Subject Data'!I476","v":0},{"$f":"'Subject Data'!J476","v":0}]
["Wheelchair, Person in a Building, Skater, Personal Conveyance, etc.",{"$f":"'Comparison Group 3'!B477","v":666},{"$f":"'Comparison Group 3'!C477","v":0.20090497737556562},{"$f":"'Comparison Group 2'!B477","v":592},{"$f":"'Comparison Group 2'!C477","v":0.22734254992319508},{"$f":"'Comparison Group 1'!B477","v":34},{"$f":"'Comparison Group 1'!C477","v":0.11643835616438356},{"$f":"'Subject Data'!B477","v":4},{"$f":"'Subject Data'!C477","v":0.2857142857142857},{"$f":"'Comparison Group 3'!I477","v":28940},{"$f":"'Comparison Group 3'!J477","v":0.19702085943031425},{"$f":"'Comparison Group 2'!I477","v":26701},{"$f":"'Comparison Group 2'!J477","v":0.23163273273012761},{"$f":"'Comparison Group 1'!I477","v":1588},{"$f":"'Comparison Group 1'!J477","v":0.13836368388951817},{"$f":"'Subject Data'!I477","v":25},{"$f":"'Subject Data'!J477","v":0.23584905660377359}]
["Unknown",{"$f":"'Comparison Group 3'!B478","v":533},{"$f":"'Comparison Group 3'!C478","v":0.16078431372549021},{"$f":"'Comparison Group 2'!B478","v":24.999999999999943},{"$f":"'Comparison Group 2'!C478","v":9.6006144393240948E-3},{"$f":"'Comparison Group 1'!B478","v":79},{"$f":"'Comparison Group 1'!C478","v":0.27054794520547948},{"$f":"'Subject Data'!B478","v":1},{"$f":"'Subject Data'!C478","v":7.1428571428571425E-2},{"$f":"'Comparison Group 3'!I478","v":19310},{"$f":"'Comparison Group 3'!J478","v":0.131460704754643},{"$f":"'Comparison Group 2'!I478","v":1003},{"$f":"'Comparison Group 2'!J478","v":8.701083514786637E-3},{"$f":"'Comparison Group 1'!I478","v":3190},{"$f":"'Comparison Group 1'!J478","v":0.2779471987453167},{"$f":"'Subject Data'!I478","v":29},{"$f":"'Subject Data'!J478","v":0.27358490566037735}]
["Restraint Use"]
["Booster Seat",{"$f":"'Comparison Group 3'!B480","v":50},{"$f":"'Comparison Group 3'!C480","v":1.5082956259426848E-2},{"$f":"'Comparison Group 2'!B480","v":44},{"$f":"'Comparison Group 2'!C480","v":1.6897081413210446E-2},{"$f":"'Comparison Group 1'!B480","v":35},{"$f":"'Comparison Group 1'!C480","v":0.11986301369863013},{"$f":"'Subject Data'!B480","v":0},{"$f":"'Subject Data'!C480","v":0},{"$f":"'Comparison Group 3'!I480","v":635},{"$f":"'Comparison Group 3'!J480","v":4.3230216219160176E-3},{"$f":"'Comparison Group 2'!I480","v":543},{"$f":"'Comparison Group 2'!J480","v":4.7105566784936626E-3},{"$f":"'Comparison Group 1'!I480","v":580},{"$f":"'Comparison Group 1'!J480","v":5.0535854317330313E-2},{"$f":"'Subject Data'!I480","v":0},{"$f":"'Subject Data'!J480","v":0}]
["Child Restraint System - Forward Facing",{"$f":"'Comparison Group 3'!B481","v":2},{"$f":"'Comparison Group 3'!C481","v":6.0331825037707393E-4},{"$f":"'Comparison Group 2'!B481","v":0},{"$f":"'Comparison Group 2'!C481","v":0},{"$f":"'Comparison Group 1'!B481","v":8},{"$f":"'Comparison Group 1'!C481","v":2.7397260273972601E-2},{"$f":"'Subject Data'!B481","v":0},{"$f":"'Subject Data'!C481","v":0},{"$f":"'Comparison Group 3'!I481","v":12},{"$f":"'Comparison Group 3'!J481","v":8.1694896792113721E-5},{"$f":"'Comparison Group 2'!I481","v":4},{"$f":"'Comparison Group 2'!J481","v":3.4700233359069342E-5},{"$f":"'Comparison Group 1'!I481","v":676},{"$f":"'Comparison Group 1'!J481","v":5.8900409514681534E-2},{"$f":"'Subject Data'!I481","v":0},{"$f":"'Subject Data'!J481","v":0}]
["Child Restraint System - Rear Facing",{"$f":"'Comparison Group 3'!B482","v":31},{"$f":"'Comparison Group 3'!C482","v":9.3514328808446453E-3},{"$f":"'Comparison Group 2'!B482","v":21},{"$f":"'Comparison Group 2'!C482","v":8.0645161290322578E-3},{"$f":"'Comparison Group 1'!B482","v":4},{"$f":"'Comparison Group 1'!C482","v":1.3698630136986301E-2},{"$f":"'Subject Data'!B482","v":1},{"$f":"'Subject Data'!C482","v":7.1428571428571425E-2},{"$f":"'Comparison Group 3'!I482","v":5372},{"$f":"'Comparison Group 3'!J482","v":3.6572082130602909E-2},{"$f":"'Comparison Group 2'!I482","v":4616},{"$f":"'Comparison Group 2'!J482","v":4.0044069296366017E-2},{"$f":"'Comparison Group 1'!I482","v":101},{"$f":"'Comparison Group 1'!J482","v":8.8002091138799331E-3},{"$f":"'Subject Data'!I482","v":1},{"$f":"'Subject Data'!J482","v":9.433962264150943E-3}]
["Child Restraint - Type Unknown",{"$f":"'Comparison Group 3'!B483","v":2},{"$f":"'Comparison Group 3'!C483","v":6.0331825037707393E-4},{"$f":"'Comparison Group 2'!B483","v":2},{"$f":"'Comparison Group 2'!C483","v":7.6804915514592934E-4},{"$f":"'Comparison Group 1'!B483","v":6},{"$f":"'Comparison Group 1'!C483","v":2.0547945205479451E-2},{"$f":"'Subject Data'!B483","v":0},{"$f":"'Subject Data'!C483","v":0},{"$f":"'Comparison Group 3'!I483","v":91},{"$f":"'Comparison Group 3'!J483","v":6.1951963400686233E-4},{"$f":"'Comparison Group 2'!I483","v":63},{"$f":"'Comparison Group 2'!J483","v":5.4652867540534212E-4},{"$f":"'Comparison Group 1'!I483","v":316},{"$f":"'Comparison Group 1'!J483","v":2.7533327524614445E-2},{"$f":"'Subject Data'!I483","v":0},{"$f":"'Subject Data'!J483","v":0}]
["Lap Belt Only Used",{"$f":"'Comparison Group 3'!B484","v":333},{"$f":"'Comparison Group 3'!C484","v":0.10045248868778281},{"$f":"'Comparison Group 2'!B484","v":237},{"$f":"'Comparison Group 2'!C484","v":9.1013824884792621E-2},{"$f":"'Comparison Group 1'!B484","v":7},{"$f":"'Comparison Group 1'!C484","v":2.3972602739726026E-2},{"$f":"'Subject Data'!B484","v":2},{"$f":"'Subject Data'!C484","v":0.14285714285714285},{"$f":"'Comparison Group 3'!I484","v":1385},{"$f":"'Comparison Group 3'!J484","v":9.4289526714231246E-3},{"$f":"'Comparison Group 2'!I484","v":1022},{"$f":"'Comparison Group 2'!J484","v":8.8659096232422165E-3},{"$f":"'Comparison Group 1'!I484","v":1175},{"$f":"'Comparison Group 1'!J484","v":0.10237867038424675},{"$f":"'Subject Data'!I484","v":0},{"$f":"'Subject Data'!J484","v":0}]
["None Used - Motor Vehicle Occupant",{"$f":"'Comparison Group 3'!B485","v":1},{"$f":"'Comparison Group 3'!C485","v":3.0165912518853697E-4},{"$f":"'Comparison Group 2'!B485","v":1},{"$f":"'Comparison Group 2'!C485","v":3.8402457757296467E-4},{"$f":"'Comparison Group 1'!B485","v":3},{"$f":"'Comparison Group 1'!C485","v":1.0273972602739725E-2},{"$f":"'Subject Data'!B485","v":0},{"$f":"'Subject Data'!C485","v":0},{"$f":"'Comparison Group 3'!I485","v":16},{"$f":"'Comparison Group 3'!J485","v":1.0892652905615162E-4},{"$f":"'Comparison Group 2'!I485","v":10},{"$f":"'Comparison Group 2'!J485","v":8.6750583397673345E-5},{"$f":"'Comparison Group 1'!I485","v":29},{"$f":"'Comparison Group 1'!J485","v":2.5267927158665157E-3},{"$f":"'Subject Data'!I485","v":0},{"$f":"'Subject Data'!J485","v":0}]
["Restraint Used - Type Unknown",{"$f":"'Comparison Group 3'!B486","v":8},{"$f":"'Comparison Group 3'!C486","v":2.4132730015082957E-3},{"$f":"'Comparison Group 2'!B486","v":4},{"$f":"'Comparison Group 2'!C486","v":1.5360983102918587E-3},{"$f":"'Comparison Group 1'!B486","v":3},{"$f":"'Comparison Group 1'!C486","v":1.0273972602739725E-2},{"$f":"'Subject Data'!B486","v":1},{"$f":"'Subject Data'!C486","v":7.1428571428571425E-2},{"$f":"'Comparison Group 3'!I486","v":541},{"$f":"'Comparison Group 3'!J486","v":3.6830782637111269E-3},{"$f":"'Comparison Group 2'!I486","v":442},{"$f":"'Comparison Group 2'!J486","v":3.8343757861771621E-3},{"$f":"'Comparison Group 1'!I486","v":110},{"$f":"'Comparison Group 1'!J486","v":9.5843861636316103E-3},{"$f":"'Subject Data'!I486","v":0},{"$f":"'Subject Data'!J486","v":0}]
["Shoulder and Lap Belt Used",{"$f":"'Comparison Group 3'!B487","v":256},{"$f":"'Comparison Group 3'!C487","v":7.7224736048265463E-2},{"$f":"'Comparison Group 2'!B487","v":214},{"$f":"'Comparison Group 2'!C487","v":8.218125960061444E-2},{"$f":"'Comparison Group 1'!B487","v":4},{"$f":"'Comparison Group 1'!C487","v":1.3698630136986301E-2},{"$f":"'Subject Data'!B487","v":1},{"$f":"'Subject Data'!C487","v":7.1428571428571425E-2},{"$f":"'Comparison Group 3'!I487","v":1315},{"$f":"'Comparison Group 3'!J487","v":8.9523991068024625E-3},{"$f":"'Comparison Group 2'!I487","v":1081},{"$f":"'Comparison Group 2'!J487","v":9.3777380652884882E-3},{"$f":"'Comparison Group 1'!I487","v":19},{"$f":"'Comparison Group 1'!J487","v":1.6554848828090965E-3},{"$f":"'Subject Data'!I487","v":2},{"$f":"'Subject Data'!J487","v":1.8867924528301886E-2}]
["Shoulder Belt Only Used",{"$f":"'Comparison Group 3'!B488","v":1370},{"$f":"'Comparison Group 3'!C488","v":0.4132730015082956},{"$f":"'Comparison Group 2'!B488","v":1101},{"$f":"'Comparison Group 2'!C488","v":0.42281105990783407},{"$f":"'Comparison Group 1'!B488","v":3},{"$f":"'Comparison Group 1'!C488","v":1.0273972602739725E-2},{"$f":"'Subject Data'!B488","v":1},{"$f":"'Subject Data'!C488","v":7.1428571428571425E-2},{"$f":"'Comparison Group 3'!I488","v":74831},{"$f":"'Comparison Group 3'!J488","v":0.50944256848755509},{"$f":"'Comparison Group 2'!I488","v":59677},{"$f":"'Comparison Group 2'!J488","v":0.51770145654229527},{"$f":"'Comparison Group 1'!I488","v":41},{"$f":"'Comparison Group 1'!J488","v":3.5723621155354188E-3},{"$f":"'Subject Data'!I488","v":27},{"$f":"'Subject Data'!J488","v":0.25471698113207547}]
["Stretcher",{"$f":"'Comparison Group 3'!B489","v":3},{"$f":"'Comparison Group 3'!C489","v":9.049773755656109E-4},{"$f":"'Comparison Group 2'!B489","v":3},{"$f":"'Comparison Group 2'!C489","v":1.152073732718894E-3},{"$f":"'Comparison Group 1'!B489","v":1},{"$f":"'Comparison Group 1'!C489","v":3.4246575342465752E-3},{"$f":"'Subject Data'!B489","v":0},{"$f":"'Subject Data'!C489","v":0},{"$f":"'Comparison Group 3'!I489","v":168},{"$f":"'Comparison Group 3'!J489","v":1.143728555089592E-3},{"$f":"'Comparison Group 2'!I489","v":113},{"$f":"'Comparison Group 2'!J489","v":9.802815923937089E-4},{"$f":"'Comparison Group 1'!I489","v":239},{"$f":"'Comparison Group 1'!J489","v":2.0824257210072319E-2},{"$f":"'Subject Data'!I489","v":0},{"$f":"'Subject Data'!J489","v":0}]
["Wheelchair",{"$f":"'Comparison Group 3'!B490","v":429},{"$f":"'Comparison Group 3'!C490","v":0.12941176470588237},{"$f":"'Comparison Group 2'!B490","v":331},{"$f":"'Comparison Group 2'!C490","v":0.12711213517665129},{"$f":"'Comparison Group 1'!B490","v":3},{"$f":"'Comparison Group 1'!C490","v":1.0273972602739725E-2},{"$f":"'Subject Data'!B490","v":4},{"$f":"'Subject Data'!C490","v":0.2857142857142857},{"$f":"'Comparison Group 3'!I490","v":22791},{"$f":"'Comparison Group 3'!J490","v":0.15515903273242199},{"$f":"'Comparison Group 2'!I490","v":17233},{"$f":"'Comparison Group 2'!J490","v":0.14949728036921048},{"$f":"'Comparison Group 1'!I490","v":153},{"$f":"'Comparison Group 1'!J490","v":1.3331009845778513E-2},{"$f":"'Subject Data'!I490","v":18},{"$f":"'Subject Data'!J490","v":0.16981132075471697}]
["DOT-Compliant Motorcycle Helmet",{"$f":"'Comparison Group 3'!B491","v":16},{"$f":"'Comparison Group 3'!C491","v":4.8265460030165915E-3},{"$f":"'Comparison Group 2'!B491","v":5},{"$f":"'Comparison Group 2'!C491","v":1.9201228878648233E-3},{"$f":"'Comparison Group 1'!B491","v":0},{"$f":"'Comparison Group 1'!C491","v":0},{"$f":"'Subject Data'!B491","v":0},{"$f":"'Subject Data'!C491","v":0},{"$f":"'Comparison Group 3'!I491","v":625},{"$f":"'Comparison Group 3'!J491","v":4.2549425412559232E-3},{"$f":"'Comparison Group 2'!I491","v":338},{"$f":"'Comparison Group 2'!J491","v":2.9321697188413594E-3},{"$f":"'Comparison Group 1'!I491","v":60},{"$f":"'Comparison Group 1'!J491","v":5.2278469983445151E-3},{"$f":"'Subject Data'!I491","v":2},{"$f":"'Subject Data'!J491","v":1.8867924528301886E-2}]
["Not DOT-Compliant Motorcycle Helmet",{"$f":"'Comparison Group 3'!B492","v":3},{"$f":"'Comparison Group 3'!C492","v":9.049773755656109E-4},{"$f":"'Comparison Group 2'!B492","v":3},{"$f":"'Comparison Group 2'!C492","v":1.152073732718894E-3},{"$f":"'Comparison Group 1'!B492","v":111},{"$f":"'Comparison Group 1'!C492","v":0.38013698630136988},{"$f":"'Subject Data'!B492","v":0},{"$f":"'Subject Data'!C492","v":0},{"$f":"'Comparison Group 3'!I492","v":178},{"$f":"'Comparison Group 3'!J492","v":1.2118076357496869E-3},{"$f":"'Comparison Group 2'!I492","v":128},{"$f":"'Comparison Group 2'!J492","v":1.1104074674902189E-3},{"$f":"'Comparison Group 1'!I492","v":3612},{"$f":"'Comparison Group 1'!J492","v":0.31471638930033979},{"$f":"'Subject Data'!I492","v":1},{"$f":"'Subject Data'!J492","v":9.433962264150943E-3}]
["Unknown if DOT-Compliant Motorcycle Helmet",{"$f":"'Comparison Group 3'!B493","v":668},{"$f":"'Comparison Group 3'!C493","v":0.20150829562594269},{"$f":"'Comparison Group 2'!B493","v":534},{"$f":"'Comparison Group 2'!C493","v":0.20506912442396313},{"$f":"'Comparison Group 1'!B493","v":21},{"$f":"'Comparison Group 1'!C493","v":7.1917808219178078E-2},{"$f":"'Subject Data'!B493","v":2},{"$f":"'Subject Data'!C493","v":0.14285714285714285},{"$f":"'Comparison Group 3'!I493","v":33832},{"$f":"'Comparison Group 3'!J493","v":0.23032514568923262},{"$f":"'Comparison Group 2'!I493","v":26790},{"$f":"'Comparison Group 2'!J493","v":0.23240481292236689},{"$f":"'Comparison Group 1'!I493","v":874},{"$f":"'Comparison Group 1'!J493","v":7.6152304609218444E-2},{"$f":"'Subject Data'!I493","v":14},{"$f":"'Subject Data'!J493","v":0.13207547169811321}]
["No Helmet",{"$f":"'Comparison Group 3'!B494","v":2},{"$f":"'Comparison Group 3'!C494","v":6.0331825037707393E-4},{"$f":"'Comparison Group 2'!B494","v":1},{"$f":"'Comparison Group 2'!C494","v":3.8402457757296467E-4},{"$f":"'Comparison Group 1'!B494","v":2},{"$f":"'Comparison Group 1'!C494","v":6.8493150684931503E-3},{"$f":"'Subject Data'!B494","v":0},{"$f":"'Subject Data'!C494","v":0},{"$f":"'Comparison Group 3'!I494","v":75},{"$f":"'Comparison Group 3'!J494","v":5.1059310495071071E-4},{"$f":"'Comparison Group 2'!I494","v":38},{"$f":"'Comparison Group 2'!J494","v":3.2965221691115873E-4},{"$f":"'Comparison Group 1'!I494","v":320},{"$f":"'Comparison Group 1'!J494","v":2.7881850657837413E-2},{"$f":"'Subject Data'!I494","v":0},{"$f":"'Subject Data'!J494","v":0}]
["Not Applicable",{"$f":"'Comparison Group 3'!B495","v":111},{"$f":"'Comparison Group 3'!C495","v":3.3484162895927601E-2},{"$f":"'Comparison Group 2'!B495","v":82},{"$f":"'Comparison Group 2'!C495","v":3.1490015360983101E-2},{"$f":"'Comparison Group 1'!B495","v":18},{"$f":"'Comparison Group 1'!C495","v":6.1643835616438353E-2},{"$f":"'Subject Data'!B495","v":2},{"$f":"'Subject Data'!C495","v":0.14285714285714285},{"$f":"'Comparison Group 3'!I495","v":4927},{"$f":"'Comparison Group 3'!J495","v":3.3542563041228692E-2},{"$f":"'Comparison Group 2'!I495","v":3106},{"$f":"'Comparison Group 2'!J495","v":2.6944731203317342E-2},{"$f":"'Comparison Group 1'!I495","v":219},{"$f":"'Comparison Group 1'!J495","v":1.908164154395748E-2},{"$f":"'Subject Data'!I495","v":13},{"$f":"'Subject Data'!J495","v":0.12264150943396226}]
["Other",{"$f":"'Comparison Group 3'!B496","v":3},{"$f":"'Comparison Group 3'!C496","v":9.049773755656109E-4},{"$f":"'Comparison Group 2'!B496","v":1},{"$f":"'Comparison Group 2'!C496","v":3.8402457757296467E-4},{"$f":"'Comparison Group 1'!B496","v":26},{"$f":"'Comparison Group 1'!C496","v":8.9041095890410954E-2},{"$f":"'Subject Data'!B496","v":0},{"$f":"'Subject Data'!C496","v":0},{"$f":"'Comparison Group 3'!I496","v":60},{"$f":"'Comparison Group 3'!J496","v":4.0847448396056859E-4},{"$f":"'Comparison Group 2'!I496","v":40},{"$f":"'Comparison Group 2'!J496","v":3.4700233359069338E-4},{"$f":"'Comparison Group 1'!I496","v":1627},{"$f":"'Comparison Group 1'!J496","v":0.14176178443844209},{"$f":"'Subject Data'!I496","v":0},{"$f":"'Subject Data'!J496","v":0}]
["Unknown",{"$f":"'Comparison Group 3'!B497","v":27},{"$f":"'Comparison Group 3'!C497","v":8.1447963800904983E-3},{"$f":"'Comparison Group 2'!B497","v":19.999999999999943},{"$f":"'Comparison Group 2'!C497","v":7.6804915514592717E-3},{"$f":"'Comparison Group 1'!B497","v":37},{"$f":"'Comparison Group 1'!C497","v":0.12671232876712329},{"$f":"'Subject Data'!B497","v":0},{"$f":"'Subject Data'!C497","v":0},{"$f":"'Comparison Group 3'!I497","v":34},{"$f":"'Comparison Group 3'!J497","v":2.314688742443222E-4},{"$f":"'Comparison Group 2'!I497","v":29},{"$f":"'Comparison Group 2'!J497","v":2.5157669185325274E-4},{"$f":"'Comparison Group 1'!I497","v":1326},{"$f":"'Comparison Group 1'!J497","v":0.11553541866341378},{"$f":"'Subject Data'!I497","v":28},{"$f":"'Subject Data'!J497","v":0.26415094339622641}]
["Driver Actions at Time of Crash, Selection 1"]
["No Contributing Action",{"$f":"'Comparison Group 3'!B499","v":23},{"$f":"'Comparison Group 3'!C499","v":6.9381598793363496E-3},{"$f":"'Comparison Group 2'!B499","v":534},{"$f":"'Comparison Group 2'!C499","v":0.20506912442396313},{"$f":"'Comparison Group 1'!B499","v":26},{"$f":"'Comparison Group 1'!C499","v":8.9041095890410954E-2},{"$f":"'Subject Data'!B499","v":4},{"$f":"'Subject Data'!C499","v":0.2857142857142857},{"$f":"'Comparison Group 3'!I499","v":808},{"$f":"'Comparison Group 3'!J499","v":5.5007897173356569E-3},{"$f":"'Comparison Group 2'!I499","v":26790},{"$f":"'Comparison Group 2'!J499","v":0.23240481292236689},{"$f":"'Comparison Group 1'!I499","v":1555},{"$f":"'Comparison Group 1'!J499","v":0.13548836804042869},{"$f":"'Subject Data'!I499","v":18},{"$f":"'Subject Data'!J499","v":0.16981132075471697}]
["Disregarded Other Road Markings",{"$f":"'Comparison Group 3'!B500","v":5},{"$f":"'Comparison Group 3'!C500","v":1.5082956259426848E-3},{"$f":"'Comparison Group 2'!B500","v":1},{"$f":"'Comparison Group 2'!C500","v":3.8402457757296467E-4},{"$f":"'Comparison Group 1'!B500","v":33},{"$f":"'Comparison Group 1'!C500","v":0.11301369863013698},{"$f":"'Subject Data'!B500","v":0},{"$f":"'Subject Data'!C500","v":0},{"$f":"'Comparison Group 3'!I500","v":2042},{"$f":"'Comparison Group 3'!J500","v":1.3901748270791351E-2},{"$f":"'Comparison Group 2'!I500","v":38},{"$f":"'Comparison Group 2'!J500","v":3.2965221691115873E-4},{"$f":"'Comparison Group 1'!I500","v":1267},{"$f":"'Comparison Group 1'!J500","v":0.11039470244837502},{"$f":"'Subject Data'!I500","v":2},{"$f":"'Subject Data'!J500","v":1.8867924528301886E-2}]
["Disregarded Other Traffic Sign",{"$f":"'Comparison Group 3'!B501","v":76},{"$f":"'Comparison Group 3'!C501","v":2.2926093514328807E-2},{"$f":"'Comparison Group 2'!B501","v":82},{"$f":"'Comparison Group 2'!C501","v":3.1490015360983101E-2},{"$f":"'Comparison Group 1'!B501","v":30},{"$f":"'Comparison Group 1'!C501","v":0.10273972602739725},{"$f":"'Subject Data'!B501","v":0},{"$f":"'Subject Data'!C501","v":0},{"$f":"'Comparison Group 3'!I501","v":3138},{"$f":"'Comparison Group 3'!J501","v":2.1363215511137738E-2},{"$f":"'Comparison Group 2'!I501","v":3106},{"$f":"'Comparison Group 2'!J501","v":2.6944731203317342E-2},{"$f":"'Comparison Group 1'!I501","v":571},{"$f":"'Comparison Group 1'!J501","v":4.9751677267578634E-2},{"$f":"'Subject Data'!I501","v":1},{"$f":"'Subject Data'!J501","v":9.433962264150943E-3}]
["Failed to Keep in Proper Lane",{"$f":"'Comparison Group 3'!B502","v":3},{"$f":"'Comparison Group 3'!C502","v":9.049773755656109E-4},{"$f":"'Comparison Group 2'!B502","v":1},{"$f":"'Comparison Group 2'!C502","v":3.8402457757296467E-4},{"$f":"'Comparison Group 1'!B502","v":8},{"$f":"'Comparison Group 1'!C502","v":2.7397260273972601E-2},{"$f":"'Subject Data'!B502","v":2},{"$f":"'Subject Data'!C502","v":0.14285714285714285},{"$f":"'Comparison Group 3'!I502","v":519},{"$f":"'Comparison Group 3'!J502","v":3.5333042862589182E-3},{"$f":"'Comparison Group 2'!I502","v":40},{"$f":"'Comparison Group 2'!J502","v":3.4700233359069338E-4},{"$f":"'Comparison Group 1'!I502","v":676},{"$f":"'Comparison Group 1'!J502","v":5.8900409514681534E-2},{"$f":"'Subject Data'!I502","v":14},{"$f":"'Subject Data'!J502","v":0.13207547169811321}]
["Failed to Yield Right-of-Way",{"$f":"'Comparison Group 3'!B503","v":1694},{"$f":"'Comparison Group 3'!C503","v":0.51101055806938156},{"$f":"'Comparison Group 2'!B503","v":19.999999999999943},{"$f":"'Comparison Group 2'!C503","v":7.6804915514592717E-3},{"$f":"'Comparison Group 1'!B503","v":4},{"$f":"'Comparison Group 1'!C503","v":1.3698630136986301E-2},{"$f":"'Subject Data'!B503","v":0},{"$f":"'Subject Data'!C503","v":0},{"$f":"'Comparison Group 3'!I503","v":64625},{"$f":"'Comparison Group 3'!J503","v":0.43996105876586244},{"$f":"'Comparison Group 2'!I503","v":29},{"$f":"'Comparison Group 2'!J503","v":2.5157669185325274E-4},{"$f":"'Comparison Group 1'!I503","v":101},{"$f":"'Comparison Group 1'!J503","v":8.8002091138799331E-3},{"$f":"'Subject Data'!I503","v":0},{"$f":"'Subject Data'!J503","v":0}]
["Followed Too Closely",{"$f":"'Comparison Group 3'!B504","v":418},{"$f":"'Comparison Group 3'!C504","v":0.12609351432880844},{"$f":"'Comparison Group 2'!B504","v":44},{"$f":"'Comparison Group 2'!C504","v":1.6897081413210446E-2},{"$f":"'Comparison Group 1'!B504","v":6},{"$f":"'Comparison Group 1'!C504","v":2.0547945205479451E-2},{"$f":"'Subject Data'!B504","v":2},{"$f":"'Subject Data'!C504","v":0.14285714285714285},{"$f":"'Comparison Group 3'!I504","v":13567},{"$f":"'Comparison Group 3'!J504","v":9.2362888731550574E-2},{"$f":"'Comparison Group 2'!I504","v":543},{"$f":"'Comparison Group 2'!J504","v":4.7105566784936626E-3},{"$f":"'Comparison Group 1'!I504","v":296},{"$f":"'Comparison Group 1'!J504","v":2.5790711858499609E-2},{"$f":"'Subject Data'!I504","v":13},{"$f":"'Subject Data'!J504","v":0.12264150943396226}]
["Improper Backing",{"$f":"'Comparison Group 3'!B505","v":63},{"$f":"'Comparison Group 3'!C505","v":1.9004524886877826E-2},{"$f":"'Comparison Group 2'!B505","v":0},{"$f":"'Comparison Group 2'!C505","v":0},{"$f":"'Comparison Group 1'!B505","v":7},{"$f":"'Comparison Group 1'!C505","v":2.3972602739726026E-2},{"$f":"'Subject Data'!B505","v":0},{"$f":"'Subject Data'!C505","v":0},{"$f":"'Comparison Group 3'!I505","v":5202},{"$f":"'Comparison Group 3'!J505","v":3.5414737759381296E-2},{"$f":"'Comparison Group 2'!I505","v":4},{"$f":"'Comparison Group 2'!J505","v":3.4700233359069342E-5},{"$f":"'Comparison Group 1'!I505","v":1038},{"$f":"'Comparison Group 1'!J505","v":9.0441753071360112E-2},{"$f":"'Subject Data'!I505","v":0},{"$f":"'Subject Data'!J505","v":0}]
["Improper Passing",{"$f":"'Comparison Group 3'!B506","v":26},{"$f":"'Comparison Group 3'!C506","v":7.8431372549019607E-3},{"$f":"'Comparison Group 2'!B506","v":21},{"$f":"'Comparison Group 2'!C506","v":8.0645161290322578E-3},{"$f":"'Comparison Group 1'!B506","v":26},{"$f":"'Comparison Group 1'!C506","v":8.9041095890410954E-2},{"$f":"'Subject Data'!B506","v":0},{"$f":"'Subject Data'!C506","v":0},{"$f":"'Comparison Group 3'!I506","v":824},{"$f":"'Comparison Group 3'!J506","v":5.6097162463918087E-3},{"$f":"'Comparison Group 2'!I506","v":4616},{"$f":"'Comparison Group 2'!J506","v":4.0044069296366017E-2},{"$f":"'Comparison Group 1'!I506","v":364},{"$f":"'Comparison Group 1'!J506","v":3.171560512329006E-2},{"$f":"'Subject Data'!I506","v":28},{"$f":"'Subject Data'!J506","v":0.26415094339622641}]
["Improper Turn",{"$f":"'Comparison Group 3'!B507","v":376},{"$f":"'Comparison Group 3'!C507","v":0.11342383107088989},{"$f":"'Comparison Group 2'!B507","v":2},{"$f":"'Comparison Group 2'!C507","v":7.6804915514592934E-4},{"$f":"'Comparison Group 1'!B507","v":3},{"$f":"'Comparison Group 1'!C507","v":1.0273972602739725E-2},{"$f":"'Subject Data'!B507","v":0},{"$f":"'Subject Data'!C507","v":0},{"$f":"'Comparison Group 3'!I507","v":6608},{"$f":"'Comparison Group 3'!J507","v":4.4986656500190618E-2},{"$f":"'Comparison Group 2'!I507","v":63},{"$f":"'Comparison Group 2'!J507","v":5.4652867540534212E-4},{"$f":"'Comparison Group 1'!I507","v":108},{"$f":"'Comparison Group 1'!J507","v":9.4101245970201267E-3},{"$f":"'Subject Data'!I507","v":0},{"$f":"'Subject Data'!J507","v":0}]
["Operated Motor Vehicle in Inattentive, Careless, Negligent, or Erratic Manner",{"$f":"'Comparison Group 3'!B508","v":55},{"$f":"'Comparison Group 3'!C508","v":1.6591251885369532E-2},{"$f":"'Comparison Group 2'!B508","v":237},{"$f":"'Comparison Group 2'!C508","v":9.1013824884792621E-2},{"$f":"'Comparison Group 1'!B508","v":4},{"$f":"'Comparison Group 1'!C508","v":1.3698630136986301E-2},{"$f":"'Subject Data'!B508","v":0},{"$f":"'Subject Data'!C508","v":0},{"$f":"'Comparison Group 3'!I508","v":5677},{"$f":"'Comparison Group 3'!J508","v":3.8648494090735799E-2},{"$f":"'Comparison Group 2'!I508","v":1022},{"$f":"'Comparison Group 2'!J508","v":8.8659096232422165E-3},{"$f":"'Comparison Group 1'!I508","v":19},{"$f":"'Comparison Group 1'!J508","v":1.6554848828090965E-3},{"$f":"'Subject Data'!I508","v":0},{"$f":"'Subject Data'!J508","v":0}]
["Operated Motor Vehicle in Reckless or Aggressive Manner",{"$f":"'Comparison Group 3'!B509","v":28},{"$f":"'Comparison Group 3'!C509","v":8.4464555052790342E-3},{"$f":"'Comparison Group 2'!B509","v":1},{"$f":"'Comparison Group 2'!C509","v":3.8402457757296467E-4},{"$f":"'Comparison Group 1'!B509","v":3},{"$f":"'Comparison Group 1'!C509","v":1.0273972602739725E-2},{"$f":"'Subject Data'!B509","v":1},{"$f":"'Subject Data'!C509","v":7.1428571428571425E-2},{"$f":"'Comparison Group 3'!I509","v":861},{"$f":"'Comparison Group 3'!J509","v":5.8616088448341592E-3},{"$f":"'Comparison Group 2'!I509","v":10},{"$f":"'Comparison Group 2'!J509","v":8.6750583397673345E-5},{"$f":"'Comparison Group 1'!I509","v":41},{"$f":"'Comparison Group 1'!J509","v":3.5723621155354188E-3},{"$f":"'Subject Data'!I509","v":1},{"$f":"'Subject Data'!J509","v":9.433962264150943E-3}]
["Over-Correcting/Over-Steering",{"$f":"'Comparison Group 3'!B510","v":122},{"$f":"'Comparison Group 3'!C510","v":3.6802413273001509E-2},{"$f":"'Comparison Group 2'!B510","v":4},{"$f":"'Comparison Group 2'!C510","v":1.5360983102918587E-3},{"$f":"'Comparison Group 1'!B510","v":1},{"$f":"'Comparison Group 1'!C510","v":3.4246575342465752E-3},{"$f":"'Subject Data'!B510","v":0},{"$f":"'Subject Data'!C510","v":0},{"$f":"'Comparison Group 3'!I510","v":11600},{"$f":"'Comparison Group 3'!J510","v":7.8971733565709926E-2},{"$f":"'Comparison Group 2'!I510","v":442},{"$f":"'Comparison Group 2'!J510","v":3.8343757861771621E-3},{"$f":"'Comparison Group 1'!I510","v":229},{"$f":"'Comparison Group 1'!J510","v":1.99529493770149E-2},{"$f":"'Subject Data'!I510","v":0},{"$f":"'Subject Data'!J510","v":0}]
["Ran Off Roadway",{"$f":"'Comparison Group 3'!B511","v":227},{"$f":"'Comparison Group 3'!C511","v":6.8476621417797895E-2},{"$f":"'Comparison Group 2'!B511","v":214},{"$f":"'Comparison Group 2'!C511","v":8.218125960061444E-2},{"$f":"'Comparison Group 1'!B511","v":3},{"$f":"'Comparison Group 1'!C511","v":1.0273972602739725E-2},{"$f":"'Subject Data'!B511","v":2},{"$f":"'Subject Data'!C511","v":0.14285714285714285},{"$f":"'Comparison Group 3'!I511","v":24930},{"$f":"'Comparison Group 3'!J511","v":0.16972114808561625},{"$f":"'Comparison Group 2'!I511","v":1081},{"$f":"'Comparison Group 2'!J511","v":9.3777380652884882E-3},{"$f":"'Comparison Group 1'!I511","v":153},{"$f":"'Comparison Group 1'!J511","v":1.3331009845778513E-2},{"$f":"'Subject Data'!I511","v":0},{"$f":"'Subject Data'!J511","v":0}]
["Ran Red Light",{"$f":"'Comparison Group 3'!B512","v":6},{"$f":"'Comparison Group 3'!C512","v":1.8099547511312218E-3},{"$f":"'Comparison Group 2'!B512","v":1101},{"$f":"'Comparison Group 2'!C512","v":0.42281105990783407},{"$f":"'Comparison Group 1'!B512","v":0},{"$f":"'Comparison Group 1'!C512","v":0},{"$f":"'Subject Data'!B512","v":0},{"$f":"'Subject Data'!C512","v":0},{"$f":"'Comparison Group 3'!I512","v":175},{"$f":"'Comparison Group 3'!J512","v":1.1913839115516584E-3},{"$f":"'Comparison Group 2'!I512","v":59677},{"$f":"'Comparison Group 2'!J512","v":0.51770145654229527},{"$f":"'Comparison Group 1'!I512","v":60},{"$f":"'Comparison Group 1'!J512","v":5.2278469983445151E-3},{"$f":"'Subject Data'!I512","v":0},{"$f":"'Subject Data'!J512","v":0}]
["Ran Stop Sign",{"$f":"'Comparison Group 3'!B513","v":24},{"$f":"'Comparison Group 3'!C513","v":7.2398190045248872E-3},{"$f":"'Comparison Group 2'!B513","v":3},{"$f":"'Comparison Group 2'!C513","v":1.152073732718894E-3},{"$f":"'Comparison Group 1'!B513","v":0},{"$f":"'Comparison Group 1'!C513","v":0},{"$f":"'Subject Data'!B513","v":1},{"$f":"'Subject Data'!C513","v":7.1428571428571425E-2},{"$f":"'Comparison Group 3'!I513","v":745},{"$f":"'Comparison Group 3'!J513","v":5.0718915091770601E-3},{"$f":"'Comparison Group 2'!I513","v":113},{"$f":"'Comparison Group 2'!J513","v":9.802815923937089E-4},{"$f":"'Comparison Group 1'!I513","v":128},{"$f":"'Comparison Group 1'!J513","v":1.1152740263134965E-2},{"$f":"'Subject Data'!I513","v":0},{"$f":"'Subject Data'!J513","v":0}]
["Swerve or Avoided Due to Wind, Slippery Surface, Motor Vehicle, Object, Non-Motorist in Roadway, etc.",{"$f":"'Comparison Group 3'!B514","v":23},{"$f":"'Comparison Group 3'!C514","v":6.9381598793363496E-3},{"$f":"'Comparison Group 2'!B514","v":0},{"$f":"'Comparison Group 2'!C514","v":0},{"$f":"'Comparison Group 1'!B514","v":97},{"$f":"'Comparison Group 1'!C514","v":0.3321917808219178},{"$f":"'Subject Data'!B514","v":1},{"$f":"'Subject Data'!C514","v":7.1428571428571425E-2},{"$f":"'Comparison Group 3'!I514","v":172},{"$f":"'Comparison Group 3'!J514","v":1.17096018735363E-3},{"$f":"'Comparison Group 2'!I514","v":405},{"$f":"'Comparison Group 2'!J514","v":3.5133986276057708E-3},{"$f":"'Comparison Group 1'!I514","v":3480},{"$f":"'Comparison Group 1'!J514","v":0.30321512590398186},{"$f":"'Subject Data'!I514","v":2},{"$f":"'Subject Data'!J514","v":1.8867924528301886E-2}]
["Wrong Side or Wrong Way",{"$f":"'Comparison Group 3'!B515","v":91},{"$f":"'Comparison Group 3'!C515","v":2.7450980392156862E-2},{"$f":"'Comparison Group 2'!B515","v":331},{"$f":"'Comparison Group 2'!C515","v":0.12711213517665129},{"$f":"'Comparison Group 1'!B515","v":21},{"$f":"'Comparison Group 1'!C515","v":7.1917808219178078E-2},{"$f":"'Subject Data'!B515","v":1},{"$f":"'Subject Data'!C515","v":7.1428571428571425E-2},{"$f":"'Comparison Group 3'!I515","v":1475},{"$f":"'Comparison Group 3'!J515","v":1.0041664397363977E-2},{"$f":"'Comparison Group 2'!I515","v":16828},{"$f":"'Comparison Group 2'!J515","v":0.1459838817416047},{"$f":"'Comparison Group 1'!I515","v":874},{"$f":"'Comparison Group 1'!J515","v":7.6152304609218444E-2},{"$f":"'Subject Data'!I515","v":27},{"$f":"'Subject Data'!J515","v":0.25471698113207547}]
["Other Contributing Action",{"$f":"'Comparison Group 3'!B516","v":31},{"$f":"'Comparison Group 3'!C516","v":9.3514328808446453E-3},{"$f":"'Comparison Group 2'!B516","v":5},{"$f":"'Comparison Group 2'!C516","v":1.9201228878648233E-3},{"$f":"'Comparison Group 1'!B516","v":2},{"$f":"'Comparison Group 1'!C516","v":6.8493150684931503E-3},{"$f":"'Subject Data'!B516","v":0},{"$f":"'Subject Data'!C516","v":0},{"$f":"'Comparison Group 3'!I516","v":3139},{"$f":"'Comparison Group 3'!J516","v":2.1370023419203747E-2},{"$f":"'Comparison Group 2'!I516","v":338},{"$f":"'Comparison Group 2'!J516","v":2.9321697188413594E-3},{"$f":"'Comparison Group 1'!I516","v":298},{"$f":"'Comparison Group 1'!J516","v":2.5964973425111091E-2},{"$f":"'Subject Data'!I516","v":0},{"$f":"'Subject Data'!J516","v":0}]
["Unknown",{"$f":"'Comparison Group 3'!B517","v":24},{"$f":"'Comparison Group 3'!C517","v":7.2398190045248872E-3},{"$f":"'Comparison Group 2'!B517","v":3},{"$f":"'Comparison Group 2'!C517","v":1.152073732718894E-3},{"$f":"'Comparison Group 1'!B517","v":18},{"$f":"'Comparison Group 1'!C517","v":6.1643835616438353E-2},{"$f":"'Subject Data'!B517","v":0},{"$f":"'Subject Data'!C517","v":0},{"$f":"'Comparison Group 3'!I517","v":781},{"$f":"'Comparison Group 3'!J517","v":5.3169761995534009E-3},{"$f":"'Comparison Group 2'!I517","v":128},{"$f":"'Comparison Group 2'!J517","v":1.1104074674902189E-3},{"$f":"'Comparison Group 1'!I517","v":219},{"$f":"'Comparison Group 1'!J517","v":1.908164154395748E-2},{"$f":"'Subject Data'!I517","v":0},{"$f":"'Subject Data'!J517","v":0}]
["Driver Actions at Time of Crash, Selection 2"]
["No Contributing Action",{"$f":"'Comparison Group 3'!B519","v":1324},{"$f":"'Comparison Group 3'!C519","v":0.39939668174962295},{"$f":"'Comparison Group 2'!B519","v":0},{"$f":"'Comparison Group 2'!C519","v":0},{"$f":"'Comparison Group 1'!B519","v":111},{"$f":"'Comparison Group 1'!C519","v":0.38013698630136988},{"$f":"'Subject Data'!B519","v":0},{"$f":"'Subject Data'!C519","v":0},{"$f":"'Comparison Group 3'!I519","v":57749},{"$f":"'Comparison Group 3'!J519","v":0.39314988290398128},{"$f":"'Comparison Group 2'!I519","v":4},{"$f":"'Comparison Group 2'!J519","v":3.4700233359069342E-5},{"$f":"'Comparison Group 1'!I519","v":3580},{"$f":"'Comparison Group 1'!J519","v":0.31192820423455608},{"$f":"'Subject Data'!I519","v":10},{"$f":"'Subject Data'!J519","v":9.4339622641509441E-2}]
["Disregarded Other Road Markings",{"$f":"'Comparison Group 3'!B520","v":232},{"$f":"'Comparison Group 3'!C520","v":6.9984917043740574E-2},{"$f":"'Comparison Group 2'!B520","v":21},{"$f":"'Comparison Group 2'!C520","v":8.0645161290322578E-3},{"$f":"'Comparison Group 1'!B520","v":21},{"$f":"'Comparison Group 1'!C520","v":7.1917808219178078E-2},{"$f":"'Subject Data'!B520","v":2},{"$f":"'Subject Data'!C520","v":0.14285714285714285},{"$f":"'Comparison Group 3'!I520","v":16297},{"$f":"'Comparison Group 3'!J520","v":0.11094847775175644},{"$f":"'Comparison Group 2'!I520","v":4616},{"$f":"'Comparison Group 2'!J520","v":4.0044069296366017E-2},{"$f":"'Comparison Group 1'!I520","v":874},{"$f":"'Comparison Group 1'!J520","v":7.6152304609218444E-2},{"$f":"'Subject Data'!I520","v":8},{"$f":"'Subject Data'!J520","v":7.5471698113207544E-2}]
["Disregarded Other Traffic Sign",{"$f":"'Comparison Group 3'!B521","v":109},{"$f":"'Comparison Group 3'!C521","v":3.2880844645550529E-2},{"$f":"'Comparison Group 2'!B521","v":2},{"$f":"'Comparison Group 2'!C521","v":7.6804915514592934E-4},{"$f":"'Comparison Group 1'!B521","v":2},{"$f":"'Comparison Group 1'!C521","v":6.8493150684931503E-3},{"$f":"'Subject Data'!B521","v":0},{"$f":"'Subject Data'!C521","v":0},{"$f":"'Comparison Group 3'!I521","v":545},{"$f":"'Comparison Group 3'!J521","v":3.7103098959751649E-3},{"$f":"'Comparison Group 2'!I521","v":63},{"$f":"'Comparison Group 2'!J521","v":5.4652867540534212E-4},{"$f":"'Comparison Group 1'!I521","v":313},{"$f":"'Comparison Group 1'!J521","v":2.7271935174697219E-2},{"$f":"'Subject Data'!I521","v":14},{"$f":"'Subject Data'!J521","v":0.13207547169811321}]
["Failed to Keep in Proper Lane",{"$f":"'Comparison Group 3'!B522","v":31},{"$f":"'Comparison Group 3'!C522","v":9.3514328808446453E-3},{"$f":"'Comparison Group 2'!B522","v":237},{"$f":"'Comparison Group 2'!C522","v":9.1013824884792621E-2},{"$f":"'Comparison Group 1'!B522","v":18},{"$f":"'Comparison Group 1'!C522","v":6.1643835616438353E-2},{"$f":"'Subject Data'!B522","v":0},{"$f":"'Subject Data'!C522","v":0},{"$f":"'Comparison Group 3'!I522","v":73},{"$f":"'Comparison Group 3'!J522","v":4.9697728881869184E-4},{"$f":"'Comparison Group 2'!I522","v":1022},{"$f":"'Comparison Group 2'!J522","v":8.8659096232422165E-3},{"$f":"'Comparison Group 1'!I522","v":219},{"$f":"'Comparison Group 1'!J522","v":1.908164154395748E-2},{"$f":"'Subject Data'!I522","v":10},{"$f":"'Subject Data'!J522","v":9.4339622641509441E-2}]
["Failed to Yield Right-of-Way",{"$f":"'Comparison Group 3'!B523","v":14},{"$f":"'Comparison Group 3'!C523","v":4.2232277526395171E-3},{"$f":"'Comparison Group 2'!B523","v":1},{"$f":"'Comparison Group 2'!C523","v":3.8402457757296467E-4},{"$f":"'Comparison Group 1'!B523","v":26},{"$f":"'Comparison Group 1'!C523","v":8.9041095890410954E-2},{"$f":"'Subject Data'!B523","v":4},{"$f":"'Subject Data'!C523","v":0.2857142857142857},{"$f":"'Comparison Group 3'!I523","v":402},{"$f":"'Comparison Group 3'!J523","v":2.7367790425358095E-3},{"$f":"'Comparison Group 2'!I523","v":10},{"$f":"'Comparison Group 2'!J523","v":8.6750583397673345E-5},{"$f":"'Comparison Group 1'!I523","v":1606},{"$f":"'Comparison Group 1'!J523","v":0.13993203798902151},{"$f":"'Subject Data'!I523","v":11},{"$f":"'Subject Data'!J523","v":0.10377358490566038}]
["Followed Too Closely",{"$f":"'Comparison Group 3'!B524","v":107},{"$f":"'Comparison Group 3'!C524","v":3.2277526395173457E-2},{"$f":"'Comparison Group 2'!B524","v":4},{"$f":"'Comparison Group 2'!C524","v":1.5360983102918587E-3},{"$f":"'Comparison Group 1'!B524","v":37},{"$f":"'Comparison Group 1'!C524","v":0.12671232876712329},{"$f":"'Subject Data'!B524","v":2},{"$f":"'Subject Data'!C524","v":0.14285714285714285},{"$f":"'Comparison Group 3'!I524","v":1814},{"$f":"'Comparison Group 3'!J524","v":1.234954523174119E-2},{"$f":"'Comparison Group 2'!I524","v":442},{"$f":"'Comparison Group 2'!J524","v":3.8343757861771621E-3},{"$f":"'Comparison Group 1'!I524","v":1289},{"$f":"'Comparison Group 1'!J524","v":0.11231157968110134},{"$f":"'Subject Data'!I524","v":13},{"$f":"'Subject Data'!J524","v":0.12264150943396226}]
["Improper Backing",{"$f":"'Comparison Group 3'!B525","v":1},{"$f":"'Comparison Group 3'!C525","v":3.0165912518853697E-4},{"$f":"'Comparison Group 2'!B525","v":214},{"$f":"'Comparison Group 2'!C525","v":8.218125960061444E-2},{"$f":"'Comparison Group 1'!B525","v":35},{"$f":"'Comparison Group 1'!C525","v":0.11986301369863013},{"$f":"'Subject Data'!B525","v":0},{"$f":"'Subject Data'!C525","v":0},{"$f":"'Comparison Group 3'!I525","v":40},{"$f":"'Comparison Group 3'!J525","v":2.7231632264037908E-4},{"$f":"'Comparison Group 2'!I525","v":1081},{"$f":"'Comparison Group 2'!J525","v":9.3777380652884882E-3},{"$f":"'Comparison Group 1'!I525","v":571},{"$f":"'Comparison Group 1'!J525","v":4.9751677267578634E-2},{"$f":"'Subject Data'!I525","v":7},{"$f":"'Subject Data'!J525","v":6.6037735849056603E-2}]
["Improper Passing",{"$f":"'Comparison Group 3'!B526","v":50},{"$f":"'Comparison Group 3'!C526","v":1.5082956259426848E-2},{"$f":"'Comparison Group 2'!B526","v":1101},{"$f":"'Comparison Group 2'!C526","v":0.42281105990783407},{"$f":"'Comparison Group 1'!B526","v":8},{"$f":"'Comparison Group 1'!C526","v":2.7397260273972601E-2},{"$f":"'Subject Data'!B526","v":1},{"$f":"'Subject Data'!C526","v":7.1428571428571425E-2},{"$f":"'Comparison Group 3'!I526","v":1438},{"$f":"'Comparison Group 3'!J526","v":9.7897717989216277E-3},{"$f":"'Comparison Group 2'!I526","v":59677},{"$f":"'Comparison Group 2'!J526","v":0.51770145654229527},{"$f":"'Comparison Group 1'!I526","v":676},{"$f":"'Comparison Group 1'!J526","v":5.8900409514681534E-2},{"$f":"'Subject Data'!I526","v":3},{"$f":"'Subject Data'!J526","v":2.8301886792452831E-2}]
["Improper Turn",{"$f":"'Comparison Group 3'!B527","v":21},{"$f":"'Comparison Group 3'!C527","v":6.3348416289592761E-3},{"$f":"'Comparison Group 2'!B527","v":3},{"$f":"'Comparison Group 2'!C527","v":1.152073732718894E-3},{"$f":"'Comparison Group 1'!B527","v":4},{"$f":"'Comparison Group 1'!C527","v":1.3698630136986301E-2},{"$f":"'Subject Data'!B527","v":1},{"$f":"'Subject Data'!C527","v":7.1428571428571425E-2},{"$f":"'Comparison Group 3'!I527","v":1061},{"$f":"'Comparison Group 3'!J527","v":7.2231904580360544E-3},{"$f":"'Comparison Group 2'!I527","v":113},{"$f":"'Comparison Group 2'!J527","v":9.802815923937089E-4},{"$f":"'Comparison Group 1'!I527","v":101},{"$f":"'Comparison Group 1'!J527","v":8.8002091138799331E-3},{"$f":"'Subject Data'!I527","v":2},{"$f":"'Subject Data'!J527","v":1.8867924528301886E-2}]
["Operated Motor Vehicle in Inattentive, Careless, Negligent, or Erratic Manner",{"$f":"'Comparison Group 3'!B528","v":0},{"$f":"'Comparison Group 3'!C528","v":0},{"$f":"'Comparison Group 2'!B528","v":0},{"$f":"'Comparison Group 2'!C528","v":0},{"$f":"'Comparison Group 1'!B528","v":6},{"$f":"'Comparison Group 1'!C528","v":2.0547945205479451E-2},{"$f":"'Subject Data'!B528","v":0},{"$f":"'Subject Data'!C528","v":0},{"$f":"'Comparison Group 3'!I528","v":2},{"$f":"'Comparison Group 3'!J528","v":1.3615816132018953E-5},{"$f":"'Comparison Group 2'!I528","v":405},{"$f":"'Comparison Group 2'!J528","v":3.5133986276057708E-3},{"$f":"'Comparison Group 1'!I528","v":316},{"$f":"'Comparison Group 1'!J528","v":2.7533327524614445E-2},{"$f":"'Subject Data'!I528","v":0},{"$f":"'Subject Data'!J528","v":0}]
["Operated Motor Vehicle in Reckless or Aggressive Manner",{"$f":"'Comparison Group 3'!B529","v":52},{"$f":"'Comparison Group 3'!C529","v":1.5686274509803921E-2},{"$f":"'Comparison Group 2'!B529","v":331},{"$f":"'Comparison Group 2'!C529","v":0.12711213517665129},{"$f":"'Comparison Group 1'!B529","v":7},{"$f":"'Comparison Group 1'!C529","v":2.3972602739726026E-2},{"$f":"'Subject Data'!B529","v":0},{"$f":"'Subject Data'!C529","v":0},{"$f":"'Comparison Group 3'!I529","v":9275},{"$f":"'Comparison Group 3'!J529","v":6.3143347312237891E-2},{"$f":"'Comparison Group 2'!I529","v":16828},{"$f":"'Comparison Group 2'!J529","v":0.1459838817416047},{"$f":"'Comparison Group 1'!I529","v":1163},{"$f":"'Comparison Group 1'!J529","v":0.10133310098457785},{"$f":"'Subject Data'!I529","v":4},{"$f":"'Subject Data'!J529","v":3.7735849056603772E-2}]
["Over-Correcting/Over-Steering",{"$f":"'Comparison Group 3'!B530","v":2},{"$f":"'Comparison Group 3'!C530","v":6.0331825037707393E-4},{"$f":"'Comparison Group 2'!B530","v":5},{"$f":"'Comparison Group 2'!C530","v":1.9201228878648233E-3},{"$f":"'Comparison Group 1'!B530","v":3},{"$f":"'Comparison Group 1'!C530","v":1.0273972602739725E-2},{"$f":"'Subject Data'!B530","v":0},{"$f":"'Subject Data'!C530","v":0},{"$f":"'Comparison Group 3'!I530","v":71},{"$f":"'Comparison Group 3'!J530","v":4.8336147268667281E-4},{"$f":"'Comparison Group 2'!I530","v":338},{"$f":"'Comparison Group 2'!J530","v":2.9321697188413594E-3},{"$f":"'Comparison Group 1'!I530","v":29},{"$f":"'Comparison Group 1'!J530","v":2.5267927158665157E-3},{"$f":"'Subject Data'!I530","v":0},{"$f":"'Subject Data'!J530","v":0}]
["Ran Off Roadway",{"$f":"'Comparison Group 3'!B531","v":10},{"$f":"'Comparison Group 3'!C531","v":3.0165912518853697E-3},{"$f":"'Comparison Group 2'!B531","v":3},{"$f":"'Comparison Group 2'!C531","v":1.152073732718894E-3},{"$f":"'Comparison Group 1'!B531","v":3},{"$f":"'Comparison Group 1'!C531","v":1.0273972602739725E-2},{"$f":"'Subject Data'!B531","v":1},{"$f":"'Subject Data'!C531","v":7.1428571428571425E-2},{"$f":"'Comparison Group 3'!I531","v":811},{"$f":"'Comparison Group 3'!J531","v":5.5212134415336851E-3},{"$f":"'Comparison Group 2'!I531","v":128},{"$f":"'Comparison Group 2'!J531","v":1.1104074674902189E-3},{"$f":"'Comparison Group 1'!I531","v":110},{"$f":"'Comparison Group 1'!J531","v":9.5843861636316103E-3},{"$f":"'Subject Data'!I531","v":10},{"$f":"'Subject Data'!J531","v":9.4339622641509441E-2}]
["Ran Red Light",{"$f":"'Comparison Group 3'!B532","v":2},{"$f":"'Comparison Group 3'!C532","v":6.0331825037707393E-4},{"$f":"'Comparison Group 2'!B532","v":534},{"$f":"'Comparison Group 2'!C532","v":0.20506912442396313},{"$f":"'Comparison Group 1'!B532","v":4},{"$f":"'Comparison Group 1'!C532","v":1.3698630136986301E-2},{"$f":"'Subject Data'!B532","v":1},{"$f":"'Subject Data'!C532","v":7.1428571428571425E-2},{"$f":"'Comparison Group 3'!I532","v":70},{"$f":"'Comparison Group 3'!J532","v":4.7655356462066338E-4},{"$f":"'Comparison Group 2'!I532","v":26790},{"$f":"'Comparison Group 2'!J532","v":0.23240481292236689},{"$f":"'Comparison Group 1'!I532","v":19},{"$f":"'Comparison Group 1'!J532","v":1.6554848828090965E-3},{"$f":"'Subject Data'!I532","v":0},{"$f":"'Subject Data'!J532","v":0}]
["Ran Stop Sign",{"$f":"'Comparison Group 3'!B533","v":20},{"$f":"'Comparison Group 3'!C533","v":6.0331825037707393E-3},{"$f":"'Comparison Group 2'!B533","v":1},{"$f":"'Comparison Group 2'!C533","v":3.8402457757296467E-4},{"$f":"'Comparison Group 1'!B533","v":3},{"$f":"'Comparison Group 1'!C533","v":1.0273972602739725E-2},{"$f":"'Subject Data'!B533","v":1},{"$f":"'Subject Data'!C533","v":7.1428571428571425E-2},{"$f":"'Comparison Group 3'!I533","v":1581},{"$f":"'Comparison Group 3'!J533","v":1.0763302652360982E-2},{"$f":"'Comparison Group 2'!I533","v":38},{"$f":"'Comparison Group 2'!J533","v":3.2965221691115873E-4},{"$f":"'Comparison Group 1'!I533","v":41},{"$f":"'Comparison Group 1'!J533","v":3.5723621155354188E-3},{"$f":"'Subject Data'!I533","v":8},{"$f":"'Subject Data'!J533","v":7.5471698113207544E-2}]
["Swerve or Avoided Due to Wind, Slippery Surface, Motor Vehicle, Object, Non-Motorist in Roadway, etc.",{"$f":"'Comparison Group 3'!B534","v":96},{"$f":"'Comparison Group 3'!C534","v":2.8959276018099549E-2},{"$f":"'Comparison Group 2'!B534","v":82},{"$f":"'Comparison Group 2'!C534","v":3.1490015360983101E-2},{"$f":"'Comparison Group 1'!B534","v":1},{"$f":"'Comparison Group 1'!C534","v":3.4246575342465752E-3},{"$f":"'Subject Data'!B534","v":1},{"$f":"'Subject Data'!C534","v":7.1428571428571425E-2},{"$f":"'Comparison Group 3'!I534","v":3157},{"$f":"'Comparison Group 3'!J534","v":2.1492565764391916E-2},{"$f":"'Comparison Group 2'!I534","v":3106},{"$f":"'Comparison Group 2'!J534","v":2.6944731203317342E-2},{"$f":"'Comparison Group 1'!I534","v":229},{"$f":"'Comparison Group 1'!J534","v":1.99529493770149E-2},{"$f":"'Subject Data'!I534","v":0},{"$f":"'Subject Data'!J534","v":0}]
["Wrong Side or Wrong Way",{"$f":"'Comparison Group 3'!B535","v":3},{"$f":"'Comparison Group 3'!C535","v":9.049773755656109E-4},{"$f":"'Comparison Group 2'!B535","v":1},{"$f":"'Comparison Group 2'!C535","v":3.8402457757296467E-4},{"$f":"'Comparison Group 1'!B535","v":3},{"$f":"'Comparison Group 1'!C535","v":1.0273972602739725E-2},{"$f":"'Subject Data'!B535","v":0},{"$f":"'Subject Data'!C535","v":0},{"$f":"'Comparison Group 3'!I535","v":805},{"$f":"'Comparison Group 3'!J535","v":5.4803659931376286E-3},{"$f":"'Comparison Group 2'!I535","v":40},{"$f":"'Comparison Group 2'!J535","v":3.4700233359069338E-4},{"$f":"'Comparison Group 1'!I535","v":153},{"$f":"'Comparison Group 1'!J535","v":1.3331009845778513E-2},{"$f":"'Subject Data'!I535","v":0},{"$f":"'Subject Data'!J535","v":0}]
["Other Contributing Action",{"$f":"'Comparison Group 3'!B536","v":16},{"$f":"'Comparison Group 3'!C536","v":4.8265460030165915E-3},{"$f":"'Comparison Group 2'!B536","v":19.999999999999943},{"$f":"'Comparison Group 2'!C536","v":7.6804915514592717E-3},{"$f":"'Comparison Group 1'!B536","v":0},{"$f":"'Comparison Group 1'!C536","v":0},{"$f":"'Subject Data'!B536","v":0},{"$f":"'Subject Data'!C536","v":0},{"$f":"'Comparison Group 3'!I536","v":2654},{"$f":"'Comparison Group 3'!J536","v":1.8068188007189151E-2},{"$f":"'Comparison Group 2'!I536","v":29},{"$f":"'Comparison Group 2'!J536","v":2.5157669185325274E-4},{"$f":"'Comparison Group 1'!I536","v":60},{"$f":"'Comparison Group 1'!J536","v":5.2278469983445151E-3},{"$f":"'Subject Data'!I536","v":0},{"$f":"'Subject Data'!J536","v":0}]
["Unknown",{"$f":"'Comparison Group 3'!B537","v":1225},{"$f":"'Comparison Group 3'!C537","v":0.36953242835595779},{"$f":"'Comparison Group 2'!B537","v":44},{"$f":"'Comparison Group 2'!C537","v":1.6897081413210446E-2},{"$f":"'Comparison Group 1'!B537","v":0},{"$f":"'Comparison Group 1'!C537","v":0},{"$f":"'Subject Data'!B537","v":0},{"$f":"'Subject Data'!C537","v":0},{"$f":"'Comparison Group 3'!I537","v":49043},{"$f":"'Comparison Group 3'!J537","v":0.33388023528130278},{"$f":"'Comparison Group 2'!I537","v":543},{"$f":"'Comparison Group 2'!J537","v":4.7105566784936626E-3},{"$f":"'Comparison Group 1'!I537","v":128},{"$f":"'Comparison Group 1'!J537","v":1.1152740263134965E-2},{"$f":"'Subject Data'!I537","v":6},{"$f":"'Subject Data'!J537","v":5.6603773584905662E-2}]
["Driver Actions at Time of Crash, Selection 3"]
["No Contributing Action",{"$f":"'Comparison Group 3'!B539","v":227},{"$f":"'Comparison Group 3'!C539","v":6.8476621417797895E-2},{"$f":"'Comparison Group 2'!B539","v":331},{"$f":"'Comparison Group 2'!C539","v":0.12711213517665129},{"$f":"'Comparison Group 1'!B539","v":3},{"$f":"'Comparison Group 1'!C539","v":1.0273972602739725E-2},{"$f":"'Subject Data'!B539","v":1},{"$f":"'Subject Data'!C539","v":7.1428571428571425E-2},{"$f":"'Comparison Group 3'!I539","v":24930},{"$f":"'Comparison Group 3'!J539","v":0.16972114808561625},{"$f":"'Comparison Group 2'!I539","v":16828},{"$f":"'Comparison Group 2'!J539","v":0.1459838817416047},{"$f":"'Comparison Group 1'!I539","v":41},{"$f":"'Comparison Group 1'!J539","v":3.5723621155354188E-3},{"$f":"'Subject Data'!I539","v":8},{"$f":"'Subject Data'!J539","v":7.5471698113207544E-2}]
["Disregarded Other Road Markings",{"$f":"'Comparison Group 3'!B540","v":6},{"$f":"'Comparison Group 3'!C540","v":1.8099547511312218E-3},{"$f":"'Comparison Group 2'!B540","v":5},{"$f":"'Comparison Group 2'!C540","v":1.9201228878648233E-3},{"$f":"'Comparison Group 1'!B540","v":1},{"$f":"'Comparison Group 1'!C540","v":3.4246575342465752E-3},{"$f":"'Subject Data'!B540","v":1},{"$f":"'Subject Data'!C540","v":7.1428571428571425E-2},{"$f":"'Comparison Group 3'!I540","v":175},{"$f":"'Comparison Group 3'!J540","v":1.1913839115516584E-3},{"$f":"'Comparison Group 2'!I540","v":338},{"$f":"'Comparison Group 2'!J540","v":2.9321697188413594E-3},{"$f":"'Comparison Group 1'!I540","v":239},{"$f":"'Comparison Group 1'!J540","v":2.0824257210072319E-2},{"$f":"'Subject Data'!I540","v":0},{"$f":"'Subject Data'!J540","v":0}]
["Disregarded Other Traffic Sign",{"$f":"'Comparison Group 3'!B541","v":24},{"$f":"'Comparison Group 3'!C541","v":7.2398190045248872E-3},{"$f":"'Comparison Group 2'!B541","v":3},{"$f":"'Comparison Group 2'!C541","v":1.152073732718894E-3},{"$f":"'Comparison Group 1'!B541","v":3},{"$f":"'Comparison Group 1'!C541","v":1.0273972602739725E-2},{"$f":"'Subject Data'!B541","v":1},{"$f":"'Subject Data'!C541","v":7.1428571428571425E-2},{"$f":"'Comparison Group 3'!I541","v":745},{"$f":"'Comparison Group 3'!J541","v":5.0718915091770601E-3},{"$f":"'Comparison Group 2'!I541","v":128},{"$f":"'Comparison Group 2'!J541","v":1.1104074674902189E-3},{"$f":"'Comparison Group 1'!I541","v":153},{"$f":"'Comparison Group 1'!J541","v":1.3331009845778513E-2},{"$f":"'Subject Data'!I541","v":0},{"$f":"'Subject Data'!J541","v":0}]
["Failed to Keep in Proper Lane",{"$f":"'Comparison Group 3'!B542","v":23},{"$f":"'Comparison Group 3'!C542","v":6.9381598793363496E-3},{"$f":"'Comparison Group 2'!B542","v":1},{"$f":"'Comparison Group 2'!C542","v":3.8402457757296467E-4},{"$f":"'Comparison Group 1'!B542","v":0},{"$f":"'Comparison Group 1'!C542","v":0},{"$f":"'Subject Data'!B542","v":0},{"$f":"'Subject Data'!C542","v":0},{"$f":"'Comparison Group 3'!I542","v":172},{"$f":"'Comparison Group 3'!J542","v":1.17096018735363E-3},{"$f":"'Comparison Group 2'!I542","v":40},{"$f":"'Comparison Group 2'!J542","v":3.4700233359069338E-4},{"$f":"'Comparison Group 1'!I542","v":60},{"$f":"'Comparison Group 1'!J542","v":5.2278469983445151E-3},{"$f":"'Subject Data'!I542","v":0},{"$f":"'Subject Data'!J542","v":0}]
["Failed to Yield Right-of-Way",{"$f":"'Comparison Group 3'!B543","v":91},{"$f":"'Comparison Group 3'!C543","v":2.7450980392156862E-2},{"$f":"'Comparison Group 2'!B543","v":19.999999999999943},{"$f":"'Comparison Group 2'!C543","v":7.6804915514592717E-3},{"$f":"'Comparison Group 1'!B543","v":111},{"$f":"'Comparison Group 1'!C543","v":0.38013698630136988},{"$f":"'Subject Data'!B543","v":0},{"$f":"'Subject Data'!C543","v":0},{"$f":"'Comparison Group 3'!I543","v":1475},{"$f":"'Comparison Group 3'!J543","v":1.0041664397363977E-2},{"$f":"'Comparison Group 2'!I543","v":29},{"$f":"'Comparison Group 2'!J543","v":2.5157669185325274E-4},{"$f":"'Comparison Group 1'!I543","v":3612},{"$f":"'Comparison Group 1'!J543","v":0.31471638930033979},{"$f":"'Subject Data'!I543","v":6},{"$f":"'Subject Data'!J543","v":5.6603773584905662E-2}]
["Followed Too Closely",{"$f":"'Comparison Group 3'!B544","v":31},{"$f":"'Comparison Group 3'!C544","v":9.3514328808446453E-3},{"$f":"'Comparison Group 2'!B544","v":44},{"$f":"'Comparison Group 2'!C544","v":1.6897081413210446E-2},{"$f":"'Comparison Group 1'!B544","v":21},{"$f":"'Comparison Group 1'!C544","v":7.1917808219178078E-2},{"$f":"'Subject Data'!B544","v":0},{"$f":"'Subject Data'!C544","v":0},{"$f":"'Comparison Group 3'!I544","v":3139},{"$f":"'Comparison Group 3'!J544","v":2.1370023419203747E-2},{"$f":"'Comparison Group 2'!I544","v":543},{"$f":"'Comparison Group 2'!J544","v":4.7105566784936626E-3},{"$f":"'Comparison Group 1'!I544","v":874},{"$f":"'Comparison Group 1'!J544","v":7.6152304609218444E-2},{"$f":"'Subject Data'!I544","v":10},{"$f":"'Subject Data'!J544","v":9.4339622641509441E-2}]
["Improper Backing",{"$f":"'Comparison Group 3'!B545","v":24},{"$f":"'Comparison Group 3'!C545","v":7.2398190045248872E-3},{"$f":"'Comparison Group 2'!B545","v":237},{"$f":"'Comparison Group 2'!C545","v":9.1013824884792621E-2},{"$f":"'Comparison Group 1'!B545","v":2},{"$f":"'Comparison Group 1'!C545","v":6.8493150684931503E-3},{"$f":"'Subject Data'!B545","v":0},{"$f":"'Subject Data'!C545","v":0},{"$f":"'Comparison Group 3'!I545","v":781},{"$f":"'Comparison Group 3'!J545","v":5.3169761995534009E-3},{"$f":"'Comparison Group 2'!I545","v":1022},{"$f":"'Comparison Group 2'!J545","v":8.8659096232422165E-3},{"$f":"'Comparison Group 1'!I545","v":320},{"$f":"'Comparison Group 1'!J545","v":2.7881850657837413E-2},{"$f":"'Subject Data'!I545","v":8},{"$f":"'Subject Data'!J545","v":7.5471698113207544E-2}]
["Improper Passing",{"$f":"'Comparison Group 3'!B546","v":23},{"$f":"'Comparison Group 3'!C546","v":6.9381598793363496E-3},{"$f":"'Comparison Group 2'!B546","v":1},{"$f":"'Comparison Group 2'!C546","v":3.8402457757296467E-4},{"$f":"'Comparison Group 1'!B546","v":5},{"$f":"'Comparison Group 1'!C546","v":1.7123287671232876E-2},{"$f":"'Subject Data'!B546","v":2},{"$f":"'Subject Data'!C546","v":0.14285714285714285},{"$f":"'Comparison Group 3'!I546","v":808},{"$f":"'Comparison Group 3'!J546","v":5.5007897173356569E-3},{"$f":"'Comparison Group 2'!I546","v":10},{"$f":"'Comparison Group 2'!J546","v":8.6750583397673345E-5},{"$f":"'Comparison Group 1'!I546","v":100},{"$f":"'Comparison Group 1'!J546","v":8.7130783305741921E-3},{"$f":"'Subject Data'!I546","v":14},{"$f":"'Subject Data'!J546","v":0.13207547169811321}]
["Improper Turn",{"$f":"'Comparison Group 3'!B547","v":5},{"$f":"'Comparison Group 3'!C547","v":1.5082956259426848E-3},{"$f":"'Comparison Group 2'!B547","v":4},{"$f":"'Comparison Group 2'!C547","v":1.5360983102918587E-3},{"$f":"'Comparison Group 1'!B547","v":35},{"$f":"'Comparison Group 1'!C547","v":0.11986301369863013},{"$f":"'Subject Data'!B547","v":0},{"$f":"'Subject Data'!C547","v":0},{"$f":"'Comparison Group 3'!I547","v":2042},{"$f":"'Comparison Group 3'!J547","v":1.3901748270791351E-2},{"$f":"'Comparison Group 2'!I547","v":442},{"$f":"'Comparison Group 2'!J547","v":3.8343757861771621E-3},{"$f":"'Comparison Group 1'!I547","v":580},{"$f":"'Comparison Group 1'!J547","v":5.0535854317330313E-2},{"$f":"'Subject Data'!I547","v":10},{"$f":"'Subject Data'!J547","v":9.4339622641509441E-2}]
["Operated Motor Vehicle in Inattentive, Careless, Negligent, or Erratic Manner",{"$f":"'Comparison Group 3'!B548","v":76},{"$f":"'Comparison Group 3'!C548","v":2.2926093514328807E-2},{"$f":"'Comparison Group 2'!B548","v":214},{"$f":"'Comparison Group 2'!C548","v":8.218125960061444E-2},{"$f":"'Comparison Group 1'!B548","v":8},{"$f":"'Comparison Group 1'!C548","v":2.7397260273972601E-2},{"$f":"'Subject Data'!B548","v":0},{"$f":"'Subject Data'!C548","v":0},{"$f":"'Comparison Group 3'!I548","v":3138},{"$f":"'Comparison Group 3'!J548","v":2.1363215511137738E-2},{"$f":"'Comparison Group 2'!I548","v":1081},{"$f":"'Comparison Group 2'!J548","v":9.3777380652884882E-3},{"$f":"'Comparison Group 1'!I548","v":676},{"$f":"'Comparison Group 1'!J548","v":5.8900409514681534E-2},{"$f":"'Subject Data'!I548","v":11},{"$f":"'Subject Data'!J548","v":0.10377358490566038}]
["Operated Motor Vehicle in Reckless or Aggressive Manner",{"$f":"'Comparison Group 3'!B549","v":3},{"$f":"'Comparison Group 3'!C549","v":9.049773755656109E-4},{"$f":"'Comparison Group 2'!B549","v":1101},{"$f":"'Comparison Group 2'!C549","v":0.42281105990783407},{"$f":"'Comparison Group 1'!B549","v":4},{"$f":"'Comparison Group 1'!C549","v":1.3698630136986301E-2},{"$f":"'Subject Data'!B549","v":4},{"$f":"'Subject Data'!C549","v":0.2857142857142857},{"$f":"'Comparison Group 3'!I549","v":519},{"$f":"'Comparison Group 3'!J549","v":3.5333042862589182E-3},{"$f":"'Comparison Group 2'!I549","v":59677},{"$f":"'Comparison Group 2'!J549","v":0.51770145654229527},{"$f":"'Comparison Group 1'!I549","v":101},{"$f":"'Comparison Group 1'!J549","v":8.8002091138799331E-3},{"$f":"'Subject Data'!I549","v":13},{"$f":"'Subject Data'!J549","v":0.12264150943396226}]
["Over-Correcting/Over-Steering",{"$f":"'Comparison Group 3'!B550","v":1694},{"$f":"'Comparison Group 3'!C550","v":0.51101055806938156},{"$f":"'Comparison Group 2'!B550","v":3},{"$f":"'Comparison Group 2'!C550","v":1.152073732718894E-3},{"$f":"'Comparison Group 1'!B550","v":6},{"$f":"'Comparison Group 1'!C550","v":2.0547945205479451E-2},{"$f":"'Subject Data'!B550","v":2},{"$f":"'Subject Data'!C550","v":0.14285714285714285},{"$f":"'Comparison Group 3'!I550","v":64625},{"$f":"'Comparison Group 3'!J550","v":0.43996105876586244},{"$f":"'Comparison Group 2'!I550","v":113},{"$f":"'Comparison Group 2'!J550","v":9.802815923937089E-4},{"$f":"'Comparison Group 1'!I550","v":316},{"$f":"'Comparison Group 1'!J550","v":2.7533327524614445E-2},{"$f":"'Subject Data'!I550","v":7},{"$f":"'Subject Data'!J550","v":6.6037735849056603E-2}]
["Ran Off Roadway",{"$f":"'Comparison Group 3'!B551","v":418},{"$f":"'Comparison Group 3'!C551","v":0.12609351432880844},{"$f":"'Comparison Group 2'!B551","v":0},{"$f":"'Comparison Group 2'!C551","v":0},{"$f":"'Comparison Group 1'!B551","v":7},{"$f":"'Comparison Group 1'!C551","v":2.3972602739726026E-2},{"$f":"'Subject Data'!B551","v":0},{"$f":"'Subject Data'!C551","v":0},{"$f":"'Comparison Group 3'!I551","v":13567},{"$f":"'Comparison Group 3'!J551","v":9.2362888731550574E-2},{"$f":"'Comparison Group 2'!I551","v":405},{"$f":"'Comparison Group 2'!J551","v":3.5133986276057708E-3},{"$f":"'Comparison Group 1'!I551","v":1175},{"$f":"'Comparison Group 1'!J551","v":0.10237867038424675},{"$f":"'Subject Data'!I551","v":3},{"$f":"'Subject Data'!J551","v":2.8301886792452831E-2}]
["Ran Red Light",{"$f":"'Comparison Group 3'!B552","v":63},{"$f":"'Comparison Group 3'!C552","v":1.9004524886877826E-2},{"$f":"'Comparison Group 2'!B552","v":0},{"$f":"'Comparison Group 2'!C552","v":0},{"$f":"'Comparison Group 1'!B552","v":3},{"$f":"'Comparison Group 1'!C552","v":1.0273972602739725E-2},{"$f":"'Subject Data'!B552","v":1},{"$f":"'Subject Data'!C552","v":7.1428571428571425E-2},{"$f":"'Comparison Group 3'!I552","v":5202},{"$f":"'Comparison Group 3'!J552","v":3.5414737759381296E-2},{"$f":"'Comparison Group 2'!I552","v":4},{"$f":"'Comparison Group 2'!J552","v":3.4700233359069342E-5},{"$f":"'Comparison Group 1'!I552","v":29},{"$f":"'Comparison Group 1'!J552","v":2.5267927158665157E-3},{"$f":"'Subject Data'!I552","v":2},{"$f":"'Subject Data'!J552","v":1.8867924528301886E-2}]
["Ran Stop Sign",{"$f":"'Comparison Group 3'!B553","v":26},{"$f":"'Comparison Group 3'!C553","v":7.8431372549019607E-3},{"$f":"'Comparison Group 2'!B553","v":21},{"$f":"'Comparison Group 2'!C553","v":8.0645161290322578E-3},{"$f":"'Comparison Group 1'!B553","v":3},{"$f":"'Comparison Group 1'!C553","v":1.0273972602739725E-2},{"$f":"'Subject Data'!B553","v":1},{"$f":"'Subject Data'!C553","v":7.1428571428571425E-2},{"$f":"'Comparison Group 3'!I553","v":824},{"$f":"'Comparison Group 3'!J553","v":5.6097162463918087E-3},{"$f":"'Comparison Group 2'!I553","v":4616},{"$f":"'Comparison Group 2'!J553","v":4.0044069296366017E-2},{"$f":"'Comparison Group 1'!I553","v":110},{"$f":"'Comparison Group 1'!J553","v":9.5843861636316103E-3},{"$f":"'Subject Data'!I553","v":0},{"$f":"'Subject Data'!J553","v":0}]
["Swerve or Avoided Due to Wind, Slippery Surface, Motor Vehicle, Object, Non-Motorist in Roadway, etc.",{"$f":"'Comparison Group 3'!B554","v":376},{"$f":"'Comparison Group 3'!C554","v":0.11342383107088989},{"$f":"'Comparison Group 2'!B554","v":2},{"$f":"'Comparison Group 2'!C554","v":7.6804915514592934E-4},{"$f":"'Comparison Group 1'!B554","v":4},{"$f":"'Comparison Group 1'!C554","v":1.3698630136986301E-2},{"$f":"'Subject Data'!B554","v":0},{"$f":"'Subject Data'!C554","v":0},{"$f":"'Comparison Group 3'!I554","v":6608},{"$f":"'Comparison Group 3'!J554","v":4.4986656500190618E-2},{"$f":"'Comparison Group 2'!I554","v":63},{"$f":"'Comparison Group 2'!J554","v":5.4652867540534212E-4},{"$f":"'Comparison Group 1'!I554","v":19},{"$f":"'Comparison Group 1'!J554","v":1.6554848828090965E-3},{"$f":"'Subject Data'!I554","v":4},{"$f":"'Subject Data'!J554","v":3.7735849056603772E-2}]
["Wrong Side or Wrong Way",{"$f":"'Comparison Group 3'!B555","v":55},{"$f":"'Comparison Group 3'!C555","v":1.6591251885369532E-2},{"$f":"'Comparison Group 2'!B555","v":534},{"$f":"'Comparison Group 2'!C555","v":0.20506912442396313},{"$f":"'Comparison Group 1'!B555","v":28},{"$f":"'Comparison Group 1'!C555","v":9.5890410958904104E-2},{"$f":"'Subject Data'!B555","v":0},{"$f":"'Subject Data'!C555","v":0},{"$f":"'Comparison Group 3'!I555","v":5677},{"$f":"'Comparison Group 3'!J555","v":3.8648494090735799E-2},{"$f":"'Comparison Group 2'!I555","v":26790},{"$f":"'Comparison Group 2'!J555","v":0.23240481292236689},{"$f":"'Comparison Group 1'!I555","v":132},{"$f":"'Comparison Group 1'!J555","v":1.1501263396357934E-2},{"$f":"'Subject Data'!I555","v":0},{"$f":"'Subject Data'!J555","v":0}]
["Other Contributing Action",{"$f":"'Comparison Group 3'!B556","v":28},{"$f":"'Comparison Group 3'!C556","v":8.4464555052790342E-3},{"$f":"'Comparison Group 2'!B556","v":1},{"$f":"'Comparison Group 2'!C556","v":3.8402457757296467E-4},{"$f":"'Comparison Group 1'!B556","v":6},{"$f":"'Comparison Group 1'!C556","v":2.0547945205479451E-2},{"$f":"'Subject Data'!B556","v":0},{"$f":"'Subject Data'!C556","v":0},{"$f":"'Comparison Group 3'!I556","v":861},{"$f":"'Comparison Group 3'!J556","v":5.8616088448341592E-3},{"$f":"'Comparison Group 2'!I556","v":38},{"$f":"'Comparison Group 2'!J556","v":3.2965221691115873E-4},{"$f":"'Comparison Group 1'!I556","v":96},{"$f":"'Comparison Group 1'!J556","v":8.3645551973512249E-3},{"$f":"'Subject Data'!I556","v":10},{"$f":"'Subject Data'!J556","v":9.4339622641509441E-2}]
["Unknown",{"$f":"'Comparison Group 3'!B557","v":122},{"$f":"'Comparison Group 3'!C557","v":3.6802413273001509E-2},{"$f":"'Comparison Group 2'!B557","v":82},{"$f":"'Comparison Group 2'!C557","v":3.1490015360983101E-2},{"$f":"'Comparison Group 1'!B557","v":42},{"$f":"'Comparison Group 1'!C557","v":0.14383561643835616},{"$f":"'Subject Data'!B557","v":1},{"$f":"'Subject Data'!C557","v":7.1428571428571425E-2},{"$f":"'Comparison Group 3'!I557","v":11600},{"$f":"'Comparison Group 3'!J557","v":7.8971733565709926E-2},{"$f":"'Comparison Group 2'!I557","v":3106},{"$f":"'Comparison Group 2'!J557","v":2.6944731203317342E-2},{"$f":"'Comparison Group 1'!I557","v":2844},{"$f":"'Comparison Group 1'!J557","v":0.24779994772153002},{"$f":"'Subject Data'!I557","v":0},{"$f":"'Subject Data'!J557","v":0}]
["Driver Actions at Time of Crash, Selection 4"]
["No Contributing Action",{"$f":"'Comparison Group 3'!B559","v":52},{"$f":"'Comparison Group 3'!C559","v":1.5686274509803921E-2},{"$f":"'Comparison Group 2'!B559","v":1101},{"$f":"'Comparison Group 2'!C559","v":0.42281105990783407},{"$f":"'Comparison Group 1'!B559","v":3},{"$f":"'Comparison Group 1'!C559","v":1.0273972602739725E-2},{"$f":"'Subject Data'!B559","v":0},{"$f":"'Subject Data'!C559","v":0},{"$f":"'Comparison Group 3'!I559","v":9275},{"$f":"'Comparison Group 3'!J559","v":6.3143347312237891E-2},{"$f":"'Comparison Group 2'!I559","v":59677},{"$f":"'Comparison Group 2'!J559","v":0.51770145654229527},{"$f":"'Comparison Group 1'!I559","v":108},{"$f":"'Comparison Group 1'!J559","v":9.4101245970201267E-3},{"$f":"'Subject Data'!I559","v":12},{"$f":"'Subject Data'!J559","v":0.11320754716981132}]
["Disregarded Other Road Markings",{"$f":"'Comparison Group 3'!B560","v":2},{"$f":"'Comparison Group 3'!C560","v":6.0331825037707393E-4},{"$f":"'Comparison Group 2'!B560","v":3},{"$f":"'Comparison Group 2'!C560","v":1.152073732718894E-3},{"$f":"'Comparison Group 1'!B560","v":4},{"$f":"'Comparison Group 1'!C560","v":1.3698630136986301E-2},{"$f":"'Subject Data'!B560","v":1},{"$f":"'Subject Data'!C560","v":7.1428571428571425E-2},{"$f":"'Comparison Group 3'!I560","v":71},{"$f":"'Comparison Group 3'!J560","v":4.8336147268667281E-4},{"$f":"'Comparison Group 2'!I560","v":113},{"$f":"'Comparison Group 2'!J560","v":9.802815923937089E-4},{"$f":"'Comparison Group 1'!I560","v":19},{"$f":"'Comparison Group 1'!J560","v":1.6554848828090965E-3},{"$f":"'Subject Data'!I560","v":0},{"$f":"'Subject Data'!J560","v":0}]
["Disregarded Other Traffic Sign",{"$f":"'Comparison Group 3'!B561","v":10},{"$f":"'Comparison Group 3'!C561","v":3.0165912518853697E-3},{"$f":"'Comparison Group 2'!B561","v":0},{"$f":"'Comparison Group 2'!C561","v":0},{"$f":"'Comparison Group 1'!B561","v":3},{"$f":"'Comparison Group 1'!C561","v":1.0273972602739725E-2},{"$f":"'Subject Data'!B561","v":2},{"$f":"'Subject Data'!C561","v":0.14285714285714285},{"$f":"'Comparison Group 3'!I561","v":811},{"$f":"'Comparison Group 3'!J561","v":5.5212134415336851E-3},{"$f":"'Comparison Group 2'!I561","v":405},{"$f":"'Comparison Group 2'!J561","v":3.5133986276057708E-3},{"$f":"'Comparison Group 1'!I561","v":41},{"$f":"'Comparison Group 1'!J561","v":3.5723621155354188E-3},{"$f":"'Subject Data'!I561","v":0},{"$f":"'Subject Data'!J561","v":0}]
["Failed to Keep in Proper Lane",{"$f":"'Comparison Group 3'!B562","v":2},{"$f":"'Comparison Group 3'!C562","v":6.0331825037707393E-4},{"$f":"'Comparison Group 2'!B562","v":0},{"$f":"'Comparison Group 2'!C562","v":0},{"$f":"'Comparison Group 1'!B562","v":1},{"$f":"'Comparison Group 1'!C562","v":3.4246575342465752E-3},{"$f":"'Subject Data'!B562","v":0},{"$f":"'Subject Data'!C562","v":0},{"$f":"'Comparison Group 3'!I562","v":70},{"$f":"'Comparison Group 3'!J562","v":4.7655356462066338E-4},{"$f":"'Comparison Group 2'!I562","v":4},{"$f":"'Comparison Group 2'!J562","v":3.4700233359069342E-5},{"$f":"'Comparison Group 1'!I562","v":229},{"$f":"'Comparison Group 1'!J562","v":1.99529493770149E-2},{"$f":"'Subject Data'!I562","v":0},{"$f":"'Subject Data'!J562","v":0}]
["Failed to Yield Right-of-Way",{"$f":"'Comparison Group 3'!B563","v":20},{"$f":"'Comparison Group 3'!C563","v":6.0331825037707393E-3},{"$f":"'Comparison Group 2'!B563","v":21},{"$f":"'Comparison Group 2'!C563","v":8.0645161290322578E-3},{"$f":"'Comparison Group 1'!B563","v":3},{"$f":"'Comparison Group 1'!C563","v":1.0273972602739725E-2},{"$f":"'Subject Data'!B563","v":0},{"$f":"'Subject Data'!C563","v":0},{"$f":"'Comparison Group 3'!I563","v":1581},{"$f":"'Comparison Group 3'!J563","v":1.0763302652360982E-2},{"$f":"'Comparison Group 2'!I563","v":4616},{"$f":"'Comparison Group 2'!J563","v":4.0044069296366017E-2},{"$f":"'Comparison Group 1'!I563","v":153},{"$f":"'Comparison Group 1'!J563","v":1.3331009845778513E-2},{"$f":"'Subject Data'!I563","v":5},{"$f":"'Subject Data'!J563","v":4.716981132075472E-2}]
["Followed Too Closely",{"$f":"'Comparison Group 3'!B564","v":96},{"$f":"'Comparison Group 3'!C564","v":2.8959276018099549E-2},{"$f":"'Comparison Group 2'!B564","v":2},{"$f":"'Comparison Group 2'!C564","v":7.6804915514592934E-4},{"$f":"'Comparison Group 1'!B564","v":0},{"$f":"'Comparison Group 1'!C564","v":0},{"$f":"'Subject Data'!B564","v":0},{"$f":"'Subject Data'!C564","v":0},{"$f":"'Comparison Group 3'!I564","v":3157},{"$f":"'Comparison Group 3'!J564","v":2.1492565764391916E-2},{"$f":"'Comparison Group 2'!I564","v":63},{"$f":"'Comparison Group 2'!J564","v":5.4652867540534212E-4},{"$f":"'Comparison Group 1'!I564","v":60},{"$f":"'Comparison Group 1'!J564","v":5.2278469983445151E-3},{"$f":"'Subject Data'!I564","v":4},{"$f":"'Subject Data'!J564","v":3.7735849056603772E-2}]
["Improper Backing",{"$f":"'Comparison Group 3'!B565","v":3},{"$f":"'Comparison Group 3'!C565","v":9.049773755656109E-4},{"$f":"'Comparison Group 2'!B565","v":534},{"$f":"'Comparison Group 2'!C565","v":0.20506912442396313},{"$f":"'Comparison Group 1'!B565","v":0},{"$f":"'Comparison Group 1'!C565","v":0},{"$f":"'Subject Data'!B565","v":0},{"$f":"'Subject Data'!C565","v":0},{"$f":"'Comparison Group 3'!I565","v":805},{"$f":"'Comparison Group 3'!J565","v":5.4803659931376286E-3},{"$f":"'Comparison Group 2'!I565","v":26790},{"$f":"'Comparison Group 2'!J565","v":0.23240481292236689},{"$f":"'Comparison Group 1'!I565","v":128},{"$f":"'Comparison Group 1'!J565","v":1.1152740263134965E-2},{"$f":"'Subject Data'!I565","v":17},{"$f":"'Subject Data'!J565","v":0.16037735849056603}]
["Improper Passing",{"$f":"'Comparison Group 3'!B566","v":16},{"$f":"'Comparison Group 3'!C566","v":4.8265460030165915E-3},{"$f":"'Comparison Group 2'!B566","v":1},{"$f":"'Comparison Group 2'!C566","v":3.8402457757296467E-4},{"$f":"'Comparison Group 1'!B566","v":97},{"$f":"'Comparison Group 1'!C566","v":0.3321917808219178},{"$f":"'Subject Data'!B566","v":2},{"$f":"'Subject Data'!C566","v":0.14285714285714285},{"$f":"'Comparison Group 3'!I566","v":2654},{"$f":"'Comparison Group 3'!J566","v":1.8068188007189151E-2},{"$f":"'Comparison Group 2'!I566","v":38},{"$f":"'Comparison Group 2'!J566","v":3.2965221691115873E-4},{"$f":"'Comparison Group 1'!I566","v":3480},{"$f":"'Comparison Group 1'!J566","v":0.30321512590398186},{"$f":"'Subject Data'!I566","v":12},{"$f":"'Subject Data'!J566","v":0.11320754716981132}]
["Improper Turn",{"$f":"'Comparison Group 3'!B567","v":1124},{"$f":"'Comparison Group 3'!C567","v":0.33906485671191555},{"$f":"'Comparison Group 2'!B567","v":82},{"$f":"'Comparison Group 2'!C567","v":3.1490015360983101E-2},{"$f":"'Comparison Group 1'!B567","v":21},{"$f":"'Comparison Group 1'!C567","v":7.1917808219178078E-2},{"$f":"'Subject Data'!B567","v":0},{"$f":"'Subject Data'!C567","v":0},{"$f":"'Comparison Group 3'!I567","v":46084},{"$f":"'Comparison Group 3'!J567","v":0.31373563531398074},{"$f":"'Comparison Group 2'!I567","v":3106},{"$f":"'Comparison Group 2'!J567","v":2.6944731203317342E-2},{"$f":"'Comparison Group 1'!I567","v":874},{"$f":"'Comparison Group 1'!J567","v":7.6152304609218444E-2},{"$f":"'Subject Data'!I567","v":10},{"$f":"'Subject Data'!J567","v":9.4339622641509441E-2}]
["Operated Motor Vehicle in Inattentive, Careless, Negligent, or Erratic Manner",{"$f":"'Comparison Group 3'!B568","v":1304},{"$f":"'Comparison Group 3'!C568","v":0.39336349924585218},{"$f":"'Comparison Group 2'!B568","v":331},{"$f":"'Comparison Group 2'!C568","v":0.12711213517665129},{"$f":"'Comparison Group 1'!B568","v":2},{"$f":"'Comparison Group 1'!C568","v":6.8493150684931503E-3},{"$f":"'Subject Data'!B568","v":1},{"$f":"'Subject Data'!C568","v":7.1428571428571425E-2},{"$f":"'Comparison Group 3'!I568","v":57749},{"$f":"'Comparison Group 3'!J568","v":0.39314988290398128},{"$f":"'Comparison Group 2'!I568","v":16828},{"$f":"'Comparison Group 2'!J568","v":0.1459838817416047},{"$f":"'Comparison Group 1'!I568","v":298},{"$f":"'Comparison Group 1'!J568","v":2.5964973425111091E-2},{"$f":"'Subject Data'!I568","v":7},{"$f":"'Subject Data'!J568","v":6.6037735849056603E-2}]
["Operated Motor Vehicle in Reckless or Aggressive Manner",{"$f":"'Comparison Group 3'!B569","v":232},{"$f":"'Comparison Group 3'!C569","v":6.9984917043740574E-2},{"$f":"'Comparison Group 2'!B569","v":5},{"$f":"'Comparison Group 2'!C569","v":1.9201228878648233E-3},{"$f":"'Comparison Group 1'!B569","v":18},{"$f":"'Comparison Group 1'!C569","v":6.1643835616438353E-2},{"$f":"'Subject Data'!B569","v":3},{"$f":"'Subject Data'!C569","v":0.21428571428571427},{"$f":"'Comparison Group 3'!I569","v":16297},{"$f":"'Comparison Group 3'!J569","v":0.11094847775175644},{"$f":"'Comparison Group 2'!I569","v":338},{"$f":"'Comparison Group 2'!J569","v":2.9321697188413594E-3},{"$f":"'Comparison Group 1'!I569","v":219},{"$f":"'Comparison Group 1'!J569","v":1.908164154395748E-2},{"$f":"'Subject Data'!I569","v":12},{"$f":"'Subject Data'!J569","v":0.11320754716981132}]
["Over-Correcting/Over-Steering",{"$f":"'Comparison Group 3'!B570","v":109},{"$f":"'Comparison Group 3'!C570","v":3.2880844645550529E-2},{"$f":"'Comparison Group 2'!B570","v":3},{"$f":"'Comparison Group 2'!C570","v":1.152073732718894E-3},{"$f":"'Comparison Group 1'!B570","v":26},{"$f":"'Comparison Group 1'!C570","v":8.9041095890410954E-2},{"$f":"'Subject Data'!B570","v":2},{"$f":"'Subject Data'!C570","v":0.14285714285714285},{"$f":"'Comparison Group 3'!I570","v":545},{"$f":"'Comparison Group 3'!J570","v":3.7103098959751649E-3},{"$f":"'Comparison Group 2'!I570","v":128},{"$f":"'Comparison Group 2'!J570","v":1.1104074674902189E-3},{"$f":"'Comparison Group 1'!I570","v":1555},{"$f":"'Comparison Group 1'!J570","v":0.13548836804042869},{"$f":"'Subject Data'!I570","v":5},{"$f":"'Subject Data'!J570","v":4.716981132075472E-2}]
["Ran Off Roadway",{"$f":"'Comparison Group 3'!B571","v":31},{"$f":"'Comparison Group 3'!C571","v":9.3514328808446453E-3},{"$f":"'Comparison Group 2'!B571","v":1},{"$f":"'Comparison Group 2'!C571","v":3.8402457757296467E-4},{"$f":"'Comparison Group 1'!B571","v":33},{"$f":"'Comparison Group 1'!C571","v":0.11301369863013698},{"$f":"'Subject Data'!B571","v":0},{"$f":"'Subject Data'!C571","v":0},{"$f":"'Comparison Group 3'!I571","v":73},{"$f":"'Comparison Group 3'!J571","v":4.9697728881869184E-4},{"$f":"'Comparison Group 2'!I571","v":40},{"$f":"'Comparison Group 2'!J571","v":3.4700233359069338E-4},{"$f":"'Comparison Group 1'!I571","v":1267},{"$f":"'Comparison Group 1'!J571","v":0.11039470244837502},{"$f":"'Subject Data'!I571","v":3},{"$f":"'Subject Data'!J571","v":2.8301886792452831E-2}]
["Ran Red Light",{"$f":"'Comparison Group 3'!B572","v":14},{"$f":"'Comparison Group 3'!C572","v":4.2232277526395171E-3},{"$f":"'Comparison Group 2'!B572","v":19.999999999999943},{"$f":"'Comparison Group 2'!C572","v":7.6804915514592717E-3},{"$f":"'Comparison Group 1'!B572","v":30},{"$f":"'Comparison Group 1'!C572","v":0.10273972602739725},{"$f":"'Subject Data'!B572","v":1},{"$f":"'Subject Data'!C572","v":7.1428571428571425E-2},{"$f":"'Comparison Group 3'!I572","v":402},{"$f":"'Comparison Group 3'!J572","v":2.7367790425358095E-3},{"$f":"'Comparison Group 2'!I572","v":29},{"$f":"'Comparison Group 2'!J572","v":2.5157669185325274E-4},{"$f":"'Comparison Group 1'!I572","v":571},{"$f":"'Comparison Group 1'!J572","v":4.9751677267578634E-2},{"$f":"'Subject Data'!I572","v":2},{"$f":"'Subject Data'!J572","v":1.8867924528301886E-2}]
["Ran Stop Sign",{"$f":"'Comparison Group 3'!B573","v":107},{"$f":"'Comparison Group 3'!C573","v":3.2277526395173457E-2},{"$f":"'Comparison Group 2'!B573","v":44},{"$f":"'Comparison Group 2'!C573","v":1.6897081413210446E-2},{"$f":"'Comparison Group 1'!B573","v":8},{"$f":"'Comparison Group 1'!C573","v":2.7397260273972601E-2},{"$f":"'Subject Data'!B573","v":1},{"$f":"'Subject Data'!C573","v":7.1428571428571425E-2},{"$f":"'Comparison Group 3'!I573","v":1814},{"$f":"'Comparison Group 3'!J573","v":1.234954523174119E-2},{"$f":"'Comparison Group 2'!I573","v":543},{"$f":"'Comparison Group 2'!J573","v":4.7105566784936626E-3},{"$f":"'Comparison Group 1'!I573","v":676},{"$f":"'Comparison Group 1'!J573","v":5.8900409514681534E-2},{"$f":"'Subject Data'!I573","v":0},{"$f":"'Subject Data'!J573","v":0}]
["Swerve or Avoided Due to Wind, Slippery Surface, Motor Vehicle, Object, Non-Motorist in Roadway, etc.",{"$f":"'Comparison Group 3'!B574","v":1},{"$f":"'Comparison Group 3'!C574","v":3.0165912518853697E-4},{"$f":"'Comparison Group 2'!B574","v":237},{"$f":"'Comparison Group 2'!C574","v":9.1013824884792621E-2},{"$f":"'Comparison Group 1'!B574","v":4},{"$f":"'Comparison Group 1'!C574","v":1.3698630136986301E-2},{"$f":"'Subject Data'!B574","v":0},{"$f":"'Subject Data'!C574","v":0},{"$f":"'Comparison Group 3'!I574","v":40},{"$f":"'Comparison Group 3'!J574","v":2.7231632264037908E-4},{"$f":"'Comparison Group 2'!I574","v":1022},{"$f":"'Comparison Group 2'!J574","v":8.8659096232422165E-3},{"$f":"'Comparison Group 1'!I574","v":101},{"$f":"'Comparison Group 1'!J574","v":8.8002091138799331E-3},{"$f":"'Subject Data'!I574","v":4},{"$f":"'Subject Data'!J574","v":3.7735849056603772E-2}]
["Wrong Side or Wrong Way",{"$f":"'Comparison Group 3'!B575","v":50},{"$f":"'Comparison Group 3'!C575","v":1.5082956259426848E-2},{"$f":"'Comparison Group 2'!B575","v":1},{"$f":"'Comparison Group 2'!C575","v":3.8402457757296467E-4},{"$f":"'Comparison Group 1'!B575","v":6},{"$f":"'Comparison Group 1'!C575","v":2.0547945205479451E-2},{"$f":"'Subject Data'!B575","v":0},{"$f":"'Subject Data'!C575","v":0},{"$f":"'Comparison Group 3'!I575","v":1438},{"$f":"'Comparison Group 3'!J575","v":9.7897717989216277E-3},{"$f":"'Comparison Group 2'!I575","v":10},{"$f":"'Comparison Group 2'!J575","v":8.6750583397673345E-5},{"$f":"'Comparison Group 1'!I575","v":296},{"$f":"'Comparison Group 1'!J575","v":2.5790711858499609E-2},{"$f":"'Subject Data'!I575","v":0},{"$f":"'Subject Data'!J575","v":0}]
["Other Contributing Action",{"$f":"'Comparison Group 3'!B576","v":21},{"$f":"'Comparison Group 3'!C576","v":6.3348416289592761E-3},{"$f":"'Comparison Group 2'!B576","v":4},{"$f":"'Comparison Group 2'!C576","v":1.5360983102918587E-3},{"$f":"'Comparison Group 1'!B576","v":7},{"$f":"'Comparison Group 1'!C576","v":2.3972602739726026E-2},{"$f":"'Subject Data'!B576","v":0},{"$f":"'Subject Data'!C576","v":0},{"$f":"'Comparison Group 3'!I576","v":1061},{"$f":"'Comparison Group 3'!J576","v":7.2231904580360544E-3},{"$f":"'Comparison Group 2'!I576","v":442},{"$f":"'Comparison Group 2'!J576","v":3.8343757861771621E-3},{"$f":"'Comparison Group 1'!I576","v":1038},{"$f":"'Comparison Group 1'!J576","v":9.0441753071360112E-2},{"$f":"'Subject Data'!I576","v":10},{"$f":"'Subject Data'!J576","v":9.4339622641509441E-2}]
["Unknown",{"$f":"'Comparison Group 3'!B577","v":121},{"$f":"'Comparison Group 3'!C577","v":3.6500754147812974E-2},{"$f":"'Comparison Group 2'!B577","v":214},{"$f":"'Comparison Group 2'!C577","v":8.218125960061444E-2},{"$f":"'Comparison Group 1'!B577","v":26},{"$f":"'Comparison Group 1'!C577","v":8.9041095890410954E-2},{"$f":"'Subject Data'!B577","v":1},{"$f":"'Subject Data'!C577","v":7.1428571428571425E-2},{"$f":"'Comparison Group 3'!I577","v":2961},{"$f":"'Comparison Group 3'!J577","v":2.0158215783454059E-2},{"$f":"'Comparison Group 2'!I577","v":1081},{"$f":"'Comparison Group 2'!J577","v":9.3777380652884882E-3},{"$f":"'Comparison Group 1'!I577","v":364},{"$f":"'Comparison Group 1'!J577","v":3.171560512329006E-2},{"$f":"'Subject Data'!I577","v":3},{"$f":"'Subject Data'!J577","v":2.8301886792452831E-2}]

{"sheet":"Summary Accessible","index":10,"n_rows":620,"n_cols":18,"rows_kept":620,"cut":false,"hidden":true,"merged":[[505,9,505,17],[343,9,343,17],[326,9,326,17],[333,9,333,17],[338,9,338,17],[344,9,344,17],[375,9,375,17],[426,9,426,17],[443,9,443,17],[487,9,487,17],[599,0,599,8],[0,9,0,17],[8,9,8,17],[15,9,15,17],[19,9,19,17],[24,9,24,17],[33,9,33,17],[60,9,60,17],[74,9,74,17],[81,9,81,17],[125,9,125,17],[138,9,138,17],[150,9,150,17],[164,9,164,17],[173,9,173,17],[261,0,261,8],[267,0,267,8],[275,0,275,8],[280,0,280,8],[286,0,286,8],[186,0,186,8],[211,0,211,8],[236,0,236,8],[241,0,241,8],[254,0,254,8],[33,0,33,8],[60,0,60,8],[74,0,74,8],[81,0,81,8],[125,0,125,8],[0,0,0,8],[8,0,8,8],[15,0,15,8],[19,0,19,8],[24,0,24,8],[343,0,343,8],[505,0,505,8],[138,0,138,8],[150,0,150,8],[164,0,164,8],[173,0,173,8],[291,0,291,8],[299,0,299,8],[307,0,307,8],[312,0,312,8],[321,0,321,8],[326,0,326,8],[333,0,333,8],[338,0,338,8],[344,0,344,8],[375,0,375,8],[392,0,392,8],[396,0,396,8],[404,0,404,8],[413,0,413,8],[426,0,426,8],[443,0,443,8],[487,0,487,8],[506,0,506,8],[516,1,516,8],[536,0,536,8],[557,0,557,8],[578,0,578,8],[186,9,186,17],[211,9,211,17],[236,9,236,17],[241,9,241,17],[254,9,254,17],[261,9,261,17],[267,9,267,17],[275,9,275,17],[280,9,280,17],[286,9,286,17],[291,10,291,17],[299,9,299,17],[307,9,307,17],[312,9,312,17],[321,9,321,17],[392,9,392,17],[396,9,396,17],[404,9,404,17],[413,9,413,17],[599,9,599,17],[506,9,506,17],[516,9,516,17],[536,9,536,17],[557,9,557,17],[578,9,578,17]]}
[{"$f":"CONCATENATE(\"Fatal and Serious Injury Crashes - \",A2,\"\nComp 3 = \",Instructions!$B$12,\", Comp 2 = \",Instructions!$B$11,\", Comp 1 = \", Instructions!$B$10, \", Subject = \",Instructions!$B$9)","v":"Fatal and Serious Injury Crashes - Overall Summary\nComp 3 = Test Group 3, Comp 2 = Test Group 2, Comp 1 = Test Group 1, Subject = Test County"},null,null,null,null,null,null,null,null,{"$f":"CONCATENATE(\"Total Crashes - \",J2,\"\nComp 3 = \",Instructions!$B$12,\", Comp 2 = \",Instructions!$B$11,\", Comp 1 = \", Instructions!$B$10, \", Subject = \",Instructions!$B$9)","v":"Total Crashes - Overall Summary\nComp 3 = Test Group 3, Comp 2 = Test Group 2, Comp 1 = Test Group 1, Subject = Test County"}]
["Overall Summary","Comp 3 Number","Comp 3 Percent","Comp 2 Number","Comp 2 Percent","Comp 1 Number","Comp 1 Percent","Subject Number","Subject Percent","Overall Summary","Comp 3 Number","Comp 3 Percent","Comp 2 Number","Comp 2 Percent","Comp 1 Number","Comp 1 Percent","Subject Number","Subject Percent"]
["Total # of Collisions",{"$f":"'Comparison Group 3 Accessible'!B3","v":1289},"N/A",{"$f":"'Comparison Group 2 Accessible'!B3","v":994},"N/A",{"$f":"'Comparison Group 1 Accessible'!B3","v":117},"N/A",{"$f":"SUM('Subject Data Accessible'!D3:H3)","v":7},"N/A",{"$f":"A3","v":"Total # of Collisions"},{"$f":"'Comparison Group 3 Accessible'!J3","v":55025},"N/A",{"$f":"'Comparison Group 2 Accessible'!J3","v":42588},"N/A",{"$f":"'Comparison Group 1 Accessible'!J3","v":4567},"N/A",{"$f":"SUM('Subject Data Accessible'!L3:P3)","v":50},"N/A"]
["# of Fatal Collisions",{"$f":"'Comparison Group 3 Accessible'!B4","v":184},{"$f":"'Comparison Group 3 Accessible'!C4","v":0.14274631497284718},{"$f":"'Comparison Group 2 Accessible'!B4","v":130},{"$f":"'Comparison Group 2 Accessible'!C4","v":0.13078470824949698},{"$f":"'Comparison Group 1 Accessible'!B4","v":20},{"$f":"'Comparison Group 1 Accessible'!C4","v":0.17094017094017094},{"$f":"SUM('Subject Data Accessible'!D4:H4)","v":4},{"$f":"H4/H3","v":0.5714285714285714},"# of Fatal Collisions",{"$f":"'Comparison Group 3 Accessible'!J4","v":184},{"$f":"'Comparison Group 3 Accessible'!K4","v":3.3439345751930939E-3},{"$f":"'Comparison Group 2 Accessible'!J4","v":130},{"$f":"'Comparison Group 2 Accessible'!K4","v":3.0525030525030525E-3},{"$f":"'Comparison Group 1 Accessible'!J4","v":20},{"$f":"'Comparison Group 1 Accessible'!K4","v":4.3792423910663453E-3},{"$f":"SUM('Subject Data Accessible'!L4:P4)","v":0},{"$f":"Q4/Q3","v":0}]
["# of Serious Injury Collisions",{"$f":"'Comparison Group 3 Accessible'!B5","v":1105},{"$f":"'Comparison Group 3 Accessible'!C5","v":0.85725368502715282},{"$f":"'Comparison Group 2 Accessible'!B5","v":864},{"$f":"'Comparison Group 2 Accessible'!C5","v":0.86921529175050305},{"$f":"'Comparison Group 1 Accessible'!B5","v":97},{"$f":"'Comparison Group 1 Accessible'!C5","v":0.82905982905982911},{"$f":"SUM('Subject Data Accessible'!D5:H5)","v":3},{"$f":"H5/H3","v":0.42857142857142855},"# of Serious Injury Collisions",{"$f":"'Comparison Group 3 Accessible'!J5","v":1105},{"$f":"'Comparison Group 3 Accessible'!K5","v":2.0081781008632438E-2},{"$f":"'Comparison Group 2 Accessible'!J5","v":864},{"$f":"'Comparison Group 2 Accessible'!K5","v":2.0287404902789519E-2},{"$f":"'Comparison Group 1 Accessible'!J5","v":97},{"$f":"'Comparison Group 1 Accessible'!K5","v":2.1239325596671774E-2},{"$f":"SUM('Subject Data Accessible'!L5:P5)","v":1},{"$f":"Q5/Q3","v":0.02}]
["# of Alcohol-Related Collisions",{"$f":"'Comparison Group 3 Accessible'!B6","v":249},{"$f":"'Comparison Group 3 Accessible'!C6","v":0.19317300232738557},{"$f":"'Comparison Group 2 Accessible'!B6","v":169},{"$f":"'Comparison Group 2 Accessible'!C6","v":0.17002012072434608},{"$f":"'Comparison Group 1 Accessible'!B6","v":33},{"$f":"'Comparison Group 1 Accessible'!C6","v":0.28205128205128205},{"$f":"SUM('Subject Data Accessible'!D6:H6)","v":0},{"$f":"H6/H3","v":0},"# of Alcohol-Related Collisions",{"$f":"'Comparison Group 3 Accessible'!J6","v":2939},{"$f":"'Comparison Group 3 Accessible'!K6","v":5.341208541572013E-2},{"$f":"'Comparison Group 2 Accessible'!J6","v":2089},{"$f":"'Comparison Group 2 Accessible'!K6","v":4.9051375974452895E-2},{"$f":"'Comparison Group 1 Accessible'!J6","v":432},{"$f":"'Comparison Group 1 Accessible'!K6","v":9.4591635647033059E-2},{"$f":"SUM('Subject Data Accessible'!L6:P6)","v":2},{"$f":"Q6/Q3","v":0.04}]
["Total # of Fatalities",{"$f":"'Comparison Group 3 Accessible'!B7","v":195},"N/A",{"$f":"'Comparison Group 2 Accessible'!B7","v":140},"N/A",{"$f":"'Comparison Group 1 Accessible'!B7","v":21},"N/A",{"$f":"SUM('Subject Data Accessible'!D7:H7)","v":0},"N/A","Total # of Fatalities",{"$f":"'Comparison Group 3 Accessible'!J7","v":195},"N/A",{"$f":"'Comparison Group 2 Accessible'!J7","v":140},"N/A",{"$f":"'Comparison Group 1 Accessible'!J7","v":21},"N/A",{"$f":"SUM('Subject Data Accessible'!L7:P7)","v":0},"N/A"]
["Total # of Serious Injuries",{"$f":"'Comparison Group 3 Accessible'!B8","v":1989},"N/A",{"$f":"'Comparison Group 2 Accessible'!B8","v":1515},"N/A",{"$f":"'Comparison Group 1 Accessible'!B8","v":178},"N/A",{"$f":"SUM('Subject Data Accessible'!D8:H8)","v":3},"N/A","Total # of Serious Injuries",{"$f":"'Comparison Group 3 Accessible'!J8","v":18776},"N/A",{"$f":"'Comparison Group 2 Accessible'!J8","v":13460},"N/A",{"$f":"'Comparison Group 1 Accessible'!J8","v":1896},"N/A",{"$f":"SUM('Subject Data Accessible'!L8:P8)","v":7},"N/A"]
[{"$f":"CONCATENATE(\"Fatal and Serious Injury Crashes - \",A10,\"\nComp 3 = \",Instructions!$B$12,\", Comp 2 = \",Instructions!$B$11,\", Comp 1 = \", Instructions!$B$10, \", Subject = \",Instructions!$B$9)","v":"Fatal and Serious Injury Crashes - Most Severe Injury Reported\nComp 3 = Test Group 3, Comp 2 = Test Group 2, Comp 1 = Test Group 1, Subject = Test County"},null,null,null,null,null,null,null,null,{"$f":"CONCATENATE(\"Total Crashes - \",J10,\"\nComp 3 = \",Instructions!$B$12,\", Comp 2 = \",Instructions!$B$11,\", Comp 1 = \", Instructions!$B$10, \", Subject = \",Instructions!$B$9)","v":"Total Crashes - Most Severe Injury Reported\nComp 3 = Test Group 3, Comp 2 = Test Group 2, Comp 1 = Test Group 1, Subject = Test County"}]
["Most Severe Injury Reported","Comp 3 Number","Comp 3 Percent","Comp 2 Number","Comp 2 Percent","Comp 1 Number","Comp 1 Percent","Subject Number","Subject Percent","Most Severe Injury Reported","Comp 3 Number","Comp 3 Percent","Comp 2 Number","Comp 2 Percent","Comp 1 Number","Comp 1 Percent","Subject Number","Subject Percent"]
["5 (K)",{"$f":"'Comparison Group 3 Accessible'!B11","v":184},{"$f":"'Comparison Group 3 Accessible'!C11","v":0.14274631497284718},{"$f":"'Comparison Group 2 Accessible'!B11","v":130},{"$f":"'Comparison Group 2 Accessible'!C11","v":0.13078470824949698},{"$f":"'Comparison Group 1 Accessible'!B11","v":20},{"$f":"'Comparison Group 1 Accessible'!C11","v":0.17094017094017094},{"$f":"SUM('Subject Data Accessible'!D11:H11)","v":4},{"$f":"H11/SUM(H$11:H$15)","v":0.5714285714285714},{"$f":"A11","v":"5 (K)"},{"$f":"'Comparison Group 3 Accessible'!J11","v":184},{"$f":"'Comparison Group 3 Accessible'!K11","v":3.3439345751930939E-3},{"$f":"'Comparison Group 2 Accessible'!J11","v":130},{"$f":"'Comparison Group 2 Accessible'!K11","v":3.0525030525030525E-3},{"$f":"'Comparison Group 1 Accessible'!J11","v":20},{"$f":"'Comparison Group 1 Accessible'!K11","v":4.3792423910663453E-3},{"$f":"SUM('Subject Data Accessible'!L11:P11)","v":4},{"$f":"Q11/SUM(Q$11:Q$15)","v":0.08}]
["4 (A)",{"$f":"'Comparison Group 3 Accessible'!B12","v":1105},{"$f":"'Comparison Group 3 Accessible'!C12","v":0.85725368502715282},{"$f":"'Comparison Group 2 Accessible'!B12","v":864},{"$f":"'Comparison Group 2 Accessible'!C12","v":0.86921529175050305},{"$f":"'Comparison Group 1 Accessible'!B12","v":97},{"$f":"'Comparison Group 1 Accessible'!C12","v":0.82905982905982911},{"$f":"SUM('Subject Data Accessible'!D12:H12)","v":3},{"$f":"H12/SUM(H$11:H$15)","v":0.42857142857142855},{"$f":"A12","v":"4 (A)"},{"$f":"'Comparison Group 3 Accessible'!J12","v":1105},{"$f":"'Comparison Group 3 Accessible'!K12","v":2.0081781008632438E-2},{"$f":"'Comparison Group 2 Accessible'!J12","v":864},{"$f":"'Comparison Group 2 Accessible'!K12","v":2.0287404902789519E-2},{"$f":"'Comparison Group 1 Accessible'!J12","v":97},{"$f":"'Comparison Group 1 Accessible'!K12","v":2.1239325596671774E-2},{"$f":"SUM('Subject Data Accessible'!L12:P12)","v":3},{"$f":"Q12/SUM(Q$11:Q$15)","v":0.06}]
["3 (B)","N/A","N/A","N/A","N/A","N/A","N/A","N/A","N/A",{"$f":"A13","v":"3 (B)"},{"$f":"'Comparison Group 3 Accessible'!J13","v":3082},{"$f":"'Comparison Group 3 Accessible'!K13","v":5.6010904134484327E-2},{"$f":"'Comparison Group 2 Accessible'!J13","v":2292},{"$f":"'Comparison Group 2 Accessible'!K13","v":5.381797689489997E-2},{"$f":"'Comparison Group 1 Accessible'!J13","v":306},{"$f":"'Comparison Group 1 Accessible'!K13","v":6.700240858331509E-2},{"$f":"SUM('Subject Data Accessible'!L13:P13)","v":2},{"$f":"Q13/SUM(Q$11:Q$15)","v":0.04}]
["2 (C)","N/A","N/A","N/A","N/A","N/A","N/A","N/A","N/A",{"$f":"A14","v":"2 (C)"},{"$f":"'Comparison Group 3 Accessible'!J14","v":9284},{"$f":"'Comparison Group 3 Accessible'!K14","v":0.16872330758746024},{"$f":"'Comparison Group 2 Accessible'!J14","v":6486},{"$f":"'Comparison Group 2 Accessible'!K14","v":0.15229642152719075},{"$f":"'Comparison Group 1 Accessible'!J14","v":996},{"$f":"'Comparison Group 1 Accessible'!K14","v":0.218086271075104},{"$f":"SUM('Subject Data Accessible'!L14:P14)","v":4},0.08]
["1 (O)","N/A","N/A","N/A","N/A","N/A","N/A","N/A","N/A",{"$f":"A15","v":"1 (O)"},{"$f":"'Comparison Group 3 Accessible'!J15","v":41370},{"$f":"'Comparison Group 3 Accessible'!K15","v":0.75184007269422992},{"$f":"'Comparison Group 2 Accessible'!J15","v":32816},{"$f":"'Comparison Group 2 Accessible'!K15","v":0.77054569362261671},{"$f":"'Comparison Group 1 Accessible'!J15","v":3148},{"$f":"'Comparison Group 1 Accessible'!K15","v":0.6892927523538428},{"$f":"SUM('Subject Data Accessible'!L15:P15)","v":37},0.74]
[{"$f":"CONCATENATE(\"Fatal and Serious Injury Crashes - \",A17,\"\nComp 3 = \",Instructions!$B$12,\", Comp 2 = \",Instructions!$B$11,\", Comp 1 = \", Instructions!$B$10, \", Subject = \",Instructions!$B$9)","v":"Fatal and Serious Injury Crashes - Property\nComp 3 = Test Group 3, Comp 2 = Test Group 2, Comp 1 = Test Group 1, Subject = Test County"},null,null,null,null,null,null,null,null,{"$f":"CONCATENATE(\"Total Crashes - \",J17,\"\nComp 3 = \",Instructions!$B$12,\", Comp 2 = \",Instructions!$B$11,\", Comp 1 = \", Instructions!$B$10, \", Subject = \",Instructions!$B$9)","v":"Total Crashes - Property\nComp 3 = Test Group 3, Comp 2 = Test Group 2, Comp 1 = Test Group 1, Subject = Test County"}]
["Property","Comp 3 Number","Comp 3 Percent","Comp 2 Number","Comp 2 Percent","Comp 1 Number","Comp 1 Percent","Subject Number","Subject Percent","Property","Comp 3 Number","Comp 3 Percent","Comp 2 Number","Comp 2 Percent","Comp 1 Number","Comp 1 Percent","Subject Number","Subject Percent"]
["Public",{"$f":"'Comparison Group 3 Accessible'!B18","v":1105},{"$f":"'Comparison Group 3 Accessible'!C18","v":0.85725368502715282},{"$f":"'Comparison Group 2 Accessible'!B18","v":651},{"$f":"'Comparison Group 2 Accessible'!C18","v":0.65492957746478875},{"$f":"'Comparison Group 1 Accessible'!B18","v":80},{"$f":"'Comparison Group 1 Accessible'!C18","v":0.68376068376068377},{"$f":"SUM('Subject Data Accessible'!D18:H18)","v":4},{"$f":"H18/SUM(H$18:H$19)","v":0.5714285714285714},{"$f":"A18","v":"Public"},{"$f":"'Comparison Group 3 Accessible'!J18","v":52559.6},{"$f":"'Comparison Group 3 Accessible'!K18","v":0.95519491140390733},{"$f":"'Comparison Group 2 Accessible'!J18","v":32859},{"$f":"'Comparison Group 2 Accessible'!K18","v":0.77155536770921385},{"$f":"'Comparison Group 1 Accessible'!J18","v":3561},{"$f":"'Comparison Group 1 Accessible'!K18","v":0.77972410772936285},{"$f":"SUM('Subject Data Accessible'!L18:P18)","v":37},{"$f":"Q18/SUM(Q$18:Q$19)","v":0.74}]
["Private",{"$f":"'Comparison Group 3 Accessible'!B19","v":184},{"$f":"'Comparison Group 3 Accessible'!C19","v":0.14274631497284718},{"$f":"'Comparison Group 2 Accessible'!B19","v":343},{"$f":"'Comparison Group 2 Accessible'!C19","v":0.34507042253521125},{"$f":"'Comparison Group 1 Accessible'!B19","v":37},{"$f":"'Comparison Group 1 Accessible'!C19","v":0.31623931623931623},{"$f":"SUM('Subject Data Accessible'!D19:H19)","v":3},{"$f":"H19/SUM(H$18:H$19)","v":0.42857142857142855},{"$f":"A19","v":"Private"},{"$f":"'Comparison Group 3 Accessible'!J19","v":2465.4000000000015},{"$f":"'Comparison Group 3 Accessible'!K19","v":4.480508859609271E-2},{"$f":"'Comparison Group 2 Accessible'!J19","v":9729},{"$f":"'Comparison Group 2 Accessible'!K19","v":0.22844463229078613},{"$f":"'Comparison Group 1 Accessible'!J19","v":1006},{"$f":"'Comparison Group 1 Accessible'!K19","v":0.22027589227063718},{"$f":"SUM('Subject Data Accessible'!L19:P19)","v":13},{"$f":"Q19/SUM(Q$18:Q$19)","v":0.26}]
[{"$f":"CONCATENATE(\"Fatal and Serious Injury Crashes - \",A21,\"\nComp 3 = \",Instructions!$B$12,\", Comp 2 = \",Instructions!$B$11,\", Comp 1 = \", Instructions!$B$10, \", Subject = \",Instructions!$B$9)","v":"Fatal and Serious Injury Crashes - Location\nComp 3 = Test Group 3, Comp 2 = Test Group 2, Comp 1 = Test Group 1, Subject = Test County"},null,null,null,null,null,null,null,null,{"$f":"CONCATENATE(\"Total Crashes - \",J21,\"\n Comp 3 = \",Instructions!$B$12,\", Comp 2 = \",Instructions!$B$11,\", Comp 1 = \", Instructions!$B$10, \", Subject = \",Instructions!$B$9)","v":"Total Crashes - Location\n Comp 3 = Test Group 3, Comp 2 = Test Group 2, Comp 1 = Test Group 1, Subject = Test County"}]
["Location","Comp 3 Number","Comp 3 Percent","Comp 2 Number","Comp 2 Percent","Comp 1 Number","Comp 1 Percent","Subject Number","Subject Percent","Location","Comp 3 Number","Comp 3 Percent","Comp 2 Number","Comp 2 Percent","Comp 1 Number","Comp 1 Percent","Subject Number","Subject Percent"]
["Trafficway, On Road",{"$f":"'Comparison Group 3 Accessible'!B22","v":373},{"$f":"'Comparison Group 3 Accessible'!C22","v":0.28937160589604344},{"$f":"'Comparison Group 2 Accessible'!B22","v":1},{"$f":"'Comparison Group 2 Accessible'!C22","v":1.006036217303823E-3},{"$f":"'Comparison Group 1 Accessible'!B22","v":19},{"$f":"'Comparison Group 1 Accessible'!C22","v":0.1623931623931624},{"$f":"SUM('Subject Data Accessible'!D22:H22)","v":3},{"$f":"H22/SUM(H$22:H$24)","v":0.42857142857142855},{"$f":"A22","v":"Trafficway, On Road"},{"$f":"'Comparison Group 3 Accessible'!J22","v":18956},{"$f":"'Comparison Group 3 Accessible'!K22","v":0.34449795547478418},{"$f":"'Comparison Group 2 Accessible'!J22","v":140},{"$f":"'Comparison Group 2 Accessible'!K22","v":3.2873109796186721E-3},{"$f":"'Comparison Group 1 Accessible'!J22","v":633},{"$f":"'Comparison Group 1 Accessible'!K22","v":0.13860302167724983},{"$f":"SUM('Subject Data Accessible'!L22:P22)","v":31},{"$f":"Q22/SUM(Q$22:Q$24)","v":0.62}]
["Trafficway, Not on Road",{"$f":"'Comparison Group 3 Accessible'!B23","v":294.02},{"$f":"'Comparison Group 3 Accessible'!C23","v":0.22809930178432891},{"$f":"'Comparison Group 2 Accessible'!B23","v":838},{"$f":"'Comparison Group 2 Accessible'!C23","v":0.84305835010060359},{"$f":"'Comparison Group 1 Accessible'!B23","v":84},{"$f":"'Comparison Group 1 Accessible'!C23","v":0.71794871794871795},{"$f":"SUM('Subject Data Accessible'!D23:H23)","v":2},{"$f":"H23/SUM(H$22:H$24)","v":0.2857142857142857},{"$f":"A23","v":"Trafficway, Not on Road"},{"$f":"'Comparison Group 3 Accessible'!J23","v":10475},{"$f":"'Comparison Group 3 Accessible'!K23","v":0.19036801453884597},{"$f":"'Comparison Group 2 Accessible'!J23","v":36340},{"$f":"'Comparison Group 2 Accessible'!K23","v":0.853292007138161},{"$f":"'Comparison Group 1 Accessible'!J23","v":3477},{"$f":"'Comparison Group 1 Accessible'!K23","v":0.76133128968688413},{"$f":"SUM('Subject Data Accessible'!L23:P23)","v":13},{"$f":"Q23/SUM(Q$22:Q$24)","v":0.26}]
["Non-Trafficway",{"$f":"'Comparison Group 3 Accessible'!B24","v":621.98},{"$f":"'Comparison Group 3 Accessible'!C24","v":0.48252909231962765},{"$f":"'Comparison Group 2 Accessible'!B24","v":155},{"$f":"'Comparison Group 2 Accessible'!C24","v":0.15593561368209255},{"$f":"'Comparison Group 1 Accessible'!B24","v":14},{"$f":"'Comparison Group 1 Accessible'!C24","v":0.11965811965811966},{"$f":"SUM('Subject Data Accessible'!D24:H24)","v":2},{"$f":"H24/SUM(H$22:H$24)","v":0.2857142857142857},{"$f":"A24","v":"Non-Trafficway"},{"$f":"'Comparison Group 3 Accessible'!J24","v":25594},{"$f":"'Comparison Group 3 Accessible'!K24","v":0.46513402998636982},{"$f":"'Comparison Group 2 Accessible'!J24","v":6108},{"$f":"'Comparison Group 2 Accessible'!K24","v":0.14342068188222035},{"$f":"'Comparison Group 1 Accessible'!J24","v":457},{"$f":"'Comparison Group 1 Accessible'!K24","v":0.100065688635866},{"$f":"SUM('Subject Data Accessible'!L24:P24)","v":6},{"$f":"Q24/SUM(Q$22:Q$24)","v":0.12}]
[{"$f":"CONCATENATE(\"Fatal and Serious Injury Crashes - \",A26,\"\n Comp 3 = \",Instructions!$B$12,\", Comp 2 = \",Instructions!$B$11,\", Comp 1 = \", Instructions!$B$10, \", Subject = \",Instructions!$B$9)","v":"Fatal and Serious Injury Crashes - Weekday\n Comp 3 = Test Group 3, Comp 2 = Test Group 2, Comp 1 = Test Group 1, Subject = Test County"},null,null,null,null,null,null,null,null,{"$f":"CONCATENATE(\"Total Crashes - \",J26,\"\nComp 3 = \",Instructions!$B$12,\", Comp 2 = \",Instructions!$B$11,\", Comp 1 = \", Instructions!$B$10, \", Subject = \",Instructions!$B$9)","v":"Total Crashes - Weekday\nComp 3 = Test Group 3, Comp 2 = Test Group 2, Comp 1 = Test Group 1, Subject = Test County"}]
["Weekday","Comp 3 Number","Comp 3 Percent","Comp 2 Number","Comp 2 Percent","Comp 1 Number","Comp 1 Percent","Subject Number","Subject Percent","Weekday","Comp 3 Number","Comp 3 Percent","Comp 2 Number","Comp 2 Percent","Comp 1 Number","Comp 1 Percent","Subject Number","Subject Percent"]
["Sunday",{"$f":"'Comparison Group 3 Accessible'!B27","v":144},{"$f":"'Comparison Group 3 Accessible'!C27","v":0.11171450737005431},{"$f":"'Comparison Group 2 Accessible'!B27","v":102},{"$f":"'Comparison Group 2 Accessible'!C27","v":0.10261569416498995},{"$f":"'Comparison Group 1 Accessible'!B27","v":19},{"$f":"'Comparison Group 1 Accessible'!C27","v":0.1623931623931624},{"$f":"SUM('Subject Data Accessible'!D27:H27)","v":1},{"$f":"H27/SUM(H$27:H$33)","v":0.14285714285714285},{"$f":"A27","v":"Sunday"},{"$f":"'Comparison Group 3 Accessible'!J27","v":5109},{"$f":"'Comparison Group 3 Accessible'!K27","v":9.2848705134029985E-2},{"$f":"'Comparison Group 2 Accessible'!J27","v":3945},{"$f":"'Comparison Group 2 Accessible'!K27","v":9.2631727247111856E-2},{"$f":"'Comparison Group 1 Accessible'!J27","v":494},{"$f":"'Comparison Group 1 Accessible'!K27","v":0.10816728705933873},{"$f":"SUM('Subject Data Accessible'!L27:P27)","v":4},{"$f":"Q27/SUM(Q$27:Q$33)","v":0.08}]
["Monday",{"$f":"'Comparison Group 3 Accessible'!B28","v":163},{"$f":"'Comparison Group 3 Accessible'!C28","v":0.12645461598138091},{"$f":"'Comparison Group 2 Accessible'!B28","v":134},{"$f":"'Comparison Group 2 Accessible'!C28","v":0.13480885311871227},{"$f":"'Comparison Group 1 Accessible'!B28","v":11},{"$f":"'Comparison Group 1 Accessible'!C28","v":9.4017094017094016E-2},{"$f":"SUM('Subject Data Accessible'!D28:H28)","v":1},{"$f":"H28/SUM(H$27:H$33)","v":0.14285714285714285},"Monday",{"$f":"'Comparison Group 3 Accessible'!J28","v":7988},{"$f":"'Comparison Group 3 Accessible'!K28","v":0.14517037710131758},{"$f":"'Comparison Group 2 Accessible'!J28","v":6088},{"$f":"'Comparison Group 2 Accessible'!K28","v":0.1429510660279891},{"$f":"'Comparison Group 1 Accessible'!J28","v":663},{"$f":"'Comparison Group 1 Accessible'!K28","v":0.14517188526384936},{"$f":"SUM('Subject Data Accessible'!L28:P28)","v":9},{"$f":"Q28/SUM(Q$27:Q$33)","v":0.18}]
["Tuesday",{"$f":"'Comparison Group 3 Accessible'!B29","v":173},{"$f":"'Comparison Group 3 Accessible'!C29","v":0.13421256788207914},{"$f":"'Comparison Group 2 Accessible'!B29","v":138},{"$f":"'Comparison Group 2 Accessible'!C29","v":0.13883299798792756},{"$f":"'Comparison Group 1 Accessible'!B29","v":13},{"$f":"'Comparison Group 1 Accessible'!C29","v":0.1111111111111111},{"$f":"SUM('Subject Data Accessible'!D29:H29)","v":1},0.14285714285714285,"Tuesday",{"$f":"'Comparison Group 3 Accessible'!J29","v":8258},{"$f":"'Comparison Group 3 Accessible'!K29","v":0.15007723761926398},{"$f":"'Comparison Group 2 Accessible'!J29","v":6384},{"$f":"'Comparison Group 2 Accessible'!K29","v":0.14990138067061143},{"$f":"'Comparison Group 1 Accessible'!J29","v":655},{"$f":"'Comparison Group 1 Accessible'!K29","v":0.14342018830742281},{"$f":"SUM('Subject Data Accessible'!L29:P29)","v":13},0.26]
["Wednesday",{"$f":"'Comparison Group 3 Accessible'!B30","v":170},{"$f":"'Comparison Group 3 Accessible'!C30","v":0.13188518231186966},{"$f":"'Comparison Group 2 Accessible'!B30","v":129},{"$f":"'Comparison Group 2 Accessible'!C30","v":0.12977867203219315},{"$f":"'Comparison Group 1 Accessible'!B30","v":19},{"$f":"'Comparison Group 1 Accessible'!C30","v":0.1623931623931624},{"$f":"SUM('Subject Data Accessible'!D30:H30)","v":2},0.2857142857142857,"Wednesday",{"$f":"'Comparison Group 3 Accessible'!J30","v":8534},{"$f":"'Comparison Group 3 Accessible'!K30","v":0.15509313948205361},{"$f":"'Comparison Group 2 Accessible'!J30","v":6531},{"$f":"'Comparison Group 2 Accessible'!K30","v":0.15335305719921105},{"$f":"'Comparison Group 1 Accessible'!J30","v":700},{"$f":"'Comparison Group 1 Accessible'!K30","v":0.1532734836873221},{"$f":"SUM('Subject Data Accessible'!L30:P30)","v":6},0.12]
["Thursday",{"$f":"'Comparison Group 3 Accessible'!B31","v":220},{"$f":"'Comparison Group 3 Accessible'!C31","v":0.17067494181536075},{"$f":"'Comparison Group 2 Accessible'!B31","v":184},{"$f":"'Comparison Group 2 Accessible'!C31","v":0.18511066398390341},{"$f":"'Comparison Group 1 Accessible'!B31","v":14},{"$f":"'Comparison Group 1 Accessible'!C31","v":0.11965811965811966},{"$f":"SUM('Subject Data Accessible'!D31:H31)","v":1},0.14285714285714285,"Thursday",{"$f":"'Comparison Group 3 Accessible'!J31","v":8496},{"$f":"'Comparison Group 3 Accessible'!K31","v":0.15440254429804634},{"$f":"'Comparison Group 2 Accessible'!J31","v":6560},{"$f":"'Comparison Group 2 Accessible'!K31","v":0.15403400018784635},{"$f":"'Comparison Group 1 Accessible'!J31","v":695},{"$f":"'Comparison Group 1 Accessible'!K31","v":0.15217867308955552},{"$f":"SUM('Subject Data Accessible'!L31:P31)","v":8},0.16]
["Friday",{"$f":"'Comparison Group 3 Accessible'!B32","v":210},{"$f":"'Comparison Group 3 Accessible'!C32","v":0.16291698991466252},{"$f":"'Comparison Group 2 Accessible'!B32","v":156},{"$f":"'Comparison Group 2 Accessible'!C32","v":0.15694164989939638},{"$f":"'Comparison Group 1 Accessible'!B32","v":18},{"$f":"'Comparison Group 1 Accessible'!C32","v":0.15384615384615385},{"$f":"SUM('Subject Data Accessible'!D32:H32)","v":0},0,"Friday",{"$f":"'Comparison Group 3 Accessible'!J32","v":9389},{"$f":"'Comparison Group 3 Accessible'!K32","v":0.17063153112221718},{"$f":"'Comparison Group 2 Accessible'!J32","v":7353},{"$f":"'Comparison Group 2 Accessible'!K32","v":0.17265426880811496},{"$f":"'Comparison Group 1 Accessible'!J32","v":763},{"$f":"'Comparison Group 1 Accessible'!K32","v":0.16706809721918109},{"$f":"SUM('Subject Data Accessible'!L32:P32)","v":5},0.1]
["Saturday",{"$f":"'Comparison Group 3 Accessible'!B33","v":209},{"$f":"'Comparison Group 3 Accessible'!C33","v":0.16214119472459271},{"$f":"'Comparison Group 2 Accessible'!B33","v":151},{"$f":"'Comparison Group 2 Accessible'!C33","v":0.15191146881287726},{"$f":"'Comparison Group 1 Accessible'!B33","v":23},{"$f":"'Comparison Group 1 Accessible'!C33","v":0.19658119658119658},{"$f":"SUM('Subject Data Accessible'!D33:H33)","v":1},0.14285714285714285,"Saturday",{"$f":"'Comparison Group 3 Accessible'!J33","v":7251},{"$f":"'Comparison Group 3 Accessible'!K33","v":0.13177646524307132},{"$f":"'Comparison Group 2 Accessible'!J33","v":5727},{"$f":"'Comparison Group 2 Accessible'!K33","v":0.13447449985911525},{"$f":"'Comparison Group 1 Accessible'!J33","v":597},{"$f":"'Comparison Group 1 Accessible'!K33","v":0.13072038537333042},{"$f":"SUM('Subject Data Accessible'!L33:P33)","v":5},0.1]
[{"$f":"CONCATENATE(\"Fatal and Serious Injury Crashes - \",A35,\"\nComp 3 = \",Instructions!$B$12,\", Comp 2 = \",Instructions!$B$11,\", Comp 1 = \", Instructions!$B$10, \", Subject = \",Instructions!$B$9)","v":"Fatal and Serious Injury Crashes - Crash Hour\nComp 3 = Test Group 3, Comp 2 = Test Group 2, Comp 1 = Test Group 1, Subject = Test County"},null,null,null,null,null,null,null,null,{"$f":"CONCATENATE(\"Total Crashes - \",J35,\"\nComp 3 = \",Instructions!$B$12,\", Comp 2 = \",Instructions!$B$11,\", Comp 1 = \", Instructions!$B$10, \", Subject = \",Instructions!$B$9)","v":"Total Crashes - Crash Hour\nComp 3 = Test Group 3, Comp 2 = Test Group 2, Comp 1 = Test Group 1, Subject = Test County"}]
["Crash Hour","Comp 3 Number","Comp 3 Percent","Comp 2 Number","Comp 2 Percent","Comp 1 Number","Comp 1 Percent","Subject Number","Subject Percent","Crash Hour","Comp 3 Number","Comp 3 Percent","Comp 2 Number","Comp 2 Percent","Comp 1 Number","Comp 1 Percent","Subject Number","Subject Percent"]
["12:00 AM - 12:59 AM",{"$f":"'Comparison Group 3 Accessible'!B36","v":37},{"$f":"'Comparison Group 3 Accessible'!C36","v":2.8704422032583398E-2},{"$f":"'Comparison Group 2 Accessible'!B36","v":25},{"$f":"'Comparison Group 2 Accessible'!C36","v":2.5150905432595575E-2},{"$f":"'Comparison Group 1 Accessible'!B36","v":5},{"$f":"'Comparison Group 1 Accessible'!C36","v":4.2735042735042736E-2},{"$f":"SUM('Subject Data Accessible'!D36:H36)","v":2},{"$f":"H36/SUM(H$36:H$60)","v":0.2857142857142857},{"$f":"A36","v":"12:00 AM - 12:59 AM"},{"$f":"'Comparison Group 3 Accessible'!J36","v":852},{"$f":"'Comparison Group 3 Accessible'!K36","v":1.5483870967741935E-2},{"$f":"'Comparison Group 2 Accessible'!J36","v":622},{"$f":"'Comparison Group 2 Accessible'!K36","v":1.4605053066591529E-2},{"$f":"'Comparison Group 1 Accessible'!J36","v":115},{"$f":"'Comparison Group 1 Accessible'!K36","v":2.5180643748631486E-2},{"$f":"SUM('Subject Data Accessible'!L36:P36)","v":3},{"$f":"Q36/SUM(Q$36:Q$60)","v":0.06}]
["1:00 AM - 1:59 AM",{"$f":"'Comparison Group 3 Accessible'!B37","v":39},{"$f":"'Comparison Group 3 Accessible'!C37","v":3.0256012412723042E-2},{"$f":"'Comparison Group 2 Accessible'!B37","v":26},{"$f":"'Comparison Group 2 Accessible'!C37","v":2.6156941649899398E-2},{"$f":"'Comparison Group 1 Accessible'!B37","v":2},{"$f":"'Comparison Group 1 Accessible'!C37","v":1.7094017094017096E-2},{"$f":"SUM('Subject Data Accessible'!D37:H37)","v":0},{"$f":"H37/SUM(H$36:H$60)","v":0},"1:00 AM - 1:59 AM",{"$f":"'Comparison Group 3 Accessible'!J37","v":721},{"$f":"'Comparison Group 3 Accessible'!K37","v":1.3103134938664244E-2},{"$f":"'Comparison Group 2 Accessible'!J37","v":513},{"$f":"'Comparison Group 2 Accessible'!K37","v":1.2045646661031277E-2},{"$f":"'Comparison Group 1 Accessible'!J37","v":92},{"$f":"'Comparison Group 1 Accessible'!K37","v":2.014451499890519E-2},{"$f":"SUM('Subject Data Accessible'!L37:P37)","v":0},{"$f":"Q37/SUM(Q$36:Q$60)","v":0}]
["2:00 AM - 2:59 AM",{"$f":"'Comparison Group 3 Accessible'!B38","v":30},{"$f":"'Comparison Group 3 Accessible'!C38","v":2.3273855702094646E-2},{"$f":"'Comparison Group 2 Accessible'!B38","v":20},{"$f":"'Comparison Group 2 Accessible'!C38","v":2.0120724346076459E-2},{"$f":"'Comparison Group 1 Accessible'!B38","v":5},{"$f":"'Comparison Group 1 Accessible'!C38","v":4.2735042735042736E-2},{"$f":"SUM('Subject Data Accessible'!D38:H38)","v":0},0,"2:00 AM - 2:59 AM",{"$f":"'Comparison Group 3 Accessible'!J38","v":695},{"$f":"'Comparison Group 3 Accessible'!K38","v":1.263062244434348E-2},{"$f":"'Comparison Group 2 Accessible'!J38","v":494},{"$f":"'Comparison Group 2 Accessible'!K38","v":1.15995115995116E-2},{"$f":"'Comparison Group 1 Accessible'!J38","v":100},{"$f":"'Comparison Group 1 Accessible'!K38","v":2.1896211955331729E-2},{"$f":"SUM('Subject Data Accessible'!L38:P38)","v":0},0]
["3:00 AM - 3:59 AM",{"$f":"'Comparison Group 3 Accessible'!B39","v":15},{"$f":"'Comparison Group 3 Accessible'!C39","v":1.1636927851047323E-2},{"$f":"'Comparison Group 2 Accessible'!B39","v":8},{"$f":"'Comparison Group 2 Accessible'!C39","v":8.0482897384305842E-3},{"$f":"'Comparison Group 1 Accessible'!B39","v":4},{"$f":"'Comparison Group 1 Accessible'!C39","v":3.4188034188034191E-2},{"$f":"SUM('Subject Data Accessible'!D39:H39)","v":0},0,"3:00 AM - 3:59 AM",{"$f":"'Comparison Group 3 Accessible'!J39","v":489},{"$f":"'Comparison Group 3 Accessible'!K39","v":8.8868696047251245E-3},{"$f":"'Comparison Group 2 Accessible'!J39","v":337},{"$f":"'Comparison Group 2 Accessible'!K39","v":7.9130271437963754E-3},{"$f":"'Comparison Group 1 Accessible'!J39","v":75},{"$f":"'Comparison Group 1 Accessible'!K39","v":1.6422158966498797E-2},{"$f":"SUM('Subject Data Accessible'!L39:P39)","v":0},0]
["4:00 AM - 4:59 AM",{"$f":"'Comparison Group 3 Accessible'!B40","v":17},{"$f":"'Comparison Group 3 Accessible'!C40","v":1.3188518231186967E-2},{"$f":"'Comparison Group 2 Accessible'!B40","v":14},{"$f":"'Comparison Group 2 Accessible'!C40","v":1.4084507042253521E-2},{"$f":"'Comparison Group 1 Accessible'!B40","v":1},{"$f":"'Comparison Group 1 Accessible'!C40","v":8.5470085470085479E-3},{"$f":"SUM('Subject Data Accessible'!D40:H40)","v":1},0.14285714285714285,"4:00 AM - 4:59 AM",{"$f":"'Comparison Group 3 Accessible'!J40","v":440},{"$f":"'Comparison Group 3 Accessible'!K40","v":7.996365288505225E-3},{"$f":"'Comparison Group 2 Accessible'!J40","v":309},{"$f":"'Comparison Group 2 Accessible'!K40","v":7.2555649478726406E-3},{"$f":"'Comparison Group 1 Accessible'!J40","v":53},{"$f":"'Comparison Group 1 Accessible'!K40","v":1.1604992336325816E-2},{"$f":"SUM('Subject Data Accessible'!L40:P40)","v":1},0.02]
["5:00 AM - 5:59 AM",{"$f":"'Comparison Group 3 Accessible'!B41","v":24},{"$f":"'Comparison Group 3 Accessible'!C41","v":1.8619084561675717E-2},{"$f":"'Comparison Group 2 Accessible'!B41","v":16},{"$f":"'Comparison Group 2 Accessible'!C41","v":1.6096579476861168E-2},{"$f":"'Comparison Group 1 Accessible'!B41","v":3},{"$f":"'Comparison Group 1 Accessible'!C41","v":2.564102564102564E-2},{"$f":"SUM('Subject Data Accessible'!D41:H41)","v":0},0,"5:00 AM - 5:59 AM",{"$f":"'Comparison Group 3 Accessible'!J41","v":870},{"$f":"'Comparison Group 3 Accessible'!K41","v":1.5810995002271695E-2},{"$f":"'Comparison Group 2 Accessible'!J41","v":617},{"$f":"'Comparison Group 2 Accessible'!K41","v":1.4487649103033719E-2},{"$f":"'Comparison Group 1 Accessible'!J41","v":72},{"$f":"'Comparison Group 1 Accessible'!K41","v":1.5765272607838846E-2},{"$f":"SUM('Subject Data Accessible'!L41:P41)","v":3},0.06]
["6:00 AM - 6:59 AM",{"$f":"'Comparison Group 3 Accessible'!B42","v":52},{"$f":"'Comparison Group 3 Accessible'!C42","v":4.0341349883630723E-2},{"$f":"'Comparison Group 2 Accessible'!B42","v":38},{"$f":"'Comparison Group 2 Accessible'!C42","v":3.8229376257545272E-2},{"$f":"'Comparison Group 1 Accessible'!B42","v":4},{"$f":"'Comparison Group 1 Accessible'!C42","v":3.4188034188034191E-2},{"$f":"SUM('Subject Data Accessible'!D42:H42)","v":0},0,"6:00 AM - 6:59 AM",{"$f":"'Comparison Group 3 Accessible'!J42","v":2346},{"$f":"'Comparison Group 3 Accessible'!K42","v":4.2635165833711949E-2},{"$f":"'Comparison Group 2 Accessible'!J42","v":1675},{"$f":"'Comparison Group 2 Accessible'!K42","v":3.9330327791866251E-2},{"$f":"'Comparison Group 1 Accessible'!J42","v":165},{"$f":"'Comparison Group 1 Accessible'!K42","v":3.612874972629735E-2},{"$f":"SUM('Subject Data Accessible'!L42:P42)","v":1},0.02]
["7:00 AM - 7:59 AM",{"$f":"'Comparison Group 3 Accessible'!B43","v":64},{"$f":"'Comparison Group 3 Accessible'!C43","v":4.965089216446858E-2},{"$f":"'Comparison Group 2 Accessible'!B43","v":51},{"$f":"'Comparison Group 2 Accessible'!C43","v":5.1307847082494973E-2},{"$f":"'Comparison Group 1 Accessible'!B43","v":2},{"$f":"'Comparison Group 1 Accessible'!C43","v":1.7094017094017096E-2},{"$f":"SUM('Subject Data Accessible'!D43:H43)","v":0},0,"7:00 AM - 7:59 AM",{"$f":"'Comparison Group 3 Accessible'!J43","v":3883},{"$f":"'Comparison Group 3 Accessible'!K43","v":7.0567923671058616E-2},{"$f":"'Comparison Group 2 Accessible'!J43","v":2929},{"$f":"'Comparison Group 2 Accessible'!K43","v":6.8775241852164923E-2},{"$f":"'Comparison Group 1 Accessible'!J43","v":312},{"$f":"'Comparison Group 1 Accessible'!K43","v":6.8316181300634993E-2},{"$f":"SUM('Subject Data Accessible'!L43:P43)","v":2},0.04]
["8:00 AM - 8:59 AM",{"$f":"'Comparison Group 3 Accessible'!B44","v":50},{"$f":"'Comparison Group 3 Accessible'!C44","v":3.8789759503491075E-2},{"$f":"'Comparison Group 2 Accessible'!B44","v":44},{"$f":"'Comparison Group 2 Accessible'!C44","v":4.4265593561368208E-2},{"$f":"'Comparison Group 1 Accessible'!B44","v":2},{"$f":"'Comparison Group 1 Accessible'!C44","v":1.7094017094017096E-2},{"$f":"SUM('Subject Data Accessible'!D44:H44)","v":0},0,"8:00 AM - 8:59 AM",{"$f":"'Comparison Group 3 Accessible'!J44","v":3068},{"$f":"'Comparison Group 3 Accessible'!K44","v":5.5756474329850071E-2},{"$f":"'Comparison Group 2 Accessible'!J44","v":2321},{"$f":"'Comparison Group 2 Accessible'!K44","v":5.4498919883535266E-2},{"$f":"'Comparison Group 1 Accessible'!J44","v":256},{"$f":"'Comparison Group 1 Accessible'!K44","v":5.6054302605649226E-2},{"$f":"SUM('Subject Data Accessible'!L44:P44)","v":2},0.04]
["9:00 AM - 9:59 AM",{"$f":"'Comparison Group 3 Accessible'!B45","v":36},{"$f":"'Comparison Group 3 Accessible'!C45","v":2.7928626842513578E-2},{"$f":"'Comparison Group 2 Accessible'!B45","v":35},{"$f":"'Comparison Group 2 Accessible'!C45","v":3.5211267605633804E-2},{"$f":"'Comparison Group 1 Accessible'!B45","v":0},{"$f":"'Comparison Group 1 Accessible'!C45","v":0},{"$f":"SUM('Subject Data Accessible'!D45:H45)","v":0},0,"9:00 AM - 9:59 AM",{"$f":"'Comparison Group 3 Accessible'!J45","v":2108},{"$f":"'Comparison Group 3 Accessible'!K45","v":3.8309859154929578E-2},{"$f":"'Comparison Group 2 Accessible'!J45","v":1677},{"$f":"'Comparison Group 2 Accessible'!K45","v":3.9377289377289376E-2},{"$f":"'Comparison Group 1 Accessible'!J45","v":142},{"$f":"'Comparison Group 1 Accessible'!K45","v":3.1092620976571055E-2},{"$f":"SUM('Subject Data Accessible'!L45:P45)","v":2},0.04]
["10:00 AM - 10:59 AM",{"$f":"'Comparison Group 3 Accessible'!B46","v":39},{"$f":"'Comparison Group 3 Accessible'!C46","v":3.0256012412723042E-2},{"$f":"'Comparison Group 2 Accessible'!B46","v":33},{"$f":"'Comparison Group 2 Accessible'!C46","v":3.3199195171026159E-2},{"$f":"'Comparison Group 1 Accessible'!B46","v":5},{"$f":"'Comparison Group 1 Accessible'!C46","v":4.2735042735042736E-2},{"$f":"SUM('Subject Data Accessible'!D46:H46)","v":1},0.14285714285714285,"10:00 AM - 10:59 AM",{"$f":"'Comparison Group 3 Accessible'!J46","v":2121},{"$f":"'Comparison Group 3 Accessible'!K46","v":3.8546115402089957E-2},{"$f":"'Comparison Group 2 Accessible'!J46","v":1687},{"$f":"'Comparison Group 2 Accessible'!K46","v":3.9612097304405E-2},{"$f":"'Comparison Group 1 Accessible'!J46","v":139},{"$f":"'Comparison Group 1 Accessible'!K46","v":3.04357346179111E-2},{"$f":"SUM('Subject Data Accessible'!L46:P46)","v":1},0.02]
["11:00 AM - 11:59 AM",{"$f":"'Comparison Group 3 Accessible'!B47","v":55},{"$f":"'Comparison Group 3 Accessible'!C47","v":4.2668735453840187E-2},{"$f":"'Comparison Group 2 Accessible'!B47","v":46},{"$f":"'Comparison Group 2 Accessible'!C47","v":4.6277665995975853E-2},{"$f":"'Comparison Group 1 Accessible'!B47","v":1},{"$f":"'Comparison Group 1 Accessible'!C47","v":8.5470085470085479E-3},{"$f":"SUM('Subject Data Accessible'!D47:H47)","v":0},0,"11:00 AM - 11:59 AM",{"$f":"'Comparison Group 3 Accessible'!J47","v":2434},{"$f":"'Comparison Group 3 Accessible'!K47","v":4.4234438891412993E-2},{"$f":"'Comparison Group 2 Accessible'!J47","v":1986},{"$f":"'Comparison Group 2 Accessible'!K47","v":4.6632854325162017E-2},{"$f":"'Comparison Group 1 Accessible'!J47","v":176},{"$f":"'Comparison Group 1 Accessible'!K47","v":3.8537333041383841E-2},{"$f":"SUM('Subject Data Accessible'!L47:P47)","v":3},0.06]
["12:00 PM - 12:59 PM",{"$f":"'Comparison Group 3 Accessible'!B48","v":65},{"$f":"'Comparison Group 3 Accessible'!C48","v":5.0426687354538403E-2},{"$f":"'Comparison Group 2 Accessible'!B48","v":56},{"$f":"'Comparison Group 2 Accessible'!C48","v":5.6338028169014086E-2},{"$f":"'Comparison Group 1 Accessible'!B48","v":4},{"$f":"'Comparison Group 1 Accessible'!C48","v":3.4188034188034191E-2},{"$f":"SUM('Subject Data Accessible'!D48:H48)","v":0},0,"12:00 PM - 12:59 PM",{"$f":"'Comparison Group 3 Accessible'!J48","v":2926},{"$f":"'Comparison Group 3 Accessible'!K48","v":5.3175829168559743E-2},{"$f":"'Comparison Group 2 Accessible'!J48","v":2401},{"$f":"'Comparison Group 2 Accessible'!K48","v":5.6377383300460222E-2},{"$f":"'Comparison Group 1 Accessible'!J48","v":202},{"$f":"'Comparison Group 1 Accessible'!K48","v":4.4230348149770088E-2},{"$f":"SUM('Subject Data Accessible'!L48:P48)","v":3},0.06]
["1:00 PM - 1:59 PM",{"$f":"'Comparison Group 3 Accessible'!B49","v":66},{"$f":"'Comparison Group 3 Accessible'!C49","v":5.120248254460822E-2},{"$f":"'Comparison Group 2 Accessible'!B49","v":48},{"$f":"'Comparison Group 2 Accessible'!C49","v":4.8289738430583498E-2},{"$f":"'Comparison Group 1 Accessible'!B49","v":9},{"$f":"'Comparison Group 1 Accessible'!C49","v":7.6923076923076927E-2},{"$f":"SUM('Subject Data Accessible'!D49:H49)","v":1},0.14285714285714285,"1:00 PM - 1:59 PM",{"$f":"'Comparison Group 3 Accessible'!J49","v":3077},{"$f":"'Comparison Group 3 Accessible'!K49","v":5.5920036347114947E-2},{"$f":"'Comparison Group 2 Accessible'!J49","v":2439},{"$f":"'Comparison Group 2 Accessible'!K49","v":5.7269653423499579E-2},{"$f":"'Comparison Group 1 Accessible'!J49","v":230},{"$f":"'Comparison Group 1 Accessible'!K49","v":5.0361287497262971E-2},{"$f":"SUM('Subject Data Accessible'!L49:P49)","v":5},0.1]
["2:00 PM - 2:59 PM",{"$f":"'Comparison Group 3 Accessible'!B50","v":60},{"$f":"'Comparison Group 3 Accessible'!C50","v":4.6547711404189292E-2},{"$f":"'Comparison Group 2 Accessible'!B50","v":48},{"$f":"'Comparison Group 2 Accessible'!C50","v":4.8289738430583498E-2},{"$f":"'Comparison Group 1 Accessible'!B50","v":4},{"$f":"'Comparison Group 1 Accessible'!C50","v":3.4188034188034191E-2},{"$f":"SUM('Subject Data Accessible'!D50:H50)","v":0},0,"2:00 PM - 2:59 PM",{"$f":"'Comparison Group 3 Accessible'!J50","v":3317},{"$f":"'Comparison Group 3 Accessible'!K50","v":6.0281690140845071E-2},{"$f":"'Comparison Group 2 Accessible'!J50","v":2672},{"$f":"'Comparison Group 2 Accessible'!K50","v":6.2740678125293506E-2},{"$f":"'Comparison Group 1 Accessible'!J50","v":252},{"$f":"'Comparison Group 1 Accessible'!K50","v":5.5178454127435952E-2},{"$f":"SUM('Subject Data Accessible'!L50:P50)","v":4},0.08]
["3:00 PM - 3:59 PM",{"$f":"'Comparison Group 3 Accessible'!B51","v":80},{"$f":"'Comparison Group 3 Accessible'!C51","v":6.2063615205585725E-2},{"$f":"'Comparison Group 2 Accessible'!B51","v":64},{"$f":"'Comparison Group 2 Accessible'!C51","v":6.4386317907444673E-2},{"$f":"'Comparison Group 1 Accessible'!B51","v":8},{"$f":"'Comparison Group 1 Accessible'!C51","v":6.8376068376068383E-2},{"$f":"SUM('Subject Data Accessible'!D51:H51)","v":0},0,"3:00 PM - 3:59 PM",{"$f":"'Comparison Group 3 Accessible'!J51","v":4266},{"$f":"'Comparison Group 3 Accessible'!K51","v":7.7528396183552936E-2},{"$f":"'Comparison Group 2 Accessible'!J51","v":3363},{"$f":"'Comparison Group 2 Accessible'!K51","v":7.8965905888982807E-2},{"$f":"'Comparison Group 1 Accessible'!J51","v":362},{"$f":"'Comparison Group 1 Accessible'!K51","v":7.9264287278300857E-2},{"$f":"SUM('Subject Data Accessible'!L51:P51)","v":4},0.08]
["4:00 PM - 4:59 PM",{"$f":"'Comparison Group 3 Accessible'!B52","v":92},{"$f":"'Comparison Group 3 Accessible'!C52","v":7.1373157486423588E-2},{"$f":"'Comparison Group 2 Accessible'!B52","v":73},{"$f":"'Comparison Group 2 Accessible'!C52","v":7.344064386317907E-2},{"$f":"'Comparison Group 1 Accessible'!B52","v":6},{"$f":"'Comparison Group 1 Accessible'!C52","v":5.128205128205128E-2},{"$f":"SUM('Subject Data Accessible'!D52:H52)","v":0},0,"4:00 PM - 4:59 PM",{"$f":"'Comparison Group 3 Accessible'!J52","v":4597},{"$f":"'Comparison Group 3 Accessible'!K52","v":8.3543843707405724E-2},{"$f":"'Comparison Group 2 Accessible'!J52","v":3586},{"$f":"'Comparison Group 2 Accessible'!K52","v":8.420212266366113E-2},{"$f":"'Comparison Group 1 Accessible'!J52","v":349},{"$f":"'Comparison Group 1 Accessible'!K52","v":7.6417779724107723E-2},{"$f":"SUM('Subject Data Accessible'!L52:P52)","v":3},0.06]
["5:00 PM - 5:59 PM",{"$f":"'Comparison Group 3 Accessible'!B53","v":81},{"$f":"'Comparison Group 3 Accessible'!C53","v":6.2839410395655548E-2},{"$f":"'Comparison Group 2 Accessible'!B53","v":62},{"$f":"'Comparison Group 2 Accessible'!C53","v":6.2374245472837021E-2},{"$f":"'Comparison Group 1 Accessible'!B53","v":11},{"$f":"'Comparison Group 1 Accessible'!C53","v":9.4017094017094016E-2},{"$f":"SUM('Subject Data Accessible'!D53:H53)","v":2},0.2857142857142857,"5:00 PM - 5:59 PM",{"$f":"'Comparison Group 3 Accessible'!J53","v":5380},{"$f":"'Comparison Group 3 Accessible'!K53","v":9.7773739209450247E-2},{"$f":"'Comparison Group 2 Accessible'!J53","v":4109},{"$f":"'Comparison Group 2 Accessible'!K53","v":9.6482577251808019E-2},{"$f":"'Comparison Group 1 Accessible'!J53","v":483},{"$f":"'Comparison Group 1 Accessible'!K53","v":0.10575870374425224},{"$f":"SUM('Subject Data Accessible'!L53:P53)","v":6},0.12]
["6:00 PM - 6:59 PM",{"$f":"'Comparison Group 3 Accessible'!B54","v":91},{"$f":"'Comparison Group 3 Accessible'!C54","v":7.0597362296353758E-2},{"$f":"'Comparison Group 2 Accessible'!B54","v":71},{"$f":"'Comparison Group 2 Accessible'!C54","v":7.1428571428571425E-2},{"$f":"'Comparison Group 1 Accessible'!B54","v":10},{"$f":"'Comparison Group 1 Accessible'!C54","v":8.5470085470085472E-2},{"$f":"SUM('Subject Data Accessible'!D54:H54)","v":0},0,"6:00 PM - 6:59 PM",{"$f":"'Comparison Group 3 Accessible'!J54","v":3600},{"$f":"'Comparison Group 3 Accessible'!K54","v":6.5424806905951843E-2},{"$f":"'Comparison Group 2 Accessible'!J54","v":2823},{"$f":"'Comparison Group 2 Accessible'!K54","v":6.6286277824739365E-2},{"$f":"'Comparison Group 1 Accessible'!J54","v":272},{"$f":"'Comparison Group 1 Accessible'!K54","v":5.9557696518502297E-2},{"$f":"SUM('Subject Data Accessible'!L54:P54)","v":2},0.04]
["7:00 PM - 7:59 PM",{"$f":"'Comparison Group 3 Accessible'!B55","v":70},{"$f":"'Comparison Group 3 Accessible'!C55","v":5.4305663304887508E-2},{"$f":"'Comparison Group 2 Accessible'!B55","v":52},{"$f":"'Comparison Group 2 Accessible'!C55","v":5.2313883299798795E-2},{"$f":"'Comparison Group 1 Accessible'!B55","v":6},{"$f":"'Comparison Group 1 Accessible'!C55","v":5.128205128205128E-2},{"$f":"SUM('Subject Data Accessible'!D55:H55)","v":0},0,"7:00 PM - 7:59 PM",{"$f":"'Comparison Group 3 Accessible'!J55","v":2099},{"$f":"'Comparison Group 3 Accessible'!K55","v":3.8146297137664695E-2},{"$f":"'Comparison Group 2 Accessible'!J55","v":1651},{"$f":"'Comparison Group 2 Accessible'!K55","v":3.8766788766788768E-2},{"$f":"'Comparison Group 1 Accessible'!J55","v":159},{"$f":"'Comparison Group 1 Accessible'!K55","v":3.4814977008977448E-2},{"$f":"SUM('Subject Data Accessible'!L55:P55)","v":2},0.04]
["8:00 PM - 8:59 PM",{"$f":"'Comparison Group 3 Accessible'!B56","v":83},{"$f":"'Comparison Group 3 Accessible'!C56","v":6.4391000775795196E-2},{"$f":"'Comparison Group 2 Accessible'!B56","v":62},{"$f":"'Comparison Group 2 Accessible'!C56","v":6.2374245472837021E-2},{"$f":"'Comparison Group 1 Accessible'!B56","v":11},{"$f":"'Comparison Group 1 Accessible'!C56","v":9.4017094017094016E-2},{"$f":"SUM('Subject Data Accessible'!D56:H56)","v":0},0,"8:00 PM - 8:59 PM",{"$f":"'Comparison Group 3 Accessible'!J56","v":1818},{"$f":"'Comparison Group 3 Accessible'!K56","v":3.3039527487505681E-2},{"$f":"'Comparison Group 2 Accessible'!J56","v":1418},{"$f":"'Comparison Group 2 Accessible'!K56","v":3.3295764064994834E-2},{"$f":"'Comparison Group 1 Accessible'!J56","v":169},{"$f":"'Comparison Group 1 Accessible'!K56","v":3.7004598204510616E-2},{"$f":"SUM('Subject Data Accessible'!L56:P56)","v":2},0.04]
["9:00 PM - 9:59 PM",{"$f":"'Comparison Group 3 Accessible'!B57","v":58},{"$f":"'Comparison Group 3 Accessible'!C57","v":4.4996121024049651E-2},{"$f":"'Comparison Group 2 Accessible'!B57","v":43},{"$f":"'Comparison Group 2 Accessible'!C57","v":4.3259557344064385E-2},{"$f":"'Comparison Group 1 Accessible'!B57","v":7},{"$f":"'Comparison Group 1 Accessible'!C57","v":5.9829059829059832E-2},{"$f":"SUM('Subject Data Accessible'!D57:H57)","v":0},0,"9:00 PM - 9:59 PM",{"$f":"'Comparison Group 3 Accessible'!J57","v":1614},{"$f":"'Comparison Group 3 Accessible'!K57","v":2.9332121762835076E-2},{"$f":"'Comparison Group 2 Accessible'!J57","v":1197},{"$f":"'Comparison Group 2 Accessible'!K57","v":2.8106508875739646E-2},{"$f":"'Comparison Group 1 Accessible'!J57","v":161},{"$f":"'Comparison Group 1 Accessible'!K57","v":3.5252901248084084E-2},{"$f":"SUM('Subject Data Accessible'!L57:P57)","v":0},0]
["10:00 PM - 10:59 PM",{"$f":"'Comparison Group 3 Accessible'!B58","v":44},{"$f":"'Comparison Group 3 Accessible'!C58","v":3.4134988363072147E-2},{"$f":"'Comparison Group 2 Accessible'!B58","v":31},{"$f":"'Comparison Group 2 Accessible'!C58","v":3.1187122736418511E-2},{"$f":"'Comparison Group 1 Accessible'!B58","v":5},{"$f":"'Comparison Group 1 Accessible'!C58","v":4.2735042735042736E-2},{"$f":"SUM('Subject Data Accessible'!D58:H58)","v":0},0,"10:00 PM - 10:59 PM",{"$f":"'Comparison Group 3 Accessible'!J58","v":1286},{"$f":"'Comparison Group 3 Accessible'!K58","v":2.3371194911403909E-2},{"$f":"'Comparison Group 2 Accessible'!J58","v":984},{"$f":"'Comparison Group 2 Accessible'!K58","v":2.310510002817695E-2},{"$f":"'Comparison Group 1 Accessible'!J58","v":125},{"$f":"'Comparison Group 1 Accessible'!K58","v":2.7370264944164658E-2},{"$f":"SUM('Subject Data Accessible'!L58:P58)","v":1},0.02]
["11:00 PM - 11:59 PM",{"$f":"'Comparison Group 3 Accessible'!B59","v":40},{"$f":"'Comparison Group 3 Accessible'!C59","v":3.1031807602792862E-2},{"$f":"'Comparison Group 2 Accessible'!B59","v":27},{"$f":"'Comparison Group 2 Accessible'!C59","v":2.716297786720322E-2},{"$f":"'Comparison Group 1 Accessible'!B59","v":2},{"$f":"'Comparison Group 1 Accessible'!C59","v":1.7094017094017096E-2},{"$f":"SUM('Subject Data Accessible'!D59:H59)","v":0},0,"11:00 PM - 11:59 PM",{"$f":"'Comparison Group 3 Accessible'!J59","v":992},{"$f":"'Comparison Group 3 Accessible'!K59","v":1.8028169014084508E-2},{"$f":"'Comparison Group 2 Accessible'!J59","v":752},{"$f":"'Comparison Group 2 Accessible'!K59","v":1.7657556119094579E-2},{"$f":"'Comparison Group 1 Accessible'!J59","v":106},{"$f":"'Comparison Group 1 Accessible'!K59","v":2.3209984672651632E-2},{"$f":"SUM('Subject Data Accessible'!L59:P59)","v":0},0]
["Unknown",{"$f":"'Comparison Group 3 Accessible'!B60","v":1},{"$f":"'Comparison Group 3 Accessible'!C60","v":7.7579519006982156E-4},{"$f":"'Comparison Group 2 Accessible'!B60","v":1},{"$f":"'Comparison Group 2 Accessible'!C60","v":1.006036217303823E-3},{"$f":"'Comparison Group 1 Accessible'!B60","v":0},{"$f":"'Comparison Group 1 Accessible'!C60","v":0},{"$f":"SUM('Subject Data Accessible'!D60:H60)","v":0},0,"Unknown",{"$f":"'Comparison Group 3 Accessible'!J60","v":26},{"$f":"'Comparison Group 3 Accessible'!K60","v":4.7251249432076327E-4},{"$f":"'Comparison Group 2 Accessible'!J60","v":26},{"$f":"'Comparison Group 2 Accessible'!K60","v":6.105006105006105E-4},{"$f":"'Comparison Group 1 Accessible'!J60","v":0},{"$f":"'Comparison Group 1 Accessible'!K60","v":0},{"$f":"SUM('Subject Data Accessible'!L60:P60)","v":0},0]
[{"$f":"CONCATENATE(\"Fatal and Serious Injury Crashes - \",A62,\"\nComp 3 = \",Instructions!$B$12,\", Comp 2 = \",Instructions!$B$11,\", Comp 1 = \", Instructions!$B$10, \", Subject = \",Instructions!$B$9)","v":"Fatal and Serious Injury Crashes - Crash Month\nComp 3 = Test Group 3, Comp 2 = Test Group 2, Comp 1 = Test Group 1, Subject = Test County"},null,null,null,null,null,null,null,null,{"$f":"CONCATENATE(\"Total Crashes - \",J62,\"\nComp 3 = \",Instructions!$B$12,\", Comp 2 = \",Instructions!$B$11,\", Comp 1 = \", Instructions!$B$10, \", Subject = \",Instructions!$B$9)","v":"Total Crashes - Crash Month\nComp 3 = Test Group 3, Comp 2 = Test Group 2, Comp 1 = Test Group 1, Subject = Test County"}]
["Crash Month","Comp 3 Number","Comp 3 Percent","Comp 2 Number","Comp 2 Percent","Comp 1 Number","Comp 1 Percent","Subject Number","Subject Percent","Crash Month","Comp 3 Number","Comp 3 Percent","Comp 2 Number","Comp 2 Percent","Comp 1 Number","Comp 1 Percent","Subject Number","Subject Percent"]
["January",{"$f":"'Comparison Group 3 Accessible'!B63","v":83},{"$f":"'Comparison Group 3 Accessible'!C63","v":6.4391000775795196E-2},{"$f":"'Comparison Group 2 Accessible'!B63","v":62},{"$f":"'Comparison Group 2 Accessible'!C63","v":6.2374245472837021E-2},{"$f":"'Comparison Group 1 Accessible'!B63","v":10},{"$f":"'Comparison Group 1 Accessible'!C63","v":8.5470085470085472E-2},{"$f":"SUM('Subject Data Accessible'!D63:H63)","v":0},{"$f":"H63/SUM(H$63:H$74)","v":0},{"$f":"A63","v":"January"},{"$f":"'Comparison Group 3 Accessible'!J63","v":4501},{"$f":"'Comparison Group 3 Accessible'!K63","v":8.179918218991368E-2},{"$f":"'Comparison Group 2 Accessible'!J63","v":3468},{"$f":"'Comparison Group 2 Accessible'!K63","v":8.143138912369681E-2},{"$f":"'Comparison Group 1 Accessible'!J63","v":410},{"$f":"'Comparison Group 1 Accessible'!K63","v":8.9774469016860078E-2},{"$f":"SUM('Subject Data Accessible'!L63:P63)","v":5},{"$f":"Q63/SUM(Q$63:Q$74)","v":0.1}]
["February",{"$f":"'Comparison Group 3 Accessible'!B64","v":78},{"$f":"'Comparison Group 3 Accessible'!C64","v":6.0512024825446084E-2},{"$f":"'Comparison Group 2 Accessible'!B64","v":58},{"$f":"'Comparison Group 2 Accessible'!C64","v":5.8350100603621731E-2},{"$f":"'Comparison Group 1 Accessible'!B64","v":6},{"$f":"'Comparison Group 1 Accessible'!C64","v":5.128205128205128E-2},{"$f":"SUM('Subject Data Accessible'!D64:H64)","v":0},{"$f":"H64/SUM(H$63:H$74)","v":0},"February",{"$f":"'Comparison Group 3 Accessible'!J64","v":4368},{"$f":"'Comparison Group 3 Accessible'!K64","v":7.9382099045888235E-2},{"$f":"'Comparison Group 2 Accessible'!J64","v":3283},{"$f":"'Comparison Group 2 Accessible'!K64","v":7.7087442472057857E-2},{"$f":"'Comparison Group 1 Accessible'!J64","v":347},{"$f":"'Comparison Group 1 Accessible'!K64","v":7.5979855485001094E-2},{"$f":"SUM('Subject Data Accessible'!L64:P64)","v":4},{"$f":"Q64/SUM(Q$63:Q$74)","v":0.08}]
["March",{"$f":"'Comparison Group 3 Accessible'!B65","v":118},{"$f":"'Comparison Group 3 Accessible'!C65","v":9.154383242823895E-2},{"$f":"'Comparison Group 2 Accessible'!B65","v":96},{"$f":"'Comparison Group 2 Accessible'!C65","v":9.6579476861166996E-2},{"$f":"'Comparison Group 1 Accessible'!B65","v":8},{"$f":"'Comparison Group 1 Accessible'!C65","v":6.8376068376068383E-2},{"$f":"SUM('Subject Data Accessible'!D65:H65)","v":0},0,"March",{"$f":"'Comparison Group 3 Accessible'!J65","v":4123},{"$f":"'Comparison Group 3 Accessible'!K65","v":7.4929577464788732E-2},{"$f":"'Comparison Group 2 Accessible'!J65","v":3209},{"$f":"'Comparison Group 2 Accessible'!K65","v":7.5349863811402268E-2},{"$f":"'Comparison Group 1 Accessible'!J65","v":347},{"$f":"'Comparison Group 1 Accessible'!K65","v":7.5979855485001094E-2},{"$f":"SUM('Subject Data Accessible'!L65:P65)","v":5},0.1]
["April",{"$f":"'Comparison Group 3 Accessible'!B66","v":99},{"$f":"'Comparison Group 3 Accessible'!C66","v":7.6803723816912334E-2},{"$f":"'Comparison Group 2 Accessible'!B66","v":81},{"$f":"'Comparison Group 2 Accessible'!C66","v":8.1488933601609664E-2},{"$f":"'Comparison Group 1 Accessible'!B66","v":5},{"$f":"'Comparison Group 1 Accessible'!C66","v":4.2735042735042736E-2},{"$f":"SUM('Subject Data Accessible'!D66:H66)","v":1},0.14285714285714285,"April",{"$f":"'Comparison Group 3 Accessible'!J66","v":4345},{"$f":"'Comparison Group 3 Accessible'!K66","v":7.8964107223989097E-2},{"$f":"'Comparison Group 2 Accessible'!J66","v":3291},{"$f":"'Comparison Group 2 Accessible'!K66","v":7.7275288813750356E-2},{"$f":"'Comparison Group 1 Accessible'!J66","v":387},{"$f":"'Comparison Group 1 Accessible'!K66","v":8.4738340267133783E-2},{"$f":"SUM('Subject Data Accessible'!L66:P66)","v":5},0.1]
["May",{"$f":"'Comparison Group 3 Accessible'!B67","v":124},{"$f":"'Comparison Group 3 Accessible'!C67","v":9.6198603568657878E-2},{"$f":"'Comparison Group 2 Accessible'!B67","v":92},{"$f":"'Comparison Group 2 Accessible'!C67","v":9.2555331991951706E-2},{"$f":"'Comparison Group 1 Accessible'!B67","v":14},{"$f":"'Comparison Group 1 Accessible'!C67","v":0.11965811965811966},{"$f":"SUM('Subject Data Accessible'!D67:H67)","v":0},0,"May",{"$f":"'Comparison Group 3 Accessible'!J67","v":4467},{"$f":"'Comparison Group 3 Accessible'!K67","v":8.1181281235801914E-2},{"$f":"'Comparison Group 2 Accessible'!J67","v":3476},{"$f":"'Comparison Group 2 Accessible'!K67","v":8.1619235465389309E-2},{"$f":"'Comparison Group 1 Accessible'!J67","v":354},{"$f":"'Comparison Group 1 Accessible'!K67","v":7.7512590321874311E-2},{"$f":"SUM('Subject Data Accessible'!L67:P67)","v":3},0.06]
["June",{"$f":"'Comparison Group 3 Accessible'!B68","v":112},{"$f":"'Comparison Group 3 Accessible'!C68","v":8.6889061287820021E-2},{"$f":"'Comparison Group 2 Accessible'!B68","v":88},{"$f":"'Comparison Group 2 Accessible'!C68","v":8.8531187122736416E-2},{"$f":"'Comparison Group 1 Accessible'!B68","v":9},{"$f":"'Comparison Group 1 Accessible'!C68","v":7.6923076923076927E-2},{"$f":"SUM('Subject Data Accessible'!D68:H68)","v":1},0.14285714285714285,"June",{"$f":"'Comparison Group 3 Accessible'!J68","v":4385},{"$f":"'Comparison Group 3 Accessible'!K68","v":7.9691049522944118E-2},{"$f":"'Comparison Group 2 Accessible'!J68","v":3462},{"$f":"'Comparison Group 2 Accessible'!K68","v":8.1290504367427449E-2},{"$f":"'Comparison Group 1 Accessible'!J68","v":359},{"$f":"'Comparison Group 1 Accessible'!K68","v":7.8607400919640899E-2},{"$f":"SUM('Subject Data Accessible'!L68:P68)","v":3},0.06]
["July",{"$f":"'Comparison Group 3 Accessible'!B69","v":109},{"$f":"'Comparison Group 3 Accessible'!C69","v":8.4561675717610557E-2},{"$f":"'Comparison Group 2 Accessible'!B69","v":90},{"$f":"'Comparison Group 2 Accessible'!C69","v":9.0543259557344061E-2},{"$f":"'Comparison Group 1 Accessible'!B69","v":7},{"$f":"'Comparison Group 1 Accessible'!C69","v":5.9829059829059832E-2},{"$f":"SUM('Subject Data Accessible'!D69:H69)","v":2},0.2857142857142857,"July",{"$f":"'Comparison Group 3 Accessible'!J69","v":4421},{"$f":"'Comparison Group 3 Accessible'!K69","v":8.0345297592003637E-2},{"$f":"'Comparison Group 2 Accessible'!J69","v":3376},{"$f":"'Comparison Group 2 Accessible'!K69","v":7.9271156194233111E-2},{"$f":"'Comparison Group 1 Accessible'!J69","v":359},{"$f":"'Comparison Group 1 Accessible'!K69","v":7.8607400919640899E-2},{"$f":"SUM('Subject Data Accessible'!L69:P69)","v":6},0.12]
["August",{"$f":"'Comparison Group 3 Accessible'!B70","v":136},{"$f":"'Comparison Group 3 Accessible'!C70","v":0.10550814584949574},{"$f":"'Comparison Group 2 Accessible'!B70","v":104},{"$f":"'Comparison Group 2 Accessible'!C70","v":0.10462776659959759},{"$f":"'Comparison Group 1 Accessible'!B70","v":9},{"$f":"'Comparison Group 1 Accessible'!C70","v":7.6923076923076927E-2},{"$f":"SUM('Subject Data Accessible'!D70:H70)","v":2},0.2857142857142857,"August",{"$f":"'Comparison Group 3 Accessible'!J70","v":4658},{"$f":"'Comparison Group 3 Accessible'!K70","v":8.4652430713312132E-2},{"$f":"'Comparison Group 2 Accessible'!J70","v":3608},{"$f":"'Comparison Group 2 Accessible'!K70","v":8.4718700103315489E-2},{"$f":"'Comparison Group 1 Accessible'!J70","v":391},{"$f":"'Comparison Group 1 Accessible'!K70","v":8.5614188745347056E-2},{"$f":"SUM('Subject Data Accessible'!L70:P70)","v":6},0.12]
["September",{"$f":"'Comparison Group 3 Accessible'!B71","v":119},{"$f":"'Comparison Group 3 Accessible'!C71","v":9.2319627618308767E-2},{"$f":"'Comparison Group 2 Accessible'!B71","v":97},{"$f":"'Comparison Group 2 Accessible'!C71","v":9.7585513078470826E-2},{"$f":"'Comparison Group 1 Accessible'!B71","v":13},{"$f":"'Comparison Group 1 Accessible'!C71","v":0.1111111111111111},{"$f":"SUM('Subject Data Accessible'!D71:H71)","v":0},0,"September",{"$f":"'Comparison Group 3 Accessible'!J71","v":4739},{"$f":"'Comparison Group 3 Accessible'!K71","v":8.6124488868696045E-2},{"$f":"'Comparison Group 2 Accessible'!J71","v":3640},{"$f":"'Comparison Group 2 Accessible'!K71","v":8.5470085470085472E-2},{"$f":"'Comparison Group 1 Accessible'!J71","v":411},{"$f":"'Comparison Group 1 Accessible'!K71","v":8.9993431136413407E-2},{"$f":"SUM('Subject Data Accessible'!L71:P71)","v":4},0.08]
["October",{"$f":"'Comparison Group 3 Accessible'!B72","v":115},{"$f":"'Comparison Group 3 Accessible'!C72","v":8.9216446858029486E-2},{"$f":"'Comparison Group 2 Accessible'!B72","v":80},{"$f":"'Comparison Group 2 Accessible'!C72","v":8.0482897384305835E-2},{"$f":"'Comparison Group 1 Accessible'!B72","v":16},{"$f":"'Comparison Group 1 Accessible'!C72","v":0.13675213675213677},{"$f":"SUM('Subject Data Accessible'!D72:H72)","v":0},0,"October",{"$f":"'Comparison Group 3 Accessible'!J72","v":5063},{"$f":"'Comparison Group 3 Accessible'!K72","v":9.2012721490231708E-2},{"$f":"'Comparison Group 2 Accessible'!J72","v":3950},{"$f":"'Comparison Group 2 Accessible'!K72","v":9.2749131210669675E-2},{"$f":"'Comparison Group 1 Accessible'!J72","v":450},{"$f":"'Comparison Group 1 Accessible'!K72","v":9.8532953798992781E-2},{"$f":"SUM('Subject Data Accessible'!L72:P72)","v":4},0.08]
["November",{"$f":"'Comparison Group 3 Accessible'!B73","v":113},{"$f":"'Comparison Group 3 Accessible'!C73","v":8.7664856477889838E-2},{"$f":"'Comparison Group 2 Accessible'!B73","v":84},{"$f":"'Comparison Group 2 Accessible'!C73","v":8.4507042253521125E-2},{"$f":"'Comparison Group 1 Accessible'!B73","v":13},{"$f":"'Comparison Group 1 Accessible'!C73","v":0.1111111111111111},{"$f":"SUM('Subject Data Accessible'!D73:H73)","v":1},0.14285714285714285,"November",{"$f":"'Comparison Group 3 Accessible'!J73","v":4862},{"$f":"'Comparison Group 3 Accessible'!K73","v":8.8359836437982731E-2},{"$f":"'Comparison Group 2 Accessible'!J73","v":3793},{"$f":"'Comparison Group 2 Accessible'!K73","v":8.9062646754954441E-2},{"$f":"'Comparison Group 1 Accessible'!J73","v":379},{"$f":"'Comparison Group 1 Accessible'!K73","v":8.298664331070725E-2},{"$f":"SUM('Subject Data Accessible'!L73:P73)","v":3},0.06]
["December",{"$f":"'Comparison Group 3 Accessible'!B74","v":83},{"$f":"'Comparison Group 3 Accessible'!C74","v":6.4391000775795196E-2},{"$f":"'Comparison Group 2 Accessible'!B74","v":62},{"$f":"'Comparison Group 2 Accessible'!C74","v":6.2374245472837021E-2},{"$f":"'Comparison Group 1 Accessible'!B74","v":7},{"$f":"'Comparison Group 1 Accessible'!C74","v":5.9829059829059832E-2},{"$f":"SUM('Subject Data Accessible'!D74:H74)","v":0},0,"December",{"$f":"'Comparison Group 3 Accessible'!J74","v":5093},{"$f":"'Comparison Group 3 Accessible'!K74","v":9.2557928214447985E-2},{"$f":"'Comparison Group 2 Accessible'!J74","v":4032},{"$f":"'Comparison Group 2 Accessible'!K74","v":9.4674556213017749E-2},{"$f":"'Comparison Group 1 Accessible'!J74","v":373},{"$f":"'Comparison Group 1 Accessible'!K74","v":8.1672870593387348E-2},{"$f":"SUM('Subject Data Accessible'!L74:P74)","v":2},0.04]
[{"$f":"CONCATENATE(\"Fatal and Serious Injury Crashes - \",A76,\"\nComp 3 = \",Instructions!$B$12,\", Comp 2 = \",Instructions!$B$11,\", Comp 1 = \", Instructions!$B$10, \", Subject = \",Instructions!$B$9)","v":"Fatal and Serious Injury Crashes - Crash Jurisdiction\nComp 3 = Test Group 3, Comp 2 = Test Group 2, Comp 1 = Test Group 1, Subject = Test County"},null,null,null,null,null,null,null,null,{"$f":"CONCATENATE(\"Total Crashes - \",J76,\"\nComp 3 = \",Instructions!$B$12,\", Comp 2 = \",Instructions!$B$11,\", Comp 1 = \", Instructions!$B$10, \", Subject = \",Instructions!$B$9)","v":"Total Crashes - Crash Jurisdiction\nComp 3 = Test Group 3, Comp 2 = Test Group 2, Comp 1 = Test Group 1, Subject = Test County"}]
["Crash Jurisdiction","Comp 3 Number","Comp 3 Percent","Comp 2 Number","Comp 2 Percent","Comp 1 Number","Comp 1 Percent","Subject Number","Subject Percent","Crash Jurisdiction","Comp 3 Number","Comp 3 Percent","Comp 2 Number","Comp 2 Percent","Comp 1 Number","Comp 1 Percent","Subject Number","Subject Percent"]
["A",{"$f":"'Comparison Group 3 Accessible'!B77","v":295},{"$f":"'Comparison Group 3 Accessible'!C77","v":0.22885958107059737},{"$f":"'Comparison Group 2 Accessible'!B77","v":9},{"$f":"'Comparison Group 2 Accessible'!C77","v":9.0543259557344068E-3},{"$f":"'Comparison Group 1 Accessible'!B77","v":11},{"$f":"'Comparison Group 1 Accessible'!C77","v":9.4017094017094016E-2},{"$f":"SUM('Subject Data Accessible'!D77:H77)","v":0},{"$f":"H77/SUM(H$77:H$81)","v":0},{"$f":"A77","v":"A"},{"$f":"'Comparison Group 3 Accessible'!J77","v":18954},{"$f":"'Comparison Group 3 Accessible'!K77","v":0.34446160835983641},{"$f":"'Comparison Group 2 Accessible'!J77","v":81},{"$f":"'Comparison Group 2 Accessible'!K77","v":1.9019442096365174E-3},{"$f":"'Comparison Group 1 Accessible'!J77","v":61},{"$f":"'Comparison Group 1 Accessible'!K77","v":1.3356689292752353E-2},{"$f":"SUM('Subject Data Accessible'!L77:P77)","v":0},{"$f":"Q77/SUM(Q$77:Q$81)","v":0}]
["B",{"$f":"'Comparison Group 3 Accessible'!B78","v":172},{"$f":"'Comparison Group 3 Accessible'!C78","v":0.13343677269200932},{"$f":"'Comparison Group 2 Accessible'!B78","v":64},{"$f":"'Comparison Group 2 Accessible'!C78","v":6.4386317907444673E-2},{"$f":"'Comparison Group 1 Accessible'!B78","v":19},{"$f":"'Comparison Group 1 Accessible'!C78","v":0.1623931623931624},{"$f":"SUM('Subject Data Accessible'!D78:H78)","v":1},{"$f":"H78/SUM(H$77:H$81)","v":0.14285714285714285},{"$f":"A78","v":"B"},{"$f":"'Comparison Group 3 Accessible'!J78","v":5467},{"$f":"'Comparison Group 3 Accessible'!K78","v":9.9354838709677415E-2},{"$f":"'Comparison Group 2 Accessible'!J78","v":2068},{"$f":"'Comparison Group 2 Accessible'!K78","v":4.8558279327510098E-2},{"$f":"'Comparison Group 1 Accessible'!J78","v":6},{"$f":"'Comparison Group 1 Accessible'!K78","v":1.3137727173199037E-3},{"$f":"SUM('Subject Data Accessible'!L78:P78)","v":1},{"$f":"Q78/SUM(Q$77:Q$81)","v":0.02}]
["C",{"$f":"'Comparison Group 3 Accessible'!B79","v":300},{"$f":"'Comparison Group 3 Accessible'!C79","v":0.23273855702094648},{"$f":"'Comparison Group 2 Accessible'!B79","v":99},{"$f":"'Comparison Group 2 Accessible'!C79","v":9.9597585513078471E-2},{"$f":"'Comparison Group 1 Accessible'!B79","v":84},{"$f":"'Comparison Group 1 Accessible'!C79","v":0.71794871794871795},{"$f":"SUM('Subject Data Accessible'!D79:H79)","v":2},0.2857142857142857,{"$f":"A79","v":"C"},{"$f":"'Comparison Group 3 Accessible'!J79","v":12437},{"$f":"'Comparison Group 3 Accessible'!K79","v":0.22602453430258973},{"$f":"'Comparison Group 2 Accessible'!J79","v":2714},{"$f":"'Comparison Group 2 Accessible'!K79","v":6.3726871419179112E-2},{"$f":"'Comparison Group 1 Accessible'!J79","v":375},{"$f":"'Comparison Group 1 Accessible'!K79","v":8.2110794832493977E-2},{"$f":"SUM('Subject Data Accessible'!L79:P79)","v":2},0.04]
["D",{"$f":"'Comparison Group 3 Accessible'!B80","v":229},{"$f":"'Comparison Group 3 Accessible'!C80","v":0.17765709852598913},{"$f":"'Comparison Group 2 Accessible'!B80","v":815},{"$f":"'Comparison Group 2 Accessible'!C80","v":0.81991951710261568},{"$f":"'Comparison Group 1 Accessible'!B80","v":1},{"$f":"'Comparison Group 1 Accessible'!C80","v":8.5470085470085479E-3},{"$f":"SUM('Subject Data Accessible'!D80:H80)","v":4},0.5714285714285714,{"$f":"A80","v":"D"},{"$f":"'Comparison Group 3 Accessible'!J80","v":7160},{"$f":"'Comparison Group 3 Accessible'!K80","v":0.13012267151294865},{"$f":"'Comparison Group 2 Accessible'!J80","v":37556},{"$f":"'Comparison Group 2 Accessible'!K80","v":0.88184465107542032},{"$f":"'Comparison Group 1 Accessible'!J80","v":633},{"$f":"'Comparison Group 1 Accessible'!K80","v":0.13860302167724983},{"$f":"SUM('Subject Data Accessible'!L80:P80)","v":4},0.08]
["E",{"$f":"'Comparison Group 3 Accessible'!B81","v":293},{"$f":"'Comparison Group 3 Accessible'!C81","v":0.22730799069045771},{"$f":"'Comparison Group 2 Accessible'!B81","v":7},{"$f":"'Comparison Group 2 Accessible'!C81","v":7.0422535211267607E-3},{"$f":"'Comparison Group 1 Accessible'!B81","v":2},{"$f":"'Comparison Group 1 Accessible'!C81","v":1.7094017094017096E-2},{"$f":"SUM('Subject Data Accessible'!D81:H81)","v":0},0,{"$f":"A81","v":"E"},{"$f":"'Comparison Group 3 Accessible'!J81","v":11007},{"$f":"'Comparison Group 3 Accessible'!K81","v":0.20003634711494775},{"$f":"'Comparison Group 2 Accessible'!J81","v":169},{"$f":"'Comparison Group 2 Accessible'!K81","v":3.968253968253968E-3},{"$f":"'Comparison Group 1 Accessible'!J81","v":3492},{"$f":"'Comparison Group 1 Accessible'!K81","v":0.76461572148018397},{"$f":"SUM('Subject Data Accessible'!L81:P81)","v":43},0.86]
[{"$f":"CONCATENATE(\"Fatal and Serious Injury Crashes - \",A83,\"\nComp 3 = \",Instructions!$B$12,\", Comp 2 = \",Instructions!$B$11,\", Comp 1 = \", Instructions!$B$10, \", Subject = \",Instructions!$B$9)","v":"Fatal and Serious Injury Crashes - First Harmful Event\nComp 3 = Test Group 3, Comp 2 = Test Group 2, Comp 1 = Test Group 1, Subject = Test County"},null,null,null,null,null,null,null,null,{"$f":"CONCATENATE(\"Total Crashes - \",J83,\"\nComp 3 = \",Instructions!$B$12,\", Comp 2 = \",Instructions!$B$11,\", Comp 1 = \", Instructions!$B$10, \", Subject = \",Instructions!$B$9)","v":"Total Crashes - First Harmful Event\nComp 3 = Test Group 3, Comp 2 = Test Group 2, Comp 1 = Test Group 1, Subject = Test County"}]
["First Harmful Event","Comp 3 Number","Comp 3 Percent","Comp 2 Number","Comp 2 Percent","Comp 1 Number","Comp 1 Percent","Subject Number","Subject Percent","First Harmful Event","Comp 3 Number","Comp 3 Percent","Comp 2 Number","Comp 2 Percent","Comp 1 Number","Comp 1 Percent","Subject Number","Subject Percent"]
["Cargo/Equipment Loss or Shift",{"$f":"'Comparison Group 3 Accessible'!B84","v":4},{"$f":"'Comparison Group 3 Accessible'!C84","v":3.1031807602792862E-3},{"$f":"'Comparison Group 2 Accessible'!B84","v":0},{"$f":"'Comparison Group 2 Accessible'!C84","v":0},{"$f":"'Comparison Group 1 Accessible'!B84","v":0},{"$f":"'Comparison Group 1 Accessible'!C84","v":0},{"$f":"SUM('Subject Data Accessible'!D84:H84)","v":0},{"$f":"H84/SUM(H$84:H$125)","v":0},{"$f":"A84","v":"Cargo/Equipment Loss or Shift"},{"$f":"'Comparison Group 3 Accessible'!J84","v":60},{"$f":"'Comparison Group 3 Accessible'!K84","v":1.0904134484325306E-3},{"$f":"'Comparison Group 2 Accessible'!J84","v":9},{"$f":"'Comparison Group 2 Accessible'!K84","v":2.1120811039143902E-4},{"$f":"'Comparison Group 1 Accessible'!J84","v":0},{"$f":"'Comparison Group 1 Accessible'!K84","v":0},{"$f":"SUM('Subject Data Accessible'!L84:P84)","v":0},{"$f":"Q84/SUM(Q$84:Q$125)","v":0}]
["Fell/Jumped from Motor Vehicle",{"$f":"'Comparison Group 3 Accessible'!B85","v":2},{"$f":"'Comparison Group 3 Accessible'!C85","v":1.5515903801396431E-3},{"$f":"'Comparison Group 2 Accessible'!B85","v":103},{"$f":"'Comparison Group 2 Accessible'!C85","v":0.10362173038229376},{"$f":"'Comparison Group 1 Accessible'!B85","v":8},{"$f":"'Comparison Group 1 Accessible'!C85","v":6.8376068376068383E-2},{"$f":"SUM('Subject Data Accessible'!D85:H85)","v":0},{"$f":"H85/SUM(H$84:H$125)","v":0},"Fell/Jumped from Motor Vehicle",{"$f":"'Comparison Group 3 Accessible'!J85","v":47},{"$f":"'Comparison Group 3 Accessible'!K85","v":8.5415720127214904E-4},{"$f":"'Comparison Group 2 Accessible'!J85","v":2978},{"$f":"'Comparison Group 2 Accessible'!K85","v":6.9886416971745052E-2},{"$f":"'Comparison Group 1 Accessible'!J85","v":269},{"$f":"'Comparison Group 1 Accessible'!K85","v":5.8900810159842346E-2},{"$f":"SUM('Subject Data Accessible'!L85:P85)","v":0},{"$f":"Q85/SUM(Q$84:Q$125)","v":0}]
["Fire/Explosion",{"$f":"'Comparison Group 3 Accessible'!B86","v":0},{"$f":"'Comparison Group 3 Accessible'!C86","v":0},{"$f":"'Comparison Group 2 Accessible'!B86","v":1},{"$f":"'Comparison Group 2 Accessible'!C86","v":1.006036217303823E-3},{"$f":"'Comparison Group 1 Accessible'!B86","v":0},{"$f":"'Comparison Group 1 Accessible'!C86","v":0},{"$f":"SUM('Subject Data Accessible'!D86:H86)","v":0},0,"Fire/Explosion",{"$f":"'Comparison Group 3 Accessible'!J86","v":0},{"$f":"'Comparison Group 3 Accessible'!K86","v":0},{"$f":"'Comparison Group 2 Accessible'!J86","v":30},{"$f":"'Comparison Group 2 Accessible'!K86","v":7.0402703463813012E-4},{"$f":"'Comparison Group 1 Accessible'!J86","v":1},{"$f":"'Comparison Group 1 Accessible'!K86","v":2.1896211955331729E-4},{"$f":"SUM('Subject Data Accessible'!L86:P86)","v":0},0]
["Immersion, Full or Partial",{"$f":"'Comparison Group 3 Accessible'!B87","v":0},{"$f":"'Comparison Group 3 Accessible'!C87","v":0},{"$f":"'Comparison Group 2 Accessible'!B87","v":35},{"$f":"'Comparison Group 2 Accessible'!C87","v":3.5211267605633804E-2},{"$f":"'Comparison Group 1 Accessible'!B87","v":3},{"$f":"'Comparison Group 1 Accessible'!C87","v":2.564102564102564E-2},{"$f":"SUM('Subject Data Accessible'!D87:H87)","v":0},0,"Immersion, Full or Partial",{"$f":"'Comparison Group 3 Accessible'!J87","v":1},{"$f":"'Comparison Group 3 Accessible'!K87","v":1.817355747387551E-5},{"$f":"'Comparison Group 2 Accessible'!J87","v":406},{"$f":"'Comparison Group 2 Accessible'!K87","v":9.5278325354360271E-3},{"$f":"'Comparison Group 1 Accessible'!J87","v":47},{"$f":"'Comparison Group 1 Accessible'!K87","v":1.0291219619005912E-2},{"$f":"SUM('Subject Data Accessible'!L87:P87)","v":0},0]
["Jackknife",{"$f":"'Comparison Group 3 Accessible'!B88","v":0},{"$f":"'Comparison Group 3 Accessible'!C88","v":0},{"$f":"'Comparison Group 2 Accessible'!B88","v":3},{"$f":"'Comparison Group 2 Accessible'!C88","v":3.0181086519114686E-3},{"$f":"'Comparison Group 1 Accessible'!B88","v":0},{"$f":"'Comparison Group 1 Accessible'!C88","v":0},{"$f":"SUM('Subject Data Accessible'!D88:H88)","v":0},0,"Jackknife",{"$f":"'Comparison Group 3 Accessible'!J88","v":1},{"$f":"'Comparison Group 3 Accessible'!K88","v":1.817355747387551E-5},{"$f":"'Comparison Group 2 Accessible'!J88","v":71},{"$f":"'Comparison Group 2 Accessible'!K88","v":1.6661973153102411E-3},{"$f":"'Comparison Group 1 Accessible'!J88","v":12},{"$f":"'Comparison Group 1 Accessible'!K88","v":2.6275454346398074E-3},{"$f":"SUM('Subject Data Accessible'!L88:P88)","v":0},0]
["Other Non-Collision",{"$f":"'Comparison Group 3 Accessible'!B89","v":3},{"$f":"'Comparison Group 3 Accessible'!C89","v":2.3273855702094647E-3},{"$f":"'Comparison Group 2 Accessible'!B89","v":122},{"$f":"'Comparison Group 2 Accessible'!C89","v":0.1227364185110664},{"$f":"'Comparison Group 1 Accessible'!B89","v":5},{"$f":"'Comparison Group 1 Accessible'!C89","v":4.2735042735042736E-2},{"$f":"SUM('Subject Data Accessible'!D89:H89)","v":3},0.42857142857142855,"Other Non-Collision",{"$f":"'Comparison Group 3 Accessible'!J89","v":304},{"$f":"'Comparison Group 3 Accessible'!K89","v":5.5247614720581551E-3},{"$f":"'Comparison Group 2 Accessible'!J89","v":4873},{"$f":"'Comparison Group 2 Accessible'!K89","v":0.11435745799305359},{"$f":"'Comparison Group 1 Accessible'!J89","v":636},{"$f":"'Comparison Group 1 Accessible'!K89","v":0.13925990803590979},{"$f":"SUM('Subject Data Accessible'!L89:P89)","v":14},0.28000000000000003]
["Overturn/Rollover",{"$f":"'Comparison Group 3 Accessible'!B90","v":0},{"$f":"'Comparison Group 3 Accessible'!C90","v":0},{"$f":"'Comparison Group 2 Accessible'!B90","v":1},{"$f":"'Comparison Group 2 Accessible'!C90","v":1.006036217303823E-3},{"$f":"'Comparison Group 1 Accessible'!B90","v":0},{"$f":"'Comparison Group 1 Accessible'!C90","v":0},{"$f":"SUM('Subject Data Accessible'!D90:H90)","v":0},0,"Overturn/Rollover",{"$f":"'Comparison Group 3 Accessible'!J90","v":1},{"$f":"'Comparison Group 3 Accessible'!K90","v":1.817355747387551E-5},{"$f":"'Comparison Group 2 Accessible'!J90","v":188},{"$f":"'Comparison Group 2 Accessible'!K90","v":4.4119027503989484E-3},{"$f":"'Comparison Group 1 Accessible'!J90","v":0},{"$f":"'Comparison Group 1 Accessible'!K90","v":0},{"$f":"SUM('Subject Data Accessible'!L90:P90)","v":0},0]
["Thrown or Falling Object",{"$f":"'Comparison Group 3 Accessible'!B91","v":0},{"$f":"'Comparison Group 3 Accessible'!C91","v":0},{"$f":"'Comparison Group 2 Accessible'!B91","v":27},{"$f":"'Comparison Group 2 Accessible'!C91","v":2.716297786720322E-2},{"$f":"'Comparison Group 1 Accessible'!B91","v":1},{"$f":"'Comparison Group 1 Accessible'!C91","v":8.5470085470085479E-3},{"$f":"SUM('Subject Data Accessible'!D91:H91)","v":0},0,"Thrown or Falling Object",{"$f":"'Comparison Group 3 Accessible'!J91","v":0},{"$f":"'Comparison Group 3 Accessible'!K91","v":0},{"$f":"'Comparison Group 2 Accessible'!J91","v":625},{"$f":"'Comparison Group 2 Accessible'!K91","v":1.4667229888294378E-2},{"$f":"'Comparison Group 1 Accessible'!J91","v":26},{"$f":"'Comparison Group 1 Accessible'!K91","v":5.6930151083862488E-3},{"$f":"SUM('Subject Data Accessible'!L91:P91)","v":0},0]
["Collision with Animal",{"$f":"'Comparison Group 3 Accessible'!B92","v":0},{"$f":"'Comparison Group 3 Accessible'!C92","v":0},{"$f":"'Comparison Group 2 Accessible'!B92","v":2},{"$f":"'Comparison Group 2 Accessible'!C92","v":2.012072434607646E-3},{"$f":"'Comparison Group 1 Accessible'!B92","v":0},{"$f":"'Comparison Group 1 Accessible'!C92","v":0},{"$f":"SUM('Subject Data Accessible'!D92:H92)","v":0},0,"Collision with Animal",{"$f":"'Comparison Group 3 Accessible'!J92","v":0},{"$f":"'Comparison Group 3 Accessible'!K92","v":0},{"$f":"'Comparison Group 2 Accessible'!J92","v":41},{"$f":"'Comparison Group 2 Accessible'!K92","v":9.6217028067211113E-4},{"$f":"'Comparison Group 1 Accessible'!J92","v":1},{"$f":"'Comparison Group 1 Accessible'!K92","v":2.1896211955331729E-4},{"$f":"SUM('Subject Data Accessible'!L92:P92)","v":0},0]
["Collision with Construction Equipment",{"$f":"'Comparison Group 3 Accessible'!B93","v":298},{"$f":"'Comparison Group 3 Accessible'!C93","v":0.23118696664080682},{"$f":"'Comparison Group 2 Accessible'!B93","v":6},{"$f":"'Comparison Group 2 Accessible'!C93","v":6.0362173038229373E-3},{"$f":"'Comparison Group 1 Accessible'!B93","v":4},{"$f":"'Comparison Group 1 Accessible'!C93","v":3.4188034188034191E-2},{"$f":"SUM('Subject Data Accessible'!D93:H93)","v":0},0,"Collision with Construction Equipment",{"$f":"'Comparison Group 3 Accessible'!J93","v":6935},{"$f":"'Comparison Group 3 Accessible'!K93","v":0.12603362108132668},{"$f":"'Comparison Group 2 Accessible'!J93","v":60},{"$f":"'Comparison Group 2 Accessible'!K93","v":1.4080540692762602E-3},{"$f":"'Comparison Group 1 Accessible'!J93","v":24},{"$f":"'Comparison Group 1 Accessible'!K93","v":5.2550908692796149E-3},{"$f":"SUM('Subject Data Accessible'!L93:P93)","v":0},0]
["Collision with Farm Equipment",{"$f":"'Comparison Group 3 Accessible'!B94","v":0},{"$f":"'Comparison Group 3 Accessible'!C94","v":0},{"$f":"'Comparison Group 2 Accessible'!B94","v":5},{"$f":"'Comparison Group 2 Accessible'!C94","v":5.0301810865191147E-3},{"$f":"'Comparison Group 1 Accessible'!B94","v":1},{"$f":"'Comparison Group 1 Accessible'!C94","v":8.5470085470085479E-3},{"$f":"SUM('Subject Data Accessible'!D94:H94)","v":0},0,"Collision with Farm Equipment",{"$f":"'Comparison Group 3 Accessible'!J94","v":119},{"$f":"'Comparison Group 3 Accessible'!K94","v":2.1626533393911858E-3},{"$f":"'Comparison Group 2 Accessible'!J94","v":495},{"$f":"'Comparison Group 2 Accessible'!K94","v":1.1616446071529146E-2},{"$f":"'Comparison Group 1 Accessible'!J94","v":28},{"$f":"'Comparison Group 1 Accessible'!K94","v":6.1309393474928836E-3},{"$f":"SUM('Subject Data Accessible'!L94:P94)","v":0},0]
["Collision with Motor Vehicle in Transport",{"$f":"'Comparison Group 3 Accessible'!B95","v":0},{"$f":"'Comparison Group 3 Accessible'!C95","v":0},{"$f":"'Comparison Group 2 Accessible'!B95","v":0},{"$f":"'Comparison Group 2 Accessible'!C95","v":0},{"$f":"'Comparison Group 1 Accessible'!B95","v":0},{"$f":"'Comparison Group 1 Accessible'!C95","v":0},{"$f":"SUM('Subject Data Accessible'!D95:H95)","v":0},0,"Collision with Motor Vehicle in Transport",{"$f":"'Comparison Group 3 Accessible'!J95","v":0},{"$f":"'Comparison Group 3 Accessible'!K95","v":0},{"$f":"'Comparison Group 2 Accessible'!J95","v":29},{"$f":"'Comparison Group 2 Accessible'!K95","v":6.8055946681685911E-4},{"$f":"'Comparison Group 1 Accessible'!J95","v":6},{"$f":"'Comparison Group 1 Accessible'!K95","v":1.3137727173199037E-3},{"$f":"SUM('Subject Data Accessible'!L95:P95)","v":6},0.12]
["Collision with Other Non-Fixed Object",{"$f":"'Comparison Group 3 Accessible'!B96","v":0},{"$f":"'Comparison Group 3 Accessible'!C96","v":0},{"$f":"'Comparison Group 2 Accessible'!B96","v":1},{"$f":"'Comparison Group 2 Accessible'!C96","v":1.006036217303823E-3},{"$f":"'Comparison Group 1 Accessible'!B96","v":0},{"$f":"'Comparison Group 1 Accessible'!C96","v":0},{"$f":"SUM('Subject Data Accessible'!D96:H96)","v":0},0,"Collision with Other Non-Fixed Object",{"$f":"'Comparison Group 3 Accessible'!J96","v":1},{"$f":"'Comparison Group 3 Accessible'!K96","v":1.817355747387551E-5},{"$f":"'Comparison Group 2 Accessible'!J96","v":38},{"$f":"'Comparison Group 2 Accessible'!K96","v":8.917675772082981E-4},{"$f":"'Comparison Group 1 Accessible'!J96","v":25},{"$f":"'Comparison Group 1 Accessible'!K96","v":5.4740529888329323E-3},{"$f":"SUM('Subject Data Accessible'!L96:P96)","v":0},0]
["Collision with Other Non-motorist",{"$f":"'Comparison Group 3 Accessible'!B97","v":0},{"$f":"'Comparison Group 3 Accessible'!C97","v":0},{"$f":"'Comparison Group 2 Accessible'!B97","v":4},{"$f":"'Comparison Group 2 Accessible'!C97","v":4.0241448692152921E-3},{"$f":"'Comparison Group 1 Accessible'!B97","v":3},{"$f":"'Comparison Group 1 Accessible'!C97","v":2.564102564102564E-2},{"$f":"SUM('Subject Data Accessible'!D97:H97)","v":0},0,"Collision with Other Non-motorist",{"$f":"'Comparison Group 3 Accessible'!J97","v":0},{"$f":"'Comparison Group 3 Accessible'!K97","v":0},{"$f":"'Comparison Group 2 Accessible'!J97","v":165},{"$f":"'Comparison Group 2 Accessible'!K97","v":3.8721486905097155E-3},{"$f":"'Comparison Group 1 Accessible'!J97","v":91},{"$f":"'Comparison Group 1 Accessible'!K97","v":1.9925552879351872E-2},{"$f":"SUM('Subject Data Accessible'!L97:P97)","v":1},0.02]
["Collision with Parked Motor Vehicle",{"$f":"'Comparison Group 3 Accessible'!B98","v":0},{"$f":"'Comparison Group 3 Accessible'!C98","v":0},{"$f":"'Comparison Group 2 Accessible'!B98","v":6},{"$f":"'Comparison Group 2 Accessible'!C98","v":6.0362173038229373E-3},{"$f":"'Comparison Group 1 Accessible'!B98","v":1},{"$f":"'Comparison Group 1 Accessible'!C98","v":8.5470085470085479E-3},{"$f":"SUM('Subject Data Accessible'!D98:H98)","v":0},0,"Collision with Parked Motor Vehicle",{"$f":"'Comparison Group 3 Accessible'!J98","v":2},{"$f":"'Comparison Group 3 Accessible'!K98","v":3.6347114947751021E-5},{"$f":"'Comparison Group 2 Accessible'!J98","v":515},{"$f":"'Comparison Group 2 Accessible'!K98","v":1.2085797427954566E-2},{"$f":"'Comparison Group 1 Accessible'!J98","v":191},{"$f":"'Comparison Group 1 Accessible'!K98","v":4.1821764834683597E-2},{"$f":"SUM('Subject Data Accessible'!L98:P98)","v":0},0]
["Collision with Pedalcycle",{"$f":"'Comparison Group 3 Accessible'!B99","v":0},{"$f":"'Comparison Group 3 Accessible'!C99","v":0},{"$f":"'Comparison Group 2 Accessible'!B99","v":14},{"$f":"'Comparison Group 2 Accessible'!C99","v":1.4084507042253521E-2},{"$f":"'Comparison Group 1 Accessible'!B99","v":2},{"$f":"'Comparison Group 1 Accessible'!C99","v":1.7094017094017096E-2},{"$f":"SUM('Subject Data Accessible'!D99:H99)","v":0},0,"Collision with Pedalcycle",{"$f":"'Comparison Group 3 Accessible'!J99","v":1},{"$f":"'Comparison Group 3 Accessible'!K99","v":1.817355747387551E-5},{"$f":"'Comparison Group 2 Accessible'!J99","v":347},{"$f":"'Comparison Group 2 Accessible'!K99","v":8.1432460339810383E-3},{"$f":"'Comparison Group 1 Accessible'!J99","v":26},{"$f":"'Comparison Group 1 Accessible'!K99","v":5.6930151083862488E-3},{"$f":"SUM('Subject Data Accessible'!L99:P99)","v":0},0]
["Collision with Pedestrian",{"$f":"'Comparison Group 3 Accessible'!B100","v":63},{"$f":"'Comparison Group 3 Accessible'!C100","v":4.8875096974398756E-2},{"$f":"'Comparison Group 2 Accessible'!B100","v":16},{"$f":"'Comparison Group 2 Accessible'!C100","v":1.6096579476861168E-2},{"$f":"'Comparison Group 1 Accessible'!B100","v":3},{"$f":"'Comparison Group 1 Accessible'!C100","v":2.564102564102564E-2},{"$f":"SUM('Subject Data Accessible'!D100:H100)","v":0},0,"Collision with Pedestrian",{"$f":"'Comparison Group 3 Accessible'!J100","v":3803},{"$f":"'Comparison Group 3 Accessible'!K100","v":6.9114039073148573E-2},{"$f":"'Comparison Group 2 Accessible'!J100","v":174},{"$f":"'Comparison Group 2 Accessible'!K100","v":4.0833568009011542E-3},{"$f":"'Comparison Group 1 Accessible'!J100","v":37},{"$f":"'Comparison Group 1 Accessible'!K100","v":8.1015984234727393E-3},{"$f":"SUM('Subject Data Accessible'!L100:P100)","v":0},0]
["Collision with Railway Vehicle",{"$f":"'Comparison Group 3 Accessible'!B101","v":0},{"$f":"'Comparison Group 3 Accessible'!C101","v":0},{"$f":"'Comparison Group 2 Accessible'!B101","v":5},{"$f":"'Comparison Group 2 Accessible'!C101","v":5.0301810865191147E-3},{"$f":"'Comparison Group 1 Accessible'!B101","v":1},{"$f":"'Comparison Group 1 Accessible'!C101","v":8.5470085470085479E-3},{"$f":"SUM('Subject Data Accessible'!D101:H101)","v":0},0,"Collision with Railway Vehicle",{"$f":"'Comparison Group 3 Accessible'!J101","v":1},{"$f":"'Comparison Group 3 Accessible'!K101","v":1.817355747387551E-5},{"$f":"'Comparison Group 2 Accessible'!J101","v":210},{"$f":"'Comparison Group 2 Accessible'!K101","v":4.9281892424669106E-3},{"$f":"'Comparison Group 1 Accessible'!J101","v":39},{"$f":"'Comparison Group 1 Accessible'!K101","v":8.5395226625793741E-3},{"$f":"SUM('Subject Data Accessible'!L101:P101)","v":2},0.04]
["Strikes Object ar Rest from MV in Transport",{"$f":"'Comparison Group 3 Accessible'!B102","v":1},{"$f":"'Comparison Group 3 Accessible'!C102","v":7.7579519006982156E-4},{"$f":"'Comparison Group 2 Accessible'!B102","v":2},{"$f":"'Comparison Group 2 Accessible'!C102","v":2.012072434607646E-3},{"$f":"'Comparison Group 1 Accessible'!B102","v":0},{"$f":"'Comparison Group 1 Accessible'!C102","v":0},{"$f":"SUM('Subject Data Accessible'!D102:H102)","v":0},0,"Strikes Object ar Rest from MV in Transport",{"$f":"'Comparison Group 3 Accessible'!J102","v":1},{"$f":"'Comparison Group 3 Accessible'!K102","v":1.817355747387551E-5},{"$f":"'Comparison Group 2 Accessible'!J102","v":60},{"$f":"'Comparison Group 2 Accessible'!K102","v":1.4080540692762602E-3},{"$f":"'Comparison Group 1 Accessible'!J102","v":16},{"$f":"'Comparison Group 1 Accessible'!K102","v":3.5033939128530766E-3},{"$f":"SUM('Subject Data Accessible'!L102:P102)","v":0},0]
["Struck by Falling, Shifting Cargo, or Anything Set in Motion by Motor Vehicle",{"$f":"'Comparison Group 3 Accessible'!B103","v":0},{"$f":"'Comparison Group 3 Accessible'!C103","v":0},{"$f":"'Comparison Group 2 Accessible'!B103","v":22},{"$f":"'Comparison Group 2 Accessible'!C103","v":2.2132796780684104E-2},{"$f":"'Comparison Group 1 Accessible'!B103","v":3},{"$f":"'Comparison Group 1 Accessible'!C103","v":2.564102564102564E-2},{"$f":"SUM('Subject Data Accessible'!D103:H103)","v":1},0.14285714285714285,"Struck by Falling, Shifting Cargo, or Anything Set in Motion by Motor Vehicle",{"$f":"'Comparison Group 3 Accessible'!J103","v":2},{"$f":"'Comparison Group 3 Accessible'!K103","v":3.6347114947751021E-5},{"$f":"'Comparison Group 2 Accessible'!J103","v":539},{"$f":"'Comparison Group 2 Accessible'!K103","v":1.2649019055665071E-2},{"$f":"'Comparison Group 1 Accessible'!J103","v":119},{"$f":"'Comparison Group 1 Accessible'!K103","v":2.6056492226844755E-2},{"$f":"SUM('Subject Data Accessible'!L103:P103)","v":0},0]
["Collision with Bridge Overhead Structure",{"$f":"'Comparison Group 3 Accessible'!B104","v":165},{"$f":"'Comparison Group 3 Accessible'!C104","v":0.12800620636152055},{"$f":"'Comparison Group 2 Accessible'!B104","v":1},{"$f":"'Comparison Group 2 Accessible'!C104","v":1.006036217303823E-3},{"$f":"'Comparison Group 1 Accessible'!B104","v":0},{"$f":"'Comparison Group 1 Accessible'!C104","v":0},{"$f":"SUM('Subject Data Accessible'!D104:H104)","v":0},0,"Collision with Bridge Overhead Structure",{"$f":"'Comparison Group 3 Accessible'!J104","v":5819},{"$f":"'Comparison Group 3 Accessible'!K104","v":0.1057519309404816},{"$f":"'Comparison Group 2 Accessible'!J104","v":39},{"$f":"'Comparison Group 2 Accessible'!K104","v":9.1523514502956911E-4},{"$f":"'Comparison Group 1 Accessible'!J104","v":20},{"$f":"'Comparison Group 1 Accessible'!K104","v":4.3792423910663453E-3},{"$f":"SUM('Subject Data Accessible'!L104:P104)","v":2},0.04]
["Collision with Bridge Pier or Support",{"$f":"'Comparison Group 3 Accessible'!B105","v":0},{"$f":"'Comparison Group 3 Accessible'!C105","v":0},{"$f":"'Comparison Group 2 Accessible'!B105","v":6},{"$f":"'Comparison Group 2 Accessible'!C105","v":6.0362173038229373E-3},{"$f":"'Comparison Group 1 Accessible'!B105","v":2},{"$f":"'Comparison Group 1 Accessible'!C105","v":1.7094017094017096E-2},{"$f":"SUM('Subject Data Accessible'!D105:H105)","v":0},0,"Collision with Bridge Pier or Support",{"$f":"'Comparison Group 3 Accessible'!J105","v":0},{"$f":"'Comparison Group 3 Accessible'!K105","v":0},{"$f":"'Comparison Group 2 Accessible'!J105","v":340},{"$f":"'Comparison Group 2 Accessible'!K105","v":7.9789730592321403E-3},{"$f":"'Comparison Group 1 Accessible'!J105","v":52},{"$f":"'Comparison Group 1 Accessible'!K105","v":1.1386030216772498E-2},{"$f":"SUM('Subject Data Accessible'!L105:P105)","v":0},0]
["Collision with Bridge Rail",{"$f":"'Comparison Group 3 Accessible'!B106","v":0},{"$f":"'Comparison Group 3 Accessible'!C106","v":0},{"$f":"'Comparison Group 2 Accessible'!B106","v":9},{"$f":"'Comparison Group 2 Accessible'!C106","v":9.0543259557344068E-3},{"$f":"'Comparison Group 1 Accessible'!B106","v":0},{"$f":"'Comparison Group 1 Accessible'!C106","v":0},{"$f":"SUM('Subject Data Accessible'!D106:H106)","v":1},0.14285714285714285,"Collision with Bridge Rail",{"$f":"'Comparison Group 3 Accessible'!J106","v":0},{"$f":"'Comparison Group 3 Accessible'!K106","v":0},{"$f":"'Comparison Group 2 Accessible'!J106","v":84},{"$f":"'Comparison Group 2 Accessible'!K106","v":1.9712756969867645E-3},{"$f":"'Comparison Group 1 Accessible'!J106","v":3},{"$f":"'Comparison Group 1 Accessible'!K106","v":6.5688635865995186E-4},{"$f":"SUM('Subject Data Accessible'!L106:P106)","v":0},0]
["Collision with Cable Barrier",{"$f":"'Comparison Group 3 Accessible'!B107","v":0},{"$f":"'Comparison Group 3 Accessible'!C107","v":0},{"$f":"'Comparison Group 2 Accessible'!B107","v":5},{"$f":"'Comparison Group 2 Accessible'!C107","v":5.0301810865191147E-3},{"$f":"'Comparison Group 1 Accessible'!B107","v":3},{"$f":"'Comparison Group 1 Accessible'!C107","v":2.564102564102564E-2},{"$f":"SUM('Subject Data Accessible'!D107:H107)","v":0},0,"Collision with Cable Barrier",{"$f":"'Comparison Group 3 Accessible'!J107","v":1},{"$f":"'Comparison Group 3 Accessible'!K107","v":1.817355747387551E-5},{"$f":"'Comparison Group 2 Accessible'!J107","v":263},{"$f":"'Comparison Group 2 Accessible'!K107","v":6.1719703369942742E-3},{"$f":"'Comparison Group 1 Accessible'!J107","v":56},{"$f":"'Comparison Group 1 Accessible'!K107","v":1.2261878694985767E-2},{"$f":"SUM('Subject Data Accessible'!L107:P107)","v":0},0]
["Collision with Concrete Traffic Barrier",{"$f":"'Comparison Group 3 Accessible'!B108","v":0},{"$f":"'Comparison Group 3 Accessible'!C108","v":0},{"$f":"'Comparison Group 2 Accessible'!B108","v":108},{"$f":"'Comparison Group 2 Accessible'!C108","v":0.10865191146881288},{"$f":"'Comparison Group 1 Accessible'!B108","v":24},{"$f":"'Comparison Group 1 Accessible'!C108","v":0.20512820512820512},{"$f":"SUM('Subject Data Accessible'!D108:H108)","v":0},0,"Collision with Concrete Traffic Barrier",{"$f":"'Comparison Group 3 Accessible'!J108","v":0},{"$f":"'Comparison Group 3 Accessible'!K108","v":0},{"$f":"'Comparison Group 2 Accessible'!J108","v":708},{"$f":"'Comparison Group 2 Accessible'!K108","v":1.6615038017459869E-2},{"$f":"'Comparison Group 1 Accessible'!J108","v":276},{"$f":"'Comparison Group 1 Accessible'!K108","v":6.043354499671557E-2},{"$f":"SUM('Subject Data Accessible'!L108:P108)","v":0},0]
["Collision with Culvert",{"$f":"'Comparison Group 3 Accessible'!B109","v":315},{"$f":"'Comparison Group 3 Accessible'!C109","v":0.24437548487199379},{"$f":"'Comparison Group 2 Accessible'!B109","v":18},{"$f":"'Comparison Group 2 Accessible'!C109","v":1.8108651911468814E-2},{"$f":"'Comparison Group 1 Accessible'!B109","v":3},{"$f":"'Comparison Group 1 Accessible'!C109","v":2.564102564102564E-2},{"$f":"SUM('Subject Data Accessible'!D109:H109)","v":1},0.14285714285714285,"Collision with Culvert",{"$f":"'Comparison Group 3 Accessible'!J109","v":13121},{"$f":"'Comparison Group 3 Accessible'!K109","v":0.23845524761472059},{"$f":"'Comparison Group 2 Accessible'!J109","v":2976},{"$f":"'Comparison Group 2 Accessible'!K109","v":6.9839481836102502E-2},{"$f":"'Comparison Group 1 Accessible'!J109","v":539},{"$f":"'Comparison Group 1 Accessible'!K109","v":0.11802058243923801},{"$f":"SUM('Subject Data Accessible'!L109:P109)","v":0},0]
["Collision with Curb",{"$f":"'Comparison Group 3 Accessible'!B110","v":0},{"$f":"'Comparison Group 3 Accessible'!C110","v":0},{"$f":"'Comparison Group 2 Accessible'!B110","v":145},{"$f":"'Comparison Group 2 Accessible'!C110","v":0.14587525150905434},{"$f":"'Comparison Group 1 Accessible'!B110","v":19},{"$f":"'Comparison Group 1 Accessible'!C110","v":0.1623931623931624},{"$f":"SUM('Subject Data Accessible'!D110:H110)","v":0},0,"Collision with Curb",{"$f":"'Comparison Group 3 Accessible'!J110","v":7},{"$f":"'Comparison Group 3 Accessible'!K110","v":1.2721490231712857E-4},{"$f":"'Comparison Group 2 Accessible'!J110","v":574},{"$f":"'Comparison Group 2 Accessible'!K110","v":1.3470383929409555E-2},{"$f":"'Comparison Group 1 Accessible'!J110","v":78},{"$f":"'Comparison Group 1 Accessible'!K110","v":1.7079045325158748E-2},{"$f":"SUM('Subject Data Accessible'!L110:P110)","v":4},0.08]
["Collision with Ditch",{"$f":"'Comparison Group 3 Accessible'!B111","v":0},{"$f":"'Comparison Group 3 Accessible'!C111","v":0},{"$f":"'Comparison Group 2 Accessible'!B111","v":0},{"$f":"'Comparison Group 2 Accessible'!C111","v":0},{"$f":"'Comparison Group 1 Accessible'!B111","v":0},{"$f":"'Comparison Group 1 Accessible'!C111","v":0},{"$f":"SUM('Subject Data Accessible'!D111:H111)","v":0},0,"Collision with Ditch",{"$f":"'Comparison Group 3 Accessible'!J111","v":2},{"$f":"'Comparison Group 3 Accessible'!K111","v":3.6347114947751021E-5},{"$f":"'Comparison Group 2 Accessible'!J111","v":7},{"$f":"'Comparison Group 2 Accessible'!K111","v":1.6427297474889702E-4},{"$f":"'Comparison Group 1 Accessible'!J111","v":3},{"$f":"'Comparison Group 1 Accessible'!K111","v":6.5688635865995186E-4},{"$f":"SUM('Subject Data Accessible'!L111:P111)","v":0},0]
["Collision with Embankment",{"$f":"'Comparison Group 3 Accessible'!B112","v":0},{"$f":"'Comparison Group 3 Accessible'!C112","v":0},{"$f":"'Comparison Group 2 Accessible'!B112","v":93},{"$f":"'Comparison Group 2 Accessible'!C112","v":9.3561368209255535E-2},{"$f":"'Comparison Group 1 Accessible'!B112","v":5},{"$f":"'Comparison Group 1 Accessible'!C112","v":4.2735042735042736E-2},{"$f":"SUM('Subject Data Accessible'!D112:H112)","v":0},0,"Collision with Embankment",{"$f":"'Comparison Group 3 Accessible'!J112","v":1},{"$f":"'Comparison Group 3 Accessible'!K112","v":1.817355747387551E-5},{"$f":"'Comparison Group 2 Accessible'!J112","v":15157},{"$f":"'Comparison Group 2 Accessible'!K112","v":0.35569792546700457},{"$f":"'Comparison Group 1 Accessible'!J112","v":1053},{"$f":"'Comparison Group 1 Accessible'!K112","v":0.2305671118896431},{"$f":"SUM('Subject Data Accessible'!L112:P112)","v":3},0.06]
["Collision with Fence",{"$f":"'Comparison Group 3 Accessible'!B113","v":3},{"$f":"'Comparison Group 3 Accessible'!C113","v":2.3273855702094647E-3},{"$f":"'Comparison Group 2 Accessible'!B113","v":0},{"$f":"'Comparison Group 2 Accessible'!C113","v":0},{"$f":"'Comparison Group 1 Accessible'!B113","v":0},{"$f":"'Comparison Group 1 Accessible'!C113","v":0},{"$f":"SUM('Subject Data Accessible'!D113:H113)","v":0},0,"Collision with Fence",{"$f":"'Comparison Group 3 Accessible'!J113","v":143},{"$f":"'Comparison Group 3 Accessible'!K113","v":2.598818718764198E-3},{"$f":"'Comparison Group 2 Accessible'!J113","v":13},{"$f":"'Comparison Group 2 Accessible'!K113","v":3.0507838167652304E-4},{"$f":"'Comparison Group 1 Accessible'!J113","v":3},{"$f":"'Comparison Group 1 Accessible'!K113","v":6.5688635865995186E-4},{"$f":"SUM('Subject Data Accessible'!L113:P113)","v":0},0]
["Collision with Guardrail End Terminal",{"$f":"'Comparison Group 3 Accessible'!B114","v":0},{"$f":"'Comparison Group 3 Accessible'!C114","v":0},{"$f":"'Comparison Group 2 Accessible'!B114","v":8},{"$f":"'Comparison Group 2 Accessible'!C114","v":8.0482897384305842E-3},{"$f":"'Comparison Group 1 Accessible'!B114","v":1},{"$f":"'Comparison Group 1 Accessible'!C114","v":8.5470085470085479E-3},{"$f":"SUM('Subject Data Accessible'!D114:H114)","v":0},0,"Collision with Guardrail End Terminal",{"$f":"'Comparison Group 3 Accessible'!J114","v":4},{"$f":"'Comparison Group 3 Accessible'!K114","v":7.2694229895502041E-5},{"$f":"'Comparison Group 2 Accessible'!J114","v":371},{"$f":"'Comparison Group 2 Accessible'!K114","v":8.7064676616915426E-3},{"$f":"'Comparison Group 1 Accessible'!J114","v":97},{"$f":"'Comparison Group 1 Accessible'!K114","v":2.1239325596671774E-2},{"$f":"SUM('Subject Data Accessible'!L114:P114)","v":0},0]
["Collision with Guardrail Face",{"$f":"'Comparison Group 3 Accessible'!B115","v":0},{"$f":"'Comparison Group 3 Accessible'!C115","v":0},{"$f":"'Comparison Group 2 Accessible'!B115","v":17},{"$f":"'Comparison Group 2 Accessible'!C115","v":1.7102615694164991E-2},{"$f":"'Comparison Group 1 Accessible'!B115","v":4},{"$f":"'Comparison Group 1 Accessible'!C115","v":3.4188034188034191E-2},{"$f":"SUM('Subject Data Accessible'!D115:H115)","v":0},0,"Collision with Guardrail Face",{"$f":"'Comparison Group 3 Accessible'!J115","v":0},{"$f":"'Comparison Group 3 Accessible'!K115","v":0},{"$f":"'Comparison Group 2 Accessible'!J115","v":4888},{"$f":"'Comparison Group 2 Accessible'!K115","v":0.11470947151037267},{"$f":"'Comparison Group 1 Accessible'!J115","v":338},{"$f":"'Comparison Group 1 Accessible'!K115","v":7.4009196409021233E-2},{"$f":"SUM('Subject Data Accessible'!L115:P115)","v":0},0]
["Collision with Impact Attenuator/Crash Cushion",{"$f":"'Comparison Group 3 Accessible'!B116","v":0},{"$f":"'Comparison Group 3 Accessible'!C116","v":0},{"$f":"'Comparison Group 2 Accessible'!B116","v":1},{"$f":"'Comparison Group 2 Accessible'!C116","v":1.006036217303823E-3},{"$f":"'Comparison Group 1 Accessible'!B116","v":0},{"$f":"'Comparison Group 1 Accessible'!C116","v":0},{"$f":"SUM('Subject Data Accessible'!D116:H116)","v":0},0,"Collision with Impact Attenuator/Crash Cushion",{"$f":"'Comparison Group 3 Accessible'!J116","v":0},{"$f":"'Comparison Group 3 Accessible'!K116","v":0},{"$f":"'Comparison Group 2 Accessible'!J116","v":591},{"$f":"'Comparison Group 2 Accessible'!K116","v":1.3869332582371163E-2},{"$f":"'Comparison Group 1 Accessible'!J116","v":39},{"$f":"'Comparison Group 1 Accessible'!K116","v":8.5395226625793741E-3},{"$f":"SUM('Subject Data Accessible'!L116:P116)","v":0},0]
["Collision with Mailbox",{"$f":"'Comparison Group 3 Accessible'!B117","v":0},{"$f":"'Comparison Group 3 Accessible'!C117","v":0},{"$f":"'Comparison Group 2 Accessible'!B117","v":8},{"$f":"'Comparison Group 2 Accessible'!C117","v":8.0482897384305842E-3},{"$f":"'Comparison Group 1 Accessible'!B117","v":0},{"$f":"'Comparison Group 1 Accessible'!C117","v":0},{"$f":"SUM('Subject Data Accessible'!D117:H117)","v":0},0,"Collision with Mailbox",{"$f":"'Comparison Group 3 Accessible'!J117","v":0},{"$f":"'Comparison Group 3 Accessible'!K117","v":0},{"$f":"'Comparison Group 2 Accessible'!J117","v":102},{"$f":"'Comparison Group 2 Accessible'!K117","v":2.3936919177696423E-3},{"$f":"'Comparison Group 1 Accessible'!J117","v":9},{"$f":"'Comparison Group 1 Accessible'!K117","v":1.9706590759798557E-3},{"$f":"SUM('Subject Data Accessible'!L117:P117)","v":6},0.12]
["Collision with Other Fixed Object",{"$f":"'Comparison Group 3 Accessible'!B118","v":0},{"$f":"'Comparison Group 3 Accessible'!C118","v":0},{"$f":"'Comparison Group 2 Accessible'!B118","v":16},{"$f":"'Comparison Group 2 Accessible'!C118","v":1.6096579476861168E-2},{"$f":"'Comparison Group 1 Accessible'!B118","v":3},{"$f":"'Comparison Group 1 Accessible'!C118","v":2.564102564102564E-2},{"$f":"SUM('Subject Data Accessible'!D118:H118)","v":0},0,"Collision with Other Fixed Object",{"$f":"'Comparison Group 3 Accessible'!J118","v":1},{"$f":"'Comparison Group 3 Accessible'!K118","v":1.817355747387551E-5},{"$f":"'Comparison Group 2 Accessible'!J118","v":294},{"$f":"'Comparison Group 2 Accessible'!K118","v":6.8994649394536747E-3},{"$f":"'Comparison Group 1 Accessible'!J118","v":74},{"$f":"'Comparison Group 1 Accessible'!K118","v":1.6203196846945479E-2},{"$f":"SUM('Subject Data Accessible'!L118:P118)","v":0},0]
["Collision with Other Post, Pole, or Support",{"$f":"'Comparison Group 3 Accessible'!B119","v":0},{"$f":"'Comparison Group 3 Accessible'!C119","v":0},{"$f":"'Comparison Group 2 Accessible'!B119","v":171},{"$f":"'Comparison Group 2 Accessible'!C119","v":0.17203219315895371},{"$f":"'Comparison Group 1 Accessible'!B119","v":16},{"$f":"'Comparison Group 1 Accessible'!C119","v":0.13675213675213677},{"$f":"SUM('Subject Data Accessible'!D119:H119)","v":1},0.14285714285714285,"Collision with Other Post, Pole, or Support",{"$f":"'Comparison Group 3 Accessible'!J119","v":0},{"$f":"'Comparison Group 3 Accessible'!K119","v":0},{"$f":"'Comparison Group 2 Accessible'!J119","v":3824},{"$f":"'Comparison Group 2 Accessible'!K119","v":8.9739979348540319E-2},{"$f":"'Comparison Group 1 Accessible'!J119","v":220},{"$f":"'Comparison Group 1 Accessible'!K119","v":4.8171666301729803E-2},{"$f":"SUM('Subject Data Accessible'!L119:P119)","v":4},0.08]
["Collision with Other Traffic Barrier",{"$f":"'Comparison Group 3 Accessible'!B120","v":0},{"$f":"'Comparison Group 3 Accessible'!C120","v":0},{"$f":"'Comparison Group 2 Accessible'!B120","v":7},{"$f":"'Comparison Group 2 Accessible'!C120","v":7.0422535211267607E-3},{"$f":"'Comparison Group 1 Accessible'!B120","v":1},{"$f":"'Comparison Group 1 Accessible'!C120","v":8.5470085470085479E-3},{"$f":"SUM('Subject Data Accessible'!D120:H120)","v":0},0,"Collision with Other Traffic Barrier",{"$f":"'Comparison Group 3 Accessible'!J120","v":1},{"$f":"'Comparison Group 3 Accessible'!K120","v":1.817355747387551E-5},{"$f":"'Comparison Group 2 Accessible'!J120","v":169},{"$f":"'Comparison Group 2 Accessible'!K120","v":3.9660189617947992E-3},{"$f":"'Comparison Group 1 Accessible'!J120","v":14},{"$f":"'Comparison Group 1 Accessible'!K120","v":3.0654696737464418E-3},{"$f":"SUM('Subject Data Accessible'!L120:P120)","v":0},0]
["Collision with Traffic Sign Support",{"$f":"'Comparison Group 3 Accessible'!B121","v":0},{"$f":"'Comparison Group 3 Accessible'!C121","v":0},{"$f":"'Comparison Group 2 Accessible'!B121","v":6},{"$f":"'Comparison Group 2 Accessible'!C121","v":6.0362173038229373E-3},{"$f":"'Comparison Group 1 Accessible'!B121","v":1},{"$f":"'Comparison Group 1 Accessible'!C121","v":8.5470085470085479E-3},{"$f":"SUM('Subject Data Accessible'!D121:H121)","v":0},0,"Collision with Traffic Sign Support",{"$f":"'Comparison Group 3 Accessible'!J121","v":0},{"$f":"'Comparison Group 3 Accessible'!K121","v":0},{"$f":"'Comparison Group 2 Accessible'!J121","v":133},{"$f":"'Comparison Group 2 Accessible'!K121","v":3.1211865202290436E-3},{"$f":"'Comparison Group 1 Accessible'!J121","v":38},{"$f":"'Comparison Group 1 Accessible'!K121","v":8.3205605430260558E-3},{"$f":"SUM('Subject Data Accessible'!L121:P121)","v":8},0.16]
["Collision with Traffic Signal Support",{"$f":"'Comparison Group 3 Accessible'!B122","v":15},{"$f":"'Comparison Group 3 Accessible'!C122","v":1.1636927851047323E-2},{"$f":"'Comparison Group 2 Accessible'!B122","v":0},{"$f":"'Comparison Group 2 Accessible'!C122","v":0},{"$f":"'Comparison Group 1 Accessible'!B122","v":0},{"$f":"'Comparison Group 1 Accessible'!C122","v":0},{"$f":"SUM('Subject Data Accessible'!D122:H122)","v":0},0,"Collision with Traffic Signal Support",{"$f":"'Comparison Group 3 Accessible'!J122","v":874},{"$f":"'Comparison Group 3 Accessible'!K122","v":1.5883689232167198E-2},{"$f":"'Comparison Group 2 Accessible'!J122","v":75},{"$f":"'Comparison Group 2 Accessible'!K122","v":1.7600675865953252E-3},{"$f":"'Comparison Group 1 Accessible'!J122","v":16},{"$f":"'Comparison Group 1 Accessible'!K122","v":3.5033939128530766E-3},{"$f":"SUM('Subject Data Accessible'!L122:P122)","v":0},0]
["Collision with Tree",{"$f":"'Comparison Group 3 Accessible'!B123","v":0},{"$f":"'Comparison Group 3 Accessible'!C123","v":0},{"$f":"'Comparison Group 2 Accessible'!B123","v":0},{"$f":"'Comparison Group 2 Accessible'!C123","v":0},{"$f":"'Comparison Group 1 Accessible'!B123","v":0},{"$f":"'Comparison Group 1 Accessible'!C123","v":0},{"$f":"SUM('Subject Data Accessible'!D123:H123)","v":0},0,"Collision with Tree",{"$f":"'Comparison Group 3 Accessible'!J123","v":1},{"$f":"'Comparison Group 3 Accessible'!K123","v":1.817355747387551E-5},{"$f":"'Comparison Group 2 Accessible'!J123","v":151},{"$f":"'Comparison Group 2 Accessible'!K123","v":3.5436027410119214E-3},{"$f":"'Comparison Group 1 Accessible'!J123","v":29},{"$f":"'Comparison Group 1 Accessible'!K123","v":6.349901467046201E-3},{"$f":"SUM('Subject Data Accessible'!L123:P123)","v":0},0]
["Collision with Utility Pole or Light Support",{"$f":"'Comparison Group 3 Accessible'!B124","v":0},{"$f":"'Comparison Group 3 Accessible'!C124","v":0},{"$f":"'Comparison Group 2 Accessible'!B124","v":0},{"$f":"'Comparison Group 2 Accessible'!C124","v":0},{"$f":"'Comparison Group 1 Accessible'!B124","v":0},{"$f":"'Comparison Group 1 Accessible'!C124","v":0},{"$f":"SUM('Subject Data Accessible'!D124:H124)","v":0},0,"Collision with Utility Pole or Light Support",{"$f":"'Comparison Group 3 Accessible'!J124","v":2},{"$f":"'Comparison Group 3 Accessible'!K124","v":3.6347114947751021E-5},{"$f":"'Comparison Group 2 Accessible'!J124","v":0},{"$f":"'Comparison Group 2 Accessible'!K124","v":0},{"$f":"'Comparison Group 1 Accessible'!J124","v":16},{"$f":"'Comparison Group 1 Accessible'!K124","v":3.5033939128530766E-3},{"$f":"SUM('Subject Data Accessible'!L124:P124)","v":0},0]
["Unknown",{"$f":"'Comparison Group 3 Accessible'!B125","v":420},{"$f":"'Comparison Group 3 Accessible'!C125","v":0.32583397982932505},{"$f":"'Comparison Group 2 Accessible'!B125","v":0},{"$f":"'Comparison Group 2 Accessible'!C125","v":0},{"$f":"'Comparison Group 1 Accessible'!B125","v":0},{"$f":"'Comparison Group 1 Accessible'!C125","v":0},{"$f":"SUM('Subject Data Accessible'!D125:H125)","v":0},0,"Unknown",{"$f":"'Comparison Group 3 Accessible'!J125","v":23769},{"$f":"'Comparison Group 3 Accessible'!K125","v":0.43196728759654701},{"$f":"'Comparison Group 2 Accessible'!J125","v":0},{"$f":"'Comparison Group 2 Accessible'!K125","v":0},{"$f":"'Comparison Group 1 Accessible'!J125","v":0},{"$f":"'Comparison Group 1 Accessible'!K125","v":0},{"$f":"SUM('Subject Data Accessible'!L125:P125)","v":0},0]
[{"$f":"CONCATENATE(\"Fatal and Serious Injury Crashes - \",A127,\"\nComp 3 = \",Instructions!$B$12,\", Comp 2 = \",Instructions!$B$11,\", Comp 1 = \", Instructions!$B$10, \", Subject = \",Instructions!$B$9)","v":"Fatal and Serious Injury Crashes - Location of First Harmful Event\nComp 3 = Test Group 3, Comp 2 = Test Group 2, Comp 1 = Test Group 1, Subject = Test County"},null,null,null,null,null,null,null,null,{"$f":"CONCATENATE(\"Total Crashes - \",J127,\"\nComp 3 = \",Instructions!$B$12,\", Comp 2 = \",Instructions!$B$11,\", Comp 1 = \", Instructions!$B$10, \", Subject = \",Instructions!$B$9)","v":"Total Crashes - Location of First Harmful Event\nComp 3 = Test Group 3, Comp 2 = Test Group 2, Comp 1 = Test Group 1, Subject = Test County"}]
["Location of First Harmful Event","Comp 3 Number","Comp 3 Percent","Comp 2 Number","Comp 2 Percent","Comp 1 Number","Comp 1 Percent","Subject Number","Subject Percent","Location of First Harmful Event","Comp 3 Number","Comp 3 Percent","Comp 2 Number","Comp 2 Percent","Comp 1 Number","Comp 1 Percent","Subject Number","Subject Percent"]
["Gore",{"$f":"'Comparison Group 3 Accessible'!B128","v":313},{"$f":"'Comparison Group 3 Accessible'!C128","v":0.24282389449185415},{"$f":"'Comparison Group 2 Accessible'!B128","v":150},{"$f":"'Comparison Group 2 Accessible'!C128","v":0.15090543259557343},{"$f":"'Comparison Group 1 Accessible'!B128","v":108},{"$f":"'Comparison Group 1 Accessible'!C128","v":0.92307692307692313},{"$f":"SUM('Subject Data Accessible'!D128:H128)","v":0},{"$f":"H128/SUM(H$128:H$138)","v":0},{"$f":"A128","v":"Gore"},{"$f":"'Comparison Group 3 Accessible'!J128","v":7988},{"$f":"'Comparison Group 3 Accessible'!K128","v":0.14517037710131758},{"$f":"'Comparison Group 2 Accessible'!J128","v":3463},{"$f":"'Comparison Group 2 Accessible'!K128","v":8.1313985160139005E-2},{"$f":"'Comparison Group 1 Accessible'!J128","v":3854},{"$f":"'Comparison Group 1 Accessible'!K128","v":0.84388000875848479},{"$f":"SUM('Subject Data Accessible'!L128:P128)","v":5},{"$f":"Q128/SUM(Q$128:Q$138)","v":0.1}]
["In Parking Lane or Zone",{"$f":"'Comparison Group 3 Accessible'!B129","v":798},{"$f":"'Comparison Group 3 Accessible'!C129","v":0.61908456167571757},{"$f":"'Comparison Group 2 Accessible'!B129","v":180},{"$f":"'Comparison Group 2 Accessible'!C129","v":0.18108651911468812},{"$f":"'Comparison Group 1 Accessible'!B129","v":0},{"$f":"'Comparison Group 1 Accessible'!C129","v":0},{"$f":"SUM('Subject Data Accessible'!D129:H129)","v":0},{"$f":"H129/SUM(H$128:H$138)","v":0},"In Parking Lane or Zone",{"$f":"'Comparison Group 3 Accessible'!J129","v":41341},{"$f":"'Comparison Group 3 Accessible'!K129","v":0.75131303952748751},{"$f":"'Comparison Group 2 Accessible'!J129","v":5695},{"$f":"'Comparison Group 2 Accessible'!K129","v":0.13372311449234525},{"$f":"'Comparison Group 1 Accessible'!J129","v":4},{"$f":"'Comparison Group 1 Accessible'!K129","v":8.7584847821326915E-4},{"$f":"SUM('Subject Data Accessible'!L129:P129)","v":4},{"$f":"Q129/SUM(Q$128:Q$138)","v":0.08}]
["Median",{"$f":"'Comparison Group 3 Accessible'!B130","v":127},{"$f":"'Comparison Group 3 Accessible'!C130","v":9.8525989138867343E-2},{"$f":"'Comparison Group 2 Accessible'!B130","v":7},{"$f":"'Comparison Group 2 Accessible'!C130","v":7.0422535211267607E-3},{"$f":"'Comparison Group 1 Accessible'!B130","v":0},{"$f":"'Comparison Group 1 Accessible'!C130","v":0},{"$f":"SUM('Subject Data Accessible'!D130:H130)","v":0},0,"Median",{"$f":"'Comparison Group 3 Accessible'!J130","v":4765},{"$f":"'Comparison Group 3 Accessible'!K130","v":8.6597001363016804E-2},{"$f":"'Comparison Group 2 Accessible'!J130","v":517},{"$f":"'Comparison Group 2 Accessible'!K130","v":1.2139569831877525E-2},{"$f":"'Comparison Group 1 Accessible'!J130","v":1},{"$f":"'Comparison Group 1 Accessible'!K130","v":2.1896211955331729E-4},{"$f":"SUM('Subject Data Accessible'!L130:P130)","v":5},0.1]
["Off-Roadway, Location Unknown",{"$f":"'Comparison Group 3 Accessible'!B131","v":36},{"$f":"'Comparison Group 3 Accessible'!C131","v":2.7928626842513578E-2},{"$f":"'Comparison Group 2 Accessible'!B131","v":18},{"$f":"'Comparison Group 2 Accessible'!C131","v":1.8108651911468814E-2},{"$f":"'Comparison Group 1 Accessible'!B131","v":3},{"$f":"'Comparison Group 1 Accessible'!C131","v":2.564102564102564E-2},{"$f":"SUM('Subject Data Accessible'!D131:H131)","v":1},0.14285714285714285,"Off-Roadway, Location Unknown",{"$f":"'Comparison Group 3 Accessible'!J131","v":776},{"$f":"'Comparison Group 3 Accessible'!K131","v":1.4102680599727397E-2},{"$f":"'Comparison Group 2 Accessible'!J131","v":348},{"$f":"'Comparison Group 2 Accessible'!K131","v":8.1713158636235565E-3},{"$f":"'Comparison Group 1 Accessible'!J131","v":210},{"$f":"'Comparison Group 1 Accessible'!K131","v":4.5982045106196627E-2},{"$f":"SUM('Subject Data Accessible'!L131:P131)","v":5},0.1]
["On Roadway",{"$f":"'Comparison Group 3 Accessible'!B132","v":11},{"$f":"'Comparison Group 3 Accessible'!C132","v":8.5337470907680367E-3},{"$f":"'Comparison Group 2 Accessible'!B132","v":25},{"$f":"'Comparison Group 2 Accessible'!C132","v":2.5150905432595575E-2},{"$f":"'Comparison Group 1 Accessible'!B132","v":0},{"$f":"'Comparison Group 1 Accessible'!C132","v":0},{"$f":"SUM('Subject Data Accessible'!D132:H132)","v":0},0,"On Roadway",{"$f":"'Comparison Group 3 Accessible'!J132","v":121},{"$f":"'Comparison Group 3 Accessible'!K132","v":2.1990004543389367E-3},{"$f":"'Comparison Group 2 Accessible'!J132","v":223},{"$f":"'Comparison Group 2 Accessible'!K132","v":5.236216774678313E-3},{"$f":"'Comparison Group 1 Accessible'!J132","v":5},{"$f":"'Comparison Group 1 Accessible'!K132","v":1.0948105977665863E-3},{"$f":"SUM('Subject Data Accessible'!L132:P132)","v":3},0.06]
["On Shoulder, Left Side",{"$f":"'Comparison Group 3 Accessible'!B133","v":1},{"$f":"'Comparison Group 3 Accessible'!C133","v":7.7579519006982156E-4},{"$f":"'Comparison Group 2 Accessible'!B133","v":5},{"$f":"'Comparison Group 2 Accessible'!C133","v":5.0301810865191147E-3},{"$f":"'Comparison Group 1 Accessible'!B133","v":0},{"$f":"'Comparison Group 1 Accessible'!C133","v":0},{"$f":"SUM('Subject Data Accessible'!D133:H133)","v":1},0.14285714285714285,"On Shoulder, Left Side",{"$f":"'Comparison Group 3 Accessible'!J133","v":21},{"$f":"'Comparison Group 3 Accessible'!K133","v":3.8164470695138572E-4},{"$f":"'Comparison Group 2 Accessible'!J133","v":222},{"$f":"'Comparison Group 2 Accessible'!K133","v":5.2127359819667514E-3},{"$f":"'Comparison Group 1 Accessible'!J133","v":12},{"$f":"'Comparison Group 1 Accessible'!K133","v":2.6275454346398074E-3},{"$f":"SUM('Subject Data Accessible'!L133:P133)","v":3},0.06]
["On Shoulder, Right Side",{"$f":"'Comparison Group 3 Accessible'!B134","v":1},{"$f":"'Comparison Group 3 Accessible'!C134","v":7.7579519006982156E-4},{"$f":"'Comparison Group 2 Accessible'!B134","v":77},{"$f":"'Comparison Group 2 Accessible'!C134","v":7.746478873239436E-2},{"$f":"'Comparison Group 1 Accessible'!B134","v":0},{"$f":"'Comparison Group 1 Accessible'!C134","v":0},{"$f":"SUM('Subject Data Accessible'!D134:H134)","v":2},0.2857142857142857,"On Shoulder, Right Side",{"$f":"'Comparison Group 3 Accessible'!J134","v":6},{"$f":"'Comparison Group 3 Accessible'!K134","v":1.0904134484325306E-4},{"$f":"'Comparison Group 2 Accessible'!J134","v":528},{"$f":"'Comparison Group 2 Accessible'!K134","v":1.2397858551704706E-2},{"$f":"'Comparison Group 1 Accessible'!J134","v":24},{"$f":"'Comparison Group 1 Accessible'!K134","v":5.2550908692796149E-3},{"$f":"SUM('Subject Data Accessible'!L134:P134)","v":6},0.12]
["Outside Road/Right-of-Way",{"$f":"'Comparison Group 3 Accessible'!B135","v":0},{"$f":"'Comparison Group 3 Accessible'!C135","v":0},{"$f":"'Comparison Group 2 Accessible'!B135","v":19},{"$f":"'Comparison Group 2 Accessible'!C135","v":1.9114688128772636E-2},{"$f":"'Comparison Group 1 Accessible'!B135","v":0},{"$f":"'Comparison Group 1 Accessible'!C135","v":0},{"$f":"SUM('Subject Data Accessible'!D135:H135)","v":2},0.2857142857142857,"Outside Road/Right-of-Way",{"$f":"'Comparison Group 3 Accessible'!J135","v":1},{"$f":"'Comparison Group 3 Accessible'!K135","v":1.817355747387551E-5},{"$f":"'Comparison Group 2 Accessible'!J135","v":2945},{"$f":"'Comparison Group 2 Accessible'!K135","v":6.9150934535549921E-2},{"$f":"'Comparison Group 1 Accessible'!J135","v":0},{"$f":"'Comparison Group 1 Accessible'!K135","v":0},{"$f":"SUM('Subject Data Accessible'!L135:P135)","v":6},0.12]
["Roadside",{"$f":"'Comparison Group 3 Accessible'!B136","v":1},{"$f":"'Comparison Group 3 Accessible'!C136","v":7.7579519006982156E-4},{"$f":"'Comparison Group 2 Accessible'!B136","v":144},{"$f":"'Comparison Group 2 Accessible'!C136","v":0.14486921529175051},{"$f":"'Comparison Group 1 Accessible'!B136","v":1},{"$f":"'Comparison Group 1 Accessible'!C136","v":8.5470085470085479E-3},{"$f":"SUM('Subject Data Accessible'!D136:H136)","v":0},0,"Roadside",{"$f":"'Comparison Group 3 Accessible'!J136","v":3},{"$f":"'Comparison Group 3 Accessible'!K136","v":5.4520672421626531E-5},{"$f":"'Comparison Group 2 Accessible'!J136","v":574},{"$f":"'Comparison Group 2 Accessible'!K136","v":1.3477975016436555E-2},{"$f":"'Comparison Group 1 Accessible'!J136","v":142},{"$f":"'Comparison Group 1 Accessible'!K136","v":3.1092620976571055E-2},{"$f":"SUM('Subject Data Accessible'!L136:P136)","v":4},0.08]
["Separator/Traffic Island",{"$f":"'Comparison Group 3 Accessible'!B137","v":0},{"$f":"'Comparison Group 3 Accessible'!C137","v":0},{"$f":"'Comparison Group 2 Accessible'!B137","v":155},{"$f":"'Comparison Group 2 Accessible'!C137","v":0.15593561368209255},{"$f":"'Comparison Group 1 Accessible'!B137","v":1},{"$f":"'Comparison Group 1 Accessible'!C137","v":8.5470085470085479E-3},{"$f":"SUM('Subject Data Accessible'!D137:H137)","v":0},0,"Separator/Traffic Island",{"$f":"'Comparison Group 3 Accessible'!J137","v":1},{"$f":"'Comparison Group 3 Accessible'!K137","v":1.817355747387551E-5},{"$f":"'Comparison Group 2 Accessible'!J137","v":17847},{"$f":"'Comparison Group 2 Accessible'!K137","v":0.41906170752324601},{"$f":"'Comparison Group 1 Accessible'!J137","v":2},{"$f":"'Comparison Group 1 Accessible'!K137","v":4.3792423910663457E-4},{"$f":"SUM('Subject Data Accessible'!L137:P137)","v":4},0.08]
["Unknown",{"$f":"'Comparison Group 3 Accessible'!B138","v":1},{"$f":"'Comparison Group 3 Accessible'!C138","v":7.7579519006982156E-4},{"$f":"'Comparison Group 2 Accessible'!B138","v":214},{"$f":"'Comparison Group 2 Accessible'!C138","v":0.2152917505030181},{"$f":"'Comparison Group 1 Accessible'!B138","v":4},{"$f":"'Comparison Group 1 Accessible'!C138","v":3.4188034188034191E-2},{"$f":"SUM('Subject Data Accessible'!D138:H138)","v":1},0.14285714285714285,"Unknown",{"$f":"'Comparison Group 3 Accessible'!J138","v":2},{"$f":"'Comparison Group 3 Accessible'!K138","v":3.6347114947751021E-5},{"$f":"'Comparison Group 2 Accessible'!J138","v":10226},{"$f":"'Comparison Group 2 Accessible'!K138","v":0.24011458626843243},{"$f":"'Comparison Group 1 Accessible'!J138","v":313},{"$f":"'Comparison Group 1 Accessible'!K138","v":6.8535143420188308E-2},{"$f":"SUM('Subject Data Accessible'!L138:P138)","v":5},0.1]
[{"$f":"CONCATENATE(\"Fatal and Serious Injury Crashes - \",A140,\"\nComp 3 = \",Instructions!$B$12,\", Comp 2 = \",Instructions!$B$11,\", Comp 1 = \", Instructions!$B$10, \", Subject = \",Instructions!$B$9)","v":"Fatal and Serious Injury Crashes - Manner of Crash\nComp 3 = Test Group 3, Comp 2 = Test Group 2, Comp 1 = Test Group 1, Subject = Test County"},null,null,null,null,null,null,null,null,{"$f":"CONCATENATE(\"Total Crashes - \",J140,\"\nComp 3 = \",Instructions!$B$12,\", Comp 2 = \",Instructions!$B$11,\", Comp 1 = \", Instructions!$B$10, \", Subject = \",Instructions!$B$9)","v":"Total Crashes - Manner of Crash\nComp 3 = Test Group 3, Comp 2 = Test Group 2, Comp 1 = Test Group 1, Subject = Test County"}]
["Manner of Crash","Comp 3 Number","Comp 3 Percent","Comp 2 Number","Comp 2 Percent","Comp 1 Number","Comp 1 Percent","Subject Number","Subject Percent","Manner of Crash","Comp 3 Number","Comp 3 Percent","Comp 2 Number","Comp 2 Percent","Comp 1 Number","Comp 1 Percent","Subject Number","Subject Percent"]
["Not a Collision Between Two Motor Vehicles",{"$f":"'Comparison Group 3 Accessible'!B141","v":83},{"$f":"'Comparison Group 3 Accessible'!C141","v":6.4391000775795196E-2},{"$f":"'Comparison Group 2 Accessible'!B141","v":896},{"$f":"'Comparison Group 2 Accessible'!C141","v":0.90140845070422537},{"$f":"'Comparison Group 1 Accessible'!B141","v":10},{"$f":"'Comparison Group 1 Accessible'!C141","v":8.5470085470085472E-2},{"$f":"SUM('Subject Data Accessible'!D141:H141)","v":0},{"$f":"H141/SUM(H$141:H$150)","v":0},{"$f":"A141","v":"Not a Collision Between Two Motor Vehicles"},{"$f":"'Comparison Group 3 Accessible'!J141","v":3376},{"$f":"'Comparison Group 3 Accessible'!K141","v":6.1353930031803727E-2},{"$f":"'Comparison Group 2 Accessible'!J141","v":35853},{"$f":"'Comparison Group 2 Accessible'!K141","v":0.84185686108763036},{"$f":"'Comparison Group 1 Accessible'!J141","v":410},{"$f":"'Comparison Group 1 Accessible'!K141","v":8.9774469016860078E-2},{"$f":"SUM('Subject Data Accessible'!L141:P141)","v":8},{"$f":"Q141/SUM(Q$141:Q$150)","v":0.16}]
["Angle",{"$f":"'Comparison Group 3 Accessible'!B142","v":482},{"$f":"'Comparison Group 3 Accessible'!C142","v":0.37393328161365402},{"$f":"'Comparison Group 2 Accessible'!B142","v":1},{"$f":"'Comparison Group 2 Accessible'!C142","v":1.006036217303823E-3},{"$f":"'Comparison Group 1 Accessible'!B142","v":6},{"$f":"'Comparison Group 1 Accessible'!C142","v":5.128205128205128E-2},{"$f":"SUM('Subject Data Accessible'!D142:H142)","v":1},{"$f":"H142/SUM(H$141:H$150)","v":0.14285714285714285},"Angle",{"$f":"'Comparison Group 3 Accessible'!J142","v":15862},{"$f":"'Comparison Group 3 Accessible'!K142","v":0.28826896865061336},{"$f":"'Comparison Group 2 Accessible'!J142","v":18},{"$f":"'Comparison Group 2 Accessible'!K142","v":4.2265426880811494E-4},{"$f":"'Comparison Group 1 Accessible'!J142","v":347},{"$f":"'Comparison Group 1 Accessible'!K142","v":7.5979855485001094E-2},{"$f":"SUM('Subject Data Accessible'!L142:P142)","v":13},{"$f":"Q142/SUM(Q$141:Q$150)","v":0.26}]
["Front to Front",{"$f":"'Comparison Group 3 Accessible'!B143","v":1},{"$f":"'Comparison Group 3 Accessible'!C143","v":7.7579519006982156E-4},{"$f":"'Comparison Group 2 Accessible'!B143","v":4},{"$f":"'Comparison Group 2 Accessible'!C143","v":4.0241448692152921E-3},{"$f":"'Comparison Group 1 Accessible'!B143","v":8},{"$f":"'Comparison Group 1 Accessible'!C143","v":6.8376068376068383E-2},{"$f":"SUM('Subject Data Accessible'!D143:H143)","v":0},0,"Front to Front",{"$f":"'Comparison Group 3 Accessible'!J143","v":92},{"$f":"'Comparison Group 3 Accessible'!K143","v":1.671967287596547E-3},{"$f":"'Comparison Group 2 Accessible'!J143","v":23},{"$f":"'Comparison Group 2 Accessible'!K143","v":5.4005823236592462E-4},{"$f":"'Comparison Group 1 Accessible'!J143","v":347},{"$f":"'Comparison Group 1 Accessible'!K143","v":7.5979855485001094E-2},{"$f":"SUM('Subject Data Accessible'!L143:P143)","v":0},0]
["Front to Rear",{"$f":"'Comparison Group 3 Accessible'!B144","v":122},{"$f":"'Comparison Group 3 Accessible'!C144","v":9.4647013188518231E-2},{"$f":"'Comparison Group 2 Accessible'!B144","v":16},{"$f":"'Comparison Group 2 Accessible'!C144","v":1.6096579476861168E-2},{"$f":"'Comparison Group 1 Accessible'!B144","v":5},{"$f":"'Comparison Group 1 Accessible'!C144","v":4.2735042735042736E-2},{"$f":"SUM('Subject Data Accessible'!D144:H144)","v":0},0,"Front to Rear",{"$f":"'Comparison Group 3 Accessible'!J144","v":8057},{"$f":"'Comparison Group 3 Accessible'!K144","v":0.146424352567015},{"$f":"'Comparison Group 2 Accessible'!J144","v":1673},{"$f":"'Comparison Group 2 Accessible'!K144","v":3.9283366206443127E-2},{"$f":"'Comparison Group 1 Accessible'!J144","v":387},{"$f":"'Comparison Group 1 Accessible'!K144","v":8.4738340267133783E-2},{"$f":"SUM('Subject Data Accessible'!L144:P144)","v":4},0.08]
["Rear to Rear",{"$f":"'Comparison Group 3 Accessible'!B145","v":550},{"$f":"'Comparison Group 3 Accessible'!C145","v":0.42668735453840184},{"$f":"'Comparison Group 2 Accessible'!B145","v":0},{"$f":"'Comparison Group 2 Accessible'!C145","v":0},{"$f":"'Comparison Group 1 Accessible'!B145","v":14},{"$f":"'Comparison Group 1 Accessible'!C145","v":0.11965811965811966},{"$f":"SUM('Subject Data Accessible'!D145:H145)","v":5},0.7142857142857143,"Rear to Rear",{"$f":"'Comparison Group 3 Accessible'!J145","v":25398},{"$f":"'Comparison Group 3 Accessible'!K145","v":0.46157201272149023},{"$f":"'Comparison Group 2 Accessible'!J145","v":39},{"$f":"'Comparison Group 2 Accessible'!K145","v":9.1575091575091575E-4},{"$f":"'Comparison Group 1 Accessible'!J145","v":354},{"$f":"'Comparison Group 1 Accessible'!K145","v":7.7512590321874311E-2},{"$f":"SUM('Subject Data Accessible'!L145:P145)","v":25},0.5]
["Rear to Side",{"$f":"'Comparison Group 3 Accessible'!B146","v":0},{"$f":"'Comparison Group 3 Accessible'!C146","v":0},{"$f":"'Comparison Group 2 Accessible'!B146","v":0},{"$f":"'Comparison Group 2 Accessible'!C146","v":0},{"$f":"'Comparison Group 1 Accessible'!B146","v":9},{"$f":"'Comparison Group 1 Accessible'!C146","v":7.6923076923076927E-2},{"$f":"SUM('Subject Data Accessible'!D146:H146)","v":0},0,"Rear to Side",{"$f":"'Comparison Group 3 Accessible'!J146","v":25},{"$f":"'Comparison Group 3 Accessible'!K146","v":4.5433893684688776E-4},{"$f":"'Comparison Group 2 Accessible'!J146","v":6},{"$f":"'Comparison Group 2 Accessible'!K146","v":1.4088475626937165E-4},{"$f":"'Comparison Group 1 Accessible'!J146","v":359},{"$f":"'Comparison Group 1 Accessible'!K146","v":7.8607400919640899E-2},{"$f":"SUM('Subject Data Accessible'!L146:P146)","v":0},0]
["Sideswipe, Opposite Direction",{"$f":"'Comparison Group 3 Accessible'!B147","v":46},{"$f":"'Comparison Group 3 Accessible'!C147","v":3.5686578743211794E-2},{"$f":"'Comparison Group 2 Accessible'!B147","v":2},{"$f":"'Comparison Group 2 Accessible'!C147","v":2.012072434607646E-3},{"$f":"'Comparison Group 1 Accessible'!B147","v":7},{"$f":"'Comparison Group 1 Accessible'!C147","v":5.9829059829059832E-2},{"$f":"SUM('Subject Data Accessible'!D147:H147)","v":0},0,"Sideswipe, Opposite Direction",{"$f":"'Comparison Group 3 Accessible'!J147","v":1795},{"$f":"'Comparison Group 3 Accessible'!K147","v":3.2621535665606542E-2},{"$f":"'Comparison Group 2 Accessible'!J147","v":290},{"$f":"'Comparison Group 2 Accessible'!K147","v":6.8094298863529629E-3},{"$f":"'Comparison Group 1 Accessible'!J147","v":359},{"$f":"'Comparison Group 1 Accessible'!K147","v":7.8607400919640899E-2},{"$f":"SUM('Subject Data Accessible'!L147:P147)","v":0},0]
["Sideswipe, Same Direction",{"$f":"'Comparison Group 3 Accessible'!B148","v":5},{"$f":"'Comparison Group 3 Accessible'!C148","v":3.8789759503491078E-3},{"$f":"'Comparison Group 2 Accessible'!B148","v":0},{"$f":"'Comparison Group 2 Accessible'!C148","v":0},{"$f":"'Comparison Group 1 Accessible'!B148","v":9},{"$f":"'Comparison Group 1 Accessible'!C148","v":7.6923076923076927E-2},{"$f":"SUM('Subject Data Accessible'!D148:H148)","v":1},0.14285714285714285,"Sideswipe, Same Direction",{"$f":"'Comparison Group 3 Accessible'!J148","v":414},{"$f":"'Comparison Group 3 Accessible'!K148","v":7.5238527941844614E-3},{"$f":"'Comparison Group 2 Accessible'!J148","v":12},{"$f":"'Comparison Group 2 Accessible'!K148","v":2.8176951253874329E-4},{"$f":"'Comparison Group 1 Accessible'!J148","v":391},{"$f":"'Comparison Group 1 Accessible'!K148","v":8.5614188745347056E-2},{"$f":"SUM('Subject Data Accessible'!L148:P148)","v":0},0]
["Other",{"$f":"'Comparison Group 3 Accessible'!B149","v":0},{"$f":"'Comparison Group 3 Accessible'!C149","v":0},{"$f":"'Comparison Group 2 Accessible'!B149","v":11},{"$f":"'Comparison Group 2 Accessible'!C149","v":1.1066398390342052E-2},{"$f":"'Comparison Group 1 Accessible'!B149","v":13},{"$f":"'Comparison Group 1 Accessible'!C149","v":0.1111111111111111},{"$f":"SUM('Subject Data Accessible'!D149:H149)","v":0},0,"Other",{"$f":"'Comparison Group 3 Accessible'!J149","v":6},{"$f":"'Comparison Group 3 Accessible'!K149","v":1.0904134484325306E-4},{"$f":"'Comparison Group 2 Accessible'!J149","v":1231},{"$f":"'Comparison Group 2 Accessible'!K149","v":2.890485582793275E-2},{"$f":"'Comparison Group 1 Accessible'!J149","v":411},{"$f":"'Comparison Group 1 Accessible'!K149","v":8.9993431136413407E-2},{"$f":"SUM('Subject Data Accessible'!L149:P149)","v":0},0]
["Unknown",{"$f":"'Comparison Group 3 Accessible'!B150","v":0},{"$f":"'Comparison Group 3 Accessible'!C150","v":0},{"$f":"'Comparison Group 2 Accessible'!B150","v":64},{"$f":"'Comparison Group 2 Accessible'!C150","v":6.4386317907444673E-2},{"$f":"'Comparison Group 1 Accessible'!B150","v":36},{"$f":"'Comparison Group 1 Accessible'!C150","v":0.30769230769230771},{"$f":"SUM('Subject Data Accessible'!D150:H150)","v":0},0,"Unknown",{"$f":"'Comparison Group 3 Accessible'!J150","v":0},{"$f":"'Comparison Group 3 Accessible'!K150","v":0},{"$f":"'Comparison Group 2 Accessible'!J150","v":3443},{"$f":"'Comparison Group 2 Accessible'!K150","v":8.0844369305907771E-2},{"$f":"'Comparison Group 1 Accessible'!J150","v":1202},{"$f":"'Comparison Group 1 Accessible'!K150","v":0.26319246770308735},{"$f":"SUM('Subject Data Accessible'!L150:P150)","v":0},0]
[{"$f":"CONCATENATE(\"Fatal and Serious Injury Crashes - \",A152,\"\nComp 3 = \",Instructions!$B$12,\", Comp 2 = \",Instructions!$B$11,\", Comp 1 = \", Instructions!$B$10, \", Subject = \",Instructions!$B$9)","v":"Fatal and Serious Injury Crashes - Weather\nComp 3 = Test Group 3, Comp 2 = Test Group 2, Comp 1 = Test Group 1, Subject = Test County"},null,null,null,null,null,null,null,null,{"$f":"CONCATENATE(\"Total Crashes - \",J152,\"\nComp 3 = \",Instructions!$B$12,\", Comp 2 = \",Instructions!$B$11,\", Comp 1 = \", Instructions!$B$10, \", Subject = \",Instructions!$B$9)","v":"Total Crashes - Weather\nComp 3 = Test Group 3, Comp 2 = Test Group 2, Comp 1 = Test Group 1, Subject = Test County"}]
["Weather","Comp 3 Number","Comp 3 Percent","Comp 2 Number","Comp 2 Percent","Comp 1 Number","Comp 1 Percent","Subject Number","Subject Percent","Weather","Comp 3 Number","Comp 3 Percent","Comp 2 Number","Comp 2 Percent","Comp 1 Number","Comp 1 Percent","Subject Number","Subject Percent"]
["Blowing Sand, Soil, Dirt",{"$f":"'Comparison Group 3 Accessible'!B153","v":1162},{"$f":"'Comparison Group 3 Accessible'!C153","v":0.90147401086113266},{"$f":"'Comparison Group 2 Accessible'!B153","v":204},{"$f":"'Comparison Group 2 Accessible'!C153","v":0.20523138832997989},{"$f":"'Comparison Group 1 Accessible'!B153","v":34},{"$f":"'Comparison Group 1 Accessible'!C153","v":0.29059829059829062},{"$f":"SUM('Subject Data Accessible'!D153:H153)","v":2},{"$f":"H153/SUM(H$153:H$164)","v":0.2857142857142857},{"$f":"A153","v":"Blowing Sand, Soil, Dirt"},{"$f":"'Comparison Group 3 Accessible'!J153","v":45988},{"$f":"'Comparison Group 3 Accessible'!K153","v":0.83576556110858702},{"$f":"'Comparison Group 2 Accessible'!J153","v":5164},{"$f":"'Comparison Group 2 Accessible'!K153","v":0.12125481356250586},{"$f":"'Comparison Group 1 Accessible'!J153","v":1067},{"$f":"'Comparison Group 1 Accessible'!K153","v":0.23363258156338954},{"$f":"SUM('Subject Data Accessible'!L153:P153)","v":6},{"$f":"Q153/SUM(Q$153:Q$164)","v":0.12}]
["Blowing Snow",{"$f":"'Comparison Group 3 Accessible'!B154","v":2},{"$f":"'Comparison Group 3 Accessible'!C154","v":1.5515903801396431E-3},{"$f":"'Comparison Group 2 Accessible'!B154","v":651},{"$f":"'Comparison Group 2 Accessible'!C154","v":0.65492957746478875},{"$f":"'Comparison Group 1 Accessible'!B154","v":67},{"$f":"'Comparison Group 1 Accessible'!C154","v":0.57264957264957261},{"$f":"SUM('Subject Data Accessible'!D154:H154)","v":2},{"$f":"H154/SUM(H$153:H$164)","v":0.2857142857142857},"Blowing Snow",{"$f":"'Comparison Group 3 Accessible'!J154","v":24},{"$f":"'Comparison Group 3 Accessible'!K154","v":4.3616537937301225E-4},{"$f":"'Comparison Group 2 Accessible'!J154","v":32859},{"$f":"'Comparison Group 2 Accessible'!K154","v":0.77155536770921385},{"$f":"'Comparison Group 1 Accessible'!J154","v":3162},{"$f":"'Comparison Group 1 Accessible'!K154","v":0.69235822202758923},{"$f":"SUM('Subject Data Accessible'!L154:P154)","v":6},{"$f":"Q154/SUM(Q$153:Q$164)","v":0.12}]
["Clear",{"$f":"'Comparison Group 3 Accessible'!B155","v":5},{"$f":"'Comparison Group 3 Accessible'!C155","v":3.8789759503491078E-3},{"$f":"'Comparison Group 2 Accessible'!B155","v":101},{"$f":"'Comparison Group 2 Accessible'!C155","v":0.10160965794768612},{"$f":"'Comparison Group 1 Accessible'!B155","v":11},{"$f":"'Comparison Group 1 Accessible'!C155","v":9.4017094017094016E-2},{"$f":"SUM('Subject Data Accessible'!D155:H155)","v":0},0,"Clear",{"$f":"'Comparison Group 3 Accessible'!J155","v":32},{"$f":"'Comparison Group 3 Accessible'!K155","v":5.8155383916401633E-4},{"$f":"'Comparison Group 2 Accessible'!J155","v":3816},{"$f":"'Comparison Group 2 Accessible'!K155","v":8.960270498732037E-2},{"$f":"'Comparison Group 1 Accessible'!J155","v":286},{"$f":"'Comparison Group 1 Accessible'!K155","v":6.2623166192248739E-2},{"$f":"SUM('Subject Data Accessible'!L155:P155)","v":4},0.08]
["Cloudy",{"$f":"'Comparison Group 3 Accessible'!B156","v":24},{"$f":"'Comparison Group 3 Accessible'!C156","v":1.8619084561675717E-2},{"$f":"'Comparison Group 2 Accessible'!B156","v":29},{"$f":"'Comparison Group 2 Accessible'!C156","v":2.9175050301810865E-2},{"$f":"'Comparison Group 1 Accessible'!B156","v":3},{"$f":"'Comparison Group 1 Accessible'!C156","v":2.564102564102564E-2},{"$f":"SUM('Subject Data Accessible'!D156:H156)","v":0},0,"Cloudy",{"$f":"'Comparison Group 3 Accessible'!J156","v":2425},{"$f":"'Comparison Group 3 Accessible'!K156","v":4.4070876874148117E-2},{"$f":"'Comparison Group 2 Accessible'!J156","v":629},{"$f":"'Comparison Group 2 Accessible'!K156","v":1.4769418615572462E-2},{"$f":"'Comparison Group 1 Accessible'!J156","v":41},{"$f":"'Comparison Group 1 Accessible'!K156","v":8.9774469016860089E-3},{"$f":"SUM('Subject Data Accessible'!L156:P156)","v":4},0.08]
["Fog, Smog, Smoke",{"$f":"'Comparison Group 3 Accessible'!B157","v":0},{"$f":"'Comparison Group 3 Accessible'!C157","v":0},{"$f":"'Comparison Group 2 Accessible'!B157","v":6},{"$f":"'Comparison Group 2 Accessible'!C157","v":6.0362173038229373E-3},{"$f":"'Comparison Group 1 Accessible'!B157","v":1},{"$f":"'Comparison Group 1 Accessible'!C157","v":8.5470085470085479E-3},{"$f":"SUM('Subject Data Accessible'!D157:H157)","v":1},0.14285714285714285,"Fog, Smog, Smoke",{"$f":"'Comparison Group 3 Accessible'!J157","v":63},{"$f":"'Comparison Group 3 Accessible'!K157","v":1.1449341208541572E-3},{"$f":"'Comparison Group 2 Accessible'!J157","v":93},{"$f":"'Comparison Group 2 Accessible'!K157","v":2.1837137221752605E-3},{"$f":"'Comparison Group 1 Accessible'!J157","v":8},{"$f":"'Comparison Group 1 Accessible'!K157","v":1.7516969564265383E-3},{"$f":"SUM('Subject Data Accessible'!L157:P157)","v":3},0.06]
["Freezing Rain or Freezing Drizzle",{"$f":"'Comparison Group 3 Accessible'!B158","v":1},{"$f":"'Comparison Group 3 Accessible'!C158","v":7.7579519006982156E-4},{"$f":"'Comparison Group 2 Accessible'!B158","v":0},{"$f":"'Comparison Group 2 Accessible'!C158","v":0},{"$f":"'Comparison Group 1 Accessible'!B158","v":1},{"$f":"'Comparison Group 1 Accessible'!C158","v":8.5470085470085479E-3},{"$f":"SUM('Subject Data Accessible'!D158:H158)","v":0},0,"Freezing Rain or Freezing Drizzle",{"$f":"'Comparison Group 3 Accessible'!J158","v":20},{"$f":"'Comparison Group 3 Accessible'!K158","v":3.6347114947751021E-4},{"$f":"'Comparison Group 2 Accessible'!J158","v":17},{"$f":"'Comparison Group 2 Accessible'!K158","v":3.9917347609655303E-4},{"$f":"'Comparison Group 1 Accessible'!J158","v":3},{"$f":"'Comparison Group 1 Accessible'!K158","v":6.5688635865995186E-4},{"$f":"SUM('Subject Data Accessible'!L158:P158)","v":2},0.04]
["Rain",{"$f":"'Comparison Group 3 Accessible'!B159","v":4},{"$f":"'Comparison Group 3 Accessible'!C159","v":3.1031807602792862E-3},{"$f":"'Comparison Group 2 Accessible'!B159","v":1},{"$f":"'Comparison Group 2 Accessible'!C159","v":1.006036217303823E-3},{"$f":"'Comparison Group 1 Accessible'!B159","v":0},{"$f":"'Comparison Group 1 Accessible'!C159","v":0},{"$f":"SUM('Subject Data Accessible'!D159:H159)","v":0},0,"Rain",{"$f":"'Comparison Group 3 Accessible'!J159","v":398},{"$f":"'Comparison Group 3 Accessible'!K159","v":7.2330758746024532E-3},{"$f":"'Comparison Group 2 Accessible'!J159","v":5},{"$f":"'Comparison Group 2 Accessible'!K159","v":1.1740396355780971E-4},{"$f":"'Comparison Group 1 Accessible'!J159","v":0},{"$f":"'Comparison Group 1 Accessible'!K159","v":0},{"$f":"SUM('Subject Data Accessible'!L159:P159)","v":5},0.1]
["Severe Crosswinds",{"$f":"'Comparison Group 3 Accessible'!B160","v":0},{"$f":"'Comparison Group 3 Accessible'!C160","v":0},{"$f":"'Comparison Group 2 Accessible'!B160","v":0},{"$f":"'Comparison Group 2 Accessible'!C160","v":0},{"$f":"'Comparison Group 1 Accessible'!B160","v":0},{"$f":"'Comparison Group 1 Accessible'!C160","v":0},{"$f":"SUM('Subject Data Accessible'!D160:H160)","v":0},0,"Severe Crosswinds",{"$f":"'Comparison Group 3 Accessible'!J160","v":19},{"$f":"'Comparison Group 3 Accessible'!K160","v":3.452975920036347E-4},{"$f":"'Comparison Group 2 Accessible'!J160","v":1},{"$f":"'Comparison Group 2 Accessible'!K160","v":2.3480792711561942E-5},{"$f":"'Comparison Group 1 Accessible'!J160","v":0},{"$f":"'Comparison Group 1 Accessible'!K160","v":0},{"$f":"SUM('Subject Data Accessible'!L160:P160)","v":4},0.08]
["Sleet or Hail",{"$f":"'Comparison Group 3 Accessible'!B161","v":14},{"$f":"'Comparison Group 3 Accessible'!C161","v":1.0861132660977503E-2},{"$f":"'Comparison Group 2 Accessible'!B161","v":1},{"$f":"'Comparison Group 2 Accessible'!C161","v":1.006036217303823E-3},{"$f":"'Comparison Group 1 Accessible'!B161","v":0},{"$f":"'Comparison Group 1 Accessible'!C161","v":0},{"$f":"SUM('Subject Data Accessible'!D161:H161)","v":0},0,"Sleet or Hail",{"$f":"'Comparison Group 3 Accessible'!J161","v":1623},{"$f":"'Comparison Group 3 Accessible'!K161","v":2.9495683780099955E-2},{"$f":"'Comparison Group 2 Accessible'!J161","v":2},{"$f":"'Comparison Group 2 Accessible'!K161","v":4.6961585423123884E-5},{"$f":"'Comparison Group 1 Accessible'!J161","v":0},{"$f":"'Comparison Group 1 Accessible'!K161","v":0},{"$f":"SUM('Subject Data Accessible'!L161:P161)","v":5},0.1]
["Snow",{"$f":"'Comparison Group 3 Accessible'!B162","v":1},{"$f":"'Comparison Group 3 Accessible'!C162","v":7.7579519006982156E-4},{"$f":"'Comparison Group 2 Accessible'!B162","v":0},{"$f":"'Comparison Group 2 Accessible'!C162","v":0},{"$f":"'Comparison Group 1 Accessible'!B162","v":0},{"$f":"'Comparison Group 1 Accessible'!C162","v":0},{"$f":"SUM('Subject Data Accessible'!D162:H162)","v":1},0.14285714285714285,"Snow",{"$f":"'Comparison Group 3 Accessible'!J162","v":65},{"$f":"'Comparison Group 3 Accessible'!K162","v":1.1812812358019081E-3},{"$f":"'Comparison Group 2 Accessible'!J162","v":0},{"$f":"'Comparison Group 2 Accessible'!K162","v":0},{"$f":"'Comparison Group 1 Accessible'!J162","v":0},{"$f":"'Comparison Group 1 Accessible'!K162","v":0},{"$f":"SUM('Subject Data Accessible'!L162:P162)","v":5},0.1]
["Other",{"$f":"'Comparison Group 3 Accessible'!B163","v":2},{"$f":"'Comparison Group 3 Accessible'!C163","v":1.5515903801396431E-3},{"$f":"'Comparison Group 2 Accessible'!B163","v":0},{"$f":"'Comparison Group 2 Accessible'!C163","v":0},{"$f":"'Comparison Group 1 Accessible'!B163","v":0},{"$f":"'Comparison Group 1 Accessible'!C163","v":0},{"$f":"SUM('Subject Data Accessible'!D163:H163)","v":0},0,"Other",{"$f":"'Comparison Group 3 Accessible'!J163","v":359},{"$f":"'Comparison Group 3 Accessible'!K163","v":6.5243071331213083E-3},{"$f":"'Comparison Group 2 Accessible'!J163","v":1},{"$f":"'Comparison Group 2 Accessible'!K163","v":2.3480792711561942E-5},{"$f":"'Comparison Group 1 Accessible'!J163","v":0},{"$f":"'Comparison Group 1 Accessible'!K163","v":0},{"$f":"SUM('Subject Data Accessible'!L163:P163)","v":3},0.06]
["Unknown",{"$f":"'Comparison Group 3 Accessible'!B164","v":74},{"$f":"'Comparison Group 3 Accessible'!C164","v":5.7408844065166796E-2},{"$f":"'Comparison Group 2 Accessible'!B164","v":1},{"$f":"'Comparison Group 2 Accessible'!C164","v":1.006036217303823E-3},{"$f":"'Comparison Group 1 Accessible'!B164","v":0},{"$f":"'Comparison Group 1 Accessible'!C164","v":0},{"$f":"SUM('Subject Data Accessible'!D164:H164)","v":1},0.14285714285714285,"Unknown",{"$f":"'Comparison Group 3 Accessible'!J164","v":4009},{"$f":"'Comparison Group 3 Accessible'!K164","v":7.2857791912766923E-2},{"$f":"'Comparison Group 2 Accessible'!J164","v":1},{"$f":"'Comparison Group 2 Accessible'!K164","v":2.3480792711561942E-5},{"$f":"'Comparison Group 1 Accessible'!J164","v":0},{"$f":"'Comparison Group 1 Accessible'!K164","v":0},{"$f":"SUM('Subject Data Accessible'!L164:P164)","v":3},0.06]
[{"$f":"CONCATENATE(\"Fatal and Serious Injury Crashes - \",A166,\"\nComp 3 = \",Instructions!$B$12,\", Comp 2 = \",Instructions!$B$11,\", Comp 1 = \", Instructions!$B$10, \", Subject = \",Instructions!$B$9)","v":"Fatal and Serious Injury Crashes - Light Conditions\nComp 3 = Test Group 3, Comp 2 = Test Group 2, Comp 1 = Test Group 1, Subject = Test County"},null,null,null,null,null,null,null,null,{"$f":"CONCATENATE(\"Total Crashes - \",J166,\"\nComp 3 = \",Instructions!$B$12,\", Comp 2 = \",Instructions!$B$11,\", Comp 1 = \", Instructions!$B$10, \", Subject = \",Instructions!$B$9)","v":"Total Crashes - Light Conditions\nComp 3 = Test Group 3, Comp 2 = Test Group 2, Comp 1 = Test Group 1, Subject = Test County"}]
["Light Conditions","Comp 3 Number","Comp 3 Percent","Comp 2 Number","Comp 2 Percent","Comp 1 Number","Comp 1 Percent","Subject Number","Subject Percent","Light Conditions","Comp 3 Number","Comp 3 Percent","Comp 2 Number","Comp 2 Percent","Comp 1 Number","Comp 1 Percent","Subject Number","Subject Percent"]
["Daylight",{"$f":"'Comparison Group 3 Accessible'!B167","v":55},{"$f":"'Comparison Group 3 Accessible'!C167","v":4.2668735453840187E-2},{"$f":"'Comparison Group 2 Accessible'!B167","v":184},{"$f":"'Comparison Group 2 Accessible'!C167","v":0.18511066398390341},{"$f":"'Comparison Group 1 Accessible'!B167","v":8},{"$f":"'Comparison Group 1 Accessible'!C167","v":6.8376068376068383E-2},{"$f":"SUM('Subject Data Accessible'!D167:H167)","v":0},{"$f":"H167/SUM(H$167:H$173)","v":0},{"$f":"A167","v":"Daylight"},{"$f":"'Comparison Group 3 Accessible'!J167","v":1886},{"$f":"'Comparison Group 3 Accessible'!K167","v":3.4275329395729213E-2},{"$f":"'Comparison Group 2 Accessible'!J167","v":6560},{"$f":"'Comparison Group 2 Accessible'!K167","v":0.15403400018784635},{"$f":"'Comparison Group 1 Accessible'!J167","v":512},{"$f":"'Comparison Group 1 Accessible'!K167","v":0.11210860521129845},{"$f":"SUM('Subject Data Accessible'!L167:P167)","v":6},{"$f":"Q167/SUM(Q$167:Q$173)","v":0.12}]
["Dawn/Dusk",{"$f":"'Comparison Group 3 Accessible'!B168","v":67},{"$f":"'Comparison Group 3 Accessible'!C168","v":5.1978277734678044E-2},{"$f":"'Comparison Group 2 Accessible'!B168","v":156},{"$f":"'Comparison Group 2 Accessible'!C168","v":0.15694164989939638},{"$f":"'Comparison Group 1 Accessible'!B168","v":39},{"$f":"'Comparison Group 1 Accessible'!C168","v":0.33333333333333331},{"$f":"SUM('Subject Data Accessible'!D168:H168)","v":2},{"$f":"H168/SUM(H$167:H$173)","v":0.2857142857142857},"Dawn/Dusk",{"$f":"'Comparison Group 3 Accessible'!J168","v":2128},{"$f":"'Comparison Group 3 Accessible'!K168","v":3.8673330304407089E-2},{"$f":"'Comparison Group 2 Accessible'!J168","v":7353},{"$f":"'Comparison Group 2 Accessible'!K168","v":0.17265426880811496},{"$f":"'Comparison Group 1 Accessible'!J168","v":1340},{"$f":"'Comparison Group 1 Accessible'!K168","v":0.29340924020144515},{"$f":"SUM('Subject Data Accessible'!L168:P168)","v":8},{"$f":"Q168/SUM(Q$167:Q$173)","v":0.16}]
["Dark - Lighted",{"$f":"'Comparison Group 3 Accessible'!B169","v":5},{"$f":"'Comparison Group 3 Accessible'!C169","v":3.8789759503491078E-3},{"$f":"'Comparison Group 2 Accessible'!B169","v":151},{"$f":"'Comparison Group 2 Accessible'!C169","v":0.15191146881287726},{"$f":"'Comparison Group 1 Accessible'!B169","v":0},{"$f":"'Comparison Group 1 Accessible'!C169","v":0},{"$f":"SUM('Subject Data Accessible'!D169:H169)","v":1},0.14285714285714285,"Dark - Lighted",{"$f":"'Comparison Group 3 Accessible'!J169","v":161},{"$f":"'Comparison Group 3 Accessible'!K169","v":2.9259427532939571E-3},{"$f":"'Comparison Group 2 Accessible'!J169","v":5727},{"$f":"'Comparison Group 2 Accessible'!K169","v":0.13447449985911525},{"$f":"'Comparison Group 1 Accessible'!J169","v":5},{"$f":"'Comparison Group 1 Accessible'!K169","v":1.0948105977665863E-3},{"$f":"SUM('Subject Data Accessible'!L169:P169)","v":5},0.1]
["Dark - Not Lighted",{"$f":"'Comparison Group 3 Accessible'!B170","v":340},{"$f":"'Comparison Group 3 Accessible'!C170","v":0.26377036462373932},{"$f":"'Comparison Group 2 Accessible'!B170","v":102},{"$f":"'Comparison Group 2 Accessible'!C170","v":0.10261569416498995},{"$f":"'Comparison Group 1 Accessible'!B170","v":9},{"$f":"'Comparison Group 1 Accessible'!C170","v":7.6923076923076927E-2},{"$f":"SUM('Subject Data Accessible'!D170:H170)","v":2},0.2857142857142857,"Dark - Not Lighted",{"$f":"'Comparison Group 3 Accessible'!J170","v":13243},{"$f":"'Comparison Group 3 Accessible'!K170","v":0.24067242162653341},{"$f":"'Comparison Group 2 Accessible'!J170","v":3945},{"$f":"'Comparison Group 2 Accessible'!K170","v":9.2631727247111856E-2},{"$f":"'Comparison Group 1 Accessible'!J170","v":687},{"$f":"'Comparison Group 1 Accessible'!K170","v":0.15042697613312897},{"$f":"SUM('Subject Data Accessible'!L170:P170)","v":5},0.1]
["Dark - Unknown Lighting",{"$f":"'Comparison Group 3 Accessible'!B171","v":821},{"$f":"'Comparison Group 3 Accessible'!C171","v":0.63692785104732352},{"$f":"'Comparison Group 2 Accessible'!B171","v":134},{"$f":"'Comparison Group 2 Accessible'!C171","v":0.13480885311871227},{"$f":"'Comparison Group 1 Accessible'!B171","v":61},{"$f":"'Comparison Group 1 Accessible'!C171","v":0.5213675213675214},{"$f":"SUM('Subject Data Accessible'!D171:H171)","v":1},0.14285714285714285,"Dark - Unknown Lighting",{"$f":"'Comparison Group 3 Accessible'!J171","v":37589},{"$f":"'Comparison Group 3 Accessible'!K171","v":0.68312585188550656},{"$f":"'Comparison Group 2 Accessible'!J171","v":6088},{"$f":"'Comparison Group 2 Accessible'!K171","v":0.1429510660279891},{"$f":"'Comparison Group 1 Accessible'!J171","v":2010},{"$f":"'Comparison Group 1 Accessible'!K171","v":0.4401138603021677},{"$f":"SUM('Subject Data Accessible'!L171:P171)","v":4},0.08]
["Other",{"$f":"'Comparison Group 3 Accessible'!B172","v":1},{"$f":"'Comparison Group 3 Accessible'!C172","v":7.7579519006982156E-4},{"$f":"'Comparison Group 2 Accessible'!B172","v":138},{"$f":"'Comparison Group 2 Accessible'!C172","v":0.13883299798792756},{"$f":"'Comparison Group 1 Accessible'!B172","v":0},{"$f":"'Comparison Group 1 Accessible'!C172","v":0},{"$f":"SUM('Subject Data Accessible'!D172:H172)","v":0},0,"Other",{"$f":"'Comparison Group 3 Accessible'!J172","v":18},{"$f":"'Comparison Group 3 Accessible'!K172","v":3.2712403452975919E-4},{"$f":"'Comparison Group 2 Accessible'!J172","v":6384},{"$f":"'Comparison Group 2 Accessible'!K172","v":0.14990138067061143},{"$f":"'Comparison Group 1 Accessible'!J172","v":5},{"$f":"'Comparison Group 1 Accessible'!K172","v":1.0948105977665863E-3},{"$f":"SUM('Subject Data Accessible'!L172:P172)","v":9},0.18]
["Unknown",{"$f":"'Comparison Group 3 Accessible'!B173","v":0},{"$f":"'Comparison Group 3 Accessible'!C173","v":0},{"$f":"'Comparison Group 2 Accessible'!B173","v":129},{"$f":"'Comparison Group 2 Accessible'!C173","v":0.12977867203219315},{"$f":"'Comparison Group 1 Accessible'!B173","v":0},{"$f":"'Comparison Group 1 Accessible'!C173","v":0},{"$f":"SUM('Subject Data Accessible'!D173:H173)","v":1},0.14285714285714285,"Unknown",{"$f":"'Comparison Group 3 Accessible'!J173","v":0},{"$f":"'Comparison Group 3 Accessible'!K173","v":0},{"$f":"'Comparison Group 2 Accessible'!J173","v":6531},{"$f":"'Comparison Group 2 Accessible'!K173","v":0.15335305719921105},{"$f":"'Comparison Group 1 Accessible'!J173","v":8},{"$f":"'Comparison Group 1 Accessible'!K173","v":1.7516969564265383E-3},{"$f":"SUM('Subject Data Accessible'!L173:P173)","v":13},0.26]
[{"$f":"CONCATENATE(\"Fatal and Serious Injury Crashes - \",A175,\"\nComp 3 = \",Instructions!$B$12,\", Comp 2 = \",Instructions!$B$11,\", Comp 1 = \", Instructions!$B$10, \", Subject = \",Instructions!$B$9)","v":"Fatal and Serious Injury Crashes - Road Surface Condition\nComp 3 = Test Group 3, Comp 2 = Test Group 2, Comp 1 = Test Group 1, Subject = Test County"},null,null,null,null,null,null,null,null,{"$f":"CONCATENATE(\"Total Crashes - \",J175,\"\nComp 3 = \",Instructions!$B$12,\", Comp 2 = \",Instructions!$B$11,\", Comp 1 = \", Instructions!$B$10, \", Subject = \",Instructions!$B$9)","v":"Total Crashes - Road Surface Condition\nComp 3 = Test Group 3, Comp 2 = Test Group 2, Comp 1 = Test Group 1, Subject = Test County"}]
["Road Surface Condition","Comp 3 Number","Comp 3 Percent","Comp 2 Number","Comp 2 Percent","Comp 1 Number","Comp 1 Percent","Subject Number","Subject Percent","Road Surface Condition","Comp 3 Number","Comp 3 Percent","Comp 2 Number","Comp 2 Percent","Comp 1 Number","Comp 1 Percent","Subject Number","Subject Percent"]
["Dry",{"$f":"'Comparison Group 3 Accessible'!B176","v":550},{"$f":"'Comparison Group 3 Accessible'!C176","v":0.42668735453840184},{"$f":"'Comparison Group 2 Accessible'!B176","v":204},{"$f":"'Comparison Group 2 Accessible'!C176","v":0.20523138832997989},{"$f":"'Comparison Group 1 Accessible'!B176","v":108},{"$f":"'Comparison Group 1 Accessible'!C176","v":0.92307692307692313},{"$f":"SUM('Subject Data Accessible'!D176:H176)","v":4},{"$f":"H176/SUM(H$176:H$186)","v":0.5714285714285714},{"$f":"A176","v":"Dry"},{"$f":"'Comparison Group 3 Accessible'!J176","v":414},{"$f":"'Comparison Group 3 Accessible'!K176","v":7.5238527941844614E-3},{"$f":"'Comparison Group 2 Accessible'!J176","v":5164},{"$f":"'Comparison Group 2 Accessible'!K176","v":0.12125481356250586},{"$f":"'Comparison Group 1 Accessible'!J176","v":3854},{"$f":"'Comparison Group 1 Accessible'!K176","v":0.84388000875848479},{"$f":"SUM('Subject Data Accessible'!L176:P176)","v":22},{"$f":"Q176/SUM(Q$176:Q$186)","v":0.44}]
["Ice/Frost",{"$f":"'Comparison Group 3 Accessible'!B177","v":0},{"$f":"'Comparison Group 3 Accessible'!C177","v":0},{"$f":"'Comparison Group 2 Accessible'!B177","v":651},{"$f":"'Comparison Group 2 Accessible'!C177","v":0.65492957746478875},{"$f":"'Comparison Group 1 Accessible'!B177","v":0},{"$f":"'Comparison Group 1 Accessible'!C177","v":0},{"$f":"SUM('Subject Data Accessible'!D177:H177)","v":2},{"$f":"H177/SUM(H$176:H$186)","v":0.2857142857142857},"Ice/Frost",{"$f":"'Comparison Group 3 Accessible'!J177","v":6},{"$f":"'Comparison Group 3 Accessible'!K177","v":1.0904134484325306E-4},{"$f":"'Comparison Group 2 Accessible'!J177","v":32859},{"$f":"'Comparison Group 2 Accessible'!K177","v":0.77155536770921385},{"$f":"'Comparison Group 1 Accessible'!J177","v":4},{"$f":"'Comparison Group 1 Accessible'!K177","v":8.7584847821326915E-4},{"$f":"SUM('Subject Data Accessible'!L177:P177)","v":28},{"$f":"Q177/SUM(Q$176:Q$186)","v":0.56000000000000005}]
["Mud, Dirt, Gravel",{"$f":"'Comparison Group 3 Accessible'!B178","v":46},{"$f":"'Comparison Group 3 Accessible'!C178","v":3.5686578743211794E-2},{"$f":"'Comparison Group 2 Accessible'!B178","v":101},{"$f":"'Comparison Group 2 Accessible'!C178","v":0.10160965794768612},{"$f":"'Comparison Group 1 Accessible'!B178","v":0},{"$f":"'Comparison Group 1 Accessible'!C178","v":0},{"$f":"SUM('Subject Data Accessible'!D178:H178)","v":0},0,"Mud, Dirt, Gravel",{"$f":"'Comparison Group 3 Accessible'!J178","v":0},{"$f":"'Comparison Group 3 Accessible'!K178","v":0},{"$f":"'Comparison Group 2 Accessible'!J178","v":3816},{"$f":"'Comparison Group 2 Accessible'!K178","v":8.960270498732037E-2},{"$f":"'Comparison Group 1 Accessible'!J178","v":1},{"$f":"'Comparison Group 1 Accessible'!K178","v":2.1896211955331729E-4},{"$f":"SUM('Subject Data Accessible'!L178:P178)","v":0},0]
["Oil",{"$f":"'Comparison Group 3 Accessible'!B179","v":5},{"$f":"'Comparison Group 3 Accessible'!C179","v":3.8789759503491078E-3},{"$f":"'Comparison Group 2 Accessible'!B179","v":29},{"$f":"'Comparison Group 2 Accessible'!C179","v":2.9175050301810865E-2},{"$f":"'Comparison Group 1 Accessible'!B179","v":3},{"$f":"'Comparison Group 1 Accessible'!C179","v":2.564102564102564E-2},{"$f":"SUM('Subject Data Accessible'!D179:H179)","v":1},0.14285714285714285,"Oil",{"$f":"'Comparison Group 3 Accessible'!J179","v":3376},{"$f":"'Comparison Group 3 Accessible'!K179","v":6.1353930031803727E-2},{"$f":"'Comparison Group 2 Accessible'!J179","v":629},{"$f":"'Comparison Group 2 Accessible'!K179","v":1.4769418615572462E-2},{"$f":"'Comparison Group 1 Accessible'!J179","v":210},{"$f":"'Comparison Group 1 Accessible'!K179","v":4.5982045106196627E-2},{"$f":"SUM('Subject Data Accessible'!L179:P179)","v":0},0]
["Sand",{"$f":"'Comparison Group 3 Accessible'!B180","v":0},{"$f":"'Comparison Group 3 Accessible'!C180","v":0},{"$f":"'Comparison Group 2 Accessible'!B180","v":6},{"$f":"'Comparison Group 2 Accessible'!C180","v":6.0362173038229373E-3},{"$f":"'Comparison Group 1 Accessible'!B180","v":0},{"$f":"'Comparison Group 1 Accessible'!C180","v":0},{"$f":"SUM('Subject Data Accessible'!D180:H180)","v":0},0,"Sand",{"$f":"'Comparison Group 3 Accessible'!J180","v":15862},{"$f":"'Comparison Group 3 Accessible'!K180","v":0.28826896865061336},{"$f":"'Comparison Group 2 Accessible'!J180","v":93},{"$f":"'Comparison Group 2 Accessible'!K180","v":2.1837137221752605E-3},{"$f":"'Comparison Group 1 Accessible'!J180","v":5},{"$f":"'Comparison Group 1 Accessible'!K180","v":1.0948105977665863E-3},{"$f":"SUM('Subject Data Accessible'!L180:P180)","v":0},0]
["Sluch",{"$f":"'Comparison Group 3 Accessible'!B181","v":0},{"$f":"'Comparison Group 3 Accessible'!C181","v":0},{"$f":"'Comparison Group 2 Accessible'!B181","v":0},{"$f":"'Comparison Group 2 Accessible'!C181","v":0},{"$f":"'Comparison Group 1 Accessible'!B181","v":0},{"$f":"'Comparison Group 1 Accessible'!C181","v":0},{"$f":"SUM('Subject Data Accessible'!D181:H181)","v":0},0,"Sluch",{"$f":"'Comparison Group 3 Accessible'!J181","v":92},{"$f":"'Comparison Group 3 Accessible'!K181","v":1.671967287596547E-3},{"$f":"'Comparison Group 2 Accessible'!J181","v":17},{"$f":"'Comparison Group 2 Accessible'!K181","v":3.9917347609655303E-4},{"$f":"'Comparison Group 1 Accessible'!J181","v":12},{"$f":"'Comparison Group 1 Accessible'!K181","v":2.6275454346398074E-3},{"$f":"SUM('Subject Data Accessible'!L181:P181)","v":0},0]
["Snow",{"$f":"'Comparison Group 3 Accessible'!B182","v":83},{"$f":"'Comparison Group 3 Accessible'!C182","v":6.4391000775795196E-2},{"$f":"'Comparison Group 2 Accessible'!B182","v":1},{"$f":"'Comparison Group 2 Accessible'!C182","v":1.006036217303823E-3},{"$f":"'Comparison Group 1 Accessible'!B182","v":0},{"$f":"'Comparison Group 1 Accessible'!C182","v":0},{"$f":"SUM('Subject Data Accessible'!D182:H182)","v":0},0,"Snow",{"$f":"'Comparison Group 3 Accessible'!J182","v":8057},{"$f":"'Comparison Group 3 Accessible'!K182","v":0.146424352567015},{"$f":"'Comparison Group 2 Accessible'!J182","v":5},{"$f":"'Comparison Group 2 Accessible'!K182","v":1.1740396355780971E-4},{"$f":"'Comparison Group 1 Accessible'!J182","v":24},{"$f":"'Comparison Group 1 Accessible'!K182","v":5.2550908692796149E-3},{"$f":"SUM('Subject Data Accessible'!L182:P182)","v":0},0]
["Water (Standing, Moving)",{"$f":"'Comparison Group 3 Accessible'!B183","v":482},{"$f":"'Comparison Group 3 Accessible'!C183","v":0.37393328161365402},{"$f":"'Comparison Group 2 Accessible'!B183","v":0},{"$f":"'Comparison Group 2 Accessible'!C183","v":0},{"$f":"'Comparison Group 1 Accessible'!B183","v":0},{"$f":"'Comparison Group 1 Accessible'!C183","v":0},{"$f":"SUM('Subject Data Accessible'!D183:H183)","v":0},0,"Water (Standing, Moving)",{"$f":"'Comparison Group 3 Accessible'!J183","v":25398},{"$f":"'Comparison Group 3 Accessible'!K183","v":0.46157201272149023},{"$f":"'Comparison Group 2 Accessible'!J183","v":1},{"$f":"'Comparison Group 2 Accessible'!K183","v":2.3480792711561942E-5},{"$f":"'Comparison Group 1 Accessible'!J183","v":0},{"$f":"'Comparison Group 1 Accessible'!K183","v":0},{"$f":"SUM('Subject Data Accessible'!L183:P183)","v":0},0]
["Wet",{"$f":"'Comparison Group 3 Accessible'!B184","v":1},{"$f":"'Comparison Group 3 Accessible'!C184","v":7.7579519006982156E-4},{"$f":"'Comparison Group 2 Accessible'!B184","v":1},{"$f":"'Comparison Group 2 Accessible'!C184","v":1.006036217303823E-3},{"$f":"'Comparison Group 1 Accessible'!B184","v":1},{"$f":"'Comparison Group 1 Accessible'!C184","v":8.5470085470085479E-3},{"$f":"SUM('Subject Data Accessible'!D184:H184)","v":0},0,"Wet",{"$f":"'Comparison Group 3 Accessible'!J184","v":25},{"$f":"'Comparison Group 3 Accessible'!K184","v":4.5433893684688776E-4},{"$f":"'Comparison Group 2 Accessible'!J184","v":2},{"$f":"'Comparison Group 2 Accessible'!K184","v":4.6961585423123884E-5},{"$f":"'Comparison Group 1 Accessible'!J184","v":142},{"$f":"'Comparison Group 1 Accessible'!K184","v":3.1092620976571055E-2},{"$f":"SUM('Subject Data Accessible'!L184:P184)","v":0},0]
["Other",{"$f":"'Comparison Group 3 Accessible'!B185","v":122},{"$f":"'Comparison Group 3 Accessible'!C185","v":9.4647013188518231E-2},{"$f":"'Comparison Group 2 Accessible'!B185","v":0},{"$f":"'Comparison Group 2 Accessible'!C185","v":0},{"$f":"'Comparison Group 1 Accessible'!B185","v":1},{"$f":"'Comparison Group 1 Accessible'!C185","v":8.5470085470085479E-3},{"$f":"SUM('Subject Data Accessible'!D185:H185)","v":0},0,"Other",{"$f":"'Comparison Group 3 Accessible'!J185","v":1795},{"$f":"'Comparison Group 3 Accessible'!K185","v":3.2621535665606542E-2},{"$f":"'Comparison Group 2 Accessible'!J185","v":0},{"$f":"'Comparison Group 2 Accessible'!K185","v":0},{"$f":"'Comparison Group 1 Accessible'!J185","v":2},{"$f":"'Comparison Group 1 Accessible'!K185","v":4.3792423910663457E-4},{"$f":"SUM('Subject Data Accessible'!L185:P185)","v":0},0]
["Unknown",{"$f":"'Comparison Group 3 Accessible'!B186","v":0},{"$f":"'Comparison Group 3 Accessible'!C186","v":0},{"$f":"'Comparison Group 2 Accessible'!B186","v":1},{"$f":"'Comparison Group 2 Accessible'!C186","v":1.006036217303823E-3},{"$f":"'Comparison Group 1 Accessible'!B186","v":4},{"$f":"'Comparison Group 1 Accessible'!C186","v":3.4188034188034191E-2},{"$f":"SUM('Subject Data Accessible'!D186:H186)","v":0},0,"Unknown",{"$f":"'Comparison Group 3 Accessible'!J186","v":0},{"$f":"'Comparison Group 3 Accessible'!K186","v":0},{"$f":"'Comparison Group 2 Accessible'!J186","v":2},{"$f":"'Comparison Group 2 Accessible'!K186","v":4.6961585423123884E-5},{"$f":"'Comparison Group 1 Accessible'!J186","v":313},{"$f":"'Comparison Group 1 Accessible'!K186","v":6.8535143420188308E-2},{"$f":"SUM('Subject Data Accessible'!L186:P186)","v":0},0]
[{"$f":"CONCATENATE(\"Fatal and Serious Injury Crashes - \",A188,\"\nComp 3 = \",Instructions!$B$12,\", Comp 2 = \",Instructions!$B$11,\", Comp 1 = \", Instructions!$B$10, \", Subject = \",Instructions!$B$9)","v":"Fatal and Serious Injury Crashes - Contributing Circumstances - Roadway Environment, Selection 1\nComp 3 = Test Group 3, Comp 2 = Test Group 2, Comp 1 = Test Group 1, Subject = Test County"},null,null,null,null,null,null,null,null,{"$f":"CONCATENATE(\"Total Crashes - \",J188,\"\nComp 3 = \",Instructions!$B$12,\", Comp 2 = \",Instructions!$B$11,\", Comp 1 = \", Instructions!$B$10, \", Subject = \",Instructions!$B$9)","v":"Total Crashes - Contributing Circumstances - Roadway Environment, Selection 1\nComp 3 = Test Group 3, Comp 2 = Test Group 2, Comp 1 = Test Group 1, Subject = Test County"}]
["Contributing Circumstances - Roadway Environment, Selection 1","Comp 3 Number","Comp 3 Percent","Comp 2 Number","Comp 2 Percent","Comp 1 Number","Comp 1 Percent","Subject Number","Subject Percent","Contributing Circumstances - Roadway Environment, Selection 1","Comp 3 Number","Comp 3 Percent","Comp 2 Number","Comp 2 Percent","Comp 1 Number","Comp 1 Percent","Subject Number","Subject Percent"]
["None",{"$f":"'Comparison Group 3 Accessible'!B189","v":0},{"$f":"'Comparison Group 3 Accessible'!C189","v":0},{"$f":"'Comparison Group 2 Accessible'!B189","v":0},{"$f":"'Comparison Group 2 Accessible'!C189","v":0},{"$f":"'Comparison Group 1 Accessible'!B189","v":5},{"$f":"'Comparison Group 1 Accessible'!C189","v":4.2735042735042736E-2},{"$f":"SUM('Subject Data Accessible'!D189:H189)","v":1},{"$f":"H189/SUM(H$189:H$211)","v":0.14285714285714285},{"$f":"A189","v":"None"},{"$f":"'Comparison Group 3 Accessible'!J189","v":9},{"$f":"'Comparison Group 3 Accessible'!K189","v":1.6356201726487959E-4},{"$f":"'Comparison Group 2 Accessible'!J189","v":9},{"$f":"'Comparison Group 2 Accessible'!K189","v":2.1132713440405747E-4},{"$f":"'Comparison Group 1 Accessible'!J189","v":115},{"$f":"'Comparison Group 1 Accessible'!K189","v":2.5180643748631486E-2},{"$f":"SUM('Subject Data Accessible'!L189:P189)","v":0},{"$f":"Q189/SUM(Q$189:Q$211)","v":0}]
["Animal(s)",{"$f":"'Comparison Group 3 Accessible'!B190","v":117},{"$f":"'Comparison Group 3 Accessible'!C190","v":9.0768037238169119E-2},{"$f":"'Comparison Group 2 Accessible'!B190","v":103},{"$f":"'Comparison Group 2 Accessible'!C190","v":0.10362173038229376},{"$f":"'Comparison Group 1 Accessible'!B190","v":2},{"$f":"'Comparison Group 1 Accessible'!C190","v":1.7094017094017096E-2},{"$f":"SUM('Subject Data Accessible'!D190:H190)","v":0},{"$f":"H190/SUM(H$189:H$211)","v":0},"Animal(s)",{"$f":"'Comparison Group 3 Accessible'!J190","v":3619},{"$f":"'Comparison Group 3 Accessible'!K190","v":6.5770104497955478E-2},{"$f":"'Comparison Group 2 Accessible'!J190","v":2978},{"$f":"'Comparison Group 2 Accessible'!K190","v":6.9925800695031459E-2},{"$f":"'Comparison Group 1 Accessible'!J190","v":92},{"$f":"'Comparison Group 1 Accessible'!K190","v":2.014451499890519E-2},{"$f":"SUM('Subject Data Accessible'!L190:P190)","v":0},{"$f":"Q190/SUM(Q$189:Q$211)","v":0}]
["Debris",{"$f":"'Comparison Group 3 Accessible'!B191","v":1},{"$f":"'Comparison Group 3 Accessible'!C191","v":7.7579519006982156E-4},{"$f":"'Comparison Group 2 Accessible'!B191","v":1},{"$f":"'Comparison Group 2 Accessible'!C191","v":1.006036217303823E-3},{"$f":"'Comparison Group 1 Accessible'!B191","v":5},{"$f":"'Comparison Group 1 Accessible'!C191","v":4.2735042735042736E-2},{"$f":"SUM('Subject Data Accessible'!D191:H191)","v":0},0,"Debris",{"$f":"'Comparison Group 3 Accessible'!J191","v":42},{"$f":"'Comparison Group 3 Accessible'!K191","v":7.6328941390277143E-4},{"$f":"'Comparison Group 2 Accessible'!J191","v":30},{"$f":"'Comparison Group 2 Accessible'!K191","v":7.0442378134685823E-4},{"$f":"'Comparison Group 1 Accessible'!J191","v":100},{"$f":"'Comparison Group 1 Accessible'!K191","v":2.1896211955331729E-2},{"$f":"SUM('Subject Data Accessible'!L191:P191)","v":1},0.02]
["Glare",{"$f":"'Comparison Group 3 Accessible'!B192","v":40},{"$f":"'Comparison Group 3 Accessible'!C192","v":3.1031807602792862E-2},{"$f":"'Comparison Group 2 Accessible'!B192","v":35},{"$f":"'Comparison Group 2 Accessible'!C192","v":3.5211267605633804E-2},{"$f":"'Comparison Group 1 Accessible'!B192","v":4},{"$f":"'Comparison Group 1 Accessible'!C192","v":3.4188034188034191E-2},{"$f":"SUM('Subject Data Accessible'!D192:H192)","v":0},0,"Glare",{"$f":"'Comparison Group 3 Accessible'!J192","v":472},{"$f":"'Comparison Group 3 Accessible'!K192","v":8.5779191276692413E-3},{"$f":"'Comparison Group 2 Accessible'!J192","v":406},{"$f":"'Comparison Group 2 Accessible'!K192","v":9.5332018408941493E-3},{"$f":"'Comparison Group 1 Accessible'!J192","v":75},{"$f":"'Comparison Group 1 Accessible'!K192","v":1.6422158966498797E-2},{"$f":"SUM('Subject Data Accessible'!L192:P192)","v":3},0.06]
["Non-Highway Work",{"$f":"'Comparison Group 3 Accessible'!B193","v":6},{"$f":"'Comparison Group 3 Accessible'!C193","v":4.6547711404189293E-3},{"$f":"'Comparison Group 2 Accessible'!B193","v":3},{"$f":"'Comparison Group 2 Accessible'!C193","v":3.0181086519114686E-3},{"$f":"'Comparison Group 1 Accessible'!B193","v":1},{"$f":"'Comparison Group 1 Accessible'!C193","v":8.5470085470085479E-3},{"$f":"SUM('Subject Data Accessible'!D193:H193)","v":1},0.14285714285714285,"Non-Highway Work",{"$f":"'Comparison Group 3 Accessible'!J193","v":113},{"$f":"'Comparison Group 3 Accessible'!K193","v":2.0536119945479326E-3},{"$f":"'Comparison Group 2 Accessible'!J193","v":71},{"$f":"'Comparison Group 2 Accessible'!K193","v":1.667136282520898E-3},{"$f":"'Comparison Group 1 Accessible'!J193","v":53},{"$f":"'Comparison Group 1 Accessible'!K193","v":1.1604992336325816E-2},{"$f":"SUM('Subject Data Accessible'!L193:P193)","v":1},0.02]
["Obstructed Crosswalks",{"$f":"'Comparison Group 3 Accessible'!B194","v":135},{"$f":"'Comparison Group 3 Accessible'!C194","v":0.10473235065942592},{"$f":"'Comparison Group 2 Accessible'!B194","v":122},{"$f":"'Comparison Group 2 Accessible'!C194","v":0.1227364185110664},{"$f":"'Comparison Group 1 Accessible'!B194","v":3},{"$f":"'Comparison Group 1 Accessible'!C194","v":2.564102564102564E-2},{"$f":"SUM('Subject Data Accessible'!D194:H194)","v":0},0,"Obstructed Crosswalks",{"$f":"'Comparison Group 3 Accessible'!J194","v":5920},{"$f":"'Comparison Group 3 Accessible'!K194","v":0.10758746024534302},{"$f":"'Comparison Group 2 Accessible'!J194","v":4873},{"$f":"'Comparison Group 2 Accessible'!K194","v":0.11442190288344134},{"$f":"'Comparison Group 1 Accessible'!J194","v":72},{"$f":"'Comparison Group 1 Accessible'!K194","v":1.5765272607838846E-2},{"$f":"SUM('Subject Data Accessible'!L194:P194)","v":2},0.04]
["Obstruction in Roadway",{"$f":"'Comparison Group 3 Accessible'!B195","v":2},{"$f":"'Comparison Group 3 Accessible'!C195","v":1.5515903801396431E-3},{"$f":"'Comparison Group 2 Accessible'!B195","v":1},{"$f":"'Comparison Group 2 Accessible'!C195","v":1.006036217303823E-3},{"$f":"'Comparison Group 1 Accessible'!B195","v":4},{"$f":"'Comparison Group 1 Accessible'!C195","v":3.4188034188034191E-2},{"$f":"SUM('Subject Data Accessible'!D195:H195)","v":0},0,"Obstruction in Roadway",{"$f":"'Comparison Group 3 Accessible'!J195","v":327},{"$f":"'Comparison Group 3 Accessible'!K195","v":5.9427532939572919E-3},{"$f":"'Comparison Group 2 Accessible'!J195","v":188},{"$f":"'Comparison Group 2 Accessible'!K195","v":4.4143890297736448E-3},{"$f":"'Comparison Group 1 Accessible'!J195","v":165},{"$f":"'Comparison Group 1 Accessible'!K195","v":3.612874972629735E-2},{"$f":"SUM('Subject Data Accessible'!L195:P195)","v":5},0.1]
["Prior Crash",{"$f":"'Comparison Group 3 Accessible'!B196","v":53},{"$f":"'Comparison Group 3 Accessible'!C196","v":4.1117145073700546E-2},{"$f":"'Comparison Group 2 Accessible'!B196","v":27},{"$f":"'Comparison Group 2 Accessible'!C196","v":2.716297786720322E-2},{"$f":"'Comparison Group 1 Accessible'!B196","v":2},{"$f":"'Comparison Group 1 Accessible'!C196","v":1.7094017094017096E-2},{"$f":"SUM('Subject Data Accessible'!D196:H196)","v":0},0,"Prior Crash",{"$f":"'Comparison Group 3 Accessible'!J196","v":1359},{"$f":"'Comparison Group 3 Accessible'!K196","v":2.4697864606996821E-2},{"$f":"'Comparison Group 2 Accessible'!J196","v":625},{"$f":"'Comparison Group 2 Accessible'!K196","v":1.4675495444726214E-2},{"$f":"'Comparison Group 1 Accessible'!J196","v":312},{"$f":"'Comparison Group 1 Accessible'!K196","v":6.8316181300634993E-2},{"$f":"SUM('Subject Data Accessible'!L196:P196)","v":2},0.04]
["Prior Non-Recurring Incident",{"$f":"'Comparison Group 3 Accessible'!B197","v":4},{"$f":"'Comparison Group 3 Accessible'!C197","v":3.1031807602792862E-3},{"$f":"'Comparison Group 2 Accessible'!B197","v":2},{"$f":"'Comparison Group 2 Accessible'!C197","v":2.012072434607646E-3},{"$f":"'Comparison Group 1 Accessible'!B197","v":2},{"$f":"'Comparison Group 1 Accessible'!C197","v":1.7094017094017096E-2},{"$f":"SUM('Subject Data Accessible'!D197:H197)","v":0},0,"Prior Non-Recurring Incident",{"$f":"'Comparison Group 3 Accessible'!J197","v":128},{"$f":"'Comparison Group 3 Accessible'!K197","v":2.3262153566560653E-3},{"$f":"'Comparison Group 2 Accessible'!J197","v":41},{"$f":"'Comparison Group 2 Accessible'!K197","v":9.6271250117403967E-4},{"$f":"'Comparison Group 1 Accessible'!J197","v":256},{"$f":"'Comparison Group 1 Accessible'!K197","v":5.6054302605649226E-2},{"$f":"SUM('Subject Data Accessible'!L197:P197)","v":1},0.02]
["Regular Congestion",{"$f":"'Comparison Group 3 Accessible'!B198","v":10},{"$f":"'Comparison Group 3 Accessible'!C198","v":7.7579519006982156E-3},{"$f":"'Comparison Group 2 Accessible'!B198","v":6},{"$f":"'Comparison Group 2 Accessible'!C198","v":6.0362173038229373E-3},{"$f":"'Comparison Group 1 Accessible'!B198","v":0},{"$f":"'Comparison Group 1 Accessible'!C198","v":0},{"$f":"SUM('Subject Data Accessible'!D198:H198)","v":0},0,"Regular Congestion",{"$f":"'Comparison Group 3 Accessible'!J198","v":89},{"$f":"'Comparison Group 3 Accessible'!K198","v":1.6174466151749206E-3},{"$f":"'Comparison Group 2 Accessible'!J198","v":60},{"$f":"'Comparison Group 2 Accessible'!K198","v":1.4088475626937165E-3},{"$f":"'Comparison Group 1 Accessible'!J198","v":142},{"$f":"'Comparison Group 1 Accessible'!K198","v":3.1092620976571055E-2},{"$f":"SUM('Subject Data Accessible'!L198:P198)","v":3},0.06]
["Related to a Bus Stop",{"$f":"'Comparison Group 3 Accessible'!B199","v":6},{"$f":"'Comparison Group 3 Accessible'!C199","v":4.6547711404189293E-3},{"$f":"'Comparison Group 2 Accessible'!B199","v":5},{"$f":"'Comparison Group 2 Accessible'!C199","v":5.0301810865191147E-3},{"$f":"'Comparison Group 1 Accessible'!B199","v":5},{"$f":"'Comparison Group 1 Accessible'!C199","v":4.2735042735042736E-2},{"$f":"SUM('Subject Data Accessible'!D199:H199)","v":0},0,"Related to a Bus Stop",{"$f":"'Comparison Group 3 Accessible'!J199","v":554},{"$f":"'Comparison Group 3 Accessible'!K199","v":1.0068150840527033E-2},{"$f":"'Comparison Group 2 Accessible'!J199","v":495},{"$f":"'Comparison Group 2 Accessible'!K199","v":1.1622992392223161E-2},{"$f":"'Comparison Group 1 Accessible'!J199","v":139},{"$f":"'Comparison Group 1 Accessible'!K199","v":3.04357346179111E-2},{"$f":"SUM('Subject Data Accessible'!L199:P199)","v":3},0.06]
["Road Surface Condition (wet, icy, snow, slush, etc.)",{"$f":"'Comparison Group 3 Accessible'!B200","v":0},{"$f":"'Comparison Group 3 Accessible'!C200","v":0},{"$f":"'Comparison Group 2 Accessible'!B200","v":0},{"$f":"'Comparison Group 2 Accessible'!C200","v":0},{"$f":"'Comparison Group 1 Accessible'!B200","v":1},{"$f":"'Comparison Group 1 Accessible'!C200","v":8.5470085470085479E-3},{"$f":"SUM('Subject Data Accessible'!D200:H200)","v":0},0,"Road Surface Condition (wet, icy, snow, slush, etc.)",{"$f":"'Comparison Group 3 Accessible'!J200","v":51},{"$f":"'Comparison Group 3 Accessible'!K200","v":9.2685143116765108E-4},{"$f":"'Comparison Group 2 Accessible'!J200","v":29},{"$f":"'Comparison Group 2 Accessible'!K200","v":6.8094298863529638E-4},{"$f":"'Comparison Group 1 Accessible'!J200","v":176},{"$f":"'Comparison Group 1 Accessible'!K200","v":3.8537333041383841E-2},{"$f":"SUM('Subject Data Accessible'!L200:P200)","v":5},0.1]
["Ruts, Holes, Bumps",{"$f":"'Comparison Group 3 Accessible'!B201","v":1},{"$f":"'Comparison Group 3 Accessible'!C201","v":7.7579519006982156E-4},{"$f":"'Comparison Group 2 Accessible'!B201","v":1},{"$f":"'Comparison Group 2 Accessible'!C201","v":1.006036217303823E-3},{"$f":"'Comparison Group 1 Accessible'!B201","v":4},{"$f":"'Comparison Group 1 Accessible'!C201","v":3.4188034188034191E-2},{"$f":"SUM('Subject Data Accessible'!D201:H201)","v":0},0,"Ruts, Holes, Bumps",{"$f":"'Comparison Group 3 Accessible'!J201","v":69},{"$f":"'Comparison Group 3 Accessible'!K201","v":1.2539754656974102E-3},{"$f":"'Comparison Group 2 Accessible'!J201","v":38},{"$f":"'Comparison Group 2 Accessible'!K201","v":8.9227012303935379E-4},{"$f":"'Comparison Group 1 Accessible'!J201","v":202},{"$f":"'Comparison Group 1 Accessible'!K201","v":4.4230348149770088E-2},{"$f":"SUM('Subject Data Accessible'!L201:P201)","v":4},0.08]
["Shoulders (none, low, soft, high)",{"$f":"'Comparison Group 3 Accessible'!B202","v":8},{"$f":"'Comparison Group 3 Accessible'!C202","v":6.2063615205585725E-3},{"$f":"'Comparison Group 2 Accessible'!B202","v":4},{"$f":"'Comparison Group 2 Accessible'!C202","v":4.0241448692152921E-3},{"$f":"'Comparison Group 1 Accessible'!B202","v":9},{"$f":"'Comparison Group 1 Accessible'!C202","v":7.6923076923076927E-2},{"$f":"SUM('Subject Data Accessible'!D202:H202)","v":1},0.14285714285714285,"Shoulders (none, low, soft, high)",{"$f":"'Comparison Group 3 Accessible'!J202","v":308},{"$f":"'Comparison Group 3 Accessible'!K202","v":5.5974557019536578E-3},{"$f":"'Comparison Group 2 Accessible'!J202","v":165},{"$f":"'Comparison Group 2 Accessible'!K202","v":3.8743307974077206E-3},{"$f":"'Comparison Group 1 Accessible'!J202","v":230},{"$f":"'Comparison Group 1 Accessible'!K202","v":5.0361287497262971E-2},{"$f":"SUM('Subject Data Accessible'!L202:P202)","v":4},0.08]
["Toll Booth/Plaza Related",{"$f":"'Comparison Group 3 Accessible'!B203","v":7},{"$f":"'Comparison Group 3 Accessible'!C203","v":5.4305663304887513E-3},{"$f":"'Comparison Group 2 Accessible'!B203","v":6},{"$f":"'Comparison Group 2 Accessible'!C203","v":6.0362173038229373E-3},{"$f":"'Comparison Group 1 Accessible'!B203","v":4},{"$f":"'Comparison Group 1 Accessible'!C203","v":3.4188034188034191E-2},{"$f":"SUM('Subject Data Accessible'!D203:H203)","v":0},0,"Toll Booth/Plaza Related",{"$f":"'Comparison Group 3 Accessible'!J203","v":748},{"$f":"'Comparison Group 3 Accessible'!K203","v":1.3593820990458883E-2},{"$f":"'Comparison Group 2 Accessible'!J203","v":515},{"$f":"'Comparison Group 2 Accessible'!K203","v":1.20926082464544E-2},{"$f":"'Comparison Group 1 Accessible'!J203","v":252},{"$f":"'Comparison Group 1 Accessible'!K203","v":5.5178454127435952E-2},{"$f":"SUM('Subject Data Accessible'!L203:P203)","v":3},0.06]
["Traffic Control Device",{"$f":"'Comparison Group 3 Accessible'!B204","v":20},{"$f":"'Comparison Group 3 Accessible'!C204","v":1.5515903801396431E-2},{"$f":"'Comparison Group 2 Accessible'!B204","v":14},{"$f":"'Comparison Group 2 Accessible'!C204","v":1.4084507042253521E-2},{"$f":"'Comparison Group 1 Accessible'!B204","v":8},{"$f":"'Comparison Group 1 Accessible'!C204","v":6.8376068376068383E-2},{"$f":"SUM('Subject Data Accessible'!D204:H204)","v":0},0,"Traffic Control Device",{"$f":"'Comparison Group 3 Accessible'!J204","v":588},{"$f":"'Comparison Group 3 Accessible'!K204","v":1.0686051794638801E-2},{"$f":"'Comparison Group 2 Accessible'!J204","v":347},{"$f":"'Comparison Group 2 Accessible'!K204","v":8.1478350709119941E-3},{"$f":"'Comparison Group 1 Accessible'!J204","v":362},{"$f":"'Comparison Group 1 Accessible'!K204","v":7.9264287278300857E-2},{"$f":"SUM('Subject Data Accessible'!L204:P204)","v":6},0.12]
["Traffic Incident",{"$f":"'Comparison Group 3 Accessible'!B205","v":22},{"$f":"'Comparison Group 3 Accessible'!C205","v":1.7067494181536073E-2},{"$f":"'Comparison Group 2 Accessible'!B205","v":16},{"$f":"'Comparison Group 2 Accessible'!C205","v":1.6096579476861168E-2},{"$f":"'Comparison Group 1 Accessible'!B205","v":6},{"$f":"'Comparison Group 1 Accessible'!C205","v":5.128205128205128E-2},{"$f":"SUM('Subject Data Accessible'!D205:H205)","v":0},0,"Traffic Incident",{"$f":"'Comparison Group 3 Accessible'!J205","v":224},{"$f":"'Comparison Group 3 Accessible'!K205","v":4.0708768741481143E-3},{"$f":"'Comparison Group 2 Accessible'!J205","v":174},{"$f":"'Comparison Group 2 Accessible'!K205","v":4.0856579318117783E-3},{"$f":"'Comparison Group 1 Accessible'!J205","v":349},{"$f":"'Comparison Group 1 Accessible'!K205","v":7.6417779724107723E-2},{"$f":"SUM('Subject Data Accessible'!L205:P205)","v":2},0.04]
["Visual Obstruction(s)",{"$f":"'Comparison Group 3 Accessible'!B206","v":7},{"$f":"'Comparison Group 3 Accessible'!C206","v":5.4305663304887513E-3},{"$f":"'Comparison Group 2 Accessible'!B206","v":5},{"$f":"'Comparison Group 2 Accessible'!C206","v":5.0301810865191147E-3},{"$f":"'Comparison Group 1 Accessible'!B206","v":11},{"$f":"'Comparison Group 1 Accessible'!C206","v":9.4017094017094016E-2},{"$f":"SUM('Subject Data Accessible'!D206:H206)","v":3},0.42857142857142855,"Visual Obstruction(s)",{"$f":"'Comparison Group 3 Accessible'!J206","v":298},{"$f":"'Comparison Group 3 Accessible'!K206","v":5.4157201272149024E-3},{"$f":"'Comparison Group 2 Accessible'!J206","v":210},{"$f":"'Comparison Group 2 Accessible'!K206","v":4.9309664694280079E-3},{"$f":"'Comparison Group 1 Accessible'!J206","v":483},{"$f":"'Comparison Group 1 Accessible'!K206","v":0.10575870374425224},{"$f":"SUM('Subject Data Accessible'!L206:P206)","v":1},0.02]
["Weather Conditions",{"$f":"'Comparison Group 3 Accessible'!B207","v":2},{"$f":"'Comparison Group 3 Accessible'!C207","v":1.5515903801396431E-3},{"$f":"'Comparison Group 2 Accessible'!B207","v":2},{"$f":"'Comparison Group 2 Accessible'!C207","v":2.012072434607646E-3},{"$f":"'Comparison Group 1 Accessible'!B207","v":10},{"$f":"'Comparison Group 1 Accessible'!C207","v":8.5470085470085472E-2},{"$f":"SUM('Subject Data Accessible'!D207:H207)","v":1},0.14285714285714285,"Weather Conditions",{"$f":"'Comparison Group 3 Accessible'!J207","v":81},{"$f":"'Comparison Group 3 Accessible'!K207","v":1.4720581553839165E-3},{"$f":"'Comparison Group 2 Accessible'!J207","v":60},{"$f":"'Comparison Group 2 Accessible'!K207","v":1.4088475626937165E-3},{"$f":"'Comparison Group 1 Accessible'!J207","v":272},{"$f":"'Comparison Group 1 Accessible'!K207","v":5.9557696518502297E-2},{"$f":"SUM('Subject Data Accessible'!L207:P207)","v":2},0.04]
["Work Zone (construction/maintenance/utility)",{"$f":"'Comparison Group 3 Accessible'!B208","v":27},{"$f":"'Comparison Group 3 Accessible'!C208","v":2.0946470131885182E-2},{"$f":"'Comparison Group 2 Accessible'!B208","v":22},{"$f":"'Comparison Group 2 Accessible'!C208","v":2.2132796780684104E-2},{"$f":"'Comparison Group 1 Accessible'!B208","v":6},{"$f":"'Comparison Group 1 Accessible'!C208","v":5.128205128205128E-2},{"$f":"SUM('Subject Data Accessible'!D208:H208)","v":0},0,"Work Zone (construction/maintenance/utility)",{"$f":"'Comparison Group 3 Accessible'!J208","v":700},{"$f":"'Comparison Group 3 Accessible'!K208","v":1.2721490231712857E-2},{"$f":"'Comparison Group 2 Accessible'!J208","v":539},{"$f":"'Comparison Group 2 Accessible'!K208","v":1.2656147271531887E-2},{"$f":"'Comparison Group 1 Accessible'!J208","v":159},{"$f":"'Comparison Group 1 Accessible'!K208","v":3.4814977008977448E-2},{"$f":"SUM('Subject Data Accessible'!L208:P208)","v":1},0.02]
["Worn, Travel-polished Surface",{"$f":"'Comparison Group 3 Accessible'!B209","v":1},{"$f":"'Comparison Group 3 Accessible'!C209","v":7.7579519006982156E-4},{"$f":"'Comparison Group 2 Accessible'!B209","v":1},{"$f":"'Comparison Group 2 Accessible'!C209","v":1.006036217303823E-3},{"$f":"'Comparison Group 1 Accessible'!B209","v":11},{"$f":"'Comparison Group 1 Accessible'!C209","v":9.4017094017094016E-2},{"$f":"SUM('Subject Data Accessible'!D209:H209)","v":0},0,"Worn, Travel-polished Surface",{"$f":"'Comparison Group 3 Accessible'!J209","v":60},{"$f":"'Comparison Group 3 Accessible'!K209","v":1.0904134484325306E-3},{"$f":"'Comparison Group 2 Accessible'!J209","v":39},{"$f":"'Comparison Group 2 Accessible'!K209","v":9.1575091575091575E-4},{"$f":"'Comparison Group 1 Accessible'!J209","v":169},{"$f":"'Comparison Group 1 Accessible'!K209","v":3.7004598204510616E-2},{"$f":"SUM('Subject Data Accessible'!L209:P209)","v":1},0.02]
["Other",{"$f":"'Comparison Group 3 Accessible'!B210","v":10},{"$f":"'Comparison Group 3 Accessible'!C210","v":7.7579519006982156E-3},{"$f":"'Comparison Group 2 Accessible'!B210","v":6},{"$f":"'Comparison Group 2 Accessible'!C210","v":6.0362173038229373E-3},{"$f":"'Comparison Group 1 Accessible'!B210","v":7},{"$f":"'Comparison Group 1 Accessible'!C210","v":5.9829059829059832E-2},{"$f":"SUM('Subject Data Accessible'!D210:H210)","v":0},0,"Other",{"$f":"'Comparison Group 3 Accessible'!J210","v":407},{"$f":"'Comparison Group 3 Accessible'!K210","v":7.3966378918673328E-3},{"$f":"'Comparison Group 2 Accessible'!J210","v":340},{"$f":"'Comparison Group 2 Accessible'!K210","v":7.9834695219310609E-3},{"$f":"'Comparison Group 1 Accessible'!J210","v":161},{"$f":"'Comparison Group 1 Accessible'!K210","v":3.5252901248084084E-2},{"$f":"SUM('Subject Data Accessible'!L210:P210)","v":0},0]
["Unknown",{"$f":"'Comparison Group 3 Accessible'!B211","v":810},{"$f":"'Comparison Group 3 Accessible'!C211","v":0.62839410395655548},{"$f":"'Comparison Group 2 Accessible'!B211","v":612},{"$f":"'Comparison Group 2 Accessible'!C211","v":0.61569416498993967},{"$f":"'Comparison Group 1 Accessible'!B211","v":7},{"$f":"'Comparison Group 1 Accessible'!C211","v":5.9829059829059832E-2},{"$f":"SUM('Subject Data Accessible'!D211:H211)","v":0},0,"Unknown",{"$f":"'Comparison Group 3 Accessible'!J211","v":38859},{"$f":"'Comparison Group 3 Accessible'!K211","v":0.70620626987732849},{"$f":"'Comparison Group 2 Accessible'!J211","v":30356},{"$f":"'Comparison Group 2 Accessible'!K211","v":0.71278294355217431},{"$f":"'Comparison Group 1 Accessible'!J211","v":231},{"$f":"'Comparison Group 1 Accessible'!K211","v":5.0580249616816293E-2},{"$f":"SUM('Subject Data Accessible'!L211:P211)","v":0},0]
[{"$f":"CONCATENATE(\"Fatal and Serious Injury Crashes - \",A213,\"\nComp 3 = \",Instructions!$B$12,\", Comp 2 = \",Instructions!$B$11,\", Comp 1 = \", Instructions!$B$10, \", Subject = \",Instructions!$B$9)","v":"Fatal and Serious Injury Crashes - Contributing Circumstances - Roadway Environment, Selection 2\nComp 3 = Test Group 3, Comp 2 = Test Group 2, Comp 1 = Test Group 1, Subject = Test County"},null,null,null,null,null,null,null,null,{"$f":"CONCATENATE(\"Total Crashes - \",J213,\"\nComp 3 = \",Instructions!$B$12,\", Comp 2 = \",Instructions!$B$11,\", Comp 1 = \", Instructions!$B$10, \", Subject = \",Instructions!$B$9)","v":"Total Crashes - Contributing Circumstances - Roadway Environment, Selection 2\nComp 3 = Test Group 3, Comp 2 = Test Group 2, Comp 1 = Test Group 1, Subject = Test County"}]
["Contributing Circumstances - Roadway Environment, Selection 2","Comp 3 Number","Comp 3 Percent","Comp 2 Number","Comp 2 Percent","Comp 1 Number","Comp 1 Percent","Subject Number","Subject Percent","Contributing Circumstances - Roadway Environment, Selection 2","Comp 3 Number","Comp 3 Percent","Comp 2 Number","Comp 2 Percent","Comp 1 Number","Comp 1 Percent","Subject Number","Subject Percent"]
["None",{"$f":"'Comparison Group 3 Accessible'!B214","v":6},{"$f":"'Comparison Group 3 Accessible'!C214","v":4.6547711404189293E-3},{"$f":"'Comparison Group 2 Accessible'!B214","v":150},{"$f":"'Comparison Group 2 Accessible'!C214","v":0.15090543259557343},{"$f":"'Comparison Group 1 Accessible'!B214","v":9},{"$f":"'Comparison Group 1 Accessible'!C214","v":7.6923076923076927E-2},{"$f":"SUM('Subject Data Accessible'!D214:H214)","v":0},{"$f":"H214/SUM(H$214:H$236)","v":0},{"$f":"A214","v":"None"},{"$f":"'Comparison Group 3 Accessible'!J214","v":128},{"$f":"'Comparison Group 3 Accessible'!K214","v":2.3262153566560653E-3},{"$f":"'Comparison Group 2 Accessible'!J214","v":3463},{"$f":"'Comparison Group 2 Accessible'!K214","v":8.1313985160139005E-2},{"$f":"'Comparison Group 1 Accessible'!J214","v":230},{"$f":"'Comparison Group 1 Accessible'!K214","v":5.0361287497262971E-2},{"$f":"SUM('Subject Data Accessible'!L214:P214)","v":4},{"$f":"Q214/SUM(Q$214:Q$236)","v":0.08}]
["Animal(s)",{"$f":"'Comparison Group 3 Accessible'!B215","v":0},{"$f":"'Comparison Group 3 Accessible'!C215","v":0},{"$f":"'Comparison Group 2 Accessible'!B215","v":1},{"$f":"'Comparison Group 2 Accessible'!C215","v":1.006036217303823E-3},{"$f":"'Comparison Group 1 Accessible'!B215","v":4},{"$f":"'Comparison Group 1 Accessible'!C215","v":3.4188034188034191E-2},{"$f":"SUM('Subject Data Accessible'!D215:H215)","v":0},{"$f":"H215/SUM(H$214:H$236)","v":0},"Animal(s)",{"$f":"'Comparison Group 3 Accessible'!J215","v":89},{"$f":"'Comparison Group 3 Accessible'!K215","v":1.6174466151749206E-3},{"$f":"'Comparison Group 2 Accessible'!J215","v":26},{"$f":"'Comparison Group 2 Accessible'!K215","v":6.105006105006105E-4},{"$f":"'Comparison Group 1 Accessible'!J215","v":252},{"$f":"'Comparison Group 1 Accessible'!K215","v":5.5178454127435952E-2},{"$f":"SUM('Subject Data Accessible'!L215:P215)","v":0},{"$f":"Q215/SUM(Q$214:Q$236)","v":0}]
["Debris",{"$f":"'Comparison Group 3 Accessible'!B216","v":1},{"$f":"'Comparison Group 3 Accessible'!C216","v":7.7579519006982156E-4},{"$f":"'Comparison Group 2 Accessible'!B216","v":35},{"$f":"'Comparison Group 2 Accessible'!C216","v":3.5211267605633804E-2},{"$f":"'Comparison Group 1 Accessible'!B216","v":8},{"$f":"'Comparison Group 1 Accessible'!C216","v":6.8376068376068383E-2},{"$f":"SUM('Subject Data Accessible'!D216:H216)","v":0},0,"Debris",{"$f":"'Comparison Group 3 Accessible'!J216","v":554},{"$f":"'Comparison Group 3 Accessible'!K216","v":1.0068150840527033E-2},{"$f":"'Comparison Group 2 Accessible'!J216","v":409},{"$f":"'Comparison Group 2 Accessible'!K216","v":9.6036442190288347E-3},{"$f":"'Comparison Group 1 Accessible'!J216","v":362},{"$f":"'Comparison Group 1 Accessible'!K216","v":7.9264287278300857E-2},{"$f":"SUM('Subject Data Accessible'!L216:P216)","v":1},0.02]
["Glare",{"$f":"'Comparison Group 3 Accessible'!B217","v":8},{"$f":"'Comparison Group 3 Accessible'!C217","v":6.2063615205585725E-3},{"$f":"'Comparison Group 2 Accessible'!B217","v":3},{"$f":"'Comparison Group 2 Accessible'!C217","v":3.0181086519114686E-3},{"$f":"'Comparison Group 1 Accessible'!B217","v":6},{"$f":"'Comparison Group 1 Accessible'!C217","v":5.128205128205128E-2},{"$f":"SUM('Subject Data Accessible'!D217:H217)","v":0},0,"Glare",{"$f":"'Comparison Group 3 Accessible'!J217","v":51},{"$f":"'Comparison Group 3 Accessible'!K217","v":9.2685143116765108E-4},{"$f":"'Comparison Group 2 Accessible'!J217","v":68},{"$f":"'Comparison Group 2 Accessible'!K217","v":1.5966939043862121E-3},{"$f":"'Comparison Group 1 Accessible'!J217","v":349},{"$f":"'Comparison Group 1 Accessible'!K217","v":7.6417779724107723E-2},{"$f":"SUM('Subject Data Accessible'!L217:P217)","v":0},0]
["Non-Highway Work",{"$f":"'Comparison Group 3 Accessible'!B218","v":7},{"$f":"'Comparison Group 3 Accessible'!C218","v":5.4305663304887513E-3},{"$f":"'Comparison Group 2 Accessible'!B218","v":180},{"$f":"'Comparison Group 2 Accessible'!C218","v":0.18108651911468812},{"$f":"'Comparison Group 1 Accessible'!B218","v":11},{"$f":"'Comparison Group 1 Accessible'!C218","v":9.4017094017094016E-2},{"$f":"SUM('Subject Data Accessible'!D218:H218)","v":1},0.14285714285714285,"Non-Highway Work",{"$f":"'Comparison Group 3 Accessible'!J218","v":69},{"$f":"'Comparison Group 3 Accessible'!K218","v":1.2539754656974102E-3},{"$f":"'Comparison Group 2 Accessible'!J218","v":5695},{"$f":"'Comparison Group 2 Accessible'!K218","v":0.13372311449234525},{"$f":"'Comparison Group 1 Accessible'!J218","v":483},{"$f":"'Comparison Group 1 Accessible'!K218","v":0.10575870374425224},{"$f":"SUM('Subject Data Accessible'!L218:P218)","v":0},0]
["Obstructed Crosswalks",{"$f":"'Comparison Group 3 Accessible'!B219","v":20},{"$f":"'Comparison Group 3 Accessible'!C219","v":1.5515903801396431E-2},{"$f":"'Comparison Group 2 Accessible'!B219","v":1},{"$f":"'Comparison Group 2 Accessible'!C219","v":1.006036217303823E-3},{"$f":"'Comparison Group 1 Accessible'!B219","v":10},{"$f":"'Comparison Group 1 Accessible'!C219","v":8.5470085470085472E-2},{"$f":"SUM('Subject Data Accessible'!D219:H219)","v":1},0.14285714285714285,"Obstructed Crosswalks",{"$f":"'Comparison Group 3 Accessible'!J219","v":308},{"$f":"'Comparison Group 3 Accessible'!K219","v":5.5974557019536578E-3},{"$f":"'Comparison Group 2 Accessible'!J219","v":183},{"$f":"'Comparison Group 2 Accessible'!K219","v":4.2969850662158355E-3},{"$f":"'Comparison Group 1 Accessible'!J219","v":272},{"$f":"'Comparison Group 1 Accessible'!K219","v":5.9557696518502297E-2},{"$f":"SUM('Subject Data Accessible'!L219:P219)","v":3},0.06]
["Obstruction in Roadway",{"$f":"'Comparison Group 3 Accessible'!B220","v":22},{"$f":"'Comparison Group 3 Accessible'!C220","v":1.7067494181536073E-2},{"$f":"'Comparison Group 2 Accessible'!B220","v":12},{"$f":"'Comparison Group 2 Accessible'!C220","v":1.2072434607645875E-2},{"$f":"'Comparison Group 1 Accessible'!B220","v":6},{"$f":"'Comparison Group 1 Accessible'!C220","v":5.128205128205128E-2},{"$f":"SUM('Subject Data Accessible'!D220:H220)","v":0},0,"Obstruction in Roadway",{"$f":"'Comparison Group 3 Accessible'!J220","v":748},{"$f":"'Comparison Group 3 Accessible'!K220","v":1.3593820990458883E-2},{"$f":"'Comparison Group 2 Accessible'!J220","v":534},{"$f":"'Comparison Group 2 Accessible'!K220","v":1.2538743307974077E-2},{"$f":"'Comparison Group 1 Accessible'!J220","v":159},{"$f":"'Comparison Group 1 Accessible'!K220","v":3.4814977008977448E-2},{"$f":"SUM('Subject Data Accessible'!L220:P220)","v":1},0.02]
["Prior Crash",{"$f":"'Comparison Group 3 Accessible'!B221","v":7},{"$f":"'Comparison Group 3 Accessible'!C221","v":5.4305663304887513E-3},{"$f":"'Comparison Group 2 Accessible'!B221","v":2},{"$f":"'Comparison Group 2 Accessible'!C221","v":2.012072434607646E-3},{"$f":"'Comparison Group 1 Accessible'!B221","v":11},{"$f":"'Comparison Group 1 Accessible'!C221","v":9.4017094017094016E-2},{"$f":"SUM('Subject Data Accessible'!D221:H221)","v":0},0,"Prior Crash",{"$f":"'Comparison Group 3 Accessible'!J221","v":588},{"$f":"'Comparison Group 3 Accessible'!K221","v":1.0686051794638801E-2},{"$f":"'Comparison Group 2 Accessible'!J221","v":47},{"$f":"'Comparison Group 2 Accessible'!K221","v":1.1035972574434112E-3},{"$f":"'Comparison Group 1 Accessible'!J221","v":169},{"$f":"'Comparison Group 1 Accessible'!K221","v":3.7004598204510616E-2},{"$f":"SUM('Subject Data Accessible'!L221:P221)","v":2},0.04]
["Prior Non-Recurring Incident",{"$f":"'Comparison Group 3 Accessible'!B222","v":2},{"$f":"'Comparison Group 3 Accessible'!C222","v":1.5515903801396431E-3},{"$f":"'Comparison Group 2 Accessible'!B222","v":155},{"$f":"'Comparison Group 2 Accessible'!C222","v":0.15593561368209255},{"$f":"'Comparison Group 1 Accessible'!B222","v":7},{"$f":"'Comparison Group 1 Accessible'!C222","v":5.9829059829059832E-2},{"$f":"SUM('Subject Data Accessible'!D222:H222)","v":0},0,"Prior Non-Recurring Incident",{"$f":"'Comparison Group 3 Accessible'!J222","v":224},{"$f":"'Comparison Group 3 Accessible'!K222","v":4.0708768741481143E-3},{"$f":"'Comparison Group 2 Accessible'!J222","v":17847},{"$f":"'Comparison Group 2 Accessible'!K222","v":0.41906170752324601},{"$f":"'Comparison Group 1 Accessible'!J222","v":161},{"$f":"'Comparison Group 1 Accessible'!K222","v":3.5252901248084084E-2},{"$f":"SUM('Subject Data Accessible'!L222:P222)","v":2},0.04]
["Regular Congestion",{"$f":"'Comparison Group 3 Accessible'!B223","v":27},{"$f":"'Comparison Group 3 Accessible'!C223","v":2.0946470131885182E-2},{"$f":"'Comparison Group 2 Accessible'!B223","v":8},{"$f":"'Comparison Group 2 Accessible'!C223","v":8.0482897384305842E-3},{"$f":"'Comparison Group 1 Accessible'!B223","v":7},{"$f":"'Comparison Group 1 Accessible'!C223","v":5.9829059829059832E-2},{"$f":"SUM('Subject Data Accessible'!D223:H223)","v":0},0,"Regular Congestion",{"$f":"'Comparison Group 3 Accessible'!J223","v":298},{"$f":"'Comparison Group 3 Accessible'!K223","v":5.4157201272149024E-3},{"$f":"'Comparison Group 2 Accessible'!J223","v":476},{"$f":"'Comparison Group 2 Accessible'!K223","v":1.1176857330703484E-2},{"$f":"'Comparison Group 1 Accessible'!J223","v":231},{"$f":"'Comparison Group 1 Accessible'!K223","v":5.0580249616816293E-2},{"$f":"SUM('Subject Data Accessible'!L223:P223)","v":2},0.04]
["Related to a Bus Stop",{"$f":"'Comparison Group 3 Accessible'!B224","v":1},{"$f":"'Comparison Group 3 Accessible'!C224","v":7.7579519006982156E-4},{"$f":"'Comparison Group 2 Accessible'!B224","v":0},{"$f":"'Comparison Group 2 Accessible'!C224","v":0},{"$f":"'Comparison Group 1 Accessible'!B224","v":5},{"$f":"'Comparison Group 1 Accessible'!C224","v":4.2735042735042736E-2},{"$f":"SUM('Subject Data Accessible'!D224:H224)","v":0},0,"Related to a Bus Stop",{"$f":"'Comparison Group 3 Accessible'!J224","v":81},{"$f":"'Comparison Group 3 Accessible'!K224","v":1.4720581553839165E-3},{"$f":"'Comparison Group 2 Accessible'!J224","v":20},{"$f":"'Comparison Group 2 Accessible'!K224","v":4.6961585423123885E-4},{"$f":"'Comparison Group 1 Accessible'!J224","v":115},{"$f":"'Comparison Group 1 Accessible'!K224","v":2.5180643748631486E-2},{"$f":"SUM('Subject Data Accessible'!L224:P224)","v":1},0.02]
["Road Surface Condition (wet, icy, snow, slush, etc.)",{"$f":"'Comparison Group 3 Accessible'!B225","v":10},{"$f":"'Comparison Group 3 Accessible'!C225","v":7.7579519006982156E-3},{"$f":"'Comparison Group 2 Accessible'!B225","v":1},{"$f":"'Comparison Group 2 Accessible'!C225","v":1.006036217303823E-3},{"$f":"'Comparison Group 1 Accessible'!B225","v":2},{"$f":"'Comparison Group 1 Accessible'!C225","v":1.7094017094017096E-2},{"$f":"SUM('Subject Data Accessible'!D225:H225)","v":1},0.14285714285714285,"Road Surface Condition (wet, icy, snow, slush, etc.)",{"$f":"'Comparison Group 3 Accessible'!J225","v":700},{"$f":"'Comparison Group 3 Accessible'!K225","v":1.2721490231712857E-2},{"$f":"'Comparison Group 2 Accessible'!J225","v":51},{"$f":"'Comparison Group 2 Accessible'!K225","v":1.197520428289659E-3},{"$f":"'Comparison Group 1 Accessible'!J225","v":92},{"$f":"'Comparison Group 1 Accessible'!K225","v":2.014451499890519E-2},{"$f":"SUM('Subject Data Accessible'!L225:P225)","v":3},0.06]
["Ruts, Holes, Bumps",{"$f":"'Comparison Group 3 Accessible'!B226","v":810},{"$f":"'Comparison Group 3 Accessible'!C226","v":0.62839410395655548},{"$f":"'Comparison Group 2 Accessible'!B226","v":6},{"$f":"'Comparison Group 2 Accessible'!C226","v":6.0362173038229373E-3},{"$f":"'Comparison Group 1 Accessible'!B226","v":5},{"$f":"'Comparison Group 1 Accessible'!C226","v":4.2735042735042736E-2},{"$f":"SUM('Subject Data Accessible'!D226:H226)","v":0},0,"Ruts, Holes, Bumps",{"$f":"'Comparison Group 3 Accessible'!J226","v":60},{"$f":"'Comparison Group 3 Accessible'!K226","v":1.0904134484325306E-3},{"$f":"'Comparison Group 2 Accessible'!J226","v":182},{"$f":"'Comparison Group 2 Accessible'!K226","v":4.2735042735042739E-3},{"$f":"'Comparison Group 1 Accessible'!J226","v":100},{"$f":"'Comparison Group 1 Accessible'!K226","v":2.1896211955331729E-2},{"$f":"SUM('Subject Data Accessible'!L226:P226)","v":2},0.04]
["Shoulders (none, low, soft, high)",{"$f":"'Comparison Group 3 Accessible'!B227","v":0},{"$f":"'Comparison Group 3 Accessible'!C227","v":0},{"$f":"'Comparison Group 2 Accessible'!B227","v":7},{"$f":"'Comparison Group 2 Accessible'!C227","v":7.0422535211267607E-3},{"$f":"'Comparison Group 1 Accessible'!B227","v":4},{"$f":"'Comparison Group 1 Accessible'!C227","v":3.4188034188034191E-2},{"$f":"SUM('Subject Data Accessible'!D227:H227)","v":1},0.14285714285714285,"Shoulders (none, low, soft, high)",{"$f":"'Comparison Group 3 Accessible'!J227","v":407},{"$f":"'Comparison Group 3 Accessible'!K227","v":7.3966378918673328E-3},{"$f":"'Comparison Group 2 Accessible'!J227","v":517},{"$f":"'Comparison Group 2 Accessible'!K227","v":1.2139569831877525E-2},{"$f":"'Comparison Group 1 Accessible'!J227","v":75},{"$f":"'Comparison Group 1 Accessible'!K227","v":1.6422158966498797E-2},{"$f":"SUM('Subject Data Accessible'!L227:P227)","v":4},0.08]
["Toll Booth/Plaza Related",{"$f":"'Comparison Group 3 Accessible'!B228","v":117},{"$f":"'Comparison Group 3 Accessible'!C228","v":9.0768037238169119E-2},{"$f":"'Comparison Group 2 Accessible'!B228","v":18},{"$f":"'Comparison Group 2 Accessible'!C228","v":1.8108651911468814E-2},{"$f":"'Comparison Group 1 Accessible'!B228","v":1},{"$f":"'Comparison Group 1 Accessible'!C228","v":8.5470085470085479E-3},{"$f":"SUM('Subject Data Accessible'!D228:H228)","v":0},0,"Toll Booth/Plaza Related",{"$f":"'Comparison Group 3 Accessible'!J228","v":38859},{"$f":"'Comparison Group 3 Accessible'!K228","v":0.70620626987732849},{"$f":"'Comparison Group 2 Accessible'!J228","v":348},{"$f":"'Comparison Group 2 Accessible'!K228","v":8.1713158636235565E-3},{"$f":"'Comparison Group 1 Accessible'!J228","v":53},{"$f":"'Comparison Group 1 Accessible'!K228","v":1.1604992336325816E-2},{"$f":"SUM('Subject Data Accessible'!L228:P228)","v":4},0.08]
["Traffic Control Device",{"$f":"'Comparison Group 3 Accessible'!B229","v":1},{"$f":"'Comparison Group 3 Accessible'!C229","v":7.7579519006982156E-4},{"$f":"'Comparison Group 2 Accessible'!B229","v":25},{"$f":"'Comparison Group 2 Accessible'!C229","v":2.5150905432595575E-2},{"$f":"'Comparison Group 1 Accessible'!B229","v":3},{"$f":"'Comparison Group 1 Accessible'!C229","v":2.564102564102564E-2},{"$f":"SUM('Subject Data Accessible'!D229:H229)","v":0},0,"Traffic Control Device",{"$f":"'Comparison Group 3 Accessible'!J229","v":9},{"$f":"'Comparison Group 3 Accessible'!K229","v":1.6356201726487959E-4},{"$f":"'Comparison Group 2 Accessible'!J229","v":223},{"$f":"'Comparison Group 2 Accessible'!K229","v":5.236216774678313E-3},{"$f":"'Comparison Group 1 Accessible'!J229","v":72},{"$f":"'Comparison Group 1 Accessible'!K229","v":1.5765272607838846E-2},{"$f":"SUM('Subject Data Accessible'!L229:P229)","v":4},0.08]
["Traffic Incident",{"$f":"'Comparison Group 3 Accessible'!B230","v":40},{"$f":"'Comparison Group 3 Accessible'!C230","v":3.1031807602792862E-2},{"$f":"'Comparison Group 2 Accessible'!B230","v":5},{"$f":"'Comparison Group 2 Accessible'!C230","v":5.0301810865191147E-3},{"$f":"'Comparison Group 1 Accessible'!B230","v":4},{"$f":"'Comparison Group 1 Accessible'!C230","v":3.4188034188034191E-2},{"$f":"SUM('Subject Data Accessible'!D230:H230)","v":1},0.14285714285714285,"Traffic Incident",{"$f":"'Comparison Group 3 Accessible'!J230","v":3619},{"$f":"'Comparison Group 3 Accessible'!K230","v":6.5770104497955478E-2},{"$f":"'Comparison Group 2 Accessible'!J230","v":222},{"$f":"'Comparison Group 2 Accessible'!K230","v":5.2127359819667514E-3},{"$f":"'Comparison Group 1 Accessible'!J230","v":165},{"$f":"'Comparison Group 1 Accessible'!K230","v":3.612874972629735E-2},{"$f":"SUM('Subject Data Accessible'!L230:P230)","v":3},0.06]
["Visual Obstruction(s)",{"$f":"'Comparison Group 3 Accessible'!B231","v":6},{"$f":"'Comparison Group 3 Accessible'!C231","v":4.6547711404189293E-3},{"$f":"'Comparison Group 2 Accessible'!B231","v":3},{"$f":"'Comparison Group 2 Accessible'!C231","v":3.0181086519114686E-3},{"$f":"'Comparison Group 1 Accessible'!B231","v":2},{"$f":"'Comparison Group 1 Accessible'!C231","v":1.7094017094017096E-2},{"$f":"SUM('Subject Data Accessible'!D231:H231)","v":0},0,"Visual Obstruction(s)",{"$f":"'Comparison Group 3 Accessible'!J231","v":42},{"$f":"'Comparison Group 3 Accessible'!K231","v":7.6328941390277143E-4},{"$f":"'Comparison Group 2 Accessible'!J231","v":64},{"$f":"'Comparison Group 2 Accessible'!K231","v":1.5027707335399643E-3},{"$f":"'Comparison Group 1 Accessible'!J231","v":312},{"$f":"'Comparison Group 1 Accessible'!K231","v":6.8316181300634993E-2},{"$f":"SUM('Subject Data Accessible'!L231:P231)","v":6},0.12]
["Weather Conditions",{"$f":"'Comparison Group 3 Accessible'!B232","v":135},{"$f":"'Comparison Group 3 Accessible'!C232","v":0.10473235065942592},{"$f":"'Comparison Group 2 Accessible'!B232","v":17},{"$f":"'Comparison Group 2 Accessible'!C232","v":1.7102615694164991E-2},{"$f":"'Comparison Group 1 Accessible'!B232","v":2},{"$f":"'Comparison Group 1 Accessible'!C232","v":1.7094017094017096E-2},{"$f":"SUM('Subject Data Accessible'!D232:H232)","v":1},0.14285714285714285,"Weather Conditions",{"$f":"'Comparison Group 3 Accessible'!J232","v":472},{"$f":"'Comparison Group 3 Accessible'!K232","v":8.5779191276692413E-3},{"$f":"'Comparison Group 2 Accessible'!J232","v":496},{"$f":"'Comparison Group 2 Accessible'!K232","v":1.1646473184934723E-2},{"$f":"'Comparison Group 1 Accessible'!J232","v":256},{"$f":"'Comparison Group 1 Accessible'!K232","v":5.6054302605649226E-2},{"$f":"SUM('Subject Data Accessible'!L232:P232)","v":2},0.04]
["Work Zone (construction/maintenance/utility)",{"$f":"'Comparison Group 3 Accessible'!B233","v":2},{"$f":"'Comparison Group 3 Accessible'!C233","v":1.5515903801396431E-3},{"$f":"'Comparison Group 2 Accessible'!B233","v":2},{"$f":"'Comparison Group 2 Accessible'!C233","v":2.012072434607646E-3},{"$f":"'Comparison Group 1 Accessible'!B233","v":0},{"$f":"'Comparison Group 1 Accessible'!C233","v":0},{"$f":"SUM('Subject Data Accessible'!D233:H233)","v":0},0,"Work Zone (construction/maintenance/utility)",{"$f":"'Comparison Group 3 Accessible'!J233","v":113},{"$f":"'Comparison Group 3 Accessible'!K233","v":2.0536119945479326E-3},{"$f":"'Comparison Group 2 Accessible'!J233","v":50},{"$f":"'Comparison Group 2 Accessible'!K233","v":1.1740396355780971E-3},{"$f":"'Comparison Group 1 Accessible'!J233","v":142},{"$f":"'Comparison Group 1 Accessible'!K233","v":3.1092620976571055E-2},{"$f":"SUM('Subject Data Accessible'!L233:P233)","v":2},0.04]
["Worn, Travel-polished Surface",{"$f":"'Comparison Group 3 Accessible'!B234","v":53},{"$f":"'Comparison Group 3 Accessible'!C234","v":4.1117145073700546E-2},{"$f":"'Comparison Group 2 Accessible'!B234","v":13},{"$f":"'Comparison Group 2 Accessible'!C234","v":1.3078470824949699E-2},{"$f":"'Comparison Group 1 Accessible'!B234","v":5},{"$f":"'Comparison Group 1 Accessible'!C234","v":4.2735042735042736E-2},{"$f":"SUM('Subject Data Accessible'!D234:H234)","v":1},0.14285714285714285,"Worn, Travel-polished Surface",{"$f":"'Comparison Group 3 Accessible'!J234","v":5920},{"$f":"'Comparison Group 3 Accessible'!K234","v":0.10758746024534302},{"$f":"'Comparison Group 2 Accessible'!J234","v":325},{"$f":"'Comparison Group 2 Accessible'!K234","v":7.631257631257631E-3},{"$f":"'Comparison Group 1 Accessible'!J234","v":139},{"$f":"'Comparison Group 1 Accessible'!K234","v":3.04357346179111E-2},{"$f":"SUM('Subject Data Accessible'!L234:P234)","v":3},0.06]
["Other",{"$f":"'Comparison Group 3 Accessible'!B235","v":4},{"$f":"'Comparison Group 3 Accessible'!C235","v":3.1031807602792862E-3},{"$f":"'Comparison Group 2 Accessible'!B235","v":9},{"$f":"'Comparison Group 2 Accessible'!C235","v":9.0543259557344068E-3},{"$f":"'Comparison Group 1 Accessible'!B235","v":1},{"$f":"'Comparison Group 1 Accessible'!C235","v":8.5470085470085479E-3},{"$f":"SUM('Subject Data Accessible'!D235:H235)","v":0},0,"Other",{"$f":"'Comparison Group 3 Accessible'!J235","v":327},{"$f":"'Comparison Group 3 Accessible'!K235","v":5.9427532939572919E-3},{"$f":"'Comparison Group 2 Accessible'!J235","v":146},{"$f":"'Comparison Group 2 Accessible'!K235","v":3.4281957358880434E-3},{"$f":"'Comparison Group 1 Accessible'!J235","v":176},{"$f":"'Comparison Group 1 Accessible'!K235","v":3.8537333041383841E-2},{"$f":"SUM('Subject Data Accessible'!L235:P235)","v":0},0]
["Unknown",{"$f":"'Comparison Group 3 Accessible'!B236","v":10},{"$f":"'Comparison Group 3 Accessible'!C236","v":7.7579519006982156E-3},{"$f":"'Comparison Group 2 Accessible'!B236","v":341},{"$f":"'Comparison Group 2 Accessible'!C236","v":0.34305835010060365},{"$f":"'Comparison Group 1 Accessible'!B236","v":4},{"$f":"'Comparison Group 1 Accessible'!C236","v":3.4188034188034191E-2},{"$f":"SUM('Subject Data Accessible'!D236:H236)","v":0},0,"Unknown",{"$f":"'Comparison Group 3 Accessible'!J236","v":1359},{"$f":"'Comparison Group 3 Accessible'!K236","v":2.4697864606996821E-2},{"$f":"'Comparison Group 2 Accessible'!J236","v":11196},{"$f":"'Comparison Group 2 Accessible'!K236","v":0.26289095519864752},{"$f":"'Comparison Group 1 Accessible'!J236","v":202},{"$f":"'Comparison Group 1 Accessible'!K236","v":4.4230348149770088E-2},{"$f":"SUM('Subject Data Accessible'!L236:P236)","v":1},0.02]
[{"$f":"CONCATENATE(\"Fatal and Serious Injury Crashes - \",A238,\"\nComp 3 = \",Instructions!$B$12,\", Comp 2 = \",Instructions!$B$11,\", Comp 1 = \", Instructions!$B$10, \", Subject = \",Instructions!$B$9)","v":"Fatal and Serious Injury Crashes - Within Interchange Area\nComp 3 = Test Group 3, Comp 2 = Test Group 2, Comp 1 = Test Group 1, Subject = Test County"},null,null,null,null,null,null,null,null,{"$f":"CONCATENATE(\"Total Crashes - \",J238,\"\nComp 3 = \",Instructions!$B$12,\", Comp 2 = \",Instructions!$B$11,\", Comp 1 = \", Instructions!$B$10, \", Subject = \",Instructions!$B$9)","v":"Total Crashes - Within Interchange Area\nComp 3 = Test Group 3, Comp 2 = Test Group 2, Comp 1 = Test Group 1, Subject = Test County"}]
["Within Interchange Area","Comp 3 Number","Comp 3 Percent","Comp 2 Number","Comp 2 Percent","Comp 1 Number","Comp 1 Percent","Subject Number","Subject Percent","Within Interchange Area","Comp 3 Number","Comp 3 Percent","Comp 2 Number","Comp 2 Percent","Comp 1 Number","Comp 1 Percent","Subject Number","Subject Percent"]
["No",{"$f":"'Comparison Group 3 Accessible'!B239","v":244},{"$f":"'Comparison Group 3 Accessible'!C239","v":0.18929402637703646},{"$f":"'Comparison Group 2 Accessible'!B239","v":838},{"$f":"'Comparison Group 2 Accessible'!C239","v":0.84305835010060359},{"$f":"'Comparison Group 1 Accessible'!B239","v":21},{"$f":"'Comparison Group 1 Accessible'!C239","v":0.17948717948717949},{"$f":"SUM('Subject Data Accessible'!D239:H239)","v":3},{"$f":"H239/SUM(H$239:H$241)","v":0.42857142857142855},{"$f":"A239","v":"No"},{"$f":"'Comparison Group 3 Accessible'!J239","v":10475},{"$f":"'Comparison Group 3 Accessible'!K239","v":0.19036801453884597},{"$f":"'Comparison Group 2 Accessible'!J239","v":36340},{"$f":"'Comparison Group 2 Accessible'!K239","v":0.853292007138161},{"$f":"'Comparison Group 1 Accessible'!J239","v":627},{"$f":"'Comparison Group 1 Accessible'!K239","v":0.13728924895992994},{"$f":"SUM('Subject Data Accessible'!L239:P239)","v":43},{"$f":"Q239/SUM(Q$239:Q$241)","v":0.86}]
["Yes",{"$f":"'Comparison Group 3 Accessible'!B240","v":838},{"$f":"'Comparison Group 3 Accessible'!C240","v":0.65011636927851046},{"$f":"'Comparison Group 2 Accessible'!B240","v":155},{"$f":"'Comparison Group 2 Accessible'!C240","v":0.15593561368209255},{"$f":"'Comparison Group 1 Accessible'!B240","v":80},{"$f":"'Comparison Group 1 Accessible'!C240","v":0.68376068376068377},{"$f":"SUM('Subject Data Accessible'!D240:H240)","v":4},{"$f":"H240/SUM(H$239:H$241)","v":0.5714285714285714},{"$f":"A240","v":"Yes"},{"$f":"'Comparison Group 3 Accessible'!J240","v":36340},{"$f":"'Comparison Group 3 Accessible'!K240","v":0.6604270786006361},{"$f":"'Comparison Group 2 Accessible'!J240","v":6108},{"$f":"'Comparison Group 2 Accessible'!K240","v":0.14342068188222035},{"$f":"'Comparison Group 1 Accessible'!J240","v":3561},{"$f":"'Comparison Group 1 Accessible'!K240","v":0.77972410772936285},{"$f":"SUM('Subject Data Accessible'!L240:P240)","v":5},{"$f":"Q240/SUM(Q$239:Q$241)","v":0.1}]
["Unknown",{"$f":"'Comparison Group 3 Accessible'!B241","v":207},{"$f":"'Comparison Group 3 Accessible'!C241","v":0.16058960434445307},{"$f":"'Comparison Group 2 Accessible'!B241","v":1},{"$f":"'Comparison Group 2 Accessible'!C241","v":1.006036217303823E-3},{"$f":"'Comparison Group 1 Accessible'!B241","v":16},{"$f":"'Comparison Group 1 Accessible'!C241","v":0.13675213675213677},{"$f":"SUM('Subject Data Accessible'!D241:H241)","v":0},0,{"$f":"A241","v":"Unknown"},{"$f":"'Comparison Group 3 Accessible'!J241","v":8210},{"$f":"'Comparison Group 3 Accessible'!K241","v":0.14920490686051793},{"$f":"'Comparison Group 2 Accessible'!J241","v":140},{"$f":"'Comparison Group 2 Accessible'!K241","v":3.2873109796186721E-3},{"$f":"'Comparison Group 1 Accessible'!J241","v":379},{"$f":"'Comparison Group 1 Accessible'!K241","v":8.298664331070725E-2},{"$f":"SUM('Subject Data Accessible'!L241:P241)","v":2},0.04]
[{"$f":"CONCATENATE(\"Fatal and Serious Injury Crashes - \",A243,\"\n Comp 3 = \",Instructions!$B$12,\", Comp 2 = \",Instructions!$B$11,\", Comp 1 = \", Instructions!$B$10, \", Subject = \",Instructions!$B$9)","v":"Fatal and Serious Injury Crashes - Relation to Junction\n Comp 3 = Test Group 3, Comp 2 = Test Group 2, Comp 1 = Test Group 1, Subject = Test County"},null,null,null,null,null,null,null,null,{"$f":"CONCATENATE(\"Total Crashes - \",J243,\"\nComp 3 = \",Instructions!$B$12,\", Comp 2 = \",Instructions!$B$11,\", Comp 1 = \", Instructions!$B$10, \", Subject = \",Instructions!$B$9)","v":"Total Crashes - Relation to Junction\nComp 3 = Test Group 3, Comp 2 = Test Group 2, Comp 1 = Test Group 1, Subject = Test County"}]
["Relation to Junction","Comp 3 Number","Comp 3 Percent","Comp 2 Number","Comp 2 Percent","Comp 1 Number","Comp 1 Percent","Subject Number","Subject Percent","Relation to Junction","Comp 3 Number","Comp 3 Percent","Comp 2 Number","Comp 2 Percent","Comp 1 Number","Comp 1 Percent","Subject Number","Subject Percent"]
["Acceleration/Deceleration Lane",{"$f":"'Comparison Group 3 Accessible'!B244","v":1207},{"$f":"'Comparison Group 3 Accessible'!C244","v":0.93638479441427458},{"$f":"'Comparison Group 2 Accessible'!B244","v":651},{"$f":"'Comparison Group 2 Accessible'!C244","v":0.65492957746478875},{"$f":"'Comparison Group 1 Accessible'!B244","v":34},{"$f":"'Comparison Group 1 Accessible'!C244","v":0.29059829059829062},{"$f":"SUM('Subject Data Accessible'!D244:H244)","v":0},{"$f":"H244/SUM(H$244:H$254)","v":0},{"$f":"A244","v":"Acceleration/Deceleration Lane"},{"$f":"'Comparison Group 3 Accessible'!J244","v":54272},{"$f":"'Comparison Group 3 Accessible'!K244","v":0.98631531122217175},{"$f":"'Comparison Group 2 Accessible'!J244","v":32859},{"$f":"'Comparison Group 2 Accessible'!K244","v":0.77155536770921385},{"$f":"'Comparison Group 1 Accessible'!J244","v":1067},{"$f":"'Comparison Group 1 Accessible'!K244","v":0.23363258156338954},{"$f":"SUM('Subject Data Accessible'!L244:P244)","v":3},{"$f":"Q244/SUM(Q$244:Q$254)","v":0.06}]
["Crossover-Related",{"$f":"'Comparison Group 3 Accessible'!B245","v":1},{"$f":"'Comparison Group 3 Accessible'!C245","v":7.7579519006982156E-4},{"$f":"'Comparison Group 2 Accessible'!B245","v":101},{"$f":"'Comparison Group 2 Accessible'!C245","v":0.10160965794768612},{"$f":"'Comparison Group 1 Accessible'!B245","v":67},{"$f":"'Comparison Group 1 Accessible'!C245","v":0.57264957264957261},{"$f":"SUM('Subject Data Accessible'!D245:H245)","v":0},{"$f":"H245/SUM(H$244:H$254)","v":0},"Crossover-Related",{"$f":"'Comparison Group 3 Accessible'!J245","v":3},{"$f":"'Comparison Group 3 Accessible'!K245","v":5.4520672421626531E-5},{"$f":"'Comparison Group 2 Accessible'!J245","v":3816},{"$f":"'Comparison Group 2 Accessible'!K245","v":8.960270498732037E-2},{"$f":"'Comparison Group 1 Accessible'!J245","v":3162},{"$f":"'Comparison Group 1 Accessible'!K245","v":0.69235822202758923},{"$f":"SUM('Subject Data Accessible'!L245:P245)","v":5},{"$f":"Q245/SUM(Q$244:Q$254)","v":0.1}]
["Driveway Access or Related",{"$f":"'Comparison Group 3 Accessible'!B246","v":0},{"$f":"'Comparison Group 3 Accessible'!C246","v":0},{"$f":"'Comparison Group 2 Accessible'!B246","v":29},{"$f":"'Comparison Group 2 Accessible'!C246","v":2.9175050301810865E-2},{"$f":"'Comparison Group 1 Accessible'!B246","v":11},{"$f":"'Comparison Group 1 Accessible'!C246","v":9.4017094017094016E-2},{"$f":"SUM('Subject Data Accessible'!D246:H246)","v":4},0.5714285714285714,"Driveway Access or Related",{"$f":"'Comparison Group 3 Accessible'!J246","v":2},{"$f":"'Comparison Group 3 Accessible'!K246","v":3.6347114947751021E-5},{"$f":"'Comparison Group 2 Accessible'!J246","v":629},{"$f":"'Comparison Group 2 Accessible'!K246","v":1.4769418615572462E-2},{"$f":"'Comparison Group 1 Accessible'!J246","v":286},{"$f":"'Comparison Group 1 Accessible'!K246","v":6.2623166192248739E-2},{"$f":"SUM('Subject Data Accessible'!L246:P246)","v":3},0.06]
["Entrance/Exit Ramp or Related",{"$f":"'Comparison Group 3 Accessible'!B247","v":2},{"$f":"'Comparison Group 3 Accessible'!C247","v":1.5515903801396431E-3},{"$f":"'Comparison Group 2 Accessible'!B247","v":6},{"$f":"'Comparison Group 2 Accessible'!C247","v":6.0362173038229373E-3},{"$f":"'Comparison Group 1 Accessible'!B247","v":3},{"$f":"'Comparison Group 1 Accessible'!C247","v":2.564102564102564E-2},{"$f":"SUM('Subject Data Accessible'!D247:H247)","v":0},0,"Entrance/Exit Ramp or Related",{"$f":"'Comparison Group 3 Accessible'!J247","v":7},{"$f":"'Comparison Group 3 Accessible'!K247","v":1.2721490231712857E-4},{"$f":"'Comparison Group 2 Accessible'!J247","v":93},{"$f":"'Comparison Group 2 Accessible'!K247","v":2.1837137221752605E-3},{"$f":"'Comparison Group 1 Accessible'!J247","v":41},{"$f":"'Comparison Group 1 Accessible'!K247","v":8.9774469016860089E-3},{"$f":"SUM('Subject Data Accessible'!L247:P247)","v":4},0.08]
["Intersection or Related",{"$f":"'Comparison Group 3 Accessible'!B248","v":4},{"$f":"'Comparison Group 3 Accessible'!C248","v":3.1031807602792862E-3},{"$f":"'Comparison Group 2 Accessible'!B248","v":0},{"$f":"'Comparison Group 2 Accessible'!C248","v":0},{"$f":"'Comparison Group 1 Accessible'!B248","v":1},{"$f":"'Comparison Group 1 Accessible'!C248","v":8.5470085470085479E-3},{"$f":"SUM('Subject Data Accessible'!D248:H248)","v":0},0,"Intersection or Related",{"$f":"'Comparison Group 3 Accessible'!J248","v":47},{"$f":"'Comparison Group 3 Accessible'!K248","v":8.5415720127214904E-4},{"$f":"'Comparison Group 2 Accessible'!J248","v":17},{"$f":"'Comparison Group 2 Accessible'!K248","v":3.9917347609655303E-4},{"$f":"'Comparison Group 1 Accessible'!J248","v":8},{"$f":"'Comparison Group 1 Accessible'!K248","v":1.7516969564265383E-3},{"$f":"SUM('Subject Data Accessible'!L248:P248)","v":4},0.08]
["Non-Junction",{"$f":"'Comparison Group 3 Accessible'!B249","v":1},{"$f":"'Comparison Group 3 Accessible'!C249","v":7.7579519006982156E-4},{"$f":"'Comparison Group 2 Accessible'!B249","v":1},{"$f":"'Comparison Group 2 Accessible'!C249","v":1.006036217303823E-3},{"$f":"'Comparison Group 1 Accessible'!B249","v":1},{"$f":"'Comparison Group 1 Accessible'!C249","v":8.5470085470085479E-3},{"$f":"SUM('Subject Data Accessible'!D249:H249)","v":1},0.14285714285714285,"Non-Junction",{"$f":"'Comparison Group 3 Accessible'!J249","v":2},{"$f":"'Comparison Group 3 Accessible'!K249","v":3.6347114947751021E-5},{"$f":"'Comparison Group 2 Accessible'!J249","v":5},{"$f":"'Comparison Group 2 Accessible'!K249","v":1.1740396355780971E-4},{"$f":"'Comparison Group 1 Accessible'!J249","v":3},{"$f":"'Comparison Group 1 Accessible'!K249","v":6.5688635865995186E-4},{"$f":"SUM('Subject Data Accessible'!L249:P249)","v":6},0.12]
["Railway Grade Crossing",{"$f":"'Comparison Group 3 Accessible'!B250","v":1},{"$f":"'Comparison Group 3 Accessible'!C250","v":7.7579519006982156E-4},{"$f":"'Comparison Group 2 Accessible'!B250","v":0},{"$f":"'Comparison Group 2 Accessible'!C250","v":0},{"$f":"'Comparison Group 1 Accessible'!B250","v":0},{"$f":"'Comparison Group 1 Accessible'!C250","v":0},{"$f":"SUM('Subject Data Accessible'!D250:H250)","v":0},0,"Railway Grade Crossing",{"$f":"'Comparison Group 3 Accessible'!J250","v":8},{"$f":"'Comparison Group 3 Accessible'!K250","v":1.4538845979100408E-4},{"$f":"'Comparison Group 2 Accessible'!J250","v":1},{"$f":"'Comparison Group 2 Accessible'!K250","v":2.3480792711561942E-5},{"$f":"'Comparison Group 1 Accessible'!J250","v":0},{"$f":"'Comparison Group 1 Accessible'!K250","v":0},{"$f":"SUM('Subject Data Accessible'!L250:P250)","v":5},0.1]
["Shared-Use Path or Trail",{"$f":"'Comparison Group 3 Accessible'!B251","v":2},{"$f":"'Comparison Group 3 Accessible'!C251","v":1.5515903801396431E-3},{"$f":"'Comparison Group 2 Accessible'!B251","v":1},{"$f":"'Comparison Group 2 Accessible'!C251","v":1.006036217303823E-3},{"$f":"'Comparison Group 1 Accessible'!B251","v":0},{"$f":"'Comparison Group 1 Accessible'!C251","v":0},{"$f":"SUM('Subject Data Accessible'!D251:H251)","v":1},0.14285714285714285,"Shared-Use Path or Trail",{"$f":"'Comparison Group 3 Accessible'!J251","v":8},{"$f":"'Comparison Group 3 Accessible'!K251","v":1.4538845979100408E-4},{"$f":"'Comparison Group 2 Accessible'!J251","v":2},{"$f":"'Comparison Group 2 Accessible'!K251","v":4.6961585423123884E-5},{"$f":"'Comparison Group 1 Accessible'!J251","v":0},{"$f":"'Comparison Group 1 Accessible'!K251","v":0},{"$f":"SUM('Subject Data Accessible'!L251:P251)","v":4},0.08]
["Through Roadway",{"$f":"'Comparison Group 3 Accessible'!B252","v":0},{"$f":"'Comparison Group 3 Accessible'!C252","v":0},{"$f":"'Comparison Group 2 Accessible'!B252","v":0},{"$f":"'Comparison Group 2 Accessible'!C252","v":0},{"$f":"'Comparison Group 1 Accessible'!B252","v":0},{"$f":"'Comparison Group 1 Accessible'!C252","v":0},{"$f":"SUM('Subject Data Accessible'!D252:H252)","v":0},0,"Through Roadway",{"$f":"'Comparison Group 3 Accessible'!J252","v":4},{"$f":"'Comparison Group 3 Accessible'!K252","v":7.2694229895502041E-5},{"$f":"'Comparison Group 2 Accessible'!J252","v":0},{"$f":"'Comparison Group 2 Accessible'!K252","v":0},{"$f":"'Comparison Group 1 Accessible'!J252","v":0},{"$f":"'Comparison Group 1 Accessible'!K252","v":0},{"$f":"SUM('Subject Data Accessible'!L252:P252)","v":7},0.14000000000000001]
["Other",{"$f":"'Comparison Group 3 Accessible'!B253","v":1},{"$f":"'Comparison Group 3 Accessible'!C253","v":7.7579519006982156E-4},{"$f":"'Comparison Group 2 Accessible'!B253","v":0},{"$f":"'Comparison Group 2 Accessible'!C253","v":0},{"$f":"'Comparison Group 1 Accessible'!B253","v":0},{"$f":"'Comparison Group 1 Accessible'!C253","v":0},{"$f":"SUM('Subject Data Accessible'!D253:H253)","v":0},0,"Other",{"$f":"'Comparison Group 3 Accessible'!J253","v":15},{"$f":"'Comparison Group 3 Accessible'!K253","v":2.7260336210813266E-4},{"$f":"'Comparison Group 2 Accessible'!J253","v":1},{"$f":"'Comparison Group 2 Accessible'!K253","v":2.3480792711561942E-5},{"$f":"'Comparison Group 1 Accessible'!J253","v":0},{"$f":"'Comparison Group 1 Accessible'!K253","v":0},{"$f":"SUM('Subject Data Accessible'!L253:P253)","v":6},0.12]
["Unknown",{"$f":"'Comparison Group 3 Accessible'!B254","v":70},{"$f":"'Comparison Group 3 Accessible'!C254","v":5.4305663304887508E-2},{"$f":"'Comparison Group 2 Accessible'!B254","v":205},{"$f":"'Comparison Group 2 Accessible'!C254","v":0.20623742454728369},{"$f":"'Comparison Group 1 Accessible'!B254","v":0},{"$f":"'Comparison Group 1 Accessible'!C254","v":0},{"$f":"SUM('Subject Data Accessible'!D254:H254)","v":1},0.14285714285714285,"Unknown",{"$f":"'Comparison Group 3 Accessible'!J254","v":657},{"$f":"'Comparison Group 3 Accessible'!K254","v":1.1940027260336212E-2},{"$f":"'Comparison Group 2 Accessible'!J254","v":5165},{"$f":"'Comparison Group 2 Accessible'!K254","v":0.12127829435521743},{"$f":"'Comparison Group 1 Accessible'!J254","v":0},{"$f":"'Comparison Group 1 Accessible'!K254","v":0},{"$f":"SUM('Subject Data Accessible'!L254:P254)","v":3},0.06]
[{"$f":"CONCATENATE(\"Fatal and Serious Injury Crashes - \",A256,\"\nComp 3 = \",Instructions!$B$12,\", Comp 2 = \",Instructions!$B$11,\", Comp 1 = \", Instructions!$B$10, \", Subject = \",Instructions!$B$9)","v":"Fatal and Serious Injury Crashes - Type of Intersection\nComp 3 = Test Group 3, Comp 2 = Test Group 2, Comp 1 = Test Group 1, Subject = Test County"},null,null,null,null,null,null,null,null,{"$f":"CONCATENATE(\"Total Crashes - \",J256,\"\nComp 3 = \",Instructions!$B$12,\", Comp 2 = \",Instructions!$B$11,\", Comp 1 = \", Instructions!$B$10, \", Subject = \",Instructions!$B$9)","v":"Total Crashes - Type of Intersection\nComp 3 = Test Group 3, Comp 2 = Test Group 2, Comp 1 = Test Group 1, Subject = Test County"}]
["Type of Intersection","Comp 3 Number","Comp 3 Percent","Comp 2 Number","Comp 2 Percent","Comp 1 Number","Comp 1 Percent","Subject Number","Subject Percent","Type of Intersection","Comp 3 Number","Comp 3 Percent","Comp 2 Number","Comp 2 Percent","Comp 1 Number","Comp 1 Percent","Subject Number","Subject Percent"]
["Not at Intersection",{"$f":"'Comparison Group 3 Accessible'!B257","v":55},{"$f":"'Comparison Group 3 Accessible'!C257","v":4.2668735453840187E-2},{"$f":"'Comparison Group 2 Accessible'!B257","v":295},{"$f":"'Comparison Group 2 Accessible'!C257","v":0.29678068410462777},{"$f":"'Comparison Group 1 Accessible'!B257","v":0},{"$f":"'Comparison Group 1 Accessible'!C257","v":0},{"$f":"SUM('Subject Data Accessible'!D257:H257)","v":0},{"$f":"H257/SUM(H$257:H$261)","v":0},{"$f":"A257","v":"Not at Intersection"},{"$f":"'Comparison Group 3 Accessible'!J257","v":1886},{"$f":"'Comparison Group 3 Accessible'!K257","v":3.4275329395729213E-2},{"$f":"'Comparison Group 2 Accessible'!J257","v":8798},{"$f":"'Comparison Group 2 Accessible'!K257","v":0.20658401427632198},{"$f":"'Comparison Group 1 Accessible'!J257","v":5},{"$f":"'Comparison Group 1 Accessible'!K257","v":1.0948105977665863E-3},{"$f":"SUM('Subject Data Accessible'!L257:P257)","v":2},{"$f":"Q257/SUM(Q$257:Q$261)","v":0.04}]
["Two-Leg",{"$f":"'Comparison Group 3 Accessible'!B258","v":67},{"$f":"'Comparison Group 3 Accessible'!C258","v":5.1978277734678044E-2},{"$f":"'Comparison Group 2 Accessible'!B258","v":58},{"$f":"'Comparison Group 2 Accessible'!C258","v":5.8350100603621731E-2},{"$f":"'Comparison Group 1 Accessible'!B258","v":21},{"$f":"'Comparison Group 1 Accessible'!C258","v":0.17948717948717949},{"$f":"SUM('Subject Data Accessible'!D258:H258)","v":3},{"$f":"H258/SUM(H$257:H$261)","v":0.42857142857142855},{"$f":"A258","v":"Two-Leg"},{"$f":"'Comparison Group 3 Accessible'!J258","v":2128},{"$f":"'Comparison Group 3 Accessible'!K258","v":3.8673330304407089E-2},{"$f":"'Comparison Group 2 Accessible'!J258","v":1839},{"$f":"'Comparison Group 2 Accessible'!K258","v":4.3181177796562414E-2},{"$f":"'Comparison Group 1 Accessible'!J258","v":627},{"$f":"'Comparison Group 1 Accessible'!K258","v":0.13728924895992994},{"$f":"SUM('Subject Data Accessible'!L258:P258)","v":12},{"$f":"Q258/SUM(Q$257:Q$261)","v":0.24}]
["Three-Leg",{"$f":"'Comparison Group 3 Accessible'!B259","v":5},{"$f":"'Comparison Group 3 Accessible'!C259","v":3.8789759503491078E-3},{"$f":"'Comparison Group 2 Accessible'!B259","v":45},{"$f":"'Comparison Group 2 Accessible'!C259","v":4.527162977867203E-2},{"$f":"'Comparison Group 1 Accessible'!B259","v":80},{"$f":"'Comparison Group 1 Accessible'!C259","v":0.68376068376068377},{"$f":"SUM('Subject Data Accessible'!D259:H259)","v":1},0.14285714285714285,{"$f":"A259","v":"Three-Leg"},{"$f":"'Comparison Group 3 Accessible'!J259","v":161},{"$f":"'Comparison Group 3 Accessible'!K259","v":2.9259427532939571E-3},{"$f":"'Comparison Group 2 Accessible'!J259","v":1823},{"$f":"'Comparison Group 2 Accessible'!K259","v":4.2805485113177423E-2},{"$f":"'Comparison Group 1 Accessible'!J259","v":3561},{"$f":"'Comparison Group 1 Accessible'!K259","v":0.77972410772936285},{"$f":"SUM('Subject Data Accessible'!L259:P259)","v":3},0.06]
["Four-Leg",{"$f":"'Comparison Group 3 Accessible'!B260","v":340},{"$f":"'Comparison Group 3 Accessible'!C260","v":0.26377036462373932},{"$f":"'Comparison Group 2 Accessible'!B260","v":595},{"$f":"'Comparison Group 2 Accessible'!C260","v":0.59859154929577463},{"$f":"'Comparison Group 1 Accessible'!B260","v":0},{"$f":"'Comparison Group 1 Accessible'!C260","v":0},{"$f":"SUM('Subject Data Accessible'!D260:H260)","v":3},0.42857142857142855,{"$f":"A260","v":"Four-Leg"},{"$f":"'Comparison Group 3 Accessible'!J260","v":13243},{"$f":"'Comparison Group 3 Accessible'!K260","v":0.24067242162653341},{"$f":"'Comparison Group 2 Accessible'!J260","v":30098},{"$f":"'Comparison Group 2 Accessible'!K260","v":0.70672489903259139},{"$f":"'Comparison Group 1 Accessible'!J260","v":0},{"$f":"'Comparison Group 1 Accessible'!K260","v":0},{"$f":"SUM('Subject Data Accessible'!L260:P260)","v":33},0.66]
["Five or More Legs",{"$f":"'Comparison Group 3 Accessible'!B261","v":822},{"$f":"'Comparison Group 3 Accessible'!C261","v":0.63770364623739328},{"$f":"'Comparison Group 2 Accessible'!B261","v":1},{"$f":"'Comparison Group 2 Accessible'!C261","v":1.006036217303823E-3},{"$f":"'Comparison Group 1 Accessible'!B261","v":16},{"$f":"'Comparison Group 1 Accessible'!C261","v":0.13675213675213677},{"$f":"SUM('Subject Data Accessible'!D261:H261)","v":0},0,{"$f":"A261","v":"Five or More Legs"},{"$f":"'Comparison Group 3 Accessible'!J261","v":37607},{"$f":"'Comparison Group 3 Accessible'!K261","v":0.6834529759200364},{"$f":"'Comparison Group 2 Accessible'!J261","v":30},{"$f":"'Comparison Group 2 Accessible'!K261","v":7.0442378134685823E-4},{"$f":"'Comparison Group 1 Accessible'!J261","v":374},{"$f":"'Comparison Group 1 Accessible'!K261","v":8.1891832712940663E-2},{"$f":"SUM('Subject Data Accessible'!L261:P261)","v":0},0]
[{"$f":"CONCATENATE(\"Fatal and Serious Injury Crashes - \",A263,\"\nComp 3 = \",Instructions!$B$12,\", Comp 2 = \",Instructions!$B$11,\", Comp 1 = \", Instructions!$B$10, \", Subject = \",Instructions!$B$9)","v":"Fatal and Serious Injury Crashes - Intersection Geometry\nComp 3 = Test Group 3, Comp 2 = Test Group 2, Comp 1 = Test Group 1, Subject = Test County"},null,null,null,null,null,null,null,null,{"$f":"CONCATENATE(\"Total Crashes - \",J263,\"\nComp 3 = \",Instructions!$B$12,\", Comp 2 = \",Instructions!$B$11,\", Comp 1 = \", Instructions!$B$10, \", Subject = \",Instructions!$B$9)","v":"Total Crashes - Intersection Geometry\nComp 3 = Test Group 3, Comp 2 = Test Group 2, Comp 1 = Test Group 1, Subject = Test County"}]
["Intersection Geometry","Comp 3 Number","Comp 3 Percent","Comp 2 Number","Comp 2 Percent","Comp 1 Number","Comp 1 Percent","Subject Number","Subject Percent","Intersection Geometry","Comp 3 Number","Comp 3 Percent","Comp 2 Number","Comp 2 Percent","Comp 1 Number","Comp 1 Percent","Subject Number","Subject Percent"]
["Angled or Skewed",{"$f":"'Comparison Group 3 Accessible'!B264","v":9},{"$f":"'Comparison Group 3 Accessible'!C264","v":6.9821567106283944E-3},{"$f":"'Comparison Group 2 Accessible'!B264","v":286},{"$f":"'Comparison Group 2 Accessible'!C264","v":0.28772635814889336},{"$f":"'Comparison Group 1 Accessible'!B264","v":11},{"$f":"'Comparison Group 1 Accessible'!C264","v":9.4017094017094016E-2},{"$f":"SUM('Subject Data Accessible'!D264:H264)","v":3},{"$f":"H264/SUM(H$264:H$267)","v":0.42857142857142855},{"$f":"A264","v":"Angled or Skewed"},{"$f":"'Comparison Group 3 Accessible'!J264","v":93},{"$f":"'Comparison Group 3 Accessible'!K264","v":1.6901408450704226E-3},{"$f":"'Comparison Group 2 Accessible'!J264","v":11077},{"$f":"'Comparison Group 2 Accessible'!K264","v":0.26009674086597162},{"$f":"'Comparison Group 1 Accessible'!J264","v":286},{"$f":"'Comparison Group 1 Accessible'!K264","v":6.2623166192248739E-2},{"$f":"SUM('Subject Data Accessible'!L264:P264)","v":14},{"$f":"Q264/SUM(Q$264:Q$267)","v":0.28000000000000003}]
["Roundabout or Traffic Circle",{"$f":"'Comparison Group 3 Accessible'!B265","v":113},{"$f":"'Comparison Group 3 Accessible'!C265","v":8.7664856477889838E-2},{"$f":"'Comparison Group 2 Accessible'!B265","v":623},{"$f":"'Comparison Group 2 Accessible'!C265","v":0.62676056338028174},{"$f":"'Comparison Group 1 Accessible'!B265","v":5},{"$f":"'Comparison Group 1 Accessible'!C265","v":4.2735042735042736E-2},{"$f":"SUM('Subject Data Accessible'!D265:H265)","v":1},{"$f":"H265/SUM(H$264:H$267)","v":0.14285714285714285},{"$f":"A265","v":"Roundabout or Traffic Circle"},{"$f":"'Comparison Group 3 Accessible'!J265","v":3319},{"$f":"'Comparison Group 3 Accessible'!K265","v":6.0318037255792822E-2},{"$f":"'Comparison Group 2 Accessible'!J265","v":28623},{"$f":"'Comparison Group 2 Accessible'!K265","v":0.67209072978303752},{"$f":"'Comparison Group 1 Accessible'!J265","v":52},{"$f":"'Comparison Group 1 Accessible'!K265","v":1.1386030216772498E-2},{"$f":"SUM('Subject Data Accessible'!L265:P265)","v":3},{"$f":"Q265/SUM(Q$264:Q$267)","v":0.06}]
["Perpindicular",{"$f":"'Comparison Group 3 Accessible'!B266","v":154},{"$f":"'Comparison Group 3 Accessible'!C266","v":0.11947245927075252},{"$f":"'Comparison Group 2 Accessible'!B266","v":29},{"$f":"'Comparison Group 2 Accessible'!C266","v":2.9175050301810865E-2},{"$f":"'Comparison Group 1 Accessible'!B266","v":34},{"$f":"'Comparison Group 1 Accessible'!C266","v":0.29059829059829062},{"$f":"SUM('Subject Data Accessible'!D266:H266)","v":3},0.42857142857142855,{"$f":"A266","v":"Perpindicular"},{"$f":"'Comparison Group 3 Accessible'!J266","v":4118},{"$f":"'Comparison Group 3 Accessible'!K266","v":7.483870967741936E-2},{"$f":"'Comparison Group 2 Accessible'!J266","v":1284},{"$f":"'Comparison Group 2 Accessible'!K266","v":3.0149337841645533E-2},{"$f":"'Comparison Group 1 Accessible'!J266","v":1067},{"$f":"'Comparison Group 1 Accessible'!K266","v":0.23363258156338954},{"$f":"SUM('Subject Data Accessible'!L266:P266)","v":33},0.66]
["Not at Intersection",{"$f":"'Comparison Group 3 Accessible'!B267","v":1013},{"$f":"'Comparison Group 3 Accessible'!C267","v":0.78588052754072923},{"$f":"'Comparison Group 2 Accessible'!B267","v":56},{"$f":"'Comparison Group 2 Accessible'!C267","v":5.6338028169014086E-2},{"$f":"'Comparison Group 1 Accessible'!B267","v":67},{"$f":"'Comparison Group 1 Accessible'!C267","v":0.57264957264957261},{"$f":"SUM('Subject Data Accessible'!D267:H267)","v":0},0,{"$f":"A267","v":"Not at Intersection"},{"$f":"'Comparison Group 3 Accessible'!J267","v":47495},{"$f":"'Comparison Group 3 Accessible'!K267","v":0.86315311222171742},{"$f":"'Comparison Group 2 Accessible'!J267","v":1604},{"$f":"'Comparison Group 2 Accessible'!K267","v":3.7663191509345356E-2},{"$f":"'Comparison Group 1 Accessible'!J267","v":3162},{"$f":"'Comparison Group 1 Accessible'!K267","v":0.69235822202758923},{"$f":"SUM('Subject Data Accessible'!L267:P267)","v":0},0]
[{"$f":"CONCATENATE(\"Fatal and Serious Injury Crashes - \",A269,\"\nComp 3 = \",Instructions!$B$12,\", Comp 2 = \",Instructions!$B$11,\", Comp 1 = \", Instructions!$B$10, \", Subject = \",Instructions!$B$9)","v":"Fatal and Serious Injury Crashes - Traffic Control Device\nComp 3 = Test Group 3, Comp 2 = Test Group 2, Comp 1 = Test Group 1, Subject = Test County"},null,null,null,null,null,null,null,null,{"$f":"CONCATENATE(\"Total Crashes - \",J269,\"\nComp 3 = \",Instructions!$B$12,\", Comp 2 = \",Instructions!$B$11,\", Comp 1 = \", Instructions!$B$10, \", Subject = \",Instructions!$B$9)","v":"Total Crashes - Traffic Control Device\nComp 3 = Test Group 3, Comp 2 = Test Group 2, Comp 1 = Test Group 1, Subject = Test County"}]
["Traffic Control Device","Comp 3 Number","Comp 3 Percent","Comp 2 Number","Comp 2 Percent","Comp 1 Number","Comp 1 Percent","Subject Number","Subject Percent","Traffic Control Device","Comp 3 Number","Comp 3 Percent","Comp 2 Number","Comp 2 Percent","Comp 1 Number","Comp 1 Percent","Subject Number","Subject Percent"]
["Signalized",{"$f":"'Comparison Group 3 Accessible'!B270","v":154},{"$f":"'Comparison Group 3 Accessible'!C270","v":0.11947245927075252},{"$f":"'Comparison Group 2 Accessible'!B270","v":6},{"$f":"'Comparison Group 2 Accessible'!C270","v":6.0362173038229373E-3},{"$f":"'Comparison Group 1 Accessible'!B270","v":2},{"$f":"'Comparison Group 1 Accessible'!C270","v":1.7094017094017096E-2},{"$f":"SUM('Subject Data Accessible'!D270:H270)","v":0},{"$f":"H270/SUM(H$270:H$275)","v":0},{"$f":"A270","v":"Signalized"},{"$f":"'Comparison Group 3 Accessible'!J270","v":211},{"$f":"'Comparison Group 3 Accessible'!K270","v":3.834620626987733E-3},{"$f":"'Comparison Group 2 Accessible'!J270","v":138},{"$f":"'Comparison Group 2 Accessible'!K270","v":3.2403493941955482E-3},{"$f":"'Comparison Group 1 Accessible'!J270","v":61},{"$f":"'Comparison Group 1 Accessible'!K270","v":1.3356689292752353E-2},{"$f":"SUM('Subject Data Accessible'!L270:P270)","v":0},{"$f":"Q270/SUM(Q$270:Q$275)","v":0}]
["Stop - All Way",{"$f":"'Comparison Group 3 Accessible'!B271","v":1001},{"$f":"'Comparison Group 3 Accessible'!C271","v":0.77657098525989143},{"$f":"'Comparison Group 2 Accessible'!B271","v":9},{"$f":"'Comparison Group 2 Accessible'!C271","v":9.0543259557344068E-3},{"$f":"'Comparison Group 1 Accessible'!B271","v":0},{"$f":"'Comparison Group 1 Accessible'!C271","v":0},{"$f":"SUM('Subject Data Accessible'!D271:H271)","v":0},{"$f":"H271/SUM(H$270:H$275)","v":0},"Stop - All Way",{"$f":"'Comparison Group 3 Accessible'!J271","v":93},{"$f":"'Comparison Group 3 Accessible'!K271","v":1.6901408450704226E-3},{"$f":"'Comparison Group 2 Accessible'!J271","v":81},{"$f":"'Comparison Group 2 Accessible'!K271","v":1.9019442096365174E-3},{"$f":"'Comparison Group 1 Accessible'!J271","v":6},{"$f":"'Comparison Group 1 Accessible'!K271","v":1.3137727173199037E-3},{"$f":"SUM('Subject Data Accessible'!L271:P271)","v":0},{"$f":"Q271/SUM(Q$270:Q$275)","v":0}]
["Stop - Partial",{"$f":"'Comparison Group 3 Accessible'!B272","v":2},{"$f":"'Comparison Group 3 Accessible'!C272","v":1.5515903801396431E-3},{"$f":"'Comparison Group 2 Accessible'!B272","v":64},{"$f":"'Comparison Group 2 Accessible'!C272","v":6.4386317907444673E-2},{"$f":"'Comparison Group 1 Accessible'!B272","v":11},{"$f":"'Comparison Group 1 Accessible'!C272","v":9.4017094017094016E-2},{"$f":"SUM('Subject Data Accessible'!D272:H272)","v":6},0.8571428571428571,"Stop - Partial",{"$f":"'Comparison Group 3 Accessible'!J272","v":3319},{"$f":"'Comparison Group 3 Accessible'!K272","v":6.0318037255792822E-2},{"$f":"'Comparison Group 2 Accessible'!J272","v":2068},{"$f":"'Comparison Group 2 Accessible'!K272","v":4.8558279327510098E-2},{"$f":"'Comparison Group 1 Accessible'!J272","v":375},{"$f":"'Comparison Group 1 Accessible'!K272","v":8.2110794832493977E-2},{"$f":"SUM('Subject Data Accessible'!L272:P272)","v":36},0.72]
["Yield",{"$f":"'Comparison Group 3 Accessible'!B273","v":10},{"$f":"'Comparison Group 3 Accessible'!C273","v":7.7579519006982156E-3},{"$f":"'Comparison Group 2 Accessible'!B273","v":99},{"$f":"'Comparison Group 2 Accessible'!C273","v":9.9597585513078471E-2},{"$f":"'Comparison Group 1 Accessible'!B273","v":19},{"$f":"'Comparison Group 1 Accessible'!C273","v":0.1623931623931624},{"$f":"SUM('Subject Data Accessible'!D273:H273)","v":0},0,"Yield",{"$f":"'Comparison Group 3 Accessible'!J273","v":4118},{"$f":"'Comparison Group 3 Accessible'!K273","v":7.483870967741936E-2},{"$f":"'Comparison Group 2 Accessible'!J273","v":2714},{"$f":"'Comparison Group 2 Accessible'!K273","v":6.3726871419179112E-2},{"$f":"'Comparison Group 1 Accessible'!J273","v":633},{"$f":"'Comparison Group 1 Accessible'!K273","v":0.13860302167724983},{"$f":"SUM('Subject Data Accessible'!L273:P273)","v":2},0.04]
["No Controls",{"$f":"'Comparison Group 3 Accessible'!B274","v":9},{"$f":"'Comparison Group 3 Accessible'!C274","v":6.9821567106283944E-3},{"$f":"'Comparison Group 2 Accessible'!B274","v":815},{"$f":"'Comparison Group 2 Accessible'!C274","v":0.81991951710261568},{"$f":"'Comparison Group 1 Accessible'!B274","v":84},{"$f":"'Comparison Group 1 Accessible'!C274","v":0.71794871794871795},{"$f":"SUM('Subject Data Accessible'!D274:H274)","v":1},0.14285714285714285,"No Controls",{"$f":"'Comparison Group 3 Accessible'!J274","v":47232},{"$f":"'Comparison Group 3 Accessible'!K274","v":0.85837346660608815},{"$f":"'Comparison Group 2 Accessible'!J274","v":37556},{"$f":"'Comparison Group 2 Accessible'!K274","v":0.88184465107542032},{"$f":"'Comparison Group 1 Accessible'!J274","v":3477},{"$f":"'Comparison Group 1 Accessible'!K274","v":0.76133128968688413},{"$f":"SUM('Subject Data Accessible'!L274:P274)","v":3},0.06]
["Not an Intersection",{"$f":"'Comparison Group 3 Accessible'!B275","v":113},{"$f":"'Comparison Group 3 Accessible'!C275","v":8.7664856477889838E-2},{"$f":"'Comparison Group 2 Accessible'!B275","v":1},{"$f":"'Comparison Group 2 Accessible'!C275","v":1.006036217303823E-3},{"$f":"'Comparison Group 1 Accessible'!B275","v":1},{"$f":"'Comparison Group 1 Accessible'!C275","v":8.5470085470085479E-3},{"$f":"SUM('Subject Data Accessible'!D275:H275)","v":0},0,"Not an Intersection",{"$f":"'Comparison Group 3 Accessible'!J275","v":52},{"$f":"'Comparison Group 3 Accessible'!K275","v":9.4502498864152654E-4},{"$f":"'Comparison Group 2 Accessible'!J275","v":31},{"$f":"'Comparison Group 2 Accessible'!K275","v":7.2790457405842019E-4},{"$f":"'Comparison Group 1 Accessible'!J275","v":15},{"$f":"'Comparison Group 1 Accessible'!K275","v":3.2844317932997592E-3},{"$f":"SUM('Subject Data Accessible'!L275:P275)","v":9},0.18]
[{"$f":"CONCATENATE(\"Fatal and Serious Injury Crashes - \",A277,\"\nComp 3 = \",Instructions!$B$12,\", Comp 2 = \",Instructions!$B$11,\", Comp 1 = \", Instructions!$B$10, \", Subject = \",Instructions!$B$9)","v":"Fatal and Serious Injury Crashes - Crash in Work Zone\nComp 3 = Test Group 3, Comp 2 = Test Group 2, Comp 1 = Test Group 1, Subject = Test County"},null,null,null,null,null,null,null,null,{"$f":"CONCATENATE(\"Total Crashes - \",J277,\"\nComp 3 = \",Instructions!$B$12,\", Comp 2 = \",Instructions!$B$11,\", Comp 1 = \", Instructions!$B$10, \", Subject = \",Instructions!$B$9)","v":"Total Crashes - Crash in Work Zone\nComp 3 = Test Group 3, Comp 2 = Test Group 2, Comp 1 = Test Group 1, Subject = Test County"}]
["Crash in Work Zone","Comp 3 Number","Comp 3 Percent","Comp 2 Number","Comp 2 Percent","Comp 1 Number","Comp 1 Percent","Subject Number","Subject Percent","Crash in Work Zone","Comp 3 Number","Comp 3 Percent","Comp 2 Number","Comp 2 Percent","Comp 1 Number","Comp 1 Percent","Subject Number","Subject Percent"]
["Yes",{"$f":"'Comparison Group 3 Accessible'!B278","v":122},{"$f":"'Comparison Group 3 Accessible'!C278","v":9.4647013188518231E-2},{"$f":"'Comparison Group 2 Accessible'!B278","v":45},{"$f":"'Comparison Group 2 Accessible'!C278","v":4.527162977867203E-2},{"$f":"'Comparison Group 1 Accessible'!B278","v":80},{"$f":"'Comparison Group 1 Accessible'!C278","v":0.68376068376068377},{"$f":"SUM('Subject Data Accessible'!D278:H278)","v":7},{"$f":"H278/SUM(H$278:H$280)","v":1},{"$f":"A278","v":"Yes"},{"$f":"'Comparison Group 3 Accessible'!J278","v":8057},{"$f":"'Comparison Group 3 Accessible'!K278","v":0.146424352567015},{"$f":"'Comparison Group 2 Accessible'!J278","v":1823},{"$f":"'Comparison Group 2 Accessible'!K278","v":4.2805485113177423E-2},{"$f":"'Comparison Group 1 Accessible'!J278","v":3561},{"$f":"'Comparison Group 1 Accessible'!K278","v":0.77972410772936285},{"$f":"SUM('Subject Data Accessible'!L278:P278)","v":14},{"$f":"Q278/SUM(Q$278:Q$280)","v":0.28000000000000003}]
["No",{"$f":"'Comparison Group 3 Accessible'!B279","v":550},{"$f":"'Comparison Group 3 Accessible'!C279","v":0.42668735453840184},{"$f":"'Comparison Group 2 Accessible'!B279","v":595},{"$f":"'Comparison Group 2 Accessible'!C279","v":0.59859154929577463},{"$f":"'Comparison Group 1 Accessible'!B279","v":16},{"$f":"'Comparison Group 1 Accessible'!C279","v":0.13675213675213677},{"$f":"SUM('Subject Data Accessible'!D279:H279)","v":0},{"$f":"H279/SUM(H$278:H$280)","v":0},{"$f":"A279","v":"No"},{"$f":"'Comparison Group 3 Accessible'!J279","v":25398},{"$f":"'Comparison Group 3 Accessible'!K279","v":0.46157201272149023},{"$f":"'Comparison Group 2 Accessible'!J279","v":30098},{"$f":"'Comparison Group 2 Accessible'!K279","v":0.70672489903259139},{"$f":"'Comparison Group 1 Accessible'!J279","v":379},{"$f":"'Comparison Group 1 Accessible'!K279","v":8.298664331070725E-2},{"$f":"SUM('Subject Data Accessible'!L279:P279)","v":9},{"$f":"Q279/SUM(Q$278:Q$280)","v":0.18}]
["Unknown",{"$f":"'Comparison Group 3 Accessible'!B280","v":617},{"$f":"'Comparison Group 3 Accessible'!C280","v":0.4786656322730799},{"$f":"'Comparison Group 2 Accessible'!B280","v":354},{"$f":"'Comparison Group 2 Accessible'!C280","v":0.35613682092555332},{"$f":"'Comparison Group 1 Accessible'!B280","v":21},{"$f":"'Comparison Group 1 Accessible'!C280","v":0.17948717948717949},{"$f":"SUM('Subject Data Accessible'!D280:H280)","v":0},0,{"$f":"A280","v":"Unknown"},{"$f":"'Comparison Group 3 Accessible'!J280","v":21570},{"$f":"'Comparison Group 3 Accessible'!K280","v":0.3920036347114948},{"$f":"'Comparison Group 2 Accessible'!J280","v":10667},{"$f":"'Comparison Group 2 Accessible'!K280","v":0.25046961585423122},{"$f":"'Comparison Group 1 Accessible'!J280","v":627},{"$f":"'Comparison Group 1 Accessible'!K280","v":0.13728924895992994},{"$f":"SUM('Subject Data Accessible'!L280:P280)","v":27},0.54]
[{"$f":"CONCATENATE(\"Fatal and Serious Injury Crashes - \",A282,\"\nComp 3 = \",Instructions!$B$12,\", Comp 2 = \",Instructions!$B$11,\", Comp 1 = \", Instructions!$B$10, \", Subject = \",Instructions!$B$9)","v":"Fatal and Serious Injury Crashes - Number of Motor Vehicles Involved\nComp 3 = Test Group 3, Comp 2 = Test Group 2, Comp 1 = Test Group 1, Subject = Test County"},null,null,null,null,null,null,null,null,{"$f":"CONCATENATE(\"Total Crashes - \",J282,\"\nComp 3 = \",Instructions!$B$12,\", Comp 2 = \",Instructions!$B$11,\", Comp 1 = \", Instructions!$B$10, \", Subject = \",Instructions!$B$9)","v":"Total Crashes - Number of Motor Vehicles Involved\nComp 3 = Test Group 3, Comp 2 = Test Group 2, Comp 1 = Test Group 1, Subject = Test County"}]
["Number of Motor Vehicles Involved","Comp 3 Number","Comp 3 Percent","Comp 2 Number","Comp 2 Percent","Comp 1 Number","Comp 1 Percent","Subject Number","Subject Percent","Number of Motor Vehicles Involved","Comp 3 Number","Comp 3 Percent","Comp 2 Number","Comp 2 Percent","Comp 1 Number","Comp 1 Percent","Subject Number","Subject Percent"]
["One",{"$f":"'Comparison Group 3 Accessible'!B283","v":313},{"$f":"'Comparison Group 3 Accessible'!C283","v":0.24282389449185415},{"$f":"'Comparison Group 2 Accessible'!B283","v":204},{"$f":"'Comparison Group 2 Accessible'!C283","v":0.10669456066945607},{"$f":"'Comparison Group 1 Accessible'!B283","v":34},{"$f":"'Comparison Group 1 Accessible'!C283","v":0.29059829059829062},{"$f":"SUM('Subject Data Accessible'!D283:H283)","v":3},{"$f":"H283/SUM(H$283:H$286)","v":0.42857142857142855},{"$f":"A283","v":"One"},{"$f":"'Comparison Group 3 Accessible'!J283","v":7988},{"$f":"'Comparison Group 3 Accessible'!K283","v":0.14517037710131758},{"$f":"'Comparison Group 2 Accessible'!J283","v":5164},{"$f":"'Comparison Group 2 Accessible'!K283","v":0.12125481356250586},{"$f":"'Comparison Group 1 Accessible'!J283","v":1067},{"$f":"'Comparison Group 1 Accessible'!K283","v":0.23363258156338954},{"$f":"SUM('Subject Data Accessible'!L283:P283)","v":33},{"$f":"Q283/SUM(Q$283:Q$286)","v":0.66}]
["Two",{"$f":"'Comparison Group 3 Accessible'!B284","v":798},{"$f":"'Comparison Group 3 Accessible'!C284","v":0.61908456167571757},{"$f":"'Comparison Group 2 Accessible'!B284","v":651},{"$f":"'Comparison Group 2 Accessible'!C284","v":0.34048117154811713},{"$f":"'Comparison Group 1 Accessible'!B284","v":67},{"$f":"'Comparison Group 1 Accessible'!C284","v":0.57264957264957261},{"$f":"SUM('Subject Data Accessible'!D284:H284)","v":0},{"$f":"H284/SUM(H$283:H$286)","v":0},{"$f":"A284","v":"Two"},{"$f":"'Comparison Group 3 Accessible'!J284","v":41341},{"$f":"'Comparison Group 3 Accessible'!K284","v":0.75131303952748751},{"$f":"'Comparison Group 2 Accessible'!J284","v":32859},{"$f":"'Comparison Group 2 Accessible'!K284","v":0.77155536770921385},{"$f":"'Comparison Group 1 Accessible'!J284","v":3162},{"$f":"'Comparison Group 1 Accessible'!K284","v":0.69235822202758923},{"$f":"SUM('Subject Data Accessible'!L284:P284)","v":0},{"$f":"Q284/SUM(Q$283:Q$286)","v":0}]
["Three",{"$f":"'Comparison Group 3 Accessible'!B285","v":127},{"$f":"'Comparison Group 3 Accessible'!C285","v":9.8525989138867343E-2},{"$f":"'Comparison Group 2 Accessible'!B285","v":101},{"$f":"'Comparison Group 2 Accessible'!C285","v":5.2824267782426777E-2},{"$f":"'Comparison Group 1 Accessible'!B285","v":11},{"$f":"'Comparison Group 1 Accessible'!C285","v":9.4017094017094016E-2},{"$f":"SUM('Subject Data Accessible'!D285:H285)","v":3},0.42857142857142855,{"$f":"A285","v":"Three"},{"$f":"'Comparison Group 3 Accessible'!J285","v":4765},{"$f":"'Comparison Group 3 Accessible'!K285","v":8.6597001363016804E-2},{"$f":"'Comparison Group 2 Accessible'!J285","v":3816},{"$f":"'Comparison Group 2 Accessible'!K285","v":8.960270498732037E-2},{"$f":"'Comparison Group 1 Accessible'!J285","v":286},{"$f":"'Comparison Group 1 Accessible'!K285","v":6.2623166192248739E-2},{"$f":"SUM('Subject Data Accessible'!L285:P285)","v":14},0.28000000000000003]
["Four or More",{"$f":"'Comparison Group 3 Accessible'!B286","v":51},{"$f":"'Comparison Group 3 Accessible'!C286","v":3.9565554693560899E-2},{"$f":"'Comparison Group 2 Accessible'!B286","v":956},{"$f":"'Comparison Group 2 Accessible'!C286","v":0.5},{"$f":"'Comparison Group 1 Accessible'!B286","v":5},{"$f":"'Comparison Group 1 Accessible'!C286","v":4.2735042735042736E-2},{"$f":"SUM('Subject Data Accessible'!D286:H286)","v":1},0.14285714285714285,{"$f":"A286","v":"Four or More"},{"$f":"'Comparison Group 3 Accessible'!J286","v":931},{"$f":"'Comparison Group 3 Accessible'!K286","v":1.69195820081781E-2},{"$f":"'Comparison Group 2 Accessible'!J286","v":749},{"$f":"'Comparison Group 2 Accessible'!K286","v":1.7587113740959896E-2},{"$f":"'Comparison Group 1 Accessible'!J286","v":52},{"$f":"'Comparison Group 1 Accessible'!K286","v":1.1386030216772498E-2},{"$f":"SUM('Subject Data Accessible'!L286:P286)","v":3},0.06]
[{"$f":"CONCATENATE(\"Fatal and Serious Injury Crashes - \",A288,\"\nComp 3 = \",Instructions!$B$12,\", Comp 2 = \",Instructions!$B$11,\", Comp 1 = \", Instructions!$B$10, \", Subject = \",Instructions!$B$9)","v":"Fatal and Serious Injury Crashes - Horizontal Alignment\nComp 3 = Test Group 3, Comp 2 = Test Group 2, Comp 1 = Test Group 1, Subject = Test County"},null,null,null,null,null,null,null,null,{"$f":"CONCATENATE(\"Total Crashes - \",J288,\"\nComp 3 = \",Instructions!$B$12,\", Comp 2 = \",Instructions!$B$11,\", Comp 1 = \", Instructions!$B$10, \", Subject = \",Instructions!$B$9)","v":"Total Crashes - Horizontal Alignment\nComp 3 = Test Group 3, Comp 2 = Test Group 2, Comp 1 = Test Group 1, Subject = Test County"}]
["Horizontal Alignment","Comp 3 Number","Comp 3 Percent","Comp 2 Number","Comp 2 Percent","Comp 1 Number","Comp 1 Percent","Subject Number","Subject Percent","Horizontal Alignment","Comp 3 Number","Comp 3 Percent","Comp 2 Number","Comp 2 Percent","Comp 1 Number","Comp 1 Percent","Subject Number","Subject Percent"]
["Straight",{"$f":"'Comparison Group 3 Accessible'!B289","v":838},{"$f":"'Comparison Group 3 Accessible'!C289","v":0.65011636927851046},{"$f":"'Comparison Group 2 Accessible'!B289","v":595},{"$f":"'Comparison Group 2 Accessible'!C289","v":0.59859154929577463},{"$f":"'Comparison Group 1 Accessible'!B289","v":34},{"$f":"'Comparison Group 1 Accessible'!C289","v":0.29059829059829062},{"$f":"SUM('Subject Data Accessible'!D289:H289)","v":0},{"$f":"H289/SUM(H$289:H$291)","v":0},{"$f":"A289","v":"Straight"},{"$f":"'Comparison Group 3 Accessible'!J289","v":36340},{"$f":"'Comparison Group 3 Accessible'!K289","v":0.6604270786006361},{"$f":"'Comparison Group 2 Accessible'!J289","v":30098},{"$f":"'Comparison Group 2 Accessible'!K289","v":0.70672489903259139},{"$f":"'Comparison Group 1 Accessible'!J289","v":1067},{"$f":"'Comparison Group 1 Accessible'!K289","v":0.23363258156338954},{"$f":"SUM('Subject Data Accessible'!L289:P289)","v":9},{"$f":"Q289/SUM(Q$289:Q$291)","v":0.18}]
["Horizontal Curve Left",{"$f":"'Comparison Group 3 Accessible'!B290","v":207},{"$f":"'Comparison Group 3 Accessible'!C290","v":0.16058960434445307},{"$f":"'Comparison Group 2 Accessible'!B290","v":354},{"$f":"'Comparison Group 2 Accessible'!C290","v":0.35613682092555332},{"$f":"'Comparison Group 1 Accessible'!B290","v":67},{"$f":"'Comparison Group 1 Accessible'!C290","v":0.57264957264957261},{"$f":"SUM('Subject Data Accessible'!D290:H290)","v":0},{"$f":"H290/SUM(H$289:H$291)","v":0},{"$f":"A290","v":"Horizontal Curve Left"},{"$f":"'Comparison Group 3 Accessible'!J290","v":8210},{"$f":"'Comparison Group 3 Accessible'!K290","v":0.14920490686051793},{"$f":"'Comparison Group 2 Accessible'!J290","v":10667},{"$f":"'Comparison Group 2 Accessible'!K290","v":0.25046961585423122},{"$f":"'Comparison Group 1 Accessible'!J290","v":3162},{"$f":"'Comparison Group 1 Accessible'!K290","v":0.69235822202758923},{"$f":"SUM('Subject Data Accessible'!L290:P290)","v":27},{"$f":"Q290/SUM(Q$289:Q$291)","v":0.54}]
["Horizontal Curve Right",{"$f":"'Comparison Group 3 Accessible'!B291","v":244},{"$f":"'Comparison Group 3 Accessible'!C291","v":0.18929402637703646},{"$f":"'Comparison Group 2 Accessible'!B291","v":45},{"$f":"'Comparison Group 2 Accessible'!C291","v":4.527162977867203E-2},{"$f":"'Comparison Group 1 Accessible'!B291","v":16},{"$f":"'Comparison Group 1 Accessible'!C291","v":0.13675213675213677},{"$f":"SUM('Subject Data Accessible'!D291:H291)","v":7},1,{"$f":"A291","v":"Horizontal Curve Right"},{"$f":"'Comparison Group 3 Accessible'!J291","v":10475},{"$f":"'Comparison Group 3 Accessible'!K291","v":0.19036801453884597},{"$f":"'Comparison Group 2 Accessible'!J291","v":1823},{"$f":"'Comparison Group 2 Accessible'!K291","v":4.2805485113177423E-2},{"$f":"'Comparison Group 1 Accessible'!J291","v":338},{"$f":"'Comparison Group 1 Accessible'!K291","v":7.4009196409021233E-2},{"$f":"SUM('Subject Data Accessible'!L291:P291)","v":14},0.28000000000000003]
[{"$f":"CONCATENATE(\"Fatal and Serious Injury Crashes - \",A293,\"\nComp 3 = \",Instructions!$B$12,\", Comp 2 = \",Instructions!$B$11,\", Comp 1 = \", Instructions!$B$10, \", Subject = \",Instructions!$B$9)","v":"Fatal and Serious Injury Crashes - Vertical Alignment\nComp 3 = Test Group 3, Comp 2 = Test Group 2, Comp 1 = Test Group 1, Subject = Test County"},null,null,null,null,null,null,null,null,null,{"$f":"CONCATENATE(\"Total Crashes - \",J293,\"\nComp 3 = \",Instructions!$B$12,\", Comp 2 = \",Instructions!$B$11,\", Comp 1 = \", Instructions!$B$10, \", Subject = \",Instructions!$B$9)","v":"Total Crashes - Vertical Alignment\nComp 3 = Test Group 3, Comp 2 = Test Group 2, Comp 1 = Test Group 1, Subject = Test County"}]
["Vertical Alignment","Comp 3 Number","Comp 3 Percent","Comp 2 Number","Comp 2 Percent","Comp 1 Number","Comp 1 Percent","Subject Number","Subject Percent","Vertical Alignment","Comp 3 Number","Comp 3 Percent","Comp 2 Number","Comp 2 Percent","Comp 1 Number","Comp 1 Percent","Subject Number","Subject Percent"]
["Level",{"$f":"'Comparison Group 3 Accessible'!B294","v":55},{"$f":"'Comparison Group 3 Accessible'!C294","v":4.2668735453840187E-2},{"$f":"'Comparison Group 2 Accessible'!B294","v":9},{"$f":"'Comparison Group 2 Accessible'!C294","v":9.0543259557344068E-3},{"$f":"'Comparison Group 1 Accessible'!B294","v":2},{"$f":"'Comparison Group 1 Accessible'!C294","v":1.7094017094017096E-2},{"$f":"SUM('Subject Data Accessible'!D294:H294)","v":0},{"$f":"H294/SUM(H$294:H$299)","v":0},{"$f":"A294","v":"Level"},{"$f":"'Comparison Group 3 Accessible'!J294","v":1886},{"$f":"'Comparison Group 3 Accessible'!K294","v":3.4275329395729213E-2},{"$f":"'Comparison Group 2 Accessible'!J294","v":81},{"$f":"'Comparison Group 2 Accessible'!K294","v":1.9019442096365174E-3},{"$f":"'Comparison Group 1 Accessible'!J294","v":122},{"$f":"'Comparison Group 1 Accessible'!K294","v":2.6713378585504707E-2},{"$f":"SUM('Subject Data Accessible'!L294:P294)","v":1},{"$f":"Q294/SUM(Q$294:Q$299)","v":0.02}]
["Uphill",{"$f":"'Comparison Group 3 Accessible'!B295","v":67},{"$f":"'Comparison Group 3 Accessible'!C295","v":5.1978277734678044E-2},{"$f":"'Comparison Group 2 Accessible'!B295","v":64},{"$f":"'Comparison Group 2 Accessible'!C295","v":6.4386317907444673E-2},{"$f":"'Comparison Group 1 Accessible'!B295","v":14},{"$f":"'Comparison Group 1 Accessible'!C295","v":0.11965811965811966},{"$f":"SUM('Subject Data Accessible'!D295:H295)","v":0},{"$f":"H295/SUM(H$294:H$299)","v":0},"Uphill",{"$f":"'Comparison Group 3 Accessible'!J295","v":2128},{"$f":"'Comparison Group 3 Accessible'!K295","v":3.8673330304407089E-2},{"$f":"'Comparison Group 2 Accessible'!J295","v":2068},{"$f":"'Comparison Group 2 Accessible'!K295","v":4.8558279327510098E-2},{"$f":"'Comparison Group 1 Accessible'!J295","v":252},{"$f":"'Comparison Group 1 Accessible'!K295","v":5.5178454127435952E-2},{"$f":"SUM('Subject Data Accessible'!L295:P295)","v":0},{"$f":"Q295/SUM(Q$294:Q$299)","v":0}]
["Hillcrest",{"$f":"'Comparison Group 3 Accessible'!B296","v":5},{"$f":"'Comparison Group 3 Accessible'!C296","v":3.8789759503491078E-3},{"$f":"'Comparison Group 2 Accessible'!B296","v":99},{"$f":"'Comparison Group 2 Accessible'!C296","v":9.9597585513078471E-2},{"$f":"'Comparison Group 1 Accessible'!B296","v":0},{"$f":"'Comparison Group 1 Accessible'!C296","v":0},{"$f":"SUM('Subject Data Accessible'!D296:H296)","v":2},0.2857142857142857,"Hillcrest",{"$f":"'Comparison Group 3 Accessible'!J296","v":161},{"$f":"'Comparison Group 3 Accessible'!K296","v":2.9259427532939571E-3},{"$f":"'Comparison Group 2 Accessible'!J296","v":2714},{"$f":"'Comparison Group 2 Accessible'!K296","v":6.3726871419179112E-2},{"$f":"'Comparison Group 1 Accessible'!J296","v":5},{"$f":"'Comparison Group 1 Accessible'!K296","v":1.0948105977665863E-3},{"$f":"SUM('Subject Data Accessible'!L296:P296)","v":6},0.12]
["Downhill",{"$f":"'Comparison Group 3 Accessible'!B297","v":340},{"$f":"'Comparison Group 3 Accessible'!C297","v":0.26377036462373932},{"$f":"'Comparison Group 2 Accessible'!B297","v":815},{"$f":"'Comparison Group 2 Accessible'!C297","v":0.81991951710261568},{"$f":"'Comparison Group 1 Accessible'!B297","v":21},{"$f":"'Comparison Group 1 Accessible'!C297","v":0.17948717948717949},{"$f":"SUM('Subject Data Accessible'!D297:H297)","v":2},0.2857142857142857,"Downhill",{"$f":"'Comparison Group 3 Accessible'!J297","v":13243},{"$f":"'Comparison Group 3 Accessible'!K297","v":0.24067242162653341},{"$f":"'Comparison Group 2 Accessible'!J297","v":37556},{"$f":"'Comparison Group 2 Accessible'!K297","v":0.88184465107542032},{"$f":"'Comparison Group 1 Accessible'!J297","v":627},{"$f":"'Comparison Group 1 Accessible'!K297","v":0.13728924895992994},{"$f":"SUM('Subject Data Accessible'!L297:P297)","v":10},0.2]
["Sag",{"$f":"'Comparison Group 3 Accessible'!B298","v":821},{"$f":"'Comparison Group 3 Accessible'!C298","v":0.63692785104732352},{"$f":"'Comparison Group 2 Accessible'!B298","v":1},{"$f":"'Comparison Group 2 Accessible'!C298","v":1.006036217303823E-3},{"$f":"'Comparison Group 1 Accessible'!B298","v":80},{"$f":"'Comparison Group 1 Accessible'!C298","v":0.68376068376068377},{"$f":"SUM('Subject Data Accessible'!D298:H298)","v":3},0.42857142857142855,"Sag",{"$f":"'Comparison Group 3 Accessible'!J298","v":37589},{"$f":"'Comparison Group 3 Accessible'!K298","v":0.68312585188550656},{"$f":"'Comparison Group 2 Accessible'!J298","v":31},{"$f":"'Comparison Group 2 Accessible'!K298","v":7.2790457405842019E-4},{"$f":"'Comparison Group 1 Accessible'!J298","v":3561},{"$f":"'Comparison Group 1 Accessible'!K298","v":0.77972410772936285},{"$f":"SUM('Subject Data Accessible'!L298:P298)","v":31},0.62]
["Unknown",{"$f":"'Comparison Group 3 Accessible'!B299","v":1},{"$f":"'Comparison Group 3 Accessible'!C299","v":7.7579519006982156E-4},{"$f":"'Comparison Group 2 Accessible'!B299","v":6},{"$f":"'Comparison Group 2 Accessible'!C299","v":6.0362173038229373E-3},{"$f":"'Comparison Group 1 Accessible'!B299","v":0},{"$f":"'Comparison Group 1 Accessible'!C299","v":0},{"$f":"SUM('Subject Data Accessible'!D299:H299)","v":0},0,"Unknown",{"$f":"'Comparison Group 3 Accessible'!J299","v":18},{"$f":"'Comparison Group 3 Accessible'!K299","v":3.2712403452975919E-4},{"$f":"'Comparison Group 2 Accessible'!J299","v":138},{"$f":"'Comparison Group 2 Accessible'!K299","v":3.2403493941955482E-3},{"$f":"'Comparison Group 1 Accessible'!J299","v":0},{"$f":"'Comparison Group 1 Accessible'!K299","v":0},{"$f":"SUM('Subject Data Accessible'!L299:P299)","v":2},0.04]
[{"$f":"CONCATENATE(\"Fatal and Serious Injury Crashes - \",A301,\"\nComp 3 = \",Instructions!$B$12,\", Comp 2 = \",Instructions!$B$11,\", Comp 1 = \", Instructions!$B$10, \", Subject = \",Instructions!$B$9)","v":"Fatal and Serious Injury Crashes - Roadway Owner\nComp 3 = Test Group 3, Comp 2 = Test Group 2, Comp 1 = Test Group 1, Subject = Test County"},null,null,null,null,null,null,null,null,{"$f":"CONCATENATE(\"Total Crashes - \",J301,\"\nComp 3 = \",Instructions!$B$12,\", Comp 2 = \",Instructions!$B$11,\", Comp 1 = \", Instructions!$B$10, \", Subject = \",Instructions!$B$9)","v":"Total Crashes - Roadway Owner\nComp 3 = Test Group 3, Comp 2 = Test Group 2, Comp 1 = Test Group 1, Subject = Test County"}]
["Roadway Owner","Comp 3 Number","Comp 3 Percent","Comp 2 Number","Comp 2 Percent","Comp 1 Number","Comp 1 Percent","Subject Number","Subject Percent","Roadway Owner","Comp 3 Number","Comp 3 Percent","Comp 2 Number","Comp 2 Percent","Comp 1 Number","Comp 1 Percent","Subject Number","Subject Percent"]
["State",{"$f":"'Comparison Group 3 Accessible'!B302","v":144},{"$f":"'Comparison Group 3 Accessible'!C302","v":0.11171450737005431},{"$f":"'Comparison Group 2 Accessible'!B302","v":284},{"$f":"'Comparison Group 2 Accessible'!C302","v":0.2857142857142857},{"$f":"'Comparison Group 1 Accessible'!B302","v":19},{"$f":"'Comparison Group 1 Accessible'!C302","v":0.1623931623931624},{"$f":"SUM('Subject Data Accessible'!D302:H302)","v":2},{"$f":"H302/SUM(H$302:H$307)","v":0.2857142857142857},{"$f":"A302","v":"State"},{"$f":"'Comparison Group 3 Accessible'!J302","v":5109},{"$f":"'Comparison Group 3 Accessible'!K302","v":9.2848705134029985E-2},{"$f":"'Comparison Group 2 Accessible'!J302","v":8798},{"$f":"'Comparison Group 2 Accessible'!K302","v":0.20658401427632198},{"$f":"'Comparison Group 1 Accessible'!J302","v":633},{"$f":"'Comparison Group 1 Accessible'!K302","v":0.13860302167724983},{"$f":"SUM('Subject Data Accessible'!L302:P302)","v":10},{"$f":"Q302/SUM(Q$302:Q$307)","v":0.2}]
["County",{"$f":"'Comparison Group 3 Accessible'!B303","v":163},{"$f":"'Comparison Group 3 Accessible'!C303","v":0.12645461598138091},{"$f":"'Comparison Group 2 Accessible'!B303","v":58},{"$f":"'Comparison Group 2 Accessible'!C303","v":5.8350100603621731E-2},{"$f":"'Comparison Group 1 Accessible'!B303","v":84},{"$f":"'Comparison Group 1 Accessible'!C303","v":0.71794871794871795},{"$f":"SUM('Subject Data Accessible'!D303:H303)","v":3},{"$f":"H303/SUM(H$302:H$307)","v":0.42857142857142855},"County",{"$f":"'Comparison Group 3 Accessible'!J303","v":7988},{"$f":"'Comparison Group 3 Accessible'!K303","v":0.14517037710131758},{"$f":"'Comparison Group 2 Accessible'!J303","v":1839},{"$f":"'Comparison Group 2 Accessible'!K303","v":4.3181177796562414E-2},{"$f":"'Comparison Group 1 Accessible'!J303","v":3477},{"$f":"'Comparison Group 1 Accessible'!K303","v":0.76133128968688413},{"$f":"SUM('Subject Data Accessible'!L303:P303)","v":31},{"$f":"Q303/SUM(Q$302:Q$307)","v":0.62}]
["Municipality",{"$f":"'Comparison Group 3 Accessible'!B304","v":173},{"$f":"'Comparison Group 3 Accessible'!C304","v":0.13421256788207914},{"$f":"'Comparison Group 2 Accessible'!B304","v":41},{"$f":"'Comparison Group 2 Accessible'!C304","v":4.124748490945674E-2},{"$f":"'Comparison Group 1 Accessible'!B304","v":0},{"$f":"'Comparison Group 1 Accessible'!C304","v":0},{"$f":"SUM('Subject Data Accessible'!D304:H304)","v":0},0,"Municipality",{"$f":"'Comparison Group 3 Accessible'!J304","v":8258},{"$f":"'Comparison Group 3 Accessible'!K304","v":0.15007723761926398},{"$f":"'Comparison Group 2 Accessible'!J304","v":1823},{"$f":"'Comparison Group 2 Accessible'!K304","v":4.2805485113177423E-2},{"$f":"'Comparison Group 1 Accessible'!J304","v":6},{"$f":"'Comparison Group 1 Accessible'!K304","v":1.3137727173199037E-3},{"$f":"SUM('Subject Data Accessible'!L304:P304)","v":2},0.04]
["Federal",{"$f":"'Comparison Group 3 Accessible'!B305","v":170},{"$f":"'Comparison Group 3 Accessible'!C305","v":0.13188518231186966},{"$f":"'Comparison Group 2 Accessible'!B305","v":488},{"$f":"'Comparison Group 2 Accessible'!C305","v":0.49094567404426559},{"$f":"'Comparison Group 1 Accessible'!B305","v":11},{"$f":"'Comparison Group 1 Accessible'!C305","v":9.4017094017094016E-2},{"$f":"SUM('Subject Data Accessible'!D305:H305)","v":0},0,"Federal",{"$f":"'Comparison Group 3 Accessible'!J305","v":8534},{"$f":"'Comparison Group 3 Accessible'!K305","v":0.15509313948205361},{"$f":"'Comparison Group 2 Accessible'!J305","v":27249},{"$f":"'Comparison Group 2 Accessible'!K305","v":0.63982812059735139},{"$f":"'Comparison Group 1 Accessible'!J305","v":375},{"$f":"'Comparison Group 1 Accessible'!K305","v":8.2110794832493977E-2},{"$f":"SUM('Subject Data Accessible'!L305:P305)","v":1},0.02]
["Tribal",{"$f":"'Comparison Group 3 Accessible'!B306","v":220},{"$f":"'Comparison Group 3 Accessible'!C306","v":0.17067494181536075},{"$f":"'Comparison Group 2 Accessible'!B306","v":1},{"$f":"'Comparison Group 2 Accessible'!C306","v":1.006036217303823E-3},{"$f":"'Comparison Group 1 Accessible'!B306","v":1},{"$f":"'Comparison Group 1 Accessible'!C306","v":8.5470085470085479E-3},{"$f":"SUM('Subject Data Accessible'!D306:H306)","v":0},0,"Tribal",{"$f":"'Comparison Group 3 Accessible'!J306","v":8496},{"$f":"'Comparison Group 3 Accessible'!K306","v":0.15440254429804634},{"$f":"'Comparison Group 2 Accessible'!J306","v":30},{"$f":"'Comparison Group 2 Accessible'!K306","v":7.0442378134685823E-4},{"$f":"'Comparison Group 1 Accessible'!J306","v":15},{"$f":"'Comparison Group 1 Accessible'!K306","v":3.2844317932997592E-3},{"$f":"SUM('Subject Data Accessible'!L306:P306)","v":0},0]
["Unknown",{"$f":"'Comparison Group 3 Accessible'!B307","v":419},{"$f":"'Comparison Group 3 Accessible'!C307","v":0.32505818463925523},{"$f":"'Comparison Group 2 Accessible'!B307","v":122},{"$f":"'Comparison Group 2 Accessible'!C307","v":0.1227364185110664},{"$f":"'Comparison Group 1 Accessible'!B307","v":2},{"$f":"'Comparison Group 1 Accessible'!C307","v":1.7094017094017096E-2},{"$f":"SUM('Subject Data Accessible'!D307:H307)","v":2},0.2857142857142857,"Unknown",{"$f":"'Comparison Group 3 Accessible'!J307","v":16640},{"$f":"'Comparison Group 3 Accessible'!K307","v":0.30240799636528848},{"$f":"'Comparison Group 2 Accessible'!J307","v":2849},{"$f":"'Comparison Group 2 Accessible'!K307","v":6.6896778435239973E-2},{"$f":"'Comparison Group 1 Accessible'!J307","v":61},{"$f":"'Comparison Group 1 Accessible'!K307","v":1.3356689292752353E-2},{"$f":"SUM('Subject Data Accessible'!L307:P307)","v":6},0.12]
[{"$f":"CONCATENATE(\"Fatal and Serious Injury Crashes - \",A309,\"\nComp 3 = \",Instructions!$B$12,\", Comp 2 = \",Instructions!$B$11,\", Comp 1 = \", Instructions!$B$10, \", Subject = \",Instructions!$B$9)","v":"Fatal and Serious Injury Crashes - Area Type\nComp 3 = Test Group 3, Comp 2 = Test Group 2, Comp 1 = Test Group 1, Subject = Test County"},null,null,null,null,null,null,null,null,{"$f":"CONCATENATE(\"Total Crashes - \",J309,\"\nComp 3 = \",Instructions!$B$12,\", Comp 2 = \",Instructions!$B$11,\", Comp 1 = \", Instructions!$B$10, \", Subject = \",Instructions!$B$9)","v":"Total Crashes - Area Type\nComp 3 = Test Group 3, Comp 2 = Test Group 2, Comp 1 = Test Group 1, Subject = Test County"}]
["Area Type","Comp 3 Number","Comp 3 Percent","Comp 2 Number","Comp 2 Percent","Comp 1 Number","Comp 1 Percent","Subject Number","Subject Percent","Area Type","Comp 3 Number","Comp 3 Percent","Comp 2 Number","Comp 2 Percent","Comp 1 Number","Comp 1 Percent","Subject Number","Subject Percent"]
["Urban",{"$f":"'Comparison Group 3 Accessible'!B310","v":244},{"$f":"'Comparison Group 3 Accessible'!C310","v":0.18929402637703646},{"$f":"'Comparison Group 2 Accessible'!B310","v":1},{"$f":"'Comparison Group 2 Accessible'!C310","v":1.006036217303823E-3},{"$f":"'Comparison Group 1 Accessible'!B310","v":103},{"$f":"'Comparison Group 1 Accessible'!C310","v":0.88034188034188032},{"$f":"SUM('Subject Data Accessible'!D310:H310)","v":4},{"$f":"H310/SUM(H$310:H$312)","v":0.5714285714285714},{"$f":"A310","v":"Urban"},{"$f":"'Comparison Group 3 Accessible'!J310","v":10475},{"$f":"'Comparison Group 3 Accessible'!K310","v":0.19036801453884597},{"$f":"'Comparison Group 2 Accessible'!J310","v":140},{"$f":"'Comparison Group 2 Accessible'!K310","v":3.2873109796186721E-3},{"$f":"'Comparison Group 1 Accessible'!J310","v":4086},{"$f":"'Comparison Group 1 Accessible'!K310","v":0.89467922049485438},{"$f":"SUM('Subject Data Accessible'!L310:P310)","v":19},{"$f":"Q310/SUM(Q$310:Q$312)","v":0.38}]
["Rural",{"$f":"'Comparison Group 3 Accessible'!B311","v":838},{"$f":"'Comparison Group 3 Accessible'!C311","v":0.65011636927851046},{"$f":"'Comparison Group 2 Accessible'!B311","v":838},{"$f":"'Comparison Group 2 Accessible'!C311","v":0.84305835010060359},{"$f":"'Comparison Group 1 Accessible'!B311","v":1},{"$f":"'Comparison Group 1 Accessible'!C311","v":8.5470085470085479E-3},{"$f":"SUM('Subject Data Accessible'!D311:H311)","v":3},{"$f":"H311/SUM(H$310:H$312)","v":0.42857142857142855},{"$f":"A311","v":"Rural"},{"$f":"'Comparison Group 3 Accessible'!J311","v":36340},{"$f":"'Comparison Group 3 Accessible'!K311","v":0.6604270786006361},{"$f":"'Comparison Group 2 Accessible'!J311","v":36340},{"$f":"'Comparison Group 2 Accessible'!K311","v":0.853292007138161},{"$f":"'Comparison Group 1 Accessible'!J311","v":11},{"$f":"'Comparison Group 1 Accessible'!K311","v":2.4085833150864901E-3},{"$f":"SUM('Subject Data Accessible'!L311:P311)","v":22},{"$f":"Q311/SUM(Q$310:Q$312)","v":0.44}]
["Unknown",{"$f":"'Comparison Group 3 Accessible'!B312","v":207},{"$f":"'Comparison Group 3 Accessible'!C312","v":0.16058960434445307},{"$f":"'Comparison Group 2 Accessible'!B312","v":155},{"$f":"'Comparison Group 2 Accessible'!C312","v":0.15593561368209255},{"$f":"'Comparison Group 1 Accessible'!B312","v":13},{"$f":"'Comparison Group 1 Accessible'!C312","v":0.1111111111111111},{"$f":"SUM('Subject Data Accessible'!D312:H312)","v":0},0,{"$f":"A312","v":"Unknown"},{"$f":"'Comparison Group 3 Accessible'!J312","v":8210},{"$f":"'Comparison Group 3 Accessible'!K312","v":0.14920490686051793},{"$f":"'Comparison Group 2 Accessible'!J312","v":6108},{"$f":"'Comparison Group 2 Accessible'!K312","v":0.14342068188222035},{"$f":"'Comparison Group 1 Accessible'!J312","v":470},{"$f":"'Comparison Group 1 Accessible'!K312","v":0.10291219619005912},{"$f":"SUM('Subject Data Accessible'!L312:P312)","v":9},0.18]
[{"$f":"CONCATENATE(\"Fatal and Serious Injury Crashes - \",A314,\"\nComp 3 = \",Instructions!$B$12,\", Comp 2 = \",Instructions!$B$11,\", Comp 1 = \", Instructions!$B$10, \", Subject = \",Instructions!$B$9)","v":"Fatal and Serious Injury Crashes - Functional Class\nComp 3 = Test Group 3, Comp 2 = Test Group 2, Comp 1 = Test Group 1, Subject = Test County"},null,null,null,null,null,null,null,null,{"$f":"CONCATENATE(\"Total Crashes - \",J314,\"\nComp 3 = \",Instructions!$B$12,\", Comp 2 = \",Instructions!$B$11,\", Comp 1 = \", Instructions!$B$10, \", Subject = \",Instructions!$B$9)","v":"Total Crashes - Functional Class\nComp 3 = Test Group 3, Comp 2 = Test Group 2, Comp 1 = Test Group 1, Subject = Test County"}]
["Functional Class","Comp 3 Number","Comp 3 Percent","Comp 2 Number","Comp 2 Percent","Comp 1 Number","Comp 1 Percent","Subject Number","Subject Percent","Functional Class","Comp 3 Number","Comp 3 Percent","Comp 2 Number","Comp 2 Percent","Comp 1 Number","Comp 1 Percent","Subject Number","Subject Percent"]
["Interstate",{"$f":"'Comparison Group 3 Accessible'!B315","v":1028},{"$f":"'Comparison Group 3 Accessible'!C315","v":0.79751745539177654},{"$f":"'Comparison Group 2 Accessible'!B315","v":62},{"$f":"'Comparison Group 2 Accessible'!C315","v":6.2374245472837021E-2},{"$f":"'Comparison Group 1 Accessible'!B315","v":19},{"$f":"'Comparison Group 1 Accessible'!C315","v":0.1623931623931624},{"$f":"SUM('Subject Data Accessible'!D315:H315)","v":0},{"$f":"H315/SUM(H$315:H$321)","v":0},{"$f":"A315","v":"Interstate"},{"$f":"'Comparison Group 3 Accessible'!J315","v":39064},{"$f":"'Comparison Group 3 Accessible'!K315","v":0.70993184915947294},{"$f":"'Comparison Group 2 Accessible'!J315","v":3468},{"$f":"'Comparison Group 2 Accessible'!K315","v":8.143138912369681E-2},{"$f":"'Comparison Group 1 Accessible'!J315","v":700},{"$f":"'Comparison Group 1 Accessible'!K315","v":0.1532734836873221},{"$f":"SUM('Subject Data Accessible'!L315:P315)","v":4},{"$f":"Q315/SUM(Q$315:Q$321)","v":0.08}]
["Principal Arterial - Other Freeway or Expressway",{"$f":"'Comparison Group 3 Accessible'!B316","v":38},{"$f":"'Comparison Group 3 Accessible'!C316","v":2.9480217222653218E-2},{"$f":"'Comparison Group 2 Accessible'!B316","v":58},{"$f":"'Comparison Group 2 Accessible'!C316","v":5.8350100603621731E-2},{"$f":"'Comparison Group 1 Accessible'!B316","v":14},{"$f":"'Comparison Group 1 Accessible'!C316","v":0.11965811965811966},{"$f":"SUM('Subject Data Accessible'!D316:H316)","v":1},{"$f":"H316/SUM(H$315:H$321)","v":0.14285714285714285},"Principal Arterial - Other Freeway or Expressway",{"$f":"'Comparison Group 3 Accessible'!J316","v":2091},{"$f":"'Comparison Group 3 Accessible'!K316","v":3.8000908677873695E-2},{"$f":"'Comparison Group 2 Accessible'!J316","v":3283},{"$f":"'Comparison Group 2 Accessible'!K316","v":7.7087442472057857E-2},{"$f":"'Comparison Group 1 Accessible'!J316","v":695},{"$f":"'Comparison Group 1 Accessible'!K316","v":0.15217867308955552},{"$f":"SUM('Subject Data Accessible'!L316:P316)","v":9},{"$f":"Q316/SUM(Q$315:Q$321)","v":0.18}]
["Principal Arterial - Other",{"$f":"'Comparison Group 3 Accessible'!B317","v":30},{"$f":"'Comparison Group 3 Accessible'!C317","v":2.3273855702094646E-2},{"$f":"'Comparison Group 2 Accessible'!B317","v":96},{"$f":"'Comparison Group 2 Accessible'!C317","v":9.6579476861166996E-2},{"$f":"'Comparison Group 1 Accessible'!B317","v":18},{"$f":"'Comparison Group 1 Accessible'!C317","v":0.15384615384615385},{"$f":"SUM('Subject Data Accessible'!D317:H317)","v":1},0.14285714285714285,"Principal Arterial - Other",{"$f":"'Comparison Group 3 Accessible'!J317","v":3703},{"$f":"'Comparison Group 3 Accessible'!K317","v":6.7296683325761011E-2},{"$f":"'Comparison Group 2 Accessible'!J317","v":3209},{"$f":"'Comparison Group 2 Accessible'!K317","v":7.5349863811402268E-2},{"$f":"'Comparison Group 1 Accessible'!J317","v":763},{"$f":"'Comparison Group 1 Accessible'!K317","v":0.16706809721918109},{"$f":"SUM('Subject Data Accessible'!L317:P317)","v":13},0.26]
["Minor Arterial",{"$f":"'Comparison Group 3 Accessible'!B318","v":174},{"$f":"'Comparison Group 3 Accessible'!C318","v":0.13498836307214895},{"$f":"'Comparison Group 2 Accessible'!B318","v":81},{"$f":"'Comparison Group 2 Accessible'!C318","v":8.1488933601609664E-2},{"$f":"'Comparison Group 1 Accessible'!B318","v":23},{"$f":"'Comparison Group 1 Accessible'!C318","v":0.19658119658119658},{"$f":"SUM('Subject Data Accessible'!D318:H318)","v":2},0.2857142857142857,"Minor Arterial",{"$f":"'Comparison Group 3 Accessible'!J318","v":9862},{"$f":"'Comparison Group 3 Accessible'!K318","v":0.17922762380736029},{"$f":"'Comparison Group 2 Accessible'!J318","v":3291},{"$f":"'Comparison Group 2 Accessible'!K318","v":7.7275288813750356E-2},{"$f":"'Comparison Group 1 Accessible'!J318","v":597},{"$f":"'Comparison Group 1 Accessible'!K318","v":0.13072038537333042},{"$f":"SUM('Subject Data Accessible'!L318:P318)","v":6},0.12]
["Collector",{"$f":"'Comparison Group 3 Accessible'!B319","v":11},{"$f":"'Comparison Group 3 Accessible'!C319","v":8.5337470907680367E-3},{"$f":"'Comparison Group 2 Accessible'!B319","v":92},{"$f":"'Comparison Group 2 Accessible'!C319","v":9.2555331991951706E-2},{"$f":"'Comparison Group 1 Accessible'!B319","v":19},{"$f":"'Comparison Group 1 Accessible'!C319","v":0.1623931623931624},{"$f":"SUM('Subject Data Accessible'!D319:H319)","v":1},0.14285714285714285,"Collector",{"$f":"'Comparison Group 3 Accessible'!J319","v":217},{"$f":"'Comparison Group 3 Accessible'!K319","v":3.9436619718309857E-3},{"$f":"'Comparison Group 2 Accessible'!J319","v":3476},{"$f":"'Comparison Group 2 Accessible'!K319","v":8.1619235465389309E-2},{"$f":"'Comparison Group 1 Accessible'!J319","v":494},{"$f":"'Comparison Group 1 Accessible'!K319","v":0.10816728705933873},{"$f":"SUM('Subject Data Accessible'!L319:P319)","v":8},0.16]
["Local",{"$f":"'Comparison Group 3 Accessible'!B320","v":8},{"$f":"'Comparison Group 3 Accessible'!C320","v":6.2063615205585725E-3},{"$f":"'Comparison Group 2 Accessible'!B320","v":104},{"$f":"'Comparison Group 2 Accessible'!C320","v":0.10462776659959759},{"$f":"'Comparison Group 1 Accessible'!B320","v":11},{"$f":"'Comparison Group 1 Accessible'!C320","v":9.4017094017094016E-2},{"$f":"SUM('Subject Data Accessible'!D320:H320)","v":0},0,"Local",{"$f":"'Comparison Group 3 Accessible'!J320","v":81},{"$f":"'Comparison Group 3 Accessible'!K320","v":1.4720581553839165E-3},{"$f":"'Comparison Group 2 Accessible'!J320","v":3608},{"$f":"'Comparison Group 2 Accessible'!K320","v":8.4718700103315489E-2},{"$f":"'Comparison Group 1 Accessible'!J320","v":663},{"$f":"'Comparison Group 1 Accessible'!K320","v":0.14517188526384936},{"$f":"SUM('Subject Data Accessible'!L320:P320)","v":5},0.1]
["Unknown",{"$f":"'Comparison Group 3 Accessible'!B321","v":0},{"$f":"'Comparison Group 3 Accessible'!C321","v":0},{"$f":"'Comparison Group 2 Accessible'!B321","v":501},{"$f":"'Comparison Group 2 Accessible'!C321","v":0.50402414486921532},{"$f":"'Comparison Group 1 Accessible'!B321","v":13},{"$f":"'Comparison Group 1 Accessible'!C321","v":0.1111111111111111},{"$f":"SUM('Subject Data Accessible'!D321:H321)","v":2},0.2857142857142857,"Unknown",{"$f":"'Comparison Group 3 Accessible'!J321","v":7},{"$f":"'Comparison Group 3 Accessible'!K321","v":1.2721490231712857E-4},{"$f":"'Comparison Group 2 Accessible'!J321","v":22253},{"$f":"'Comparison Group 2 Accessible'!K321","v":0.52251808021038793},{"$f":"'Comparison Group 1 Accessible'!J321","v":655},{"$f":"'Comparison Group 1 Accessible'!K321","v":0.14342018830742281},{"$f":"SUM('Subject Data Accessible'!L321:P321)","v":5},0.1]
[{"$f":"CONCATENATE(\"Fatal and Serious Injury Crashes - \",A323,\" \nComp 3 = \",Instructions!$B$12,\", Comp 2 = \",Instructions!$B$11,\", Comp 1 = \", Instructions!$B$10, \", Subject = \",Instructions!$B$9)","v":"Fatal and Serious Injury Crashes - Access Control \nComp 3 = Test Group 3, Comp 2 = Test Group 2, Comp 1 = Test Group 1, Subject = Test County"},null,null,null,null,null,null,null,null,{"$f":"CONCATENATE(\"Total Crashes - \",J323,\"\nComp 3 = \",Instructions!$B$12,\", Comp 2 = \",Instructions!$B$11,\", Comp 1 = \", Instructions!$B$10, \", Subject = \",Instructions!$B$9)","v":"Total Crashes - Access Control\nComp 3 = Test Group 3, Comp 2 = Test Group 2, Comp 1 = Test Group 1, Subject = Test County"}]
["Access Control","Comp 3 Number","Comp 3 Percent","Comp 2 Number","Comp 2 Percent","Comp 1 Number","Comp 1 Percent","Subject Number","Subject Percent","Access Control","Comp 3 Number","Comp 3 Percent","Comp 2 Number","Comp 2 Percent","Comp 1 Number","Comp 1 Percent","Subject Number","Subject Percent"]
["No Access Control",{"$f":"'Comparison Group 3 Accessible'!B324","v":340},{"$f":"'Comparison Group 3 Accessible'!C324","v":0.26377036462373932},{"$f":"'Comparison Group 2 Accessible'!B324","v":501},{"$f":"'Comparison Group 2 Accessible'!C324","v":0.50402414486921532},{"$f":"'Comparison Group 1 Accessible'!B324","v":67},{"$f":"'Comparison Group 1 Accessible'!C324","v":0.57264957264957261},{"$f":"SUM('Subject Data Accessible'!D324:H324)","v":4},{"$f":"H324/SUM(H$324:H$326)","v":0.5714285714285714},{"$f":"A324","v":"No Access Control"},{"$f":"'Comparison Group 3 Accessible'!J324","v":13243},{"$f":"'Comparison Group 3 Accessible'!K324","v":0.24067242162653341},{"$f":"'Comparison Group 2 Accessible'!J324","v":22253},{"$f":"'Comparison Group 2 Accessible'!K324","v":0.52251808021038793},{"$f":"'Comparison Group 1 Accessible'!J324","v":3162},{"$f":"'Comparison Group 1 Accessible'!K324","v":0.69235822202758923},{"$f":"SUM('Subject Data Accessible'!L324:P324)","v":22},{"$f":"Q324/SUM(Q$324:Q$326)","v":0.44}]
["Partial Access Control",{"$f":"'Comparison Group 3 Accessible'!B325","v":821},{"$f":"'Comparison Group 3 Accessible'!C325","v":0.63692785104732352},{"$f":"'Comparison Group 2 Accessible'!B325","v":92},{"$f":"'Comparison Group 2 Accessible'!C325","v":9.2555331991951706E-2},{"$f":"'Comparison Group 1 Accessible'!B325","v":16},{"$f":"'Comparison Group 1 Accessible'!C325","v":0.13675213675213677},{"$f":"SUM('Subject Data Accessible'!D325:H325)","v":3},{"$f":"H325/SUM(H$324:H$326)","v":0.42857142857142855},{"$f":"A325","v":"Partial Access Control"},{"$f":"'Comparison Group 3 Accessible'!J325","v":37589},{"$f":"'Comparison Group 3 Accessible'!K325","v":0.68312585188550656},{"$f":"'Comparison Group 2 Accessible'!J325","v":3476},{"$f":"'Comparison Group 2 Accessible'!K325","v":8.1619235465389309E-2},{"$f":"'Comparison Group 1 Accessible'!J325","v":338},{"$f":"'Comparison Group 1 Accessible'!K325","v":7.4009196409021233E-2},{"$f":"SUM('Subject Data Accessible'!L325:P325)","v":9},{"$f":"Q325/SUM(Q$324:Q$326)","v":0.18}]
["Full Access Control",{"$f":"'Comparison Group 3 Accessible'!B326","v":128},{"$f":"'Comparison Group 3 Accessible'!C326","v":9.9301784328937159E-2},{"$f":"'Comparison Group 2 Accessible'!B326","v":401},{"$f":"'Comparison Group 2 Accessible'!C326","v":0.40342052313883298},{"$f":"'Comparison Group 1 Accessible'!B326","v":34},{"$f":"'Comparison Group 1 Accessible'!C326","v":0.29059829059829062},{"$f":"SUM('Subject Data Accessible'!D326:H326)","v":0},{"$f":"H326/SUM(H$324:H$326)","v":0},{"$f":"A326","v":"Full Access Control"},{"$f":"'Comparison Group 3 Accessible'!J326","v":4193},{"$f":"'Comparison Group 3 Accessible'!K326","v":7.6201726487960017E-2},{"$f":"'Comparison Group 2 Accessible'!J326","v":16859},{"$f":"'Comparison Group 2 Accessible'!K326","v":0.39586268432422278},{"$f":"'Comparison Group 1 Accessible'!J326","v":1067},{"$f":"'Comparison Group 1 Accessible'!K326","v":0.23363258156338954},{"$f":"SUM('Subject Data Accessible'!L326:P326)","v":19},{"$f":"Q326/SUM(Q$324:Q$326)","v":0.38}]
[{"$f":"CONCATENATE(\"Fatal and Serious Injury Crashes - \",A328,\"\nComp 3 = \",Instructions!$B$12,\", Comp 2 = \",Instructions!$B$11,\", Comp 1 = \", Instructions!$B$10, \", Subject = \",Instructions!$B$9)","v":"Fatal and Serious Injury Crashes - Roadway Lighting\nComp 3 = Test Group 3, Comp 2 = Test Group 2, Comp 1 = Test Group 1, Subject = Test County"},null,null,null,null,null,null,null,null,{"$f":"CONCATENATE(\"Total Crashes - \",J328,\"\nComp 3 = \",Instructions!$B$12,\", Comp 2 = \",Instructions!$B$11,\", Comp 1 = \", Instructions!$B$10, \", Subject = \",Instructions!$B$9)","v":"Total Crashes - Roadway Lighting\nComp 3 = Test Group 3, Comp 2 = Test Group 2, Comp 1 = Test Group 1, Subject = Test County"}]
["Roadway Lighting","Comp 3 Number","Comp 3 Percent","Comp 2 Number","Comp 2 Percent","Comp 1 Number","Comp 1 Percent","Subject Number","Subject Percent","Roadway Lighting","Comp 3 Number","Comp 3 Percent","Comp 2 Number","Comp 2 Percent","Comp 1 Number","Comp 1 Percent","Subject Number","Subject Percent"]
["Continuous Lighting on Both Sides",{"$f":"'Comparison Group 3 Accessible'!B329","v":373},{"$f":"'Comparison Group 3 Accessible'!C329","v":0.28937160589604344},{"$f":"'Comparison Group 2 Accessible'!B329","v":99},{"$f":"'Comparison Group 2 Accessible'!C329","v":9.9597585513078471E-2},{"$f":"'Comparison Group 1 Accessible'!B329","v":25},{"$f":"'Comparison Group 1 Accessible'!C329","v":0.21367521367521367},{"$f":"SUM('Subject Data Accessible'!D329:H329)","v":0},{"$f":"H329/SUM(H$329:H$333)","v":0},{"$f":"A329","v":"Continuous Lighting on Both Sides"},{"$f":"'Comparison Group 3 Accessible'!J329","v":11178},{"$f":"'Comparison Group 3 Accessible'!K329","v":0.20314402544298046},{"$f":"'Comparison Group 2 Accessible'!J329","v":2714},{"$f":"'Comparison Group 2 Accessible'!K329","v":6.3726871419179112E-2},{"$f":"'Comparison Group 1 Accessible'!J329","v":835},{"$f":"'Comparison Group 1 Accessible'!K329","v":0.18283336982701992},{"$f":"SUM('Subject Data Accessible'!L329:P329)","v":2},{"$f":"Q329/SUM(Q$329:Q$333)","v":0.04}]
["Continuous Lighting on One Side",{"$f":"'Comparison Group 3 Accessible'!B330","v":117},{"$f":"'Comparison Group 3 Accessible'!C330","v":9.0768037238169119E-2},{"$f":"'Comparison Group 2 Accessible'!B330","v":815},{"$f":"'Comparison Group 2 Accessible'!C330","v":0.81991951710261568},{"$f":"'Comparison Group 1 Accessible'!B330","v":29},{"$f":"'Comparison Group 1 Accessible'!C330","v":0.24786324786324787},{"$f":"SUM('Subject Data Accessible'!D330:H330)","v":0},{"$f":"H330/SUM(H$329:H$333)","v":0},{"$f":"A330","v":"Continuous Lighting on One Side"},{"$f":"'Comparison Group 3 Accessible'!J330","v":2911},{"$f":"'Comparison Group 3 Accessible'!K330","v":5.2903225806451612E-2},{"$f":"'Comparison Group 2 Accessible'!J330","v":37556},{"$f":"'Comparison Group 2 Accessible'!K330","v":0.88184465107542032},{"$f":"'Comparison Group 1 Accessible'!J330","v":510},{"$f":"'Comparison Group 1 Accessible'!K330","v":0.11167068097219181},{"$f":"SUM('Subject Data Accessible'!L330:P330)","v":4},{"$f":"Q330/SUM(Q$329:Q$333)","v":0.08}]
["No Lighting",{"$f":"'Comparison Group 3 Accessible'!B331","v":64},{"$f":"'Comparison Group 3 Accessible'!C331","v":4.965089216446858E-2},{"$f":"'Comparison Group 2 Accessible'!B331","v":1},{"$f":"'Comparison Group 2 Accessible'!C331","v":1.006036217303823E-3},{"$f":"'Comparison Group 1 Accessible'!B331","v":10},{"$f":"'Comparison Group 1 Accessible'!C331","v":8.5470085470085472E-2},{"$f":"SUM('Subject Data Accessible'!D331:H331)","v":1},0.14285714285714285,{"$f":"A331","v":"No Lighting"},{"$f":"'Comparison Group 3 Accessible'!J331","v":2284},{"$f":"'Comparison Group 3 Accessible'!K331","v":4.1508405270331665E-2},{"$f":"'Comparison Group 2 Accessible'!J331","v":31},{"$f":"'Comparison Group 2 Accessible'!K331","v":7.2790457405842019E-4},{"$f":"'Comparison Group 1 Accessible'!J331","v":151},{"$f":"'Comparison Group 1 Accessible'!K331","v":3.3063280052550909E-2},{"$f":"SUM('Subject Data Accessible'!L331:P331)","v":43},0.86]
["Spot Illumination on Both Sides",{"$f":"'Comparison Group 3 Accessible'!B332","v":734},{"$f":"'Comparison Group 3 Accessible'!C332","v":0.56943366951124907},{"$f":"'Comparison Group 2 Accessible'!B332","v":6},{"$f":"'Comparison Group 2 Accessible'!C332","v":6.0362173038229373E-3},{"$f":"'Comparison Group 1 Accessible'!B332","v":53},{"$f":"'Comparison Group 1 Accessible'!C332","v":0.45299145299145299},{"$f":"SUM('Subject Data Accessible'!D332:H332)","v":2},0.2857142857142857,{"$f":"A332","v":"Spot Illumination on Both Sides"},{"$f":"'Comparison Group 3 Accessible'!J332","v":38622},{"$f":"'Comparison Group 3 Accessible'!K332","v":0.70189913675602},{"$f":"'Comparison Group 2 Accessible'!J332","v":138},{"$f":"'Comparison Group 2 Accessible'!K332","v":3.2403493941955482E-3},{"$f":"'Comparison Group 1 Accessible'!J332","v":3071},{"$f":"'Comparison Group 1 Accessible'!K332","v":0.67243266914823741},{"$f":"SUM('Subject Data Accessible'!L332:P332)","v":0},0]
["Spot Illumination on One Side",{"$f":"'Comparison Group 3 Accessible'!B333","v":1},{"$f":"'Comparison Group 3 Accessible'!C333","v":7.7579519006982156E-4},{"$f":"'Comparison Group 2 Accessible'!B333","v":73},{"$f":"'Comparison Group 2 Accessible'!C333","v":7.344064386317907E-2},{"$f":"'Comparison Group 1 Accessible'!B333","v":0},{"$f":"'Comparison Group 1 Accessible'!C333","v":0},{"$f":"SUM('Subject Data Accessible'!D333:H333)","v":4},0.5714285714285714,{"$f":"A333","v":"Spot Illumination on One Side"},{"$f":"'Comparison Group 3 Accessible'!J333","v":30},{"$f":"'Comparison Group 3 Accessible'!K333","v":5.4520672421626531E-4},{"$f":"'Comparison Group 2 Accessible'!J333","v":2149},{"$f":"'Comparison Group 2 Accessible'!K333","v":5.0460223537146617E-2},{"$f":"'Comparison Group 1 Accessible'!J333","v":0},{"$f":"'Comparison Group 1 Accessible'!K333","v":0},{"$f":"SUM('Subject Data Accessible'!L333:P333)","v":1},0.02]
[{"$f":"CONCATENATE(\"Fatal and Serious Injury Crashes - \",A335,\"\nComp 3 = \",Instructions!$B$12,\", Comp 2 = \",Instructions!$B$11,\", Comp 1 = \", Instructions!$B$10, \", Subject = \",Instructions!$B$9)","v":"Fatal and Serious Injury Crashes - Alcohol Involvement\nComp 3 = Test Group 3, Comp 2 = Test Group 2, Comp 1 = Test Group 1, Subject = Test County"},null,null,null,null,null,null,null,null,{"$f":"CONCATENATE(\"Total Crashes - \",J335,\"\nComp 3 = \",Instructions!$B$12,\", Comp 2 = \",Instructions!$B$11,\", Comp 1 = \", Instructions!$B$10, \", Subject = \",Instructions!$B$9)","v":"Total Crashes - Alcohol Involvement\nComp 3 = Test Group 3, Comp 2 = Test Group 2, Comp 1 = Test Group 1, Subject = Test County"}]
["Alcohol Involvement","Comp 3 Number","Comp 3 Percent","Comp 2 Number","Comp 2 Percent","Comp 1 Number","Comp 1 Percent","Subject Number","Subject Percent","Alcohol Involvement","Comp 3 Number","Comp 3 Percent","Comp 2 Number","Comp 2 Percent","Comp 1 Number","Comp 1 Percent","Subject Number","Subject Percent"]
["Yes",{"$f":"'Comparison Group 3 Accessible'!B336","v":117},{"$f":"'Comparison Group 3 Accessible'!C336","v":9.0768037238169119E-2},{"$f":"'Comparison Group 2 Accessible'!B336","v":92},{"$f":"'Comparison Group 2 Accessible'!C336","v":9.2555331991951706E-2},{"$f":"'Comparison Group 1 Accessible'!B336","v":19},{"$f":"'Comparison Group 1 Accessible'!C336","v":0.1623931623931624},{"$f":"SUM('Subject Data Accessible'!D336:H336)","v":5},{"$f":"H336/SUM(H$336:H$338)","v":0.7142857142857143},{"$f":"A336","v":"Yes"},{"$f":"'Comparison Group 3 Accessible'!J336","v":3619},{"$f":"'Comparison Group 3 Accessible'!K336","v":6.5770104497955478E-2},{"$f":"'Comparison Group 2 Accessible'!J336","v":3476},{"$f":"'Comparison Group 2 Accessible'!K336","v":8.1619235465389309E-2},{"$f":"'Comparison Group 1 Accessible'!J336","v":633},{"$f":"'Comparison Group 1 Accessible'!K336","v":0.13860302167724983},{"$f":"SUM('Subject Data Accessible'!L336:P336)","v":11},{"$f":"Q336/SUM(Q$336:Q$338)","v":0.22}]
["No",{"$f":"'Comparison Group 3 Accessible'!B337","v":135},{"$f":"'Comparison Group 3 Accessible'!C337","v":0.10473235065942592},{"$f":"'Comparison Group 2 Accessible'!B337","v":401},{"$f":"'Comparison Group 2 Accessible'!C337","v":0.40342052313883298},{"$f":"'Comparison Group 1 Accessible'!B337","v":84},{"$f":"'Comparison Group 1 Accessible'!C337","v":0.71794871794871795},{"$f":"SUM('Subject Data Accessible'!D337:H337)","v":0},{"$f":"H337/SUM(H$336:H$338)","v":0},{"$f":"A337","v":"No"},{"$f":"'Comparison Group 3 Accessible'!J337","v":5920},{"$f":"'Comparison Group 3 Accessible'!K337","v":0.10758746024534302},{"$f":"'Comparison Group 2 Accessible'!J337","v":16859},{"$f":"'Comparison Group 2 Accessible'!K337","v":0.39586268432422278},{"$f":"'Comparison Group 1 Accessible'!J337","v":3477},{"$f":"'Comparison Group 1 Accessible'!K337","v":0.76133128968688413},{"$f":"SUM('Subject Data Accessible'!L337:P337)","v":25},{"$f":"Q337/SUM(Q$336:Q$338)","v":0.5}]
["Unknown",{"$f":"'Comparison Group 3 Accessible'!B338","v":1037},{"$f":"'Comparison Group 3 Accessible'!C338","v":0.80449961210240495},{"$f":"'Comparison Group 2 Accessible'!B338","v":501},{"$f":"'Comparison Group 2 Accessible'!C338","v":0.50402414486921532},{"$f":"'Comparison Group 1 Accessible'!B338","v":14},{"$f":"'Comparison Group 1 Accessible'!C338","v":0.11965811965811966},{"$f":"SUM('Subject Data Accessible'!D338:H338)","v":2},{"$f":"H338/SUM(H$336:H$338)","v":0.2857142857142857},{"$f":"A338","v":"Unknown"},{"$f":"'Comparison Group 3 Accessible'!J338","v":45486},{"$f":"'Comparison Group 3 Accessible'!K338","v":0.82664243525670145},{"$f":"'Comparison Group 2 Accessible'!J338","v":22253},{"$f":"'Comparison Group 2 Accessible'!K338","v":0.52251808021038793},{"$f":"'Comparison Group 1 Accessible'!J338","v":457},{"$f":"'Comparison Group 1 Accessible'!K338","v":0.100065688635866},{"$f":"SUM('Subject Data Accessible'!L338:P338)","v":14},{"$f":"Q338/SUM(Q$336:Q$338)","v":0.28000000000000003}]
[{"$f":"CONCATENATE(\"Fatal and Serious Injury Crashes - \",A340,\"\nComp 3 = \",Instructions!$B$12,\", Comp 2 = \",Instructions!$B$11,\", Comp 1 = \", Instructions!$B$10, \", Subject = \",Instructions!$B$9)","v":"Fatal and Serious Injury Crashes - Drug Involvement\nComp 3 = Test Group 3, Comp 2 = Test Group 2, Comp 1 = Test Group 1, Subject = Test County"},null,null,null,null,null,null,null,null,{"$f":"CONCATENATE(\"Total Crashes - \",J340,\"\nComp 3 = \",Instructions!$B$12,\", Comp 2 = \",Instructions!$B$11,\", Comp 1 = \", Instructions!$B$10, \", Subject = \",Instructions!$B$9)","v":"Total Crashes - Drug Involvement\nComp 3 = Test Group 3, Comp 2 = Test Group 2, Comp 1 = Test Group 1, Subject = Test County"}]
["Drug Involvement","Comp 3 Number","Comp 3 Percent","Comp 2 Number","Comp 2 Percent","Comp 1 Number","Comp 1 Percent","Subject Number","Subject Percent","Drug Involvement","Comp 3 Number","Comp 3 Percent","Comp 2 Number","Comp 2 Percent","Comp 1 Number","Comp 1 Percent","Subject Number","Subject Percent"]
["Yes",{"$f":"'Comparison Group 3 Accessible'!B341","v":838},{"$f":"'Comparison Group 3 Accessible'!C341","v":0.65011636927851046},{"$f":"'Comparison Group 2 Accessible'!B341","v":838},{"$f":"'Comparison Group 2 Accessible'!C341","v":0.84305835010060359},{"$f":"'Comparison Group 1 Accessible'!B341","v":103},{"$f":"'Comparison Group 1 Accessible'!C341","v":0.88034188034188032},{"$f":"SUM('Subject Data Accessible'!D341:H341)","v":0},{"$f":"H341/SUM(H$341:H$343)","v":0},{"$f":"A341","v":"Yes"},{"$f":"'Comparison Group 3 Accessible'!J341","v":36340},{"$f":"'Comparison Group 3 Accessible'!K341","v":0.6604270786006361},{"$f":"'Comparison Group 2 Accessible'!J341","v":36340},{"$f":"'Comparison Group 2 Accessible'!K341","v":0.853292007138161},{"$f":"'Comparison Group 1 Accessible'!J341","v":4086},{"$f":"'Comparison Group 1 Accessible'!K341","v":0.89467922049485438},{"$f":"SUM('Subject Data Accessible'!L341:P341)","v":14},{"$f":"Q341/SUM(Q$341:Q$343)","v":0.28000000000000003}]
["No",{"$f":"'Comparison Group 3 Accessible'!B342","v":244},{"$f":"'Comparison Group 3 Accessible'!C342","v":0.18929402637703646},{"$f":"'Comparison Group 2 Accessible'!B342","v":155},{"$f":"'Comparison Group 2 Accessible'!C342","v":0.15593561368209255},{"$f":"'Comparison Group 1 Accessible'!B342","v":1},{"$f":"'Comparison Group 1 Accessible'!C342","v":8.5470085470085479E-3},{"$f":"SUM('Subject Data Accessible'!D342:H342)","v":4},{"$f":"H342/SUM(H$341:H$343)","v":0.5714285714285714},{"$f":"A342","v":"No"},{"$f":"'Comparison Group 3 Accessible'!J342","v":10475},{"$f":"'Comparison Group 3 Accessible'!K342","v":0.19036801453884597},{"$f":"'Comparison Group 2 Accessible'!J342","v":6108},{"$f":"'Comparison Group 2 Accessible'!K342","v":0.14342068188222035},{"$f":"'Comparison Group 1 Accessible'!J342","v":11},{"$f":"'Comparison Group 1 Accessible'!K342","v":2.4085833150864901E-3},{"$f":"SUM('Subject Data Accessible'!L342:P342)","v":11},{"$f":"Q342/SUM(Q$341:Q$343)","v":0.22}]
["Unknown",{"$f":"'Comparison Group 3 Accessible'!B343","v":207},{"$f":"'Comparison Group 3 Accessible'!C343","v":0.16058960434445307},{"$f":"'Comparison Group 2 Accessible'!B343","v":1},{"$f":"'Comparison Group 2 Accessible'!C343","v":1.006036217303823E-3},{"$f":"'Comparison Group 1 Accessible'!B343","v":13},{"$f":"'Comparison Group 1 Accessible'!C343","v":0.1111111111111111},{"$f":"SUM('Subject Data Accessible'!D343:H343)","v":3},{"$f":"H343/SUM(H$341:H$343)","v":0.42857142857142855},{"$f":"A343","v":"Unknown"},{"$f":"'Comparison Group 3 Accessible'!J343","v":8210},{"$f":"'Comparison Group 3 Accessible'!K343","v":0.14920490686051793},{"$f":"'Comparison Group 2 Accessible'!J343","v":140},{"$f":"'Comparison Group 2 Accessible'!K343","v":3.2873109796186721E-3},{"$f":"'Comparison Group 1 Accessible'!J343","v":470},{"$f":"'Comparison Group 1 Accessible'!K343","v":0.10291219619005912},{"$f":"SUM('Subject Data Accessible'!L343:P343)","v":25},{"$f":"Q343/SUM(Q$341:Q$343)","v":0.5}]
["Vehicle Data",null,null,null,null,null,null,null,null,{"$f":"A344","v":"Vehicle Data"}]
[{"$f":"CONCATENATE(\"Fatal and Serious Injury Crashes, Vehicle-Level Data - \",$A346,\"  \nComp 3 = \",Instructions!$B$12,\", Comp 2 = \",Instructions!$B$11,\", Comp 1 = \", Instructions!$B$10, \", Subject = \",Instructions!$B$9)","v":"Fatal and Serious Injury Crashes, Vehicle-Level Data - Motor Vehicle Body Type  \nComp 3 = Test Group 3, Comp 2 = Test Group 2, Comp 1 = Test Group 1, Subject = Test County"},null,null,null,null,null,null,null,null,{"$f":"CONCATENATE(\"Total Crashes, Vehicle-Level Data - \",J346,\"\nComp 3 = \",Instructions!$B$12,\", Comp 2 = \",Instructions!$B$11,\", Comp 1 = \", Instructions!$B$10, \", Subject = \",Instructions!$B$9)","v":"Total Crashes, Vehicle-Level Data - Motor Vehicle Body Type\nComp 3 = Test Group 3, Comp 2 = Test Group 2, Comp 1 = Test Group 1, Subject = Test County"}]
["Motor Vehicle Body Type","Comp 3 Number","Comp 3 Percent","Comp 2 Number","Comp 2 Percent","Comp 1 Number","Comp 1 Percent","Subject Number","Subject Percent","Motor Vehicle Body Type","Comp 3 Number","Comp 3 Percent","Comp 2 Number","Comp 2 Percent","Comp 1 Number","Comp 1 Percent","Subject Number","Subject Percent"]
["All-Terrain Vehicle",{"$f":"'Comparison Group 3 Accessible'!B347","v":46},{"$f":"'Comparison Group 3 Accessible'!C347","v":1.882930822758903E-2},{"$f":"'Comparison Group 2 Accessible'!B347","v":1036},{"$f":"'Comparison Group 2 Accessible'!C347","v":0.53874154966198651},{"$f":"'Comparison Group 1 Accessible'!B347","v":110},{"$f":"'Comparison Group 1 Accessible'!C347","v":0.5092592592592593},{"$f":"SUM('Subject Data Accessible'!D347:H347)","v":6},{"$f":"H347/SUM(H$347:H$375)","v":0.6},{"$f":"A347","v":"All-Terrain Vehicle"},{"$f":"'Comparison Group 3 Accessible'!J347","v":3850},{"$f":"'Comparison Group 3 Accessible'!K347","v":3.5728205794465374E-2},{"$f":"'Comparison Group 2 Accessible'!J347","v":45956},{"$f":"'Comparison Group 2 Accessible'!K347","v":0.54336285278503615},{"$f":"'Comparison Group 1 Accessible'!J347","v":4496},{"$f":"'Comparison Group 1 Accessible'!K347","v":0.53491969066032119},{"$f":"SUM('Subject Data Accessible'!L347:P347)","v":28},{"$f":"Q347/SUM(Q$347:Q$375)","v":0.35897435897435898}]
["Golf Cart",{"$f":"'Comparison Group 3 Accessible'!B348","v":64},{"$f":"'Comparison Group 3 Accessible'!C348","v":2.6197298403602128E-2},{"$f":"'Comparison Group 2 Accessible'!B348","v":1},{"$f":"'Comparison Group 2 Accessible'!C348","v":5.2002080083203334E-4},{"$f":"'Comparison Group 1 Accessible'!B348","v":0},{"$f":"'Comparison Group 1 Accessible'!C348","v":0},{"$f":"SUM('Subject Data Accessible'!D348:H348)","v":0},{"$f":"H348/SUM(H$347:H$375)","v":0},"Golf Cart",{"$f":"'Comparison Group 3 Accessible'!J348","v":3174},{"$f":"'Comparison Group 3 Accessible'!K348","v":2.9454889660164442E-2},{"$f":"'Comparison Group 2 Accessible'!J348","v":2},{"$f":"'Comparison Group 2 Accessible'!K348","v":2.3647090816652283E-5},{"$f":"'Comparison Group 1 Accessible'!J348","v":0},{"$f":"'Comparison Group 1 Accessible'!K348","v":0},{"$f":"SUM('Subject Data Accessible'!L348:P348)","v":0},{"$f":"Q348/SUM(Q$347:Q$375)","v":0}]
["Snowmobile",{"$f":"'Comparison Group 3 Accessible'!B349","v":205},{"$f":"'Comparison Group 3 Accessible'!C349","v":8.3913221449038067E-2},{"$f":"'Comparison Group 2 Accessible'!B349","v":1},{"$f":"'Comparison Group 2 Accessible'!C349","v":5.2002080083203334E-4},{"$f":"'Comparison Group 1 Accessible'!B349","v":0},{"$f":"'Comparison Group 1 Accessible'!C349","v":0},{"$f":"SUM('Subject Data Accessible'!D349:H349)","v":0},0,"Snowmobile",{"$f":"'Comparison Group 3 Accessible'!J349","v":8667},{"$f":"'Comparison Group 3 Accessible'!K349","v":8.0430223278086077E-2},{"$f":"'Comparison Group 2 Accessible'!J349","v":3},{"$f":"'Comparison Group 2 Accessible'!K349","v":3.5470636224978419E-5},{"$f":"'Comparison Group 1 Accessible'!J349","v":0},{"$f":"'Comparison Group 1 Accessible'!K349","v":0},{"$f":"SUM('Subject Data Accessible'!L349:P349)","v":0},0]
["Low Speed Vehicle",{"$f":"'Comparison Group 3 Accessible'!B350","v":158},{"$f":"'Comparison Group 3 Accessible'!C350","v":6.467458043389275E-2},{"$f":"'Comparison Group 2 Accessible'!B350","v":1},{"$f":"'Comparison Group 2 Accessible'!C350","v":5.2002080083203334E-4},{"$f":"'Comparison Group 1 Accessible'!B350","v":0},{"$f":"'Comparison Group 1 Accessible'!C350","v":0},{"$f":"SUM('Subject Data Accessible'!D350:H350)","v":0},0,"Low Speed Vehicle",{"$f":"'Comparison Group 3 Accessible'!J350","v":6912},{"$f":"'Comparison Group 3 Accessible'!K350","v":6.414372946788173E-2},{"$f":"'Comparison Group 2 Accessible'!J350","v":1},{"$f":"'Comparison Group 2 Accessible'!K350","v":1.1823545408326141E-5},{"$f":"'Comparison Group 1 Accessible'!J350","v":0},{"$f":"'Comparison Group 1 Accessible'!K350","v":0},{"$f":"SUM('Subject Data Accessible'!L350:P350)","v":10},0.12820512820512819]
["Moped or motorized bicycle",{"$f":"'Comparison Group 3 Accessible'!B351","v":120},{"$f":"'Comparison Group 3 Accessible'!C351","v":4.911993450675399E-2},{"$f":"'Comparison Group 2 Accessible'!B351","v":5},{"$f":"'Comparison Group 2 Accessible'!C351","v":2.6001040041601664E-3},{"$f":"'Comparison Group 1 Accessible'!B351","v":0},{"$f":"'Comparison Group 1 Accessible'!C351","v":0},{"$f":"SUM('Subject Data Accessible'!D351:H351)","v":0},0,"Moped or motorized bicycle",{"$f":"'Comparison Group 3 Accessible'!J351","v":5356},{"$f":"'Comparison Group 3 Accessible'!K351","v":4.9703966294845858E-2},{"$f":"'Comparison Group 2 Accessible'!J351","v":23},{"$f":"'Comparison Group 2 Accessible'!K351","v":2.7194154439150122E-4},{"$f":"'Comparison Group 1 Accessible'!J351","v":0},{"$f":"'Comparison Group 1 Accessible'!K351","v":0},{"$f":"SUM('Subject Data Accessible'!L351:P351)","v":1},1.282051282051282E-2]
["Recreational Off-Highway Vehicles",{"$f":"'Comparison Group 3 Accessible'!B352","v":111},{"$f":"'Comparison Group 3 Accessible'!C352","v":4.5435939418747441E-2},{"$f":"'Comparison Group 2 Accessible'!B352","v":194},{"$f":"'Comparison Group 2 Accessible'!C352","v":0.10088403536141445},{"$f":"'Comparison Group 1 Accessible'!B352","v":0},{"$f":"'Comparison Group 1 Accessible'!C352","v":0},{"$f":"SUM('Subject Data Accessible'!D352:H352)","v":0},0,"Recreational Off-Highway Vehicles",{"$f":"'Comparison Group 3 Accessible'!J352","v":4369},{"$f":"'Comparison Group 3 Accessible'!K352","v":4.0544553536628371E-2},{"$f":"'Comparison Group 2 Accessible'!J352","v":12056},{"$f":"'Comparison Group 2 Accessible'!K352","v":0.14254466344277994},{"$f":"'Comparison Group 1 Accessible'!J352","v":0},{"$f":"'Comparison Group 1 Accessible'!K352","v":0},{"$f":"SUM('Subject Data Accessible'!L352:P352)","v":1},1.282051282051282E-2]
["2-Wheeled Motorcycle",{"$f":"'Comparison Group 3 Accessible'!B353","v":64},{"$f":"'Comparison Group 3 Accessible'!C353","v":2.6197298403602128E-2},{"$f":"'Comparison Group 2 Accessible'!B353","v":53},{"$f":"'Comparison Group 2 Accessible'!C353","v":2.7561102444097763E-2},{"$f":"'Comparison Group 1 Accessible'!B353","v":0},{"$f":"'Comparison Group 1 Accessible'!C353","v":0},{"$f":"SUM('Subject Data Accessible'!D353:H353)","v":1},0.1,"2-Wheeled Motorcycle",{"$f":"'Comparison Group 3 Accessible'!J353","v":2416},{"$f":"'Comparison Group 3 Accessible'!K353","v":2.2420609142708662E-2},{"$f":"'Comparison Group 2 Accessible'!J353","v":203},{"$f":"'Comparison Group 2 Accessible'!K353","v":2.4001797178902066E-3},{"$f":"'Comparison Group 1 Accessible'!J353","v":2},{"$f":"'Comparison Group 1 Accessible'!K353","v":2.379535990481856E-4},{"$f":"SUM('Subject Data Accessible'!L353:P353)","v":1},1.282051282051282E-2]
["3-Wheeled Motorcycle",{"$f":"'Comparison Group 3 Accessible'!B354","v":24},{"$f":"'Comparison Group 3 Accessible'!C354","v":9.8239869013507976E-3},{"$f":"'Comparison Group 2 Accessible'!B354","v":25},{"$f":"'Comparison Group 2 Accessible'!C354","v":1.3000520020800831E-2},{"$f":"'Comparison Group 1 Accessible'!B354","v":0},{"$f":"'Comparison Group 1 Accessible'!C354","v":0},{"$f":"SUM('Subject Data Accessible'!D354:H354)","v":0},0,"3-Wheeled Motorcycle",{"$f":"'Comparison Group 3 Accessible'!J354","v":842},{"$f":"'Comparison Group 3 Accessible'!K354","v":7.8138050075168431E-3},{"$f":"'Comparison Group 2 Accessible'!J354","v":62},{"$f":"'Comparison Group 2 Accessible'!K354","v":7.3305981531622067E-4},{"$f":"'Comparison Group 1 Accessible'!J354","v":0},{"$f":"'Comparison Group 1 Accessible'!K354","v":0},{"$f":"SUM('Subject Data Accessible'!L354:P354)","v":0},0]
["Autocycle",{"$f":"'Comparison Group 3 Accessible'!B355","v":9},{"$f":"'Comparison Group 3 Accessible'!C355","v":3.6839950880065493E-3},{"$f":"'Comparison Group 2 Accessible'!B355","v":25},{"$f":"'Comparison Group 2 Accessible'!C355","v":1.3000520020800831E-2},{"$f":"'Comparison Group 1 Accessible'!B355","v":0},{"$f":"'Comparison Group 1 Accessible'!C355","v":0},{"$f":"SUM('Subject Data Accessible'!D355:H355)","v":0},0,"Autocycle",{"$f":"'Comparison Group 3 Accessible'!J355","v":294},{"$f":"'Comparison Group 3 Accessible'!K355","v":2.7283357152137195E-3},{"$f":"'Comparison Group 2 Accessible'!J355","v":203},{"$f":"'Comparison Group 2 Accessible'!K355","v":2.4001797178902066E-3},{"$f":"'Comparison Group 1 Accessible'!J355","v":0},{"$f":"'Comparison Group 1 Accessible'!K355","v":0},{"$f":"SUM('Subject Data Accessible'!L355:P355)","v":0},0]
["Passenger Car",{"$f":"'Comparison Group 3 Accessible'!B356","v":0},{"$f":"'Comparison Group 3 Accessible'!C356","v":0},{"$f":"'Comparison Group 2 Accessible'!B356","v":77},{"$f":"'Comparison Group 2 Accessible'!C356","v":4.0041601664066562E-2},{"$f":"'Comparison Group 1 Accessible'!B356","v":1},{"$f":"'Comparison Group 1 Accessible'!C356","v":4.6296296296296294E-3},{"$f":"SUM('Subject Data Accessible'!D356:H356)","v":0},0,"Passenger Car",{"$f":"'Comparison Group 3 Accessible'!J356","v":22},{"$f":"'Comparison Group 3 Accessible'!K356","v":2.0416117596837357E-4},{"$f":"'Comparison Group 2 Accessible'!J356","v":1308},{"$f":"'Comparison Group 2 Accessible'!K356","v":1.5465197394090592E-2},{"$f":"'Comparison Group 1 Accessible'!J356","v":4},{"$f":"'Comparison Group 1 Accessible'!K356","v":4.759071980963712E-4},{"$f":"SUM('Subject Data Accessible'!L356:P356)","v":9},0.11538461538461539]
["Passenger Van",{"$f":"'Comparison Group 3 Accessible'!B357","v":92},{"$f":"'Comparison Group 3 Accessible'!C357","v":3.7658616455178061E-2},{"$f":"'Comparison Group 2 Accessible'!B357","v":2},{"$f":"'Comparison Group 2 Accessible'!C357","v":1.0400416016640667E-3},{"$f":"'Comparison Group 1 Accessible'!B357","v":0},{"$f":"'Comparison Group 1 Accessible'!C357","v":0},{"$f":"SUM('Subject Data Accessible'!D357:H357)","v":0},0,"Passenger Van",{"$f":"'Comparison Group 3 Accessible'!J357","v":7702},{"$f":"'Comparison Group 3 Accessible'!K357","v":7.147497169583697E-2},{"$f":"'Comparison Group 2 Accessible'!J357","v":14},{"$f":"'Comparison Group 2 Accessible'!K357","v":1.6552963571656596E-4},{"$f":"'Comparison Group 1 Accessible'!J357","v":9},{"$f":"'Comparison Group 1 Accessible'!K357","v":1.0707911957168353E-3},{"$f":"SUM('Subject Data Accessible'!L357:P357)","v":0},0]
["Sport Utility Vehicle",{"$f":"'Comparison Group 3 Accessible'!B358","v":129},{"$f":"'Comparison Group 3 Accessible'!C358","v":5.2803929594760539E-2},{"$f":"'Comparison Group 2 Accessible'!B358","v":67},{"$f":"'Comparison Group 2 Accessible'!C358","v":3.4841393655746226E-2},{"$f":"'Comparison Group 1 Accessible'!B358","v":0},{"$f":"'Comparison Group 1 Accessible'!C358","v":0},{"$f":"SUM('Subject Data Accessible'!D358:H358)","v":0},0,"Sport Utility Vehicle",{"$f":"'Comparison Group 3 Accessible'!J358","v":6350},{"$f":"'Comparison Group 3 Accessible'!K358","v":5.8928339427235098E-2},{"$f":"'Comparison Group 2 Accessible'!J358","v":3},{"$f":"'Comparison Group 2 Accessible'!K358","v":3.5470636224978419E-5},{"$f":"'Comparison Group 1 Accessible'!J358","v":0},{"$f":"'Comparison Group 1 Accessible'!K358","v":0},{"$f":"SUM('Subject Data Accessible'!L358:P358)","v":0},0]
["Pickup",{"$f":"'Comparison Group 3 Accessible'!B359","v":205},{"$f":"'Comparison Group 3 Accessible'!C359","v":8.3913221449038067E-2},{"$f":"'Comparison Group 2 Accessible'!B359","v":0},{"$f":"'Comparison Group 2 Accessible'!C359","v":0},{"$f":"'Comparison Group 1 Accessible'!B359","v":0},{"$f":"'Comparison Group 1 Accessible'!C359","v":0},{"$f":"SUM('Subject Data Accessible'!D359:H359)","v":0},0,"Pickup",{"$f":"'Comparison Group 3 Accessible'!J359","v":17336},{"$f":"'Comparison Group 3 Accessible'!K359","v":0.16087900666307839},{"$f":"'Comparison Group 2 Accessible'!J359","v":2335},{"$f":"'Comparison Group 2 Accessible'!K359","v":2.7607978528441539E-2},{"$f":"'Comparison Group 1 Accessible'!J359","v":2},{"$f":"'Comparison Group 1 Accessible'!K359","v":2.379535990481856E-4},{"$f":"SUM('Subject Data Accessible'!L359:P359)","v":0},0]
["Cargo Van",{"$f":"'Comparison Group 3 Accessible'!B360","v":161},{"$f":"'Comparison Group 3 Accessible'!C360","v":6.5902578796561598E-2},{"$f":"'Comparison Group 2 Accessible'!B360","v":1},{"$f":"'Comparison Group 2 Accessible'!C360","v":5.2002080083203334E-4},{"$f":"'Comparison Group 1 Accessible'!B360","v":0},{"$f":"'Comparison Group 1 Accessible'!C360","v":0},{"$f":"SUM('Subject Data Accessible'!D360:H360)","v":0},0,"Cargo Van",{"$f":"'Comparison Group 3 Accessible'!J360","v":6915},{"$f":"'Comparison Group 3 Accessible'!K360","v":6.4171569628241054E-2},{"$f":"'Comparison Group 2 Accessible'!J360","v":2},{"$f":"'Comparison Group 2 Accessible'!K360","v":2.3647090816652283E-5},{"$f":"'Comparison Group 1 Accessible'!J360","v":0},{"$f":"'Comparison Group 1 Accessible'!K360","v":0},{"$f":"SUM('Subject Data Accessible'!L360:P360)","v":0},0]
["Construction Equipment",{"$f":"'Comparison Group 3 Accessible'!B361","v":121},{"$f":"'Comparison Group 3 Accessible'!C361","v":4.9529267294310272E-2},{"$f":"'Comparison Group 2 Accessible'!B361","v":0},{"$f":"'Comparison Group 2 Accessible'!C361","v":0},{"$f":"'Comparison Group 1 Accessible'!B361","v":0},{"$f":"'Comparison Group 1 Accessible'!C361","v":0},{"$f":"SUM('Subject Data Accessible'!D361:H361)","v":0},0,"Construction Equipment",{"$f":"'Comparison Group 3 Accessible'!J361","v":5356},{"$f":"'Comparison Group 3 Accessible'!K361","v":4.9703966294845858E-2},{"$f":"'Comparison Group 2 Accessible'!J361","v":0},{"$f":"'Comparison Group 2 Accessible'!K361","v":0},{"$f":"'Comparison Group 1 Accessible'!J361","v":4},{"$f":"'Comparison Group 1 Accessible'!K361","v":4.759071980963712E-4},{"$f":"SUM('Subject Data Accessible'!L361:P361)","v":0},0]
["Farm Equipment",{"$f":"'Comparison Group 3 Accessible'!B362","v":112},{"$f":"'Comparison Group 3 Accessible'!C362","v":4.5845272206303724E-2},{"$f":"'Comparison Group 2 Accessible'!B362","v":77},{"$f":"'Comparison Group 2 Accessible'!C362","v":4.0041601664066562E-2},{"$f":"'Comparison Group 1 Accessible'!B362","v":0},{"$f":"'Comparison Group 1 Accessible'!C362","v":0},{"$f":"SUM('Subject Data Accessible'!D362:H362)","v":0},0,"Farm Equipment",{"$f":"'Comparison Group 3 Accessible'!J362","v":4370},{"$f":"'Comparison Group 3 Accessible'!K362","v":4.0553833590081481E-2},{"$f":"'Comparison Group 2 Accessible'!J362","v":1074},{"$f":"'Comparison Group 2 Accessible'!K362","v":1.2698487768542275E-2},{"$f":"'Comparison Group 1 Accessible'!J362","v":0},{"$f":"'Comparison Group 1 Accessible'!K362","v":0},{"$f":"SUM('Subject Data Accessible'!L362:P362)","v":0},0]
["Single-Unit Truck",{"$f":"'Comparison Group 3 Accessible'!B363","v":129},{"$f":"'Comparison Group 3 Accessible'!C363","v":5.2803929594760539E-2},{"$f":"'Comparison Group 2 Accessible'!B363","v":0},{"$f":"'Comparison Group 2 Accessible'!C363","v":0},{"$f":"'Comparison Group 1 Accessible'!B363","v":0},{"$f":"'Comparison Group 1 Accessible'!C363","v":0},{"$f":"SUM('Subject Data Accessible'!D363:H363)","v":0},0,"Single-Unit Truck",{"$f":"'Comparison Group 3 Accessible'!J363","v":4833},{"$f":"'Comparison Group 3 Accessible'!K363","v":4.4850498338870434E-2},{"$f":"'Comparison Group 2 Accessible'!J363","v":389},{"$f":"'Comparison Group 2 Accessible'!K363","v":4.5993591638388686E-3},{"$f":"'Comparison Group 1 Accessible'!J363","v":1},{"$f":"'Comparison Group 1 Accessible'!K363","v":1.189767995240928E-4},{"$f":"SUM('Subject Data Accessible'!L363:P363)","v":0},0]
["Truck Tractor",{"$f":"'Comparison Group 3 Accessible'!B364","v":49},{"$f":"'Comparison Group 3 Accessible'!C364","v":2.0057306590257881E-2},{"$f":"'Comparison Group 2 Accessible'!B364","v":64},{"$f":"'Comparison Group 2 Accessible'!C364","v":3.3281331253250133E-2},{"$f":"'Comparison Group 1 Accessible'!B364","v":0},{"$f":"'Comparison Group 1 Accessible'!C364","v":0},{"$f":"SUM('Subject Data Accessible'!D364:H364)","v":0},0,"Truck Tractor",{"$f":"'Comparison Group 3 Accessible'!J364","v":1687},{"$f":"'Comparison Group 3 Accessible'!K364","v":1.565545017539301E-2},{"$f":"'Comparison Group 2 Accessible'!J364","v":10},{"$f":"'Comparison Group 2 Accessible'!K364","v":1.1823545408326141E-4},{"$f":"'Comparison Group 1 Accessible'!J364","v":0},{"$f":"'Comparison Group 1 Accessible'!K364","v":0},{"$f":"SUM('Subject Data Accessible'!L364:P364)","v":0},0]
["Motor Home",{"$f":"'Comparison Group 3 Accessible'!B365","v":19},{"$f":"'Comparison Group 3 Accessible'!C365","v":7.777322963569382E-3},{"$f":"'Comparison Group 2 Accessible'!B365","v":0},{"$f":"'Comparison Group 2 Accessible'!C365","v":0},{"$f":"'Comparison Group 1 Accessible'!B365","v":2},{"$f":"'Comparison Group 1 Accessible'!C365","v":9.2592592592592587E-3},{"$f":"SUM('Subject Data Accessible'!D365:H365)","v":0},0,"Motor Home",{"$f":"'Comparison Group 3 Accessible'!J365","v":590},{"$f":"'Comparison Group 3 Accessible'!K365","v":5.4752315373336547E-3},{"$f":"'Comparison Group 2 Accessible'!J365","v":16},{"$f":"'Comparison Group 2 Accessible'!K365","v":1.8917672653321826E-4},{"$f":"'Comparison Group 1 Accessible'!J365","v":15},{"$f":"'Comparison Group 1 Accessible'!K365","v":1.784651992861392E-3},{"$f":"SUM('Subject Data Accessible'!L365:P365)","v":0},0]
["9- or 12-Passenger Van",{"$f":"'Comparison Group 3 Accessible'!B366","v":0},{"$f":"'Comparison Group 3 Accessible'!C366","v":0},{"$f":"'Comparison Group 2 Accessible'!B366","v":2},{"$f":"'Comparison Group 2 Accessible'!C366","v":1.0400416016640667E-3},{"$f":"'Comparison Group 1 Accessible'!B366","v":2},{"$f":"'Comparison Group 1 Accessible'!C366","v":9.2592592592592587E-3},{"$f":"SUM('Subject Data Accessible'!D366:H366)","v":0},0,"9- or 12-Passenger Van",{"$f":"'Comparison Group 3 Accessible'!J366","v":46},{"$f":"'Comparison Group 3 Accessible'!K366","v":4.2688245884296293E-4},{"$f":"'Comparison Group 2 Accessible'!J366","v":188},{"$f":"'Comparison Group 2 Accessible'!K366","v":2.2228265367653143E-3},{"$f":"'Comparison Group 1 Accessible'!J366","v":20},{"$f":"'Comparison Group 1 Accessible'!K366","v":2.3795359904818562E-3},{"$f":"SUM('Subject Data Accessible'!L366:P366)","v":0},0]
["15-Passenger Van",{"$f":"'Comparison Group 3 Accessible'!B367","v":158},{"$f":"'Comparison Group 3 Accessible'!C367","v":6.467458043389275E-2},{"$f":"'Comparison Group 2 Accessible'!B367","v":0},{"$f":"'Comparison Group 2 Accessible'!C367","v":0},{"$f":"'Comparison Group 1 Accessible'!B367","v":0},{"$f":"'Comparison Group 1 Accessible'!C367","v":0},{"$f":"SUM('Subject Data Accessible'!D367:H367)","v":0},0,"15-Passenger Van",{"$f":"'Comparison Group 3 Accessible'!J367","v":6370},{"$f":"'Comparison Group 3 Accessible'!K367","v":5.9113940496297257E-2},{"$f":"'Comparison Group 2 Accessible'!J367","v":0},{"$f":"'Comparison Group 2 Accessible'!K367","v":0},{"$f":"'Comparison Group 1 Accessible'!J367","v":1},{"$f":"'Comparison Group 1 Accessible'!K367","v":1.189767995240928E-4},{"$f":"SUM('Subject Data Accessible'!L367:P367)","v":0},0]
["Large Limo",{"$f":"'Comparison Group 3 Accessible'!B368","v":120},{"$f":"'Comparison Group 3 Accessible'!C368","v":4.911993450675399E-2},{"$f":"'Comparison Group 2 Accessible'!B368","v":26},{"$f":"'Comparison Group 2 Accessible'!C368","v":1.3520540821632865E-2},{"$f":"'Comparison Group 1 Accessible'!B368","v":0},{"$f":"'Comparison Group 1 Accessible'!C368","v":0},{"$f":"SUM('Subject Data Accessible'!D368:H368)","v":0},0,"Large Limo",{"$f":"'Comparison Group 3 Accessible'!J368","v":5357},{"$f":"'Comparison Group 3 Accessible'!K368","v":4.9713246348298969E-2},{"$f":"'Comparison Group 2 Accessible'!J368","v":1},{"$f":"'Comparison Group 2 Accessible'!K368","v":1.1823545408326141E-5},{"$f":"'Comparison Group 1 Accessible'!J368","v":0},{"$f":"'Comparison Group 1 Accessible'!K368","v":0},{"$f":"SUM('Subject Data Accessible'!L368:P368)","v":0},0]
["Mini-bus",{"$f":"'Comparison Group 3 Accessible'!B369","v":111},{"$f":"'Comparison Group 3 Accessible'!C369","v":4.5435939418747441E-2},{"$f":"'Comparison Group 2 Accessible'!B369","v":0},{"$f":"'Comparison Group 2 Accessible'!C369","v":0},{"$f":"'Comparison Group 1 Accessible'!B369","v":0},{"$f":"'Comparison Group 1 Accessible'!C369","v":0},{"$f":"SUM('Subject Data Accessible'!D369:H369)","v":0},0,"Mini-bus",{"$f":"'Comparison Group 3 Accessible'!J369","v":4369},{"$f":"'Comparison Group 3 Accessible'!K369","v":4.0544553536628371E-2},{"$f":"'Comparison Group 2 Accessible'!J369","v":3337},{"$f":"'Comparison Group 2 Accessible'!K369","v":3.9455171027584335E-2},{"$f":"'Comparison Group 1 Accessible'!J369","v":1},{"$f":"'Comparison Group 1 Accessible'!K369","v":1.189767995240928E-4},{"$f":"SUM('Subject Data Accessible'!L369:P369)","v":0},0]
["School Bus",{"$f":"'Comparison Group 3 Accessible'!B370","v":207},{"$f":"'Comparison Group 3 Accessible'!C370","v":8.4731887024150632E-2},{"$f":"'Comparison Group 2 Accessible'!B370","v":32},{"$f":"'Comparison Group 2 Accessible'!C370","v":1.6640665626625067E-2},{"$f":"'Comparison Group 1 Accessible'!B370","v":0},{"$f":"'Comparison Group 1 Accessible'!C370","v":0},{"$f":"SUM('Subject Data Accessible'!D370:H370)","v":0},0,"School Bus",{"$f":"'Comparison Group 3 Accessible'!J370","v":186},{"$f":"'Comparison Group 3 Accessible'!K370","v":1.7260899422780675E-3},{"$f":"'Comparison Group 2 Accessible'!J370","v":11},{"$f":"'Comparison Group 2 Accessible'!K370","v":1.3005899949158754E-4},{"$f":"'Comparison Group 1 Accessible'!J370","v":2},{"$f":"'Comparison Group 1 Accessible'!K370","v":2.379535990481856E-4},{"$f":"SUM('Subject Data Accessible'!L370:P370)","v":0},0]
["Transit Bus",{"$f":"'Comparison Group 3 Accessible'!B371","v":0},{"$f":"'Comparison Group 3 Accessible'!C371","v":0},{"$f":"'Comparison Group 2 Accessible'!B371","v":0},{"$f":"'Comparison Group 2 Accessible'!C371","v":0},{"$f":"'Comparison Group 1 Accessible'!B371","v":1},{"$f":"'Comparison Group 1 Accessible'!C371","v":4.6296296296296294E-3},{"$f":"SUM('Subject Data Accessible'!D371:H371)","v":0},0,"Transit Bus",{"$f":"'Comparison Group 3 Accessible'!J371","v":92},{"$f":"'Comparison Group 3 Accessible'!K371","v":8.5376491768592586E-4},{"$f":"'Comparison Group 2 Accessible'!J371","v":2365},{"$f":"'Comparison Group 2 Accessible'!K371","v":2.7962684890691324E-2},{"$f":"'Comparison Group 1 Accessible'!J371","v":1},{"$f":"'Comparison Group 1 Accessible'!K371","v":1.189767995240928E-4},{"$f":"SUM('Subject Data Accessible'!L371:P371)","v":0},0]
["Motorcoach",{"$f":"'Comparison Group 3 Accessible'!B372","v":17},{"$f":"'Comparison Group 3 Accessible'!C372","v":6.9586573884568154E-3},{"$f":"'Comparison Group 2 Accessible'!B372","v":12},{"$f":"'Comparison Group 2 Accessible'!C372","v":6.2402496099843996E-3},{"$f":"'Comparison Group 1 Accessible'!B372","v":0},{"$f":"'Comparison Group 1 Accessible'!C372","v":0},{"$f":"SUM('Subject Data Accessible'!D372:H372)","v":3},0.3,"Motorcoach",{"$f":"'Comparison Group 3 Accessible'!J372","v":108},{"$f":"'Comparison Group 3 Accessible'!K372","v":1.002245772935652E-3},{"$f":"'Comparison Group 2 Accessible'!J372","v":366},{"$f":"'Comparison Group 2 Accessible'!K372","v":4.3274176194473676E-3},{"$f":"'Comparison Group 1 Accessible'!J372","v":5},{"$f":"'Comparison Group 1 Accessible'!K372","v":5.9488399762046404E-4},{"$f":"SUM('Subject Data Accessible'!L372:P372)","v":28},0.35897435897435898]
["Other Bus Type",{"$f":"'Comparison Group 3 Accessible'!B373","v":3},{"$f":"'Comparison Group 3 Accessible'!C373","v":1.2279983626688497E-3},{"$f":"'Comparison Group 2 Accessible'!B373","v":0},{"$f":"'Comparison Group 2 Accessible'!C373","v":0},{"$f":"'Comparison Group 1 Accessible'!B373","v":0},{"$f":"'Comparison Group 1 Accessible'!C373","v":0},{"$f":"SUM('Subject Data Accessible'!D373:H373)","v":0},0,"Other Bus Type",{"$f":"'Comparison Group 3 Accessible'!J373","v":126},{"$f":"'Comparison Group 3 Accessible'!K373","v":1.1692867350915942E-3},{"$f":"'Comparison Group 2 Accessible'!J373","v":1},{"$f":"'Comparison Group 2 Accessible'!K373","v":1.1823545408326141E-5},{"$f":"'Comparison Group 1 Accessible'!J373","v":1},{"$f":"'Comparison Group 1 Accessible'!K373","v":1.189767995240928E-4},{"$f":"SUM('Subject Data Accessible'!L373:P373)","v":0},0]
["Other Trucks",{"$f":"'Comparison Group 3 Accessible'!B374","v":2},{"$f":"'Comparison Group 3 Accessible'!C374","v":8.1866557511256651E-4},{"$f":"'Comparison Group 2 Accessible'!B374","v":43},{"$f":"'Comparison Group 2 Accessible'!C374","v":2.2360894435777431E-2},{"$f":"'Comparison Group 1 Accessible'!B374","v":0},{"$f":"'Comparison Group 1 Accessible'!C374","v":0},{"$f":"SUM('Subject Data Accessible'!D374:H374)","v":0},0,"Other Trucks",{"$f":"'Comparison Group 3 Accessible'!J374","v":25},{"$f":"'Comparison Group 3 Accessible'!K374","v":2.3200133632769724E-4},{"$f":"'Comparison Group 2 Accessible'!J374","v":9},{"$f":"'Comparison Group 2 Accessible'!K374","v":1.0641190867493527E-4},{"$f":"'Comparison Group 1 Accessible'!J374","v":0},{"$f":"'Comparison Group 1 Accessible'!K374","v":0},{"$f":"SUM('Subject Data Accessible'!L374:P374)","v":0},0]
["Other",{"$f":"'Comparison Group 3 Accessible'!B375","v":7},{"$f":"'Comparison Group 3 Accessible'!C375","v":2.8653295128939827E-3},{"$f":"'Comparison Group 2 Accessible'!B375","v":179},{"$f":"'Comparison Group 2 Accessible'!C375","v":9.3083723348933958E-2},{"$f":"'Comparison Group 1 Accessible'!B375","v":100},{"$f":"'Comparison Group 1 Accessible'!C375","v":0.46296296296296297},{"$f":"SUM('Subject Data Accessible'!D375:H375)","v":0},0,"Other",{"$f":"'Comparison Group 3 Accessible'!J375","v":38},{"$f":"'Comparison Group 3 Accessible'!K375","v":3.5264203121809979E-4},{"$f":"'Comparison Group 2 Accessible'!J375","v":14639},{"$f":"'Comparison Group 2 Accessible'!K375","v":0.17308488123248639},{"$f":"'Comparison Group 1 Accessible'!J375","v":3841},{"$f":"'Comparison Group 1 Accessible'!K375","v":0.45698988697204046},{"$f":"SUM('Subject Data Accessible'!L375:P375)","v":0},0]
[{"$f":"CONCATENATE(\"Fatal and Serious Injury Crashes, Vehicle-Level Data - \",$A377,\"  \nComp 3 = \",Instructions!$B$12,\", Comp 2 = \",Instructions!$B$11,\", Comp 1 = \", Instructions!$B$10, \", Subject = \",Instructions!$B$9)","v":"Fatal and Serious Injury Crashes, Vehicle-Level Data - Posted Speed Limit  \nComp 3 = Test Group 3, Comp 2 = Test Group 2, Comp 1 = Test Group 1, Subject = Test County"},null,null,null,null,null,null,null,null,{"$f":"CONCATENATE(\"Total Crashes, Vehicle-Level Data - \",J377,\"\nComp 3 = \",Instructions!$B$12,\", Comp 2 = \",Instructions!$B$11,\", Comp 1 = \", Instructions!$B$10, \", Subject = \",Instructions!$B$9)","v":"Total Crashes, Vehicle-Level Data - Posted Speed Limit\nComp 3 = Test Group 3, Comp 2 = Test Group 2, Comp 1 = Test Group 1, Subject = Test County"}]
["Posted Speed Limit","Comp 3 Number","Comp 3 Percent","Comp 2 Number","Comp 2 Percent","Comp 1 Number","Comp 1 Percent","Subject Number","Subject Percent","Posted Speed Limit","Comp 3 Number","Comp 3 Percent","Comp 2 Number","Comp 2 Percent","Comp 1 Number","Comp 1 Percent","Subject Number","Subject Percent"]
["5 MPH",{"$f":"'Comparison Group 3 Accessible'!B378","v":19},{"$f":"'Comparison Group 3 Accessible'!C378","v":7.777322963569382E-3},{"$f":"'Comparison Group 2 Accessible'!B378","v":17},{"$f":"'Comparison Group 2 Accessible'!C378","v":8.8403536141445655E-3},{"$f":"'Comparison Group 1 Accessible'!B378","v":3},{"$f":"'Comparison Group 1 Accessible'!C378","v":1.3888888888888888E-2},{"$f":"SUM('Subject Data Accessible'!D378:H378)","v":0},{"$f":"H378/SUM(H$378:H$392)","v":0},{"$f":"A378","v":"5 MPH"},{"$f":"'Comparison Group 3 Accessible'!J378","v":595},{"$f":"'Comparison Group 3 Accessible'!K378","v":5.5216318045991945E-3},{"$f":"'Comparison Group 2 Accessible'!J378","v":3397},{"$f":"'Comparison Group 2 Accessible'!K378","v":4.0164583752083899E-2},{"$f":"'Comparison Group 1 Accessible'!J378","v":153},{"$f":"'Comparison Group 1 Accessible'!K378","v":1.8203450327186198E-2},{"$f":"SUM('Subject Data Accessible'!L378:P378)","v":0},{"$f":"Q378/SUM(Q$378:Q$392)","v":0}]
["10 MPH",{"$f":"'Comparison Group 3 Accessible'!B379","v":5},{"$f":"'Comparison Group 3 Accessible'!C379","v":2.0466639377814161E-3},{"$f":"'Comparison Group 2 Accessible'!B379","v":2},{"$f":"'Comparison Group 2 Accessible'!C379","v":1.0400416016640667E-3},{"$f":"'Comparison Group 1 Accessible'!B379","v":0},{"$f":"'Comparison Group 1 Accessible'!C379","v":0},{"$f":"SUM('Subject Data Accessible'!D379:H379)","v":0},{"$f":"H379/SUM(H$378:H$392)","v":0},"10 MPH",{"$f":"'Comparison Group 3 Accessible'!J379","v":1500},{"$f":"'Comparison Group 3 Accessible'!K379","v":1.3920080179661835E-2},{"$f":"'Comparison Group 2 Accessible'!J379","v":48},{"$f":"'Comparison Group 2 Accessible'!K379","v":5.6753017959965471E-4},{"$f":"'Comparison Group 1 Accessible'!J379","v":60},{"$f":"'Comparison Group 1 Accessible'!K379","v":7.138607971445568E-3},{"$f":"SUM('Subject Data Accessible'!L379:P379)","v":0},{"$f":"Q379/SUM(Q$378:Q$392)","v":0}]
["15 MPH",{"$f":"'Comparison Group 3 Accessible'!B380","v":57},{"$f":"'Comparison Group 3 Accessible'!C380","v":2.3331968890708144E-2},{"$f":"'Comparison Group 2 Accessible'!B380","v":175},{"$f":"'Comparison Group 2 Accessible'!C380","v":9.100364014560583E-2},{"$f":"'Comparison Group 1 Accessible'!B380","v":111},{"$f":"'Comparison Group 1 Accessible'!C380","v":0.51388888888888884},{"$f":"SUM('Subject Data Accessible'!D380:H380)","v":0},0,"15 MPH",{"$f":"'Comparison Group 3 Accessible'!J380","v":4600},{"$f":"'Comparison Group 3 Accessible'!K380","v":4.2688245884296296E-2},{"$f":"'Comparison Group 2 Accessible'!J380","v":754},{"$f":"'Comparison Group 2 Accessible'!K380","v":8.9149532378779098E-3},{"$f":"'Comparison Group 1 Accessible'!J380","v":3612},{"$f":"'Comparison Group 1 Accessible'!K380","v":0.42974419988102319},{"$f":"SUM('Subject Data Accessible'!L380:P380)","v":1},1.282051282051282E-2]
["20 MPH",{"$f":"'Comparison Group 3 Accessible'!B381","v":3},{"$f":"'Comparison Group 3 Accessible'!C381","v":1.2279983626688497E-3},{"$f":"'Comparison Group 2 Accessible'!B381","v":1},{"$f":"'Comparison Group 2 Accessible'!C381","v":5.2002080083203334E-4},{"$f":"'Comparison Group 1 Accessible'!B381","v":21},{"$f":"'Comparison Group 1 Accessible'!C381","v":9.7222222222222224E-2},{"$f":"SUM('Subject Data Accessible'!D381:H381)","v":0},0,"20 MPH",{"$f":"'Comparison Group 3 Accessible'!J381","v":380},{"$f":"'Comparison Group 3 Accessible'!K381","v":3.5264203121809982E-3},{"$f":"'Comparison Group 2 Accessible'!J381","v":9},{"$f":"'Comparison Group 2 Accessible'!K381","v":1.0641190867493527E-4},{"$f":"'Comparison Group 1 Accessible'!J381","v":874},{"$f":"'Comparison Group 1 Accessible'!K381","v":0.10398572278405711},{"$f":"SUM('Subject Data Accessible'!L381:P381)","v":0},0]
["25 MPH",{"$f":"'Comparison Group 3 Accessible'!B382","v":1335},{"$f":"'Comparison Group 3 Accessible'!C382","v":0.54645927138763817},{"$f":"'Comparison Group 2 Accessible'!B382","v":4},{"$f":"'Comparison Group 2 Accessible'!C382","v":2.0800832033281333E-3},{"$f":"'Comparison Group 1 Accessible'!B382","v":2},{"$f":"'Comparison Group 1 Accessible'!C382","v":9.2592592592592587E-3},{"$f":"SUM('Subject Data Accessible'!D382:H382)","v":2},0.16666666666666666,"25 MPH",{"$f":"'Comparison Group 3 Accessible'!J382","v":49057},{"$f":"'Comparison Group 3 Accessible'!K382","v":0.45525158224911377},{"$f":"'Comparison Group 2 Accessible'!J382","v":324},{"$f":"'Comparison Group 2 Accessible'!K382","v":3.8308287122976697E-3},{"$f":"'Comparison Group 1 Accessible'!J382","v":320},{"$f":"'Comparison Group 1 Accessible'!K382","v":3.8072575847709698E-2},{"$f":"SUM('Subject Data Accessible'!L382:P382)","v":0},0]
["30 MPH",{"$f":"'Comparison Group 3 Accessible'!B383","v":308},{"$f":"'Comparison Group 3 Accessible'!C383","v":0.12607449856733524},{"$f":"'Comparison Group 2 Accessible'!B383","v":160},{"$f":"'Comparison Group 2 Accessible'!C383","v":8.3203328133125323E-2},{"$f":"'Comparison Group 1 Accessible'!B383","v":5},{"$f":"'Comparison Group 1 Accessible'!C383","v":2.3148148148148147E-2},{"$f":"SUM('Subject Data Accessible'!D383:H383)","v":0},0,"30 MPH",{"$f":"'Comparison Group 3 Accessible'!J383","v":9961},{"$f":"'Comparison Group 3 Accessible'!K383","v":9.2438612446407692E-2},{"$f":"'Comparison Group 2 Accessible'!J383","v":795},{"$f":"'Comparison Group 2 Accessible'!K383","v":9.3997185996192827E-3},{"$f":"'Comparison Group 1 Accessible'!J383","v":100},{"$f":"'Comparison Group 1 Accessible'!K383","v":1.1897679952409279E-2},{"$f":"SUM('Subject Data Accessible'!L383:P383)","v":0},0]
["35 MPH",{"$f":"'Comparison Group 3 Accessible'!B384","v":49},{"$f":"'Comparison Group 3 Accessible'!C384","v":2.0057306590257881E-2},{"$f":"'Comparison Group 2 Accessible'!B384","v":815},{"$f":"'Comparison Group 2 Accessible'!C384","v":0.42381695267810715},{"$f":"'Comparison Group 1 Accessible'!B384","v":35},{"$f":"'Comparison Group 1 Accessible'!C384","v":0.16203703703703703},{"$f":"SUM('Subject Data Accessible'!D384:H384)","v":0},0,"35 MPH",{"$f":"'Comparison Group 3 Accessible'!J384","v":3813},{"$f":"'Comparison Group 3 Accessible'!K384","v":3.5384843816700387E-2},{"$f":"'Comparison Group 2 Accessible'!J384","v":43798},{"$f":"'Comparison Group 2 Accessible'!K384","v":0.51784764179386833},{"$f":"'Comparison Group 1 Accessible'!J384","v":580},{"$f":"'Comparison Group 1 Accessible'!K384","v":6.9006543723973829E-2},{"$f":"SUM('Subject Data Accessible'!L384:P384)","v":0},0]
["40 MPH",{"$f":"'Comparison Group 3 Accessible'!B385","v":21},{"$f":"'Comparison Group 3 Accessible'!C385","v":8.5959885386819486E-3},{"$f":"'Comparison Group 2 Accessible'!B385","v":3},{"$f":"'Comparison Group 2 Accessible'!C385","v":1.5600624024960999E-3},{"$f":"'Comparison Group 1 Accessible'!B385","v":8},{"$f":"'Comparison Group 1 Accessible'!C385","v":3.7037037037037035E-2},{"$f":"SUM('Subject Data Accessible'!D385:H385)","v":2},0.16666666666666666,"40 MPH",{"$f":"'Comparison Group 3 Accessible'!J385","v":607},{"$f":"'Comparison Group 3 Accessible'!K385","v":5.6329924460364889E-3},{"$f":"'Comparison Group 2 Accessible'!J385","v":82},{"$f":"'Comparison Group 2 Accessible'!K385","v":9.6953072348274357E-4},{"$f":"'Comparison Group 1 Accessible'!J385","v":676},{"$f":"'Comparison Group 1 Accessible'!K385","v":8.0428316478286729E-2},{"$f":"SUM('Subject Data Accessible'!L385:P385)","v":2},2.564102564102564E-2]
["45 MPH",{"$f":"'Comparison Group 3 Accessible'!B386","v":279},{"$f":"'Comparison Group 3 Accessible'!C386","v":0.11420384772820302},{"$f":"'Comparison Group 2 Accessible'!B386","v":248},{"$f":"'Comparison Group 2 Accessible'!C386","v":0.12896515860634425},{"$f":"'Comparison Group 1 Accessible'!B386","v":4},{"$f":"'Comparison Group 1 Accessible'!C386","v":1.8518518518518517E-2},{"$f":"SUM('Subject Data Accessible'!D386:H386)","v":1},8.3333333333333329E-2,"45 MPH",{"$f":"'Comparison Group 3 Accessible'!J386","v":4847},{"$f":"'Comparison Group 3 Accessible'!K386","v":4.4980419087213945E-2},{"$f":"'Comparison Group 2 Accessible'!J386","v":12633},{"$f":"'Comparison Group 2 Accessible'!K386","v":0.14936684914338413},{"$f":"'Comparison Group 1 Accessible'!J386","v":101},{"$f":"'Comparison Group 1 Accessible'!K386","v":1.2016656751933374E-2},{"$f":"SUM('Subject Data Accessible'!L386:P386)","v":27},0.34615384615384615]
["50 MPH",{"$f":"'Comparison Group 3 Accessible'!B387","v":42},{"$f":"'Comparison Group 3 Accessible'!C387","v":1.7191977077363897E-2},{"$f":"'Comparison Group 2 Accessible'!B387","v":4},{"$f":"'Comparison Group 2 Accessible'!C387","v":2.0800832033281333E-3},{"$f":"'Comparison Group 1 Accessible'!B387","v":6},{"$f":"'Comparison Group 1 Accessible'!C387","v":2.7777777777777776E-2},{"$f":"SUM('Subject Data Accessible'!D387:H387)","v":0},0,"50 MPH",{"$f":"'Comparison Group 3 Accessible'!J387","v":4165},{"$f":"'Comparison Group 3 Accessible'!K387","v":3.8651422632194364E-2},{"$f":"'Comparison Group 2 Accessible'!J387","v":247},{"$f":"'Comparison Group 2 Accessible'!K387","v":2.9204157158565567E-3},{"$f":"'Comparison Group 1 Accessible'!J387","v":316},{"$f":"'Comparison Group 1 Accessible'!K387","v":3.7596668649613328E-2},{"$f":"SUM('Subject Data Accessible'!L387:P387)","v":0},0]
["55 MPH",{"$f":"'Comparison Group 3 Accessible'!B388","v":22},{"$f":"'Comparison Group 3 Accessible'!C388","v":9.005321326238231E-3},{"$f":"'Comparison Group 2 Accessible'!B388","v":3},{"$f":"'Comparison Group 2 Accessible'!C388","v":1.5600624024960999E-3},{"$f":"'Comparison Group 1 Accessible'!B388","v":7},{"$f":"'Comparison Group 1 Accessible'!C388","v":3.2407407407407406E-2},{"$f":"SUM('Subject Data Accessible'!D388:H388)","v":4},0.33333333333333331,"55 MPH",{"$f":"'Comparison Group 3 Accessible'!J388","v":632},{"$f":"'Comparison Group 3 Accessible'!K388","v":5.8649937823641862E-3},{"$f":"'Comparison Group 2 Accessible'!J388","v":95},{"$f":"'Comparison Group 2 Accessible'!K388","v":1.1232368137909833E-3},{"$f":"'Comparison Group 1 Accessible'!J388","v":1175},{"$f":"'Comparison Group 1 Accessible'!K388","v":0.13979773944080903},{"$f":"SUM('Subject Data Accessible'!L388:P388)","v":18},0.23076923076923078]
["60 MPH",{"$f":"'Comparison Group 3 Accessible'!B389","v":92},{"$f":"'Comparison Group 3 Accessible'!C389","v":3.7658616455178061E-2},{"$f":"'Comparison Group 2 Accessible'!B389","v":394},{"$f":"'Comparison Group 2 Accessible'!C389","v":0.20488819552782112},{"$f":"'Comparison Group 1 Accessible'!B389","v":3},{"$f":"'Comparison Group 1 Accessible'!C389","v":1.3888888888888888E-2},{"$f":"SUM('Subject Data Accessible'!D389:H389)","v":1},8.3333333333333329E-2,"60 MPH",{"$f":"'Comparison Group 3 Accessible'!J389","v":8515},{"$f":"'Comparison Group 3 Accessible'!K389","v":7.9019655153213686E-2},{"$f":"'Comparison Group 2 Accessible'!J389","v":19659},{"$f":"'Comparison Group 2 Accessible'!K389","v":0.2324390791822836},{"$f":"'Comparison Group 1 Accessible'!J389","v":29},{"$f":"'Comparison Group 1 Accessible'!K389","v":3.4503271861986914E-3},{"$f":"SUM('Subject Data Accessible'!L389:P389)","v":2},2.564102564102564E-2]
["65 MPH",{"$f":"'Comparison Group 3 Accessible'!B390","v":169},{"$f":"'Comparison Group 3 Accessible'!C390","v":6.9177241097011871E-2},{"$f":"'Comparison Group 2 Accessible'!B390","v":1},{"$f":"'Comparison Group 2 Accessible'!C390","v":5.2002080083203334E-4},{"$f":"'Comparison Group 1 Accessible'!B390","v":3},{"$f":"'Comparison Group 1 Accessible'!C390","v":1.3888888888888888E-2},{"$f":"SUM('Subject Data Accessible'!D390:H390)","v":0},0,"65 MPH",{"$f":"'Comparison Group 3 Accessible'!J390","v":18284},{"$f":"'Comparison Group 3 Accessible'!K390","v":0.16967649733662465},{"$f":"'Comparison Group 2 Accessible'!J390","v":29},{"$f":"'Comparison Group 2 Accessible'!K390","v":3.4288281684145805E-4},{"$f":"'Comparison Group 1 Accessible'!J390","v":110},{"$f":"'Comparison Group 1 Accessible'!K390","v":1.3087447947650209E-2},{"$f":"SUM('Subject Data Accessible'!L390:P390)","v":1},1.282051282051282E-2]
["70 MPH",{"$f":"'Comparison Group 3 Accessible'!B391","v":5},{"$f":"'Comparison Group 3 Accessible'!C391","v":2.0466639377814161E-3},{"$f":"'Comparison Group 2 Accessible'!B391","v":61},{"$f":"'Comparison Group 2 Accessible'!C391","v":3.1721268850754034E-2},{"$f":"'Comparison Group 1 Accessible'!B391","v":4},{"$f":"'Comparison Group 1 Accessible'!C391","v":1.8518518518518517E-2},{"$f":"SUM('Subject Data Accessible'!D391:H391)","v":2},0.16666666666666666,"70 MPH",{"$f":"'Comparison Group 3 Accessible'!J391","v":126},{"$f":"'Comparison Group 3 Accessible'!K391","v":1.1692867350915942E-3},{"$f":"'Comparison Group 2 Accessible'!J391","v":2271},{"$f":"'Comparison Group 2 Accessible'!K391","v":2.6851271622308666E-2},{"$f":"'Comparison Group 1 Accessible'!J391","v":19},{"$f":"'Comparison Group 1 Accessible'!K391","v":2.2605591909577631E-3},{"$f":"SUM('Subject Data Accessible'!L391:P391)","v":14},0.17948717948717949]
["Unknown",{"$f":"'Comparison Group 3 Accessible'!B392","v":37},{"$f":"'Comparison Group 3 Accessible'!C392","v":1.514531313958248E-2},{"$f":"'Comparison Group 2 Accessible'!B392","v":35},{"$f":"'Comparison Group 2 Accessible'!C392","v":1.8200728029121163E-2},{"$f":"'Comparison Group 1 Accessible'!B392","v":4},{"$f":"'Comparison Group 1 Accessible'!C392","v":1.8518518518518517E-2},{"$f":"SUM('Subject Data Accessible'!D392:H392)","v":0},{"$f":"H392/SUM(H$378:H$392)","v":0},"Unknown",{"$f":"'Comparison Group 3 Accessible'!J392","v":676},{"$f":"'Comparison Group 3 Accessible'!K392","v":6.2733161343009334E-3},{"$f":"'Comparison Group 2 Accessible'!J392","v":436},{"$f":"'Comparison Group 2 Accessible'!K392","v":5.155065798030197E-3},{"$f":"'Comparison Group 1 Accessible'!J392","v":280},{"$f":"'Comparison Group 1 Accessible'!K392","v":3.3313503866745982E-2},{"$f":"SUM('Subject Data Accessible'!L392:P392)","v":13},{"$f":"Q392/SUM(Q$378:Q$392)","v":0.16666666666666666}]
[{"$f":"CONCATENATE(\"Fatal and Serious Injury Crashes, Vehicle-Level Data - \",$A394,\"  \nComp 3 = \",Instructions!$B$12,\", Comp 2 = \",Instructions!$B$11,\", Comp 1 = \", Instructions!$B$10, \", Subject = \",Instructions!$B$9)","v":"Fatal and Serious Injury Crashes, Vehicle-Level Data - Traffic Way  \nComp 3 = Test Group 3, Comp 2 = Test Group 2, Comp 1 = Test Group 1, Subject = Test County"},null,null,null,null,null,null,null,null,{"$f":"CONCATENATE(\"Total Crashes, Vehicle-Level Data - \",J394,\"\nComp 3 = \",Instructions!$B$12,\", Comp 2 = \",Instructions!$B$11,\", Comp 1 = \", Instructions!$B$10, \", Subject = \",Instructions!$B$9)","v":"Total Crashes, Vehicle-Level Data - Traffic Way\nComp 3 = Test Group 3, Comp 2 = Test Group 2, Comp 1 = Test Group 1, Subject = Test County"}]
["Traffic Way","Comp 3 Number","Comp 3 Percent","Comp 2 Number","Comp 2 Percent","Comp 1 Number","Comp 1 Percent","Subject Number","Subject Percent","Traffic Way","Comp 3 Number","Comp 3 Percent","Comp 2 Number","Comp 2 Percent","Comp 1 Number","Comp 1 Percent","Subject Number","Subject Percent"]
["One-Way",{"$f":"'Comparison Group 3 Accessible'!B395","v":1197},{"$f":"'Comparison Group 3 Accessible'!C395","v":0.48997134670487108},{"$f":"'Comparison Group 2 Accessible'!B395","v":815},{"$f":"'Comparison Group 2 Accessible'!C395","v":0.42381695267810715},{"$f":"'Comparison Group 1 Accessible'!B395","v":146},{"$f":"'Comparison Group 1 Accessible'!C395","v":0.67592592592592593},{"$f":"SUM('Subject Data Accessible'!D395:H395)","v":7},{"$f":"H395/SUM(H$395:H$396)","v":0.58333333333333337},{"$f":"A395","v":"One-Way"},{"$f":"'Comparison Group 3 Accessible'!J395","v":53334},{"$f":"'Comparison Group 3 Accessible'!K395","v":0.4949423708680562},{"$f":"'Comparison Group 2 Accessible'!J395","v":43798},{"$f":"'Comparison Group 2 Accessible'!K395","v":0.51784764179386833},{"$f":"'Comparison Group 1 Accessible'!J395","v":4388},{"$f":"'Comparison Group 1 Accessible'!K395","v":0.52207019631171925},{"$f":"SUM('Subject Data Accessible'!L395:P395)","v":40},{"$f":"Q395/SUM(Q$395:Q$396)","v":0.51282051282051277}]
["Two-Way",{"$f":"'Comparison Group 3 Accessible'!B396","v":1246},{"$f":"'Comparison Group 3 Accessible'!C396","v":0.51002865329512892},{"$f":"'Comparison Group 2 Accessible'!B396","v":1108},{"$f":"'Comparison Group 2 Accessible'!C396","v":0.57618304732189285},{"$f":"'Comparison Group 1 Accessible'!B396","v":70},{"$f":"'Comparison Group 1 Accessible'!C396","v":0.32407407407407407},{"$f":"SUM('Subject Data Accessible'!D396:H396)","v":5},{"$f":"H396/SUM(H$395:H$396)","v":0.41666666666666669},{"$f":"A396","v":"Two-Way"},{"$f":"'Comparison Group 3 Accessible'!J396","v":54424},{"$f":"'Comparison Group 3 Accessible'!K396","v":0.50505762913194385},{"$f":"'Comparison Group 2 Accessible'!J396","v":40779},{"$f":"'Comparison Group 2 Accessible'!K396","v":0.48215235820613167},{"$f":"'Comparison Group 1 Accessible'!J396","v":4017},{"$f":"'Comparison Group 1 Accessible'!K396","v":0.47792980368828081},{"$f":"SUM('Subject Data Accessible'!L396:P396)","v":38},{"$f":"Q396/SUM(Q$395:Q$396)","v":0.48717948717948717}]
[{"$f":"CONCATENATE(\"Fatal and Serious Injury Crashes, Vehicle-Level Data - \",$A398,\"  \nComp 3 = \",Instructions!$B$12,\", Comp 2 = \",Instructions!$B$11,\", Comp 1 = \", Instructions!$B$10, \", Subject = \",Instructions!$B$9)","v":"Fatal and Serious Injury Crashes, Vehicle-Level Data - Median Type  \nComp 3 = Test Group 3, Comp 2 = Test Group 2, Comp 1 = Test Group 1, Subject = Test County"},null,null,null,null,null,null,null,null,{"$f":"CONCATENATE(\"Total Crashes, Vehicle-Level Data - \",J398,\"\nComp 3 = \",Instructions!$B$12,\", Comp 2 = \",Instructions!$B$11,\", Comp 1 = \", Instructions!$B$10, \", Subject = \",Instructions!$B$9)","v":"Total Crashes, Vehicle-Level Data - Median Type\nComp 3 = Test Group 3, Comp 2 = Test Group 2, Comp 1 = Test Group 1, Subject = Test County"}]
["Median Type","Comp 3 Number","Comp 3 Percent","Comp 2 Number","Comp 2 Percent","Comp 1 Number","Comp 1 Percent","Subject Number","Subject Percent","Median Type","Comp 3 Number","Comp 3 Percent","Comp 2 Number","Comp 2 Percent","Comp 1 Number","Comp 1 Percent","Subject Number","Subject Percent"]
["Not Divided",{"$f":"'Comparison Group 3 Accessible'!B399","v":219},{"$f":"'Comparison Group 3 Accessible'!C399","v":8.9643880474826035E-2},{"$f":"'Comparison Group 2 Accessible'!B399","v":105},{"$f":"'Comparison Group 2 Accessible'!C399","v":5.4602184087363496E-2},{"$f":"'Comparison Group 1 Accessible'!B399","v":68},{"$f":"'Comparison Group 1 Accessible'!C399","v":0.31481481481481483},{"$f":"SUM('Subject Data Accessible'!D399:H399)","v":2},{"$f":"H399/SUM(H$399:H$404)","v":0.22222222222222221},{"$f":"A399","v":"Not Divided"},{"$f":"'Comparison Group 3 Accessible'!J399","v":2529},{"$f":"'Comparison Group 3 Accessible'!K399","v":2.3469255182909855E-2},{"$f":"'Comparison Group 2 Accessible'!J399","v":9448},{"$f":"'Comparison Group 2 Accessible'!K399","v":0.11170885701786537},{"$f":"'Comparison Group 1 Accessible'!J399","v":2496},{"$f":"'Comparison Group 1 Accessible'!K399","v":0.29696609161213561},{"$f":"SUM('Subject Data Accessible'!L399:P399)","v":18},{"$f":"Q399/SUM(Q$399:Q$404)","v":0.23076923076923078}]
["Continuous Left-Turn Lane",{"$f":"'Comparison Group 3 Accessible'!B400","v":33},{"$f":"'Comparison Group 3 Accessible'!C400","v":1.3507981989357348E-2},{"$f":"'Comparison Group 2 Accessible'!B400","v":152},{"$f":"'Comparison Group 2 Accessible'!C400","v":7.9043161726469052E-2},{"$f":"'Comparison Group 1 Accessible'!B400","v":0},{"$f":"'Comparison Group 1 Accessible'!C400","v":0},{"$f":"SUM('Subject Data Accessible'!D400:H400)","v":0},{"$f":"H400/SUM(H$399:H$404)","v":0},"Continuous Left-Turn Lane",{"$f":"'Comparison Group 3 Accessible'!J400","v":349},{"$f":"'Comparison Group 3 Accessible'!K400","v":3.2387386551346537E-3},{"$f":"'Comparison Group 2 Accessible'!J400","v":7816},{"$f":"'Comparison Group 2 Accessible'!K400","v":9.2412830911477117E-2},{"$f":"'Comparison Group 1 Accessible'!J400","v":17},{"$f":"'Comparison Group 1 Accessible'!K400","v":2.0226055919095776E-3},{"$f":"SUM('Subject Data Accessible'!L400:P400)","v":0},{"$f":"Q400/SUM(Q$399:Q$404)","v":0}]
["Divided with Flush Median",{"$f":"'Comparison Group 3 Accessible'!B401","v":2169},{"$f":"'Comparison Group 3 Accessible'!C401","v":0.88784281620957839},{"$f":"'Comparison Group 2 Accessible'!B401","v":490},{"$f":"'Comparison Group 2 Accessible'!C401","v":0.25481019240769631},{"$f":"'Comparison Group 1 Accessible'!B401","v":52},{"$f":"'Comparison Group 1 Accessible'!C401","v":0.24074074074074073},{"$f":"SUM('Subject Data Accessible'!D401:H401)","v":2},0.22222222222222221,"Divided with Flush Median",{"$f":"'Comparison Group 3 Accessible'!J401","v":104525},{"$f":"'Comparison Group 3 Accessible'!K401","v":0.96999758718610218},{"$f":"'Comparison Group 2 Accessible'!J401","v":20110},{"$f":"'Comparison Group 2 Accessible'!K401","v":0.23777149816143869},{"$f":"'Comparison Group 1 Accessible'!J401","v":1919},{"$f":"'Comparison Group 1 Accessible'!K401","v":0.2283164782867341},{"$f":"SUM('Subject Data Accessible'!L401:P401)","v":17},0.21794871794871795]
["Divided with Raised Median",{"$f":"'Comparison Group 3 Accessible'!B402","v":12},{"$f":"'Comparison Group 3 Accessible'!C402","v":4.9119934506753988E-3},{"$f":"'Comparison Group 2 Accessible'!B402","v":382},{"$f":"'Comparison Group 2 Accessible'!C402","v":0.19864794591783672},{"$f":"'Comparison Group 1 Accessible'!B402","v":0},{"$f":"'Comparison Group 1 Accessible'!C402","v":0},{"$f":"SUM('Subject Data Accessible'!D402:H402)","v":0},0,"Divided with Raised Median",{"$f":"'Comparison Group 3 Accessible'!J402","v":141},{"$f":"'Comparison Group 3 Accessible'!K402","v":1.3084875368882124E-3},{"$f":"'Comparison Group 2 Accessible'!J402","v":16013},{"$f":"'Comparison Group 2 Accessible'!K402","v":0.1893304326235265},{"$f":"'Comparison Group 1 Accessible'!J402","v":29},{"$f":"'Comparison Group 1 Accessible'!K402","v":3.4503271861986914E-3},{"$f":"SUM('Subject Data Accessible'!L402:P402)","v":1},1.282051282051282E-2]
["Divided with Depressed Median",{"$f":"'Comparison Group 3 Accessible'!B403","v":10},{"$f":"'Comparison Group 3 Accessible'!C403","v":4.0933278755628322E-3},{"$f":"'Comparison Group 2 Accessible'!B403","v":292},{"$f":"'Comparison Group 2 Accessible'!C403","v":0.1518460738429537},{"$f":"'Comparison Group 1 Accessible'!B403","v":59},{"$f":"'Comparison Group 1 Accessible'!C403","v":0.27314814814814814},{"$f":"SUM('Subject Data Accessible'!D403:H403)","v":4},0.44444444444444442,"Divided with Depressed Median",{"$f":"'Comparison Group 3 Accessible'!J403","v":134},{"$f":"'Comparison Group 3 Accessible'!K403","v":1.2435271627164572E-3},{"$f":"'Comparison Group 2 Accessible'!J403","v":12498},{"$f":"'Comparison Group 2 Accessible'!K403","v":0.14777067051326009},{"$f":"'Comparison Group 1 Accessible'!J403","v":2227},{"$f":"'Comparison Group 1 Accessible'!K403","v":0.26496133254015469},{"$f":"SUM('Subject Data Accessible'!L403:P403)","v":16},0.20512820512820512]
["Unknown",{"$f":"'Comparison Group 3 Accessible'!B404","v":0},{"$f":"'Comparison Group 3 Accessible'!C404","v":0},{"$f":"'Comparison Group 2 Accessible'!B404","v":502},{"$f":"'Comparison Group 2 Accessible'!C404","v":0.26105044201768068},{"$f":"'Comparison Group 1 Accessible'!B404","v":37},{"$f":"'Comparison Group 1 Accessible'!C404","v":0.17129629629629631},{"$f":"SUM('Subject Data Accessible'!D404:H404)","v":1},0.1111111111111111,"Unknown",{"$f":"'Comparison Group 3 Accessible'!J404","v":80},{"$f":"'Comparison Group 3 Accessible'!K404","v":7.4240427624863118E-4},{"$f":"'Comparison Group 2 Accessible'!J404","v":18692},{"$f":"'Comparison Group 2 Accessible'!K404","v":0.22100571077243222},{"$f":"'Comparison Group 1 Accessible'!J404","v":1717},{"$f":"'Comparison Group 1 Accessible'!K404","v":0.20428316478286734},{"$f":"SUM('Subject Data Accessible'!L404:P404)","v":26},0.33333333333333331]
[{"$f":"CONCATENATE(\"Fatal and Serious Injury Crashes, Vehicle-Level Data - \",$A406,\"  \nComp 3 = \",Instructions!$B$12,\", Comp 2 = \",Instructions!$B$11,\", Comp 1 = \", Instructions!$B$10, \", Subject = \",Instructions!$B$9)","v":"Fatal and Serious Injury Crashes, Vehicle-Level Data - Barrier Type  \nComp 3 = Test Group 3, Comp 2 = Test Group 2, Comp 1 = Test Group 1, Subject = Test County"},null,null,null,null,null,null,null,null,{"$f":"CONCATENATE(\"Total Crashes, Vehicle-Level Data - \",J406,\"\nComp 3 = \",Instructions!$B$12,\", Comp 2 = \",Instructions!$B$11,\", Comp 1 = \", Instructions!$B$10, \", Subject = \",Instructions!$B$9)","v":"Total Crashes, Vehicle-Level Data - Barrier Type\nComp 3 = Test Group 3, Comp 2 = Test Group 2, Comp 1 = Test Group 1, Subject = Test County"}]
["Barrier Type","Comp 3 Number","Comp 3 Percent","Comp 2 Number","Comp 2 Percent","Comp 1 Number","Comp 1 Percent","Subject Number","Subject Percent","Barrier Type","Comp 3 Number","Comp 3 Percent","Comp 2 Number","Comp 2 Percent","Comp 1 Number","Comp 1 Percent","Subject Number","Subject Percent"]
["No Barrier",{"$f":"'Comparison Group 3 Accessible'!B407","v":705},{"$f":"'Comparison Group 3 Accessible'!C407","v":0.28857961522717968},{"$f":"'Comparison Group 2 Accessible'!B407","v":548},{"$f":"'Comparison Group 2 Accessible'!C407","v":0.28497139885595424},{"$f":"'Comparison Group 1 Accessible'!B407","v":2},{"$f":"'Comparison Group 1 Accessible'!C407","v":9.2592592592592587E-3},{"$f":"SUM('Subject Data Accessible'!D407:H407)","v":1},{"$f":"H407/SUM(H$407:H$413)","v":0.1},{"$f":"A407","v":"No Barrier"},{"$f":"'Comparison Group 3 Accessible'!J407","v":27676},{"$f":"'Comparison Group 3 Accessible'!K407","v":0.25683475936821398},{"$f":"'Comparison Group 2 Accessible'!J407","v":21266},{"$f":"'Comparison Group 2 Accessible'!K407","v":0.2514395166534637},{"$f":"'Comparison Group 1 Accessible'!J407","v":182},{"$f":"'Comparison Group 1 Accessible'!K407","v":2.1653777513384889E-2},{"$f":"SUM('Subject Data Accessible'!L407:P407)","v":2},{"$f":"Q407/SUM(Q$407:Q$413)","v":2.564102564102564E-2}]
["Cable Barrier",{"$f":"'Comparison Group 3 Accessible'!B408","v":7},{"$f":"'Comparison Group 3 Accessible'!C408","v":2.8653295128939827E-3},{"$f":"'Comparison Group 2 Accessible'!B408","v":6},{"$f":"'Comparison Group 2 Accessible'!C408","v":3.1201248049921998E-3},{"$f":"'Comparison Group 1 Accessible'!B408","v":1},{"$f":"'Comparison Group 1 Accessible'!C408","v":4.6296296296296294E-3},{"$f":"SUM('Subject Data Accessible'!D408:H408)","v":0},{"$f":"H408/SUM(H$407:H$413)","v":0},"Cable Barrier",{"$f":"'Comparison Group 3 Accessible'!J408","v":574},{"$f":"'Comparison Group 3 Accessible'!K408","v":5.3267506820839292E-3},{"$f":"'Comparison Group 2 Accessible'!J408","v":421},{"$f":"'Comparison Group 2 Accessible'!K408","v":4.9777126169053051E-3},{"$f":"'Comparison Group 1 Accessible'!J408","v":7},{"$f":"'Comparison Group 1 Accessible'!K408","v":8.3283759666864961E-4},{"$f":"SUM('Subject Data Accessible'!L408:P408)","v":0},{"$f":"Q408/SUM(Q$407:Q$413)","v":0}]
["Concrete Barrier",{"$f":"'Comparison Group 3 Accessible'!B409","v":576},{"$f":"'Comparison Group 3 Accessible'!C409","v":0.23577568563241916},{"$f":"'Comparison Group 2 Accessible'!B409","v":438},{"$f":"'Comparison Group 2 Accessible'!C409","v":0.22776911076443057},{"$f":"'Comparison Group 1 Accessible'!B409","v":2},{"$f":"'Comparison Group 1 Accessible'!C409","v":9.2592592592592587E-3},{"$f":"SUM('Subject Data Accessible'!D409:H409)","v":9},0.9,"Concrete Barrier",{"$f":"'Comparison Group 3 Accessible'!J409","v":26226},{"$f":"'Comparison Group 3 Accessible'!K409","v":0.24337868186120751},{"$f":"'Comparison Group 2 Accessible'!J409","v":20271},{"$f":"'Comparison Group 2 Accessible'!K409","v":0.23967508897217921},{"$f":"'Comparison Group 1 Accessible'!J409","v":46},{"$f":"'Comparison Group 1 Accessible'!K409","v":5.4729327781082686E-3},{"$f":"SUM('Subject Data Accessible'!L409:P409)","v":76},0.97435897435897434]
["Earth Embankment",{"$f":"'Comparison Group 3 Accessible'!B410","v":11},{"$f":"'Comparison Group 3 Accessible'!C410","v":4.5026606631191155E-3},{"$f":"'Comparison Group 2 Accessible'!B410","v":10},{"$f":"'Comparison Group 2 Accessible'!C410","v":5.2002080083203327E-3},{"$f":"'Comparison Group 1 Accessible'!B410","v":101},{"$f":"'Comparison Group 1 Accessible'!C410","v":0.46759259259259262},{"$f":"SUM('Subject Data Accessible'!D410:H410)","v":0},0,"Earth Embankment",{"$f":"'Comparison Group 3 Accessible'!J410","v":533},{"$f":"'Comparison Group 3 Accessible'!K410","v":4.9462684905065054E-3},{"$f":"'Comparison Group 2 Accessible'!J410","v":424},{"$f":"'Comparison Group 2 Accessible'!K410","v":5.0131832531302833E-3},{"$f":"'Comparison Group 1 Accessible'!J410","v":3079},{"$f":"'Comparison Group 1 Accessible'!K410","v":0.36632956573468173},{"$f":"SUM('Subject Data Accessible'!L410:P410)","v":0},0]
["Guardrail",{"$f":"'Comparison Group 3 Accessible'!B411","v":582},{"$f":"'Comparison Group 3 Accessible'!C411","v":0.23823168235775685},{"$f":"'Comparison Group 2 Accessible'!B411","v":469},{"$f":"'Comparison Group 2 Accessible'!C411","v":0.24388975559022361},{"$f":"'Comparison Group 1 Accessible'!B411","v":0},{"$f":"'Comparison Group 1 Accessible'!C411","v":0},{"$f":"SUM('Subject Data Accessible'!D411:H411)","v":0},0,"Guardrail",{"$f":"'Comparison Group 3 Accessible'!J411","v":26757},{"$f":"'Comparison Group 3 Accessible'!K411","v":0.2483063902448078},{"$f":"'Comparison Group 2 Accessible'!J411","v":21514},{"$f":"'Comparison Group 2 Accessible'!K411","v":0.2543717559147286},{"$f":"'Comparison Group 1 Accessible'!J411","v":0},{"$f":"'Comparison Group 1 Accessible'!K411","v":0},{"$f":"SUM('Subject Data Accessible'!L411:P411)","v":0},0]
["Box Barrier",{"$f":"'Comparison Group 3 Accessible'!B412","v":5},{"$f":"'Comparison Group 3 Accessible'!C412","v":2.0466639377814161E-3},{"$f":"'Comparison Group 2 Accessible'!B412","v":4},{"$f":"'Comparison Group 2 Accessible'!C412","v":2.0800832033281333E-3},{"$f":"'Comparison Group 1 Accessible'!B412","v":91},{"$f":"'Comparison Group 1 Accessible'!C412","v":0.42129629629629628},{"$f":"SUM('Subject Data Accessible'!D412:H412)","v":0},0,"Box Barrier",{"$f":"'Comparison Group 3 Accessible'!J412","v":412},{"$f":"'Comparison Group 3 Accessible'!K412","v":3.8233820226804506E-3},{"$f":"'Comparison Group 2 Accessible'!J412","v":337},{"$f":"'Comparison Group 2 Accessible'!K412","v":3.9845348026059093E-3},{"$f":"'Comparison Group 1 Accessible'!J412","v":3897},{"$f":"'Comparison Group 1 Accessible'!K412","v":0.46365258774538964},{"$f":"SUM('Subject Data Accessible'!L412:P412)","v":0},0]
["Other Barrier",{"$f":"'Comparison Group 3 Accessible'!B413","v":557},{"$f":"'Comparison Group 3 Accessible'!C413","v":0.22799836266884976},{"$f":"'Comparison Group 2 Accessible'!B413","v":448},{"$f":"'Comparison Group 2 Accessible'!C413","v":0.2329693187727509},{"$f":"'Comparison Group 1 Accessible'!B413","v":19},{"$f":"'Comparison Group 1 Accessible'!C413","v":8.7962962962962965E-2},{"$f":"SUM('Subject Data Accessible'!D413:H413)","v":0},0,"Other Barrier",{"$f":"'Comparison Group 3 Accessible'!J413","v":25580},{"$f":"'Comparison Group 3 Accessible'!K413","v":0.23738376733049982},{"$f":"'Comparison Group 2 Accessible'!J413","v":20344},{"$f":"'Comparison Group 2 Accessible'!K413","v":0.24053820778698701},{"$f":"'Comparison Group 1 Accessible'!J413","v":1194},{"$f":"'Comparison Group 1 Accessible'!K413","v":0.14205829863176681},{"$f":"SUM('Subject Data Accessible'!L413:P413)","v":0},0]
[{"$f":"CONCATENATE(\"Fatal and Serious Injury Crashes, Vehicle-Level Data - \",$A415,\"  \nComp 3 = \",Instructions!$B$12,\", Comp 2 = \",Instructions!$B$11,\", Comp 1 = \", Instructions!$B$10, \", Subject = \",Instructions!$B$9)","v":"Fatal and Serious Injury Crashes, Vehicle-Level Data - Number of Lanes  \nComp 3 = Test Group 3, Comp 2 = Test Group 2, Comp 1 = Test Group 1, Subject = Test County"},null,null,null,null,null,null,null,null,{"$f":"CONCATENATE(\"Total Crashes, Vehicle-Level Data - \",J415,\"\nComp 3 = \",Instructions!$B$12,\", Comp 2 = \",Instructions!$B$11,\", Comp 1 = \", Instructions!$B$10, \", Subject = \",Instructions!$B$9)","v":"Total Crashes, Vehicle-Level Data - Number of Lanes\nComp 3 = Test Group 3, Comp 2 = Test Group 2, Comp 1 = Test Group 1, Subject = Test County"}]
["Number of Lanes","Comp 3 Number","Comp 3 Percent","Comp 2 Number","Comp 2 Percent","Comp 1 Number","Comp 1 Percent","Subject Number","Subject Percent","Number of Lanes","Comp 3 Number","Comp 3 Percent","Comp 2 Number","Comp 2 Percent","Comp 1 Number","Comp 1 Percent","Subject Number","Subject Percent"]
["One",{"$f":"'Comparison Group 3 Accessible'!B416","v":191},{"$f":"'Comparison Group 3 Accessible'!C416","v":7.8182562423250099E-2},{"$f":"'Comparison Group 2 Accessible'!B416","v":105},{"$f":"'Comparison Group 2 Accessible'!C416","v":5.4602184087363496E-2},{"$f":"'Comparison Group 1 Accessible'!B416","v":20},{"$f":"'Comparison Group 1 Accessible'!C416","v":9.2592592592592587E-2},{"$f":"SUM('Subject Data Accessible'!D416:H416)","v":1},{"$f":"H416/SUM(H$416:H$426)","v":0.1},{"$f":"A416","v":"One"},{"$f":"'Comparison Group 3 Accessible'!J416","v":968},{"$f":"'Comparison Group 3 Accessible'!K416","v":8.9830917426084369E-3},{"$f":"'Comparison Group 2 Accessible'!J416","v":9448},{"$f":"'Comparison Group 2 Accessible'!K416","v":0.11170885701786537},{"$f":"'Comparison Group 1 Accessible'!J416","v":1300},{"$f":"'Comparison Group 1 Accessible'!K416","v":0.15466983938132065},{"$f":"SUM('Subject Data Accessible'!L416:P416)","v":2},{"$f":"Q416/SUM(Q$416:Q$426)","v":2.564102564102564E-2}]
["Two",{"$f":"'Comparison Group 3 Accessible'!B417","v":1012},{"$f":"'Comparison Group 3 Accessible'!C417","v":0.41424478100695866},{"$f":"'Comparison Group 2 Accessible'!B417","v":152},{"$f":"'Comparison Group 2 Accessible'!C417","v":7.9043161726469052E-2},{"$f":"'Comparison Group 1 Accessible'!B417","v":24},{"$f":"'Comparison Group 1 Accessible'!C417","v":0.1111111111111111},{"$f":"SUM('Subject Data Accessible'!D417:H417)","v":0},{"$f":"H417/SUM(H$416:H$426)","v":0},"Two",{"$f":"'Comparison Group 3 Accessible'!J417","v":54907},{"$f":"'Comparison Group 3 Accessible'!K417","v":0.5095398949497949},{"$f":"'Comparison Group 2 Accessible'!J417","v":7816},{"$f":"'Comparison Group 2 Accessible'!K417","v":9.2412830911477117E-2},{"$f":"'Comparison Group 1 Accessible'!J417","v":761},{"$f":"'Comparison Group 1 Accessible'!K417","v":9.0541344437834625E-2},{"$f":"SUM('Subject Data Accessible'!L417:P417)","v":0},{"$f":"Q417/SUM(Q$416:Q$426)","v":0}]
["Three",{"$f":"'Comparison Group 3 Accessible'!B418","v":3},{"$f":"'Comparison Group 3 Accessible'!C418","v":1.2279983626688497E-3},{"$f":"'Comparison Group 2 Accessible'!B418","v":490},{"$f":"'Comparison Group 2 Accessible'!C418","v":0.25481019240769631},{"$f":"'Comparison Group 1 Accessible'!B418","v":44},{"$f":"'Comparison Group 1 Accessible'!C418","v":0.20370370370370369},{"$f":"SUM('Subject Data Accessible'!D418:H418)","v":0},0,"Three",{"$f":"'Comparison Group 3 Accessible'!J418","v":123},{"$f":"'Comparison Group 3 Accessible'!K418","v":1.1414465747322704E-3},{"$f":"'Comparison Group 2 Accessible'!J418","v":20110},{"$f":"'Comparison Group 2 Accessible'!K418","v":0.23777149816143869},{"$f":"'Comparison Group 1 Accessible'!J418","v":1915},{"$f":"'Comparison Group 1 Accessible'!K418","v":0.22784057108863773},{"$f":"SUM('Subject Data Accessible'!L418:P418)","v":0},0]
["Four",{"$f":"'Comparison Group 3 Accessible'!B419","v":322},{"$f":"'Comparison Group 3 Accessible'!C419","v":0.1318051575931232},{"$f":"'Comparison Group 2 Accessible'!B419","v":382},{"$f":"'Comparison Group 2 Accessible'!C419","v":0.19864794591783672},{"$f":"'Comparison Group 1 Accessible'!B419","v":48},{"$f":"'Comparison Group 1 Accessible'!C419","v":0.22222222222222221},{"$f":"SUM('Subject Data Accessible'!D419:H419)","v":1},0.1,"Four",{"$f":"'Comparison Group 3 Accessible'!J419","v":16709},{"$f":"'Comparison Group 3 Accessible'!K419","v":0.15506041314797972},{"$f":"'Comparison Group 2 Accessible'!J419","v":16013},{"$f":"'Comparison Group 2 Accessible'!K419","v":0.1893304326235265},{"$f":"'Comparison Group 1 Accessible'!J419","v":1540},{"$f":"'Comparison Group 1 Accessible'!K419","v":0.18322427126710292},{"$f":"SUM('Subject Data Accessible'!L419:P419)","v":7},8.9743589743589744E-2]
["Five",{"$f":"'Comparison Group 3 Accessible'!B420","v":13},{"$f":"'Comparison Group 3 Accessible'!C420","v":5.3213262382316821E-3},{"$f":"'Comparison Group 2 Accessible'!B420","v":292},{"$f":"'Comparison Group 2 Accessible'!C420","v":0.1518460738429537},{"$f":"'Comparison Group 1 Accessible'!B420","v":25},{"$f":"'Comparison Group 1 Accessible'!C420","v":0.11574074074074074},{"$f":"SUM('Subject Data Accessible'!D420:H420)","v":0},0,"Five",{"$f":"'Comparison Group 3 Accessible'!J420","v":457},{"$f":"'Comparison Group 3 Accessible'!K420","v":4.2409844280703055E-3},{"$f":"'Comparison Group 2 Accessible'!J420","v":12498},{"$f":"'Comparison Group 2 Accessible'!K420","v":0.14777067051326009},{"$f":"'Comparison Group 1 Accessible'!J420","v":1161},{"$f":"'Comparison Group 1 Accessible'!K420","v":0.13813206424747174},{"$f":"SUM('Subject Data Accessible'!L420:P420)","v":5},6.4102564102564097E-2]
["Six",{"$f":"'Comparison Group 3 Accessible'!B421","v":3},{"$f":"'Comparison Group 3 Accessible'!C421","v":1.2279983626688497E-3},{"$f":"'Comparison Group 2 Accessible'!B421","v":268},{"$f":"'Comparison Group 2 Accessible'!C421","v":0.13936557462298491},{"$f":"'Comparison Group 1 Accessible'!B421","v":24},{"$f":"'Comparison Group 1 Accessible'!C421","v":0.1111111111111111},{"$f":"SUM('Subject Data Accessible'!D421:H421)","v":0},0,"Six",{"$f":"'Comparison Group 3 Accessible'!J421","v":133},{"$f":"'Comparison Group 3 Accessible'!K421","v":1.2342471092633494E-3},{"$f":"'Comparison Group 2 Accessible'!J421","v":10059},{"$f":"'Comparison Group 2 Accessible'!K421","v":0.11893304326235266},{"$f":"'Comparison Group 1 Accessible'!J421","v":1008},{"$f":"'Comparison Group 1 Accessible'!K421","v":0.11992861392028555},{"$f":"SUM('Subject Data Accessible'!L421:P421)","v":4},5.128205128205128E-2]
["Seven",{"$f":"'Comparison Group 3 Accessible'!B422","v":492},{"$f":"'Comparison Group 3 Accessible'!C422","v":0.20139173147769138},{"$f":"'Comparison Group 2 Accessible'!B422","v":131},{"$f":"'Comparison Group 2 Accessible'!C422","v":6.812272490899636E-2},{"$f":"'Comparison Group 1 Accessible'!B422","v":20},{"$f":"'Comparison Group 1 Accessible'!C422","v":9.2592592592592587E-2},{"$f":"SUM('Subject Data Accessible'!D422:H422)","v":0},0,"Seven",{"$f":"'Comparison Group 3 Accessible'!J422","v":24827},{"$f":"'Comparison Group 3 Accessible'!K422","v":0.23039588708030959},{"$f":"'Comparison Group 2 Accessible'!J422","v":5801},{"$f":"'Comparison Group 2 Accessible'!K422","v":6.8588386913699936E-2},{"$f":"'Comparison Group 1 Accessible'!J422","v":458},{"$f":"'Comparison Group 1 Accessible'!K422","v":5.4491374182034501E-2},{"$f":"SUM('Subject Data Accessible'!L422:P422)","v":0},0]
["Eight",{"$f":"'Comparison Group 3 Accessible'!B423","v":2},{"$f":"'Comparison Group 3 Accessible'!C423","v":8.1866557511256651E-4},{"$f":"'Comparison Group 2 Accessible'!B423","v":60},{"$f":"'Comparison Group 2 Accessible'!C423","v":3.1201248049921998E-2},{"$f":"'Comparison Group 1 Accessible'!B423","v":6},{"$f":"'Comparison Group 1 Accessible'!C423","v":2.7777777777777776E-2},{"$f":"SUM('Subject Data Accessible'!D423:H423)","v":0},0,"Eight",{"$f":"'Comparison Group 3 Accessible'!J423","v":56},{"$f":"'Comparison Group 3 Accessible'!K423","v":5.1968299337404181E-4},{"$f":"'Comparison Group 2 Accessible'!J423","v":2049},{"$f":"'Comparison Group 2 Accessible'!K423","v":2.4226444541660262E-2},{"$f":"'Comparison Group 1 Accessible'!J423","v":183},{"$f":"'Comparison Group 1 Accessible'!K423","v":2.1772754312908982E-2},{"$f":"SUM('Subject Data Accessible'!L423:P423)","v":0},0]
["Nine",{"$f":"'Comparison Group 3 Accessible'!B424","v":82},{"$f":"'Comparison Group 3 Accessible'!C424","v":3.3565288579615229E-2},{"$f":"'Comparison Group 2 Accessible'!B424","v":19},{"$f":"'Comparison Group 2 Accessible'!C424","v":9.8803952158086315E-3},{"$f":"'Comparison Group 1 Accessible'!B424","v":5},{"$f":"'Comparison Group 1 Accessible'!C424","v":2.3148148148148147E-2},{"$f":"SUM('Subject Data Accessible'!D424:H424)","v":7},0.7,"Nine",{"$f":"'Comparison Group 3 Accessible'!J424","v":3605},{"$f":"'Comparison Group 3 Accessible'!K424","v":3.3454592698453946E-2},{"$f":"'Comparison Group 2 Accessible'!J424","v":723},{"$f":"'Comparison Group 2 Accessible'!K424","v":8.5484233302197989E-3},{"$f":"'Comparison Group 1 Accessible'!J424","v":36},{"$f":"'Comparison Group 1 Accessible'!K424","v":4.2831647828673412E-3},{"$f":"SUM('Subject Data Accessible'!L424:P424)","v":43},0.55128205128205132]
["Ten or More",{"$f":"'Comparison Group 3 Accessible'!B425","v":3},{"$f":"'Comparison Group 3 Accessible'!C425","v":1.2279983626688497E-3},{"$f":"'Comparison Group 2 Accessible'!B425","v":0},{"$f":"'Comparison Group 2 Accessible'!C425","v":0},{"$f":"'Comparison Group 1 Accessible'!B425","v":0},{"$f":"'Comparison Group 1 Accessible'!C425","v":0},{"$f":"SUM('Subject Data Accessible'!D425:H425)","v":0},0,"Ten or More",{"$f":"'Comparison Group 3 Accessible'!J425","v":46},{"$f":"'Comparison Group 3 Accessible'!K425","v":4.2688245884296293E-4},{"$f":"'Comparison Group 2 Accessible'!J425","v":33},{"$f":"'Comparison Group 2 Accessible'!K425","v":3.9017699847476267E-4},{"$f":"'Comparison Group 1 Accessible'!J425","v":7},{"$f":"'Comparison Group 1 Accessible'!K425","v":8.3283759666864961E-4},{"$f":"SUM('Subject Data Accessible'!L425:P425)","v":0},0]
["Unknown",{"$f":"'Comparison Group 3 Accessible'!B426","v":320},{"$f":"'Comparison Group 3 Accessible'!C426","v":0.13098649201801063},{"$f":"'Comparison Group 2 Accessible'!B426","v":24},{"$f":"'Comparison Group 2 Accessible'!C426","v":1.2480499219968799E-2},{"$f":"'Comparison Group 1 Accessible'!B426","v":0},{"$f":"'Comparison Group 1 Accessible'!C426","v":0},{"$f":"SUM('Subject Data Accessible'!D426:H426)","v":1},0.1,"Unknown",{"$f":"'Comparison Group 3 Accessible'!J426","v":5927},{"$f":"'Comparison Group 3 Accessible'!K426","v":5.5002876816570463E-2},{"$f":"'Comparison Group 2 Accessible'!J426","v":27},{"$f":"'Comparison Group 2 Accessible'!K426","v":3.1923572602480577E-4},{"$f":"'Comparison Group 1 Accessible'!J426","v":36},{"$f":"'Comparison Group 1 Accessible'!K426","v":4.2831647828673412E-3},{"$f":"SUM('Subject Data Accessible'!L426:P426)","v":17},0.21794871794871795]
[{"$f":"CONCATENATE(\"Fatal and Serious Injury Crashes, Vehicle-Level Data - \",$A428,\"  \nComp 3 = \",Instructions!$B$12,\", Comp 2 = \",Instructions!$B$11,\", Comp 1 = \", Instructions!$B$10, \", Subject = \",Instructions!$B$9)","v":"Fatal and Serious Injury Crashes, Vehicle-Level Data - Motor Vehicle Maneuver Prior to Crash  \nComp 3 = Test Group 3, Comp 2 = Test Group 2, Comp 1 = Test Group 1, Subject = Test County"},null,null,null,null,null,null,null,null,{"$f":"CONCATENATE(\"Total Crashes, Vehicle-Level Data - \",J428,\"\nComp 3 = \",Instructions!$B$12,\", Comp 2 = \",Instructions!$B$11,\", Comp 1 = \", Instructions!$B$10, \", Subject = \",Instructions!$B$9)","v":"Total Crashes, Vehicle-Level Data - Motor Vehicle Maneuver Prior to Crash\nComp 3 = Test Group 3, Comp 2 = Test Group 2, Comp 1 = Test Group 1, Subject = Test County"}]
["Motor Vehicle Maneuver Prior to Crash","Comp 3 Number","Comp 3 Percent","Comp 2 Number","Comp 2 Percent","Comp 1 Number","Comp 1 Percent","Subject Number","Subject Percent","Motor Vehicle Maneuver Prior to Crash","Comp 3 Number","Comp 3 Percent","Comp 2 Number","Comp 2 Percent","Comp 1 Number","Comp 1 Percent","Subject Number","Subject Percent"]
["Backing",{"$f":"'Comparison Group 3 Accessible'!B429","v":57},{"$f":"'Comparison Group 3 Accessible'!C429","v":2.3331968890708144E-2},{"$f":"'Comparison Group 2 Accessible'!B429","v":36},{"$f":"'Comparison Group 2 Accessible'!C429","v":1.8720748829953199E-2},{"$f":"'Comparison Group 1 Accessible'!B429","v":3},{"$f":"'Comparison Group 1 Accessible'!C429","v":1.3888888888888888E-2},{"$f":"SUM('Subject Data Accessible'!D429:H429)","v":0},{"$f":"H429/SUM(H$429:H$443)","v":0},{"$f":"A429","v":"Backing"},{"$f":"'Comparison Group 3 Accessible'!J429","v":4600},{"$f":"'Comparison Group 3 Accessible'!K429","v":4.2688245884296296E-2},{"$f":"'Comparison Group 2 Accessible'!J429","v":3248},{"$f":"'Comparison Group 2 Accessible'!K429","v":3.8402875486243306E-2},{"$f":"'Comparison Group 1 Accessible'!J429","v":41},{"$f":"'Comparison Group 1 Accessible'!K429","v":4.8780487804878049E-3},{"$f":"SUM('Subject Data Accessible'!L429:P429)","v":1},{"$f":"Q429/SUM(Q$429:Q$443)","v":1.282051282051282E-2}]
["Changing Lanes",{"$f":"'Comparison Group 3 Accessible'!B430","v":3},{"$f":"'Comparison Group 3 Accessible'!C430","v":1.2279983626688497E-3},{"$f":"'Comparison Group 2 Accessible'!B430","v":2},{"$f":"'Comparison Group 2 Accessible'!C430","v":1.0400416016640667E-3},{"$f":"'Comparison Group 1 Accessible'!B430","v":1},{"$f":"'Comparison Group 1 Accessible'!C430","v":4.6296296296296294E-3},{"$f":"SUM('Subject Data Accessible'!D430:H430)","v":0},{"$f":"H430/SUM(H$429:H$443)","v":0},"Changing Lanes",{"$f":"'Comparison Group 3 Accessible'!J430","v":380},{"$f":"'Comparison Group 3 Accessible'!K430","v":3.5264203121809982E-3},{"$f":"'Comparison Group 2 Accessible'!J430","v":296},{"$f":"'Comparison Group 2 Accessible'!K430","v":3.4997694408645378E-3},{"$f":"'Comparison Group 1 Accessible'!J430","v":239},{"$f":"'Comparison Group 1 Accessible'!K430","v":2.843545508625818E-2},{"$f":"SUM('Subject Data Accessible'!L430:P430)","v":7},{"$f":"Q430/SUM(Q$429:Q$443)","v":8.9743589743589744E-2}]
["Entering Traffic Lane",{"$f":"'Comparison Group 3 Accessible'!B431","v":1335},{"$f":"'Comparison Group 3 Accessible'!C431","v":0.54645927138763817},{"$f":"'Comparison Group 2 Accessible'!B431","v":1076},{"$f":"'Comparison Group 2 Accessible'!C431","v":0.55954238169526782},{"$f":"'Comparison Group 1 Accessible'!B431","v":3},{"$f":"'Comparison Group 1 Accessible'!C431","v":1.3888888888888888E-2},{"$f":"SUM('Subject Data Accessible'!D431:H431)","v":0},0,"Entering Traffic Lane",{"$f":"'Comparison Group 3 Accessible'!J431","v":49057},{"$f":"'Comparison Group 3 Accessible'!K431","v":0.45525158224911377},{"$f":"'Comparison Group 2 Accessible'!J431","v":38712},{"$f":"'Comparison Group 2 Accessible'!K431","v":0.45771308984712156},{"$f":"'Comparison Group 1 Accessible'!J431","v":153},{"$f":"'Comparison Group 1 Accessible'!K431","v":1.8203450327186198E-2},{"$f":"SUM('Subject Data Accessible'!L431:P431)","v":0},0]
["Leaving Traffic Lane",{"$f":"'Comparison Group 3 Accessible'!B432","v":308},{"$f":"'Comparison Group 3 Accessible'!C432","v":0.12607449856733524},{"$f":"'Comparison Group 2 Accessible'!B432","v":264},{"$f":"'Comparison Group 2 Accessible'!C432","v":0.13728549141965679},{"$f":"'Comparison Group 1 Accessible'!B432","v":0},{"$f":"'Comparison Group 1 Accessible'!C432","v":0},{"$f":"SUM('Subject Data Accessible'!D432:H432)","v":0},0,"Leaving Traffic Lane",{"$f":"'Comparison Group 3 Accessible'!J432","v":9961},{"$f":"'Comparison Group 3 Accessible'!K432","v":9.2438612446407692E-2},{"$f":"'Comparison Group 2 Accessible'!J432","v":8194},{"$f":"'Comparison Group 2 Accessible'!K432","v":9.6882131075824399E-2},{"$f":"'Comparison Group 1 Accessible'!J432","v":60},{"$f":"'Comparison Group 1 Accessible'!K432","v":7.138607971445568E-3},{"$f":"SUM('Subject Data Accessible'!L432:P432)","v":1},1.282051282051282E-2]
["Making U-Turn",{"$f":"'Comparison Group 3 Accessible'!B433","v":49},{"$f":"'Comparison Group 3 Accessible'!C433","v":2.0057306590257881E-2},{"$f":"'Comparison Group 2 Accessible'!B433","v":44},{"$f":"'Comparison Group 2 Accessible'!C433","v":2.2880915236609463E-2},{"$f":"'Comparison Group 1 Accessible'!B433","v":111},{"$f":"'Comparison Group 1 Accessible'!C433","v":0.51388888888888884},{"$f":"SUM('Subject Data Accessible'!D433:H433)","v":4},0.4,"Making U-Turn",{"$f":"'Comparison Group 3 Accessible'!J433","v":3813},{"$f":"'Comparison Group 3 Accessible'!K433","v":3.5384843816700387E-2},{"$f":"'Comparison Group 2 Accessible'!J433","v":3211},{"$f":"'Comparison Group 2 Accessible'!K433","v":3.7965404306135236E-2},{"$f":"'Comparison Group 1 Accessible'!J433","v":3612},{"$f":"'Comparison Group 1 Accessible'!K433","v":0.42974419988102319},{"$f":"SUM('Subject Data Accessible'!L433:P433)","v":26},0.33333333333333331]
["Movements Essentially Straight Ahead",{"$f":"'Comparison Group 3 Accessible'!B434","v":21},{"$f":"'Comparison Group 3 Accessible'!C434","v":8.5959885386819486E-3},{"$f":"'Comparison Group 2 Accessible'!B434","v":14},{"$f":"'Comparison Group 2 Accessible'!C434","v":7.2802912116484656E-3},{"$f":"'Comparison Group 1 Accessible'!B434","v":21},{"$f":"'Comparison Group 1 Accessible'!C434","v":9.7222222222222224E-2},{"$f":"SUM('Subject Data Accessible'!D434:H434)","v":0},0,"Movements Essentially Straight Ahead",{"$f":"'Comparison Group 3 Accessible'!J434","v":607},{"$f":"'Comparison Group 3 Accessible'!K434","v":5.6329924460364889E-3},{"$f":"'Comparison Group 2 Accessible'!J434","v":472},{"$f":"'Comparison Group 2 Accessible'!K434","v":5.580713432729938E-3},{"$f":"'Comparison Group 1 Accessible'!J434","v":874},{"$f":"'Comparison Group 1 Accessible'!K434","v":0.10398572278405711},{"$f":"SUM('Subject Data Accessible'!L434:P434)","v":8},0.10256410256410256]
["Negotiating a Curve",{"$f":"'Comparison Group 3 Accessible'!B435","v":279},{"$f":"'Comparison Group 3 Accessible'!C435","v":0.11420384772820302},{"$f":"'Comparison Group 2 Accessible'!B435","v":198},{"$f":"'Comparison Group 2 Accessible'!C435","v":0.10296411856474259},{"$f":"'Comparison Group 1 Accessible'!B435","v":2},{"$f":"'Comparison Group 1 Accessible'!C435","v":9.2592592592592587E-3},{"$f":"SUM('Subject Data Accessible'!D435:H435)","v":2},0.2,"Negotiating a Curve",{"$f":"'Comparison Group 3 Accessible'!J435","v":4847},{"$f":"'Comparison Group 3 Accessible'!K435","v":4.4980419087213945E-2},{"$f":"'Comparison Group 2 Accessible'!J435","v":3023},{"$f":"'Comparison Group 2 Accessible'!K435","v":3.5742577769369926E-2},{"$f":"'Comparison Group 1 Accessible'!J435","v":320},{"$f":"'Comparison Group 1 Accessible'!K435","v":3.8072575847709698E-2},{"$f":"SUM('Subject Data Accessible'!L435:P435)","v":9},0.11538461538461539]
["Overtaking/Passing",{"$f":"'Comparison Group 3 Accessible'!B436","v":42},{"$f":"'Comparison Group 3 Accessible'!C436","v":1.7191977077363897E-2},{"$f":"'Comparison Group 2 Accessible'!B436","v":28},{"$f":"'Comparison Group 2 Accessible'!C436","v":1.4560582423296931E-2},{"$f":"'Comparison Group 1 Accessible'!B436","v":5},{"$f":"'Comparison Group 1 Accessible'!C436","v":2.3148148148148147E-2},{"$f":"SUM('Subject Data Accessible'!D436:H436)","v":0},0,"Overtaking/Passing",{"$f":"'Comparison Group 3 Accessible'!J436","v":4165},{"$f":"'Comparison Group 3 Accessible'!K436","v":3.8651422632194364E-2},{"$f":"'Comparison Group 2 Accessible'!J436","v":3405},{"$f":"'Comparison Group 2 Accessible'!K436","v":4.025917211535051E-2},{"$f":"'Comparison Group 1 Accessible'!J436","v":100},{"$f":"'Comparison Group 1 Accessible'!K436","v":1.1897679952409279E-2},{"$f":"SUM('Subject Data Accessible'!L436:P436)","v":1},1.282051282051282E-2]
["Parked",{"$f":"'Comparison Group 3 Accessible'!B437","v":22},{"$f":"'Comparison Group 3 Accessible'!C437","v":9.005321326238231E-3},{"$f":"'Comparison Group 2 Accessible'!B437","v":11},{"$f":"'Comparison Group 2 Accessible'!C437","v":5.7202288091523657E-3},{"$f":"'Comparison Group 1 Accessible'!B437","v":35},{"$f":"'Comparison Group 1 Accessible'!C437","v":0.16203703703703703},{"$f":"SUM('Subject Data Accessible'!D437:H437)","v":3},0.3,"Parked",{"$f":"'Comparison Group 3 Accessible'!J437","v":632},{"$f":"'Comparison Group 3 Accessible'!K437","v":5.8649937823641862E-3},{"$f":"'Comparison Group 2 Accessible'!J437","v":424},{"$f":"'Comparison Group 2 Accessible'!K437","v":5.0131832531302833E-3},{"$f":"'Comparison Group 1 Accessible'!J437","v":580},{"$f":"'Comparison Group 1 Accessible'!K437","v":6.9006543723973829E-2},{"$f":"SUM('Subject Data Accessible'!L437:P437)","v":8},0.10256410256410256]
["Slowing",{"$f":"'Comparison Group 3 Accessible'!B438","v":92},{"$f":"'Comparison Group 3 Accessible'!C438","v":3.7658616455178061E-2},{"$f":"'Comparison Group 2 Accessible'!B438","v":74},{"$f":"'Comparison Group 2 Accessible'!C438","v":3.8481539261570462E-2},{"$f":"'Comparison Group 1 Accessible'!B438","v":8},{"$f":"'Comparison Group 1 Accessible'!C438","v":3.7037037037037035E-2},{"$f":"SUM('Subject Data Accessible'!D438:H438)","v":0},0,"Slowing",{"$f":"'Comparison Group 3 Accessible'!J438","v":8515},{"$f":"'Comparison Group 3 Accessible'!K438","v":7.9019655153213686E-2},{"$f":"'Comparison Group 2 Accessible'!J438","v":6732},{"$f":"'Comparison Group 2 Accessible'!K438","v":7.9596107688851572E-2},{"$f":"'Comparison Group 1 Accessible'!J438","v":676},{"$f":"'Comparison Group 1 Accessible'!K438","v":8.0428316478286729E-2},{"$f":"SUM('Subject Data Accessible'!L438:P438)","v":8},0.10256410256410256]
["Stopped in Traffic",{"$f":"'Comparison Group 3 Accessible'!B439","v":169},{"$f":"'Comparison Group 3 Accessible'!C439","v":6.9177241097011871E-2},{"$f":"'Comparison Group 2 Accessible'!B439","v":140},{"$f":"'Comparison Group 2 Accessible'!C439","v":7.2802912116484653E-2},{"$f":"'Comparison Group 1 Accessible'!B439","v":4},{"$f":"'Comparison Group 1 Accessible'!C439","v":1.8518518518518517E-2},{"$f":"SUM('Subject Data Accessible'!D439:H439)","v":0},0,"Stopped in Traffic",{"$f":"'Comparison Group 3 Accessible'!J439","v":18284},{"$f":"'Comparison Group 3 Accessible'!K439","v":0.16967649733662465},{"$f":"'Comparison Group 2 Accessible'!J439","v":14771},{"$f":"'Comparison Group 2 Accessible'!K439","v":0.17464558922638543},{"$f":"'Comparison Group 1 Accessible'!J439","v":101},{"$f":"'Comparison Group 1 Accessible'!K439","v":1.2016656751933374E-2},{"$f":"SUM('Subject Data Accessible'!L439:P439)","v":2},2.564102564102564E-2]
["Turning Left",{"$f":"'Comparison Group 3 Accessible'!B440","v":5},{"$f":"'Comparison Group 3 Accessible'!C440","v":2.0466639377814161E-3},{"$f":"'Comparison Group 2 Accessible'!B440","v":2},{"$f":"'Comparison Group 2 Accessible'!C440","v":1.0400416016640667E-3},{"$f":"'Comparison Group 1 Accessible'!B440","v":6},{"$f":"'Comparison Group 1 Accessible'!C440","v":2.7777777777777776E-2},{"$f":"SUM('Subject Data Accessible'!D440:H440)","v":1},0.1,"Turning Left",{"$f":"'Comparison Group 3 Accessible'!J440","v":126},{"$f":"'Comparison Group 3 Accessible'!K440","v":1.1692867350915942E-3},{"$f":"'Comparison Group 2 Accessible'!J440","v":92},{"$f":"'Comparison Group 2 Accessible'!K440","v":1.0877661775660049E-3},{"$f":"'Comparison Group 1 Accessible'!J440","v":316},{"$f":"'Comparison Group 1 Accessible'!K440","v":3.7596668649613328E-2},{"$f":"SUM('Subject Data Accessible'!L440:P440)","v":1},1.282051282051282E-2]
["Turning Right",{"$f":"'Comparison Group 3 Accessible'!B441","v":19},{"$f":"'Comparison Group 3 Accessible'!C441","v":7.777322963569382E-3},{"$f":"'Comparison Group 2 Accessible'!B441","v":8},{"$f":"'Comparison Group 2 Accessible'!C441","v":4.1601664066562667E-3},{"$f":"'Comparison Group 1 Accessible'!B441","v":7},{"$f":"'Comparison Group 1 Accessible'!C441","v":3.2407407407407406E-2},{"$f":"SUM('Subject Data Accessible'!D441:H441)","v":0},0,"Turning Right",{"$f":"'Comparison Group 3 Accessible'!J441","v":548},{"$f":"'Comparison Group 3 Accessible'!K441","v":5.085469292303124E-3},{"$f":"'Comparison Group 2 Accessible'!J441","v":336},{"$f":"'Comparison Group 2 Accessible'!K441","v":3.972711257197583E-3},{"$f":"'Comparison Group 1 Accessible'!J441","v":1175},{"$f":"'Comparison Group 1 Accessible'!K441","v":0.13979773944080903},{"$f":"SUM('Subject Data Accessible'!L441:P441)","v":4},5.128205128205128E-2]
["Other",{"$f":"'Comparison Group 3 Accessible'!B442","v":18},{"$f":"'Comparison Group 3 Accessible'!C442","v":7.3679901760130987E-3},{"$f":"'Comparison Group 2 Accessible'!B442","v":11},{"$f":"'Comparison Group 2 Accessible'!C442","v":5.7202288091523657E-3},{"$f":"'Comparison Group 1 Accessible'!B442","v":3},{"$f":"'Comparison Group 1 Accessible'!C442","v":1.3888888888888888E-2},{"$f":"SUM('Subject Data Accessible'!D442:H442)","v":0},0,"Other",{"$f":"'Comparison Group 3 Accessible'!J442","v":128},{"$f":"'Comparison Group 3 Accessible'!K442","v":1.18784684199781E-3},{"$f":"'Comparison Group 2 Accessible'!J442","v":93},{"$f":"'Comparison Group 2 Accessible'!K442","v":1.099589722974331E-3},{"$f":"'Comparison Group 1 Accessible'!J442","v":29},{"$f":"'Comparison Group 1 Accessible'!K442","v":3.4503271861986914E-3},{"$f":"SUM('Subject Data Accessible'!L442:P442)","v":1},1.282051282051282E-2]
["Unknown",{"$f":"'Comparison Group 3 Accessible'!B443","v":24},{"$f":"'Comparison Group 3 Accessible'!C443","v":9.8239869013507976E-3},{"$f":"'Comparison Group 2 Accessible'!B443","v":15},{"$f":"'Comparison Group 2 Accessible'!C443","v":7.8003120124804995E-3},{"$f":"'Comparison Group 1 Accessible'!B443","v":7},{"$f":"'Comparison Group 1 Accessible'!C443","v":3.2407407407407406E-2},{"$f":"SUM('Subject Data Accessible'!D443:H443)","v":0},0,"Unknown",{"$f":"'Comparison Group 3 Accessible'!J443","v":2095},{"$f":"'Comparison Group 3 Accessible'!K443","v":1.9441711984261031E-2},{"$f":"'Comparison Group 2 Accessible'!J443","v":1568},{"$f":"'Comparison Group 2 Accessible'!K443","v":1.8539319200255387E-2},{"$f":"'Comparison Group 1 Accessible'!J443","v":129},{"$f":"'Comparison Group 1 Accessible'!K443","v":1.5348007138607971E-2},{"$f":"SUM('Subject Data Accessible'!L443:P443)","v":1},1.282051282051282E-2]
[{"$f":"CONCATENATE(\"Fatal and Serious Injury Crashes, Vehicle-Level Data - \",$A445,\"  \nComp 3 = \",Instructions!$B$12,\", Comp 2 = \",Instructions!$B$11,\", Comp 1 = \", Instructions!$B$10, \", Subject = \",Instructions!$B$9)","v":"Fatal and Serious Injury Crashes, Vehicle-Level Data - Most Harmful Event  \nComp 3 = Test Group 3, Comp 2 = Test Group 2, Comp 1 = Test Group 1, Subject = Test County"},null,null,null,null,null,null,null,null,{"$f":"CONCATENATE(\"Total Crashes, Vehicle-Level Data - \",J445,\"\nComp 3 = \",Instructions!$B$12,\", Comp 2 = \",Instructions!$B$11,\", Comp 1 = \", Instructions!$B$10, \", Subject = \",Instructions!$B$9)","v":"Total Crashes, Vehicle-Level Data - Most Harmful Event\nComp 3 = Test Group 3, Comp 2 = Test Group 2, Comp 1 = Test Group 1, Subject = Test County"}]
["Most Harmful Event","Comp 3 Number","Comp 3 Percent","Comp 2 Number","Comp 2 Percent","Comp 1 Number","Comp 1 Percent","Subject Number","Subject Percent","Most Harmful Event","Comp 3 Number","Comp 3 Percent","Comp 2 Number","Comp 2 Percent","Comp 1 Number","Comp 1 Percent","Subject Number","Subject Percent"]
["Cargo/Equipment Loss or Shift",{"$f":"'Comparison Group 3 Accessible'!B446","v":11},{"$f":"'Comparison Group 3 Accessible'!C446","v":4.5026606631191155E-3},{"$f":"'Comparison Group 2 Accessible'!B446","v":10},{"$f":"'Comparison Group 2 Accessible'!C446","v":5.2002080083203327E-3},{"$f":"'Comparison Group 1 Accessible'!B446","v":0},{"$f":"'Comparison Group 1 Accessible'!C446","v":0},{"$f":"SUM('Subject Data Accessible'!D446:H446)","v":0},{"$f":"H446/SUM(H$446:H$487)","v":0},{"$f":"A446","v":"Cargo/Equipment Loss or Shift"},{"$f":"'Comparison Group 3 Accessible'!J446","v":155},{"$f":"'Comparison Group 3 Accessible'!K446","v":1.438408285231723E-3},{"$f":"'Comparison Group 2 Accessible'!J446","v":132},{"$f":"'Comparison Group 2 Accessible'!K446","v":1.5607079938990507E-3},{"$f":"'Comparison Group 1 Accessible'!J446","v":0},{"$f":"'Comparison Group 1 Accessible'!K446","v":0},{"$f":"SUM('Subject Data Accessible'!L446:P446)","v":0},{"$f":"Q446/SUM(Q$446:Q$487)","v":0}]
["Fell/Jumped from Motor Vehicle",{"$f":"'Comparison Group 3 Accessible'!B447","v":0},{"$f":"'Comparison Group 3 Accessible'!C447","v":0},{"$f":"'Comparison Group 2 Accessible'!B447","v":0},{"$f":"'Comparison Group 2 Accessible'!C447","v":0},{"$f":"'Comparison Group 1 Accessible'!B447","v":8},{"$f":"'Comparison Group 1 Accessible'!C447","v":3.7037037037037035E-2},{"$f":"SUM('Subject Data Accessible'!D447:H447)","v":0},{"$f":"H447/SUM(H$446:H$487)","v":0},"Fell/Jumped from Motor Vehicle",{"$f":"'Comparison Group 3 Accessible'!J447","v":2},{"$f":"'Comparison Group 3 Accessible'!K447","v":1.8560106906215781E-5},{"$f":"'Comparison Group 2 Accessible'!J447","v":0},{"$f":"'Comparison Group 2 Accessible'!K447","v":0},{"$f":"'Comparison Group 1 Accessible'!J447","v":269},{"$f":"'Comparison Group 1 Accessible'!K447","v":3.2004759071980964E-2},{"$f":"SUM('Subject Data Accessible'!L447:P447)","v":0},{"$f":"Q447/SUM(Q$446:Q$487)","v":0}]
["Fire/Explosion",{"$f":"'Comparison Group 3 Accessible'!B448","v":6},{"$f":"'Comparison Group 3 Accessible'!C448","v":2.4559967253376994E-3},{"$f":"'Comparison Group 2 Accessible'!B448","v":5},{"$f":"'Comparison Group 2 Accessible'!C448","v":2.6001040041601664E-3},{"$f":"'Comparison Group 1 Accessible'!B448","v":0},{"$f":"'Comparison Group 1 Accessible'!C448","v":0},{"$f":"SUM('Subject Data Accessible'!D448:H448)","v":0},0,"Fire/Explosion",{"$f":"'Comparison Group 3 Accessible'!J448","v":1315},{"$f":"'Comparison Group 3 Accessible'!K448","v":1.2203270290836876E-2},{"$f":"'Comparison Group 2 Accessible'!J448","v":1130},{"$f":"'Comparison Group 2 Accessible'!K448","v":1.3360606311408538E-2},{"$f":"'Comparison Group 1 Accessible'!J448","v":1},{"$f":"'Comparison Group 1 Accessible'!K448","v":1.189767995240928E-4},{"$f":"SUM('Subject Data Accessible'!L448:P448)","v":0},0]
["Immersion, Full or Partial",{"$f":"'Comparison Group 3 Accessible'!B449","v":0},{"$f":"'Comparison Group 3 Accessible'!C449","v":0},{"$f":"'Comparison Group 2 Accessible'!B449","v":0},{"$f":"'Comparison Group 2 Accessible'!C449","v":0},{"$f":"'Comparison Group 1 Accessible'!B449","v":3},{"$f":"'Comparison Group 1 Accessible'!C449","v":1.3888888888888888E-2},{"$f":"SUM('Subject Data Accessible'!D449:H449)","v":0},0,"Immersion, Full or Partial",{"$f":"'Comparison Group 3 Accessible'!J449","v":21},{"$f":"'Comparison Group 3 Accessible'!K449","v":1.9488112251526569E-4},{"$f":"'Comparison Group 2 Accessible'!J449","v":14},{"$f":"'Comparison Group 2 Accessible'!K449","v":1.6552963571656596E-4},{"$f":"'Comparison Group 1 Accessible'!J449","v":47},{"$f":"'Comparison Group 1 Accessible'!K449","v":5.591909577632362E-3},{"$f":"SUM('Subject Data Accessible'!L449:P449)","v":1},1.282051282051282E-2]
["Jackknife",{"$f":"'Comparison Group 3 Accessible'!B450","v":80},{"$f":"'Comparison Group 3 Accessible'!C450","v":3.2746623004502658E-2},{"$f":"'Comparison Group 2 Accessible'!B450","v":57},{"$f":"'Comparison Group 2 Accessible'!C450","v":2.9641185647425898E-2},{"$f":"'Comparison Group 1 Accessible'!B450","v":0},{"$f":"'Comparison Group 1 Accessible'!C450","v":0},{"$f":"SUM('Subject Data Accessible'!D450:H450)","v":0},0,"Jackknife",{"$f":"'Comparison Group 3 Accessible'!J450","v":338},{"$f":"'Comparison Group 3 Accessible'!K450","v":3.1366580671504667E-3},{"$f":"'Comparison Group 2 Accessible'!J450","v":249},{"$f":"'Comparison Group 2 Accessible'!K450","v":2.944062806673209E-3},{"$f":"'Comparison Group 1 Accessible'!J450","v":12},{"$f":"'Comparison Group 1 Accessible'!K450","v":1.4277215942891136E-3},{"$f":"SUM('Subject Data Accessible'!L450:P450)","v":4},5.128205128205128E-2]
["Other Non-Collision",{"$f":"'Comparison Group 3 Accessible'!B451","v":0},{"$f":"'Comparison Group 3 Accessible'!C451","v":0},{"$f":"'Comparison Group 2 Accessible'!B451","v":0},{"$f":"'Comparison Group 2 Accessible'!C451","v":0},{"$f":"'Comparison Group 1 Accessible'!B451","v":5},{"$f":"'Comparison Group 1 Accessible'!C451","v":2.3148148148148147E-2},{"$f":"SUM('Subject Data Accessible'!D451:H451)","v":0},0,"Other Non-Collision",{"$f":"'Comparison Group 3 Accessible'!J451","v":2},{"$f":"'Comparison Group 3 Accessible'!K451","v":1.8560106906215781E-5},{"$f":"'Comparison Group 2 Accessible'!J451","v":1},{"$f":"'Comparison Group 2 Accessible'!K451","v":1.1823545408326141E-5},{"$f":"'Comparison Group 1 Accessible'!J451","v":636},{"$f":"'Comparison Group 1 Accessible'!K451","v":7.5669244497323027E-2},{"$f":"SUM('Subject Data Accessible'!L451:P451)","v":0},0]
["Overturn/Rollover",{"$f":"'Comparison Group 3 Accessible'!B452","v":1},{"$f":"'Comparison Group 3 Accessible'!C452","v":4.0933278755628325E-4},{"$f":"'Comparison Group 2 Accessible'!B452","v":0},{"$f":"'Comparison Group 2 Accessible'!C452","v":0},{"$f":"'Comparison Group 1 Accessible'!B452","v":0},{"$f":"'Comparison Group 1 Accessible'!C452","v":0},{"$f":"SUM('Subject Data Accessible'!D452:H452)","v":0},0,"Overturn/Rollover",{"$f":"'Comparison Group 3 Accessible'!J452","v":131},{"$f":"'Comparison Group 3 Accessible'!K452","v":1.2156870023571336E-3},{"$f":"'Comparison Group 2 Accessible'!J452","v":105},{"$f":"'Comparison Group 2 Accessible'!K452","v":1.2414722678742447E-3},{"$f":"'Comparison Group 1 Accessible'!J452","v":0},{"$f":"'Comparison Group 1 Accessible'!K452","v":0},{"$f":"SUM('Subject Data Accessible'!L452:P452)","v":0},0]
["Thrown or Falling Object",{"$f":"'Comparison Group 3 Accessible'!B453","v":63},{"$f":"'Comparison Group 3 Accessible'!C453","v":2.5787965616045846E-2},{"$f":"'Comparison Group 2 Accessible'!B453","v":52},{"$f":"'Comparison Group 2 Accessible'!C453","v":2.704108164326573E-2},{"$f":"'Comparison Group 1 Accessible'!B453","v":1},{"$f":"'Comparison Group 1 Accessible'!C453","v":4.6296296296296294E-3},{"$f":"SUM('Subject Data Accessible'!D453:H453)","v":0},0,"Thrown or Falling Object",{"$f":"'Comparison Group 3 Accessible'!J453","v":321},{"$f":"'Comparison Group 3 Accessible'!K453","v":2.9788971584476325E-3},{"$f":"'Comparison Group 2 Accessible'!J453","v":264},{"$f":"'Comparison Group 2 Accessible'!K453","v":3.1214159877981013E-3},{"$f":"'Comparison Group 1 Accessible'!J453","v":26},{"$f":"'Comparison Group 1 Accessible'!K453","v":3.0933967876264129E-3},{"$f":"SUM('Subject Data Accessible'!L453:P453)","v":0},0]
["Collision with Animal",{"$f":"'Comparison Group 3 Accessible'!B454","v":336},{"$f":"'Comparison Group 3 Accessible'!C454","v":0.13753581661891118},{"$f":"'Comparison Group 2 Accessible'!B454","v":269},{"$f":"'Comparison Group 2 Accessible'!C454","v":0.13988559542381696},{"$f":"'Comparison Group 1 Accessible'!B454","v":0},{"$f":"'Comparison Group 1 Accessible'!C454","v":0},{"$f":"SUM('Subject Data Accessible'!D454:H454)","v":0},0,"Collision with Animal",{"$f":"'Comparison Group 3 Accessible'!J454","v":18300},{"$f":"'Comparison Group 3 Accessible'!K454","v":0.16982497819187439},{"$f":"'Comparison Group 2 Accessible'!J454","v":9731},{"$f":"'Comparison Group 2 Accessible'!K454","v":0.11505492036842167},{"$f":"'Comparison Group 1 Accessible'!J454","v":1},{"$f":"'Comparison Group 1 Accessible'!K454","v":1.189767995240928E-4},{"$f":"SUM('Subject Data Accessible'!L454:P454)","v":0},0]
["Collision with Construction Equipment",{"$f":"'Comparison Group 3 Accessible'!B455","v":0},{"$f":"'Comparison Group 3 Accessible'!C455","v":0},{"$f":"'Comparison Group 2 Accessible'!B455","v":0},{"$f":"'Comparison Group 2 Accessible'!C455","v":0},{"$f":"'Comparison Group 1 Accessible'!B455","v":4},{"$f":"'Comparison Group 1 Accessible'!C455","v":1.8518518518518517E-2},{"$f":"SUM('Subject Data Accessible'!D455:H455)","v":0},0,"Collision with Construction Equipment",{"$f":"'Comparison Group 3 Accessible'!J455","v":39},{"$f":"'Comparison Group 3 Accessible'!K455","v":3.6192208467120769E-4},{"$f":"'Comparison Group 2 Accessible'!J455","v":26},{"$f":"'Comparison Group 2 Accessible'!K455","v":3.0741218061647963E-4},{"$f":"'Comparison Group 1 Accessible'!J455","v":24},{"$f":"'Comparison Group 1 Accessible'!K455","v":2.8554431885782273E-3},{"$f":"SUM('Subject Data Accessible'!L455:P455)","v":1},1.282051282051282E-2]
["Collision with Farm Equipment",{"$f":"'Comparison Group 3 Accessible'!B456","v":107},{"$f":"'Comparison Group 3 Accessible'!C456","v":4.3798608268522311E-2},{"$f":"'Comparison Group 2 Accessible'!B456","v":81},{"$f":"'Comparison Group 2 Accessible'!C456","v":4.2121684867394697E-2},{"$f":"'Comparison Group 1 Accessible'!B456","v":1},{"$f":"'Comparison Group 1 Accessible'!C456","v":4.6296296296296294E-3},{"$f":"SUM('Subject Data Accessible'!D456:H456)","v":0},0,"Collision with Farm Equipment",{"$f":"'Comparison Group 3 Accessible'!J456","v":5568},{"$f":"'Comparison Group 3 Accessible'!K456","v":5.1671337626904734E-2},{"$f":"'Comparison Group 2 Accessible'!J456","v":4209},{"$f":"'Comparison Group 2 Accessible'!K456","v":4.9765302623644724E-2},{"$f":"'Comparison Group 1 Accessible'!J456","v":28},{"$f":"'Comparison Group 1 Accessible'!K456","v":3.3313503866745984E-3},{"$f":"SUM('Subject Data Accessible'!L456:P456)","v":0},0]
["Collision with Motor Vehicle in Transport",{"$f":"'Comparison Group 3 Accessible'!B457","v":3},{"$f":"'Comparison Group 3 Accessible'!C457","v":1.2279983626688497E-3},{"$f":"'Comparison Group 2 Accessible'!B457","v":1},{"$f":"'Comparison Group 2 Accessible'!C457","v":5.2002080083203334E-4},{"$f":"'Comparison Group 1 Accessible'!B457","v":0},{"$f":"'Comparison Group 1 Accessible'!C457","v":0},{"$f":"SUM('Subject Data Accessible'!D457:H457)","v":0},0,"Collision with Motor Vehicle in Transport",{"$f":"'Comparison Group 3 Accessible'!J457","v":150},{"$f":"'Comparison Group 3 Accessible'!K457","v":1.3920080179661836E-3},{"$f":"'Comparison Group 2 Accessible'!J457","v":80},{"$f":"'Comparison Group 2 Accessible'!K457","v":9.4588363266609129E-4},{"$f":"'Comparison Group 1 Accessible'!J457","v":6},{"$f":"'Comparison Group 1 Accessible'!K457","v":7.1386079714455682E-4},{"$f":"SUM('Subject Data Accessible'!L457:P457)","v":1},1.282051282051282E-2]
["Collision with Other Non-Fixed Object",{"$f":"'Comparison Group 3 Accessible'!B458","v":0},{"$f":"'Comparison Group 3 Accessible'!C458","v":0},{"$f":"'Comparison Group 2 Accessible'!B458","v":0},{"$f":"'Comparison Group 2 Accessible'!C458","v":0},{"$f":"'Comparison Group 1 Accessible'!B458","v":0},{"$f":"'Comparison Group 1 Accessible'!C458","v":0},{"$f":"SUM('Subject Data Accessible'!D458:H458)","v":0},0,"Collision with Other Non-Fixed Object",{"$f":"'Comparison Group 3 Accessible'!J458","v":42},{"$f":"'Comparison Group 3 Accessible'!K458","v":3.8976224503053139E-4},{"$f":"'Comparison Group 2 Accessible'!J458","v":30},{"$f":"'Comparison Group 2 Accessible'!K458","v":3.5470636224978419E-4},{"$f":"'Comparison Group 1 Accessible'!J458","v":25},{"$f":"'Comparison Group 1 Accessible'!K458","v":2.9744199881023199E-3},{"$f":"SUM('Subject Data Accessible'!L458:P458)","v":0},0]
["Collision with Other Non-motorist",{"$f":"'Comparison Group 3 Accessible'!B459","v":149},{"$f":"'Comparison Group 3 Accessible'!C459","v":6.0990585345886209E-2},{"$f":"'Comparison Group 2 Accessible'!B459","v":130},{"$f":"'Comparison Group 2 Accessible'!C459","v":6.7602704108164324E-2},{"$f":"'Comparison Group 1 Accessible'!B459","v":3},{"$f":"'Comparison Group 1 Accessible'!C459","v":1.3888888888888888E-2},{"$f":"SUM('Subject Data Accessible'!D459:H459)","v":1},0.1111111111111111,"Collision with Other Non-motorist",{"$f":"'Comparison Group 3 Accessible'!J459","v":8274},{"$f":"'Comparison Group 3 Accessible'!K459","v":7.6783162271014685E-2},{"$f":"'Comparison Group 2 Accessible'!J459","v":4366},{"$f":"'Comparison Group 2 Accessible'!K459","v":5.1621599252751928E-2},{"$f":"'Comparison Group 1 Accessible'!J459","v":91},{"$f":"'Comparison Group 1 Accessible'!K459","v":1.0826888756692445E-2},{"$f":"SUM('Subject Data Accessible'!L459:P459)","v":0},0]
["Collision with Parked Motor Vehicle",{"$f":"'Comparison Group 3 Accessible'!B460","v":0},{"$f":"'Comparison Group 3 Accessible'!C460","v":0},{"$f":"'Comparison Group 2 Accessible'!B460","v":0},{"$f":"'Comparison Group 2 Accessible'!C460","v":0},{"$f":"'Comparison Group 1 Accessible'!B460","v":1},{"$f":"'Comparison Group 1 Accessible'!C460","v":4.6296296296296294E-3},{"$f":"SUM('Subject Data Accessible'!D460:H460)","v":0},0,"Collision with Parked Motor Vehicle",{"$f":"'Comparison Group 3 Accessible'!J460","v":16},{"$f":"'Comparison Group 3 Accessible'!K460","v":1.4848085524972625E-4},{"$f":"'Comparison Group 2 Accessible'!J460","v":9},{"$f":"'Comparison Group 2 Accessible'!K460","v":1.0641190867493527E-4},{"$f":"'Comparison Group 1 Accessible'!J460","v":191},{"$f":"'Comparison Group 1 Accessible'!K460","v":2.2724568709101726E-2},{"$f":"SUM('Subject Data Accessible'!L460:P460)","v":0},0]
["Collision with Pedalcycle",{"$f":"'Comparison Group 3 Accessible'!B461","v":25},{"$f":"'Comparison Group 3 Accessible'!C461","v":1.0233319688907082E-2},{"$f":"'Comparison Group 2 Accessible'!B461","v":18},{"$f":"'Comparison Group 2 Accessible'!C461","v":9.3603744149765994E-3},{"$f":"'Comparison Group 1 Accessible'!B461","v":2},{"$f":"'Comparison Group 1 Accessible'!C461","v":9.2592592592592587E-3},{"$f":"SUM('Subject Data Accessible'!D461:H461)","v":0},0,"Collision with Pedalcycle",{"$f":"'Comparison Group 3 Accessible'!J461","v":1200},{"$f":"'Comparison Group 3 Accessible'!K461","v":1.1136064143729469E-2},{"$f":"'Comparison Group 2 Accessible'!J461","v":755},{"$f":"'Comparison Group 2 Accessible'!K461","v":8.9267767832862371E-3},{"$f":"'Comparison Group 1 Accessible'!J461","v":26},{"$f":"'Comparison Group 1 Accessible'!K461","v":3.0933967876264129E-3},{"$f":"SUM('Subject Data Accessible'!L461:P461)","v":1},1.282051282051282E-2]
["Collision with Pedestrian",{"$f":"'Comparison Group 3 Accessible'!B462","v":0},{"$f":"'Comparison Group 3 Accessible'!C462","v":0},{"$f":"'Comparison Group 2 Accessible'!B462","v":0},{"$f":"'Comparison Group 2 Accessible'!C462","v":0},{"$f":"'Comparison Group 1 Accessible'!B462","v":3},{"$f":"'Comparison Group 1 Accessible'!C462","v":1.3888888888888888E-2},{"$f":"SUM('Subject Data Accessible'!D462:H462)","v":0},0,"Collision with Pedestrian",{"$f":"'Comparison Group 3 Accessible'!J462","v":13},{"$f":"'Comparison Group 3 Accessible'!K462","v":1.2064069489040257E-4},{"$f":"'Comparison Group 2 Accessible'!J462","v":9},{"$f":"'Comparison Group 2 Accessible'!K462","v":1.0641190867493527E-4},{"$f":"'Comparison Group 1 Accessible'!J462","v":37},{"$f":"'Comparison Group 1 Accessible'!K462","v":4.4021415823914337E-3},{"$f":"SUM('Subject Data Accessible'!L462:P462)","v":0},0]
["Collision with Railway Vehicle",{"$f":"'Comparison Group 3 Accessible'!B463","v":25},{"$f":"'Comparison Group 3 Accessible'!C463","v":1.0233319688907082E-2},{"$f":"'Comparison Group 2 Accessible'!B463","v":24},{"$f":"'Comparison Group 2 Accessible'!C463","v":1.2480499219968799E-2},{"$f":"'Comparison Group 1 Accessible'!B463","v":1},{"$f":"'Comparison Group 1 Accessible'!C463","v":4.6296296296296294E-3},{"$f":"SUM('Subject Data Accessible'!D463:H463)","v":0},0,"Collision with Railway Vehicle",{"$f":"'Comparison Group 3 Accessible'!J463","v":311},{"$f":"'Comparison Group 3 Accessible'!K463","v":2.8860966239165537E-3},{"$f":"'Comparison Group 2 Accessible'!J463","v":271},{"$f":"'Comparison Group 2 Accessible'!K463","v":3.2041808056563841E-3},{"$f":"'Comparison Group 1 Accessible'!J463","v":39},{"$f":"'Comparison Group 1 Accessible'!K463","v":4.6400951814396189E-3},{"$f":"SUM('Subject Data Accessible'!L463:P463)","v":0},0]
["Strikes Object ar Rest from MV in Transport",{"$f":"'Comparison Group 3 Accessible'!B464","v":0},{"$f":"'Comparison Group 3 Accessible'!C464","v":0},{"$f":"'Comparison Group 2 Accessible'!B464","v":0},{"$f":"'Comparison Group 2 Accessible'!C464","v":0},{"$f":"'Comparison Group 1 Accessible'!B464","v":0},{"$f":"'Comparison Group 1 Accessible'!C464","v":0},{"$f":"SUM('Subject Data Accessible'!D464:H464)","v":0},0,"Strikes Object ar Rest from MV in Transport",{"$f":"'Comparison Group 3 Accessible'!J464","v":5},{"$f":"'Comparison Group 3 Accessible'!K464","v":4.6400267265539449E-5},{"$f":"'Comparison Group 2 Accessible'!J464","v":3},{"$f":"'Comparison Group 2 Accessible'!K464","v":3.5470636224978419E-5},{"$f":"'Comparison Group 1 Accessible'!J464","v":16},{"$f":"'Comparison Group 1 Accessible'!K464","v":1.9036287923854848E-3},{"$f":"SUM('Subject Data Accessible'!L464:P464)","v":0},0]
["Struck by Falling, Shifting Cargo, or Anything Set in Motion by Motor Vehicle",{"$f":"'Comparison Group 3 Accessible'!B465","v":14},{"$f":"'Comparison Group 3 Accessible'!C465","v":5.7306590257879654E-3},{"$f":"'Comparison Group 2 Accessible'!B465","v":12},{"$f":"'Comparison Group 2 Accessible'!C465","v":6.2402496099843996E-3},{"$f":"'Comparison Group 1 Accessible'!B465","v":3},{"$f":"'Comparison Group 1 Accessible'!C465","v":1.3888888888888888E-2},{"$f":"SUM('Subject Data Accessible'!D465:H465)","v":0},0,"Struck by Falling, Shifting Cargo, or Anything Set in Motion by Motor Vehicle",{"$f":"'Comparison Group 3 Accessible'!J465","v":2632},{"$f":"'Comparison Group 3 Accessible'!K465","v":2.4425100688579966E-2},{"$f":"'Comparison Group 2 Accessible'!J465","v":19466},{"$f":"'Comparison Group 2 Accessible'!K465","v":0.23015713491847664},{"$f":"'Comparison Group 1 Accessible'!J465","v":119},{"$f":"'Comparison Group 1 Accessible'!K465","v":1.4158239143367043E-2},{"$f":"SUM('Subject Data Accessible'!L465:P465)","v":0},0]
["Collision with Bridge Overhead Structure",{"$f":"'Comparison Group 3 Accessible'!B466","v":0},{"$f":"'Comparison Group 3 Accessible'!C466","v":0},{"$f":"'Comparison Group 2 Accessible'!B466","v":2},{"$f":"'Comparison Group 2 Accessible'!C466","v":1.0400416016640667E-3},{"$f":"'Comparison Group 1 Accessible'!B466","v":0},{"$f":"'Comparison Group 1 Accessible'!C466","v":0},{"$f":"SUM('Subject Data Accessible'!D466:H466)","v":0},0,"Collision with Bridge Overhead Structure",{"$f":"'Comparison Group 3 Accessible'!J466","v":44},{"$f":"'Comparison Group 3 Accessible'!K466","v":4.0832235193674713E-4},{"$f":"'Comparison Group 2 Accessible'!J466","v":34},{"$f":"'Comparison Group 2 Accessible'!K466","v":4.0200054388308881E-4},{"$f":"'Comparison Group 1 Accessible'!J466","v":20},{"$f":"'Comparison Group 1 Accessible'!K466","v":2.3795359904818562E-3},{"$f":"SUM('Subject Data Accessible'!L466:P466)","v":5},6.4102564102564097E-2]
["Collision with Bridge Pier or Support",{"$f":"'Comparison Group 3 Accessible'!B467","v":162},{"$f":"'Comparison Group 3 Accessible'!C467","v":6.6311911584117894E-2},{"$f":"'Comparison Group 2 Accessible'!B467","v":72},{"$f":"'Comparison Group 2 Accessible'!C467","v":3.7441497659906398E-2},{"$f":"'Comparison Group 1 Accessible'!B467","v":2},{"$f":"'Comparison Group 1 Accessible'!C467","v":9.2592592592592587E-3},{"$f":"SUM('Subject Data Accessible'!D467:H467)","v":0},0,"Collision with Bridge Pier or Support",{"$f":"'Comparison Group 3 Accessible'!J467","v":677},{"$f":"'Comparison Group 3 Accessible'!K467","v":6.2825961877540411E-3},{"$f":"'Comparison Group 2 Accessible'!J467","v":505},{"$f":"'Comparison Group 2 Accessible'!K467","v":5.9708904312047008E-3},{"$f":"'Comparison Group 1 Accessible'!J467","v":52},{"$f":"'Comparison Group 1 Accessible'!K467","v":6.1867935752528257E-3},{"$f":"SUM('Subject Data Accessible'!L467:P467)","v":1},1.282051282051282E-2]
["Collision with Bridge Rail",{"$f":"'Comparison Group 3 Accessible'!B468","v":0},{"$f":"'Comparison Group 3 Accessible'!C468","v":0},{"$f":"'Comparison Group 2 Accessible'!B468","v":1},{"$f":"'Comparison Group 2 Accessible'!C468","v":5.2002080083203334E-4},{"$f":"'Comparison Group 1 Accessible'!B468","v":0},{"$f":"'Comparison Group 1 Accessible'!C468","v":0},{"$f":"SUM('Subject Data Accessible'!D468:H468)","v":0},0,"Collision with Bridge Rail",{"$f":"'Comparison Group 3 Accessible'!J468","v":7},{"$f":"'Comparison Group 3 Accessible'!K468","v":6.4960374171755227E-5},{"$f":"'Comparison Group 2 Accessible'!J468","v":8},{"$f":"'Comparison Group 2 Accessible'!K468","v":9.4588363266609132E-5},{"$f":"'Comparison Group 1 Accessible'!J468","v":3},{"$f":"'Comparison Group 1 Accessible'!K468","v":3.5693039857227841E-4},{"$f":"SUM('Subject Data Accessible'!L468:P468)","v":1},1.282051282051282E-2]
["Collision with Cable Barrier",{"$f":"'Comparison Group 3 Accessible'!B469","v":3},{"$f":"'Comparison Group 3 Accessible'!C469","v":1.2279983626688497E-3},{"$f":"'Comparison Group 2 Accessible'!B469","v":4},{"$f":"'Comparison Group 2 Accessible'!C469","v":2.0800832033281333E-3},{"$f":"'Comparison Group 1 Accessible'!B469","v":3},{"$f":"'Comparison Group 1 Accessible'!C469","v":1.3888888888888888E-2},{"$f":"SUM('Subject Data Accessible'!D469:H469)","v":3},0.33333333333333331,"Collision with Cable Barrier",{"$f":"'Comparison Group 3 Accessible'!J469","v":263},{"$f":"'Comparison Group 3 Accessible'!K469","v":2.440654058167375E-3},{"$f":"'Comparison Group 2 Accessible'!J469","v":219},{"$f":"'Comparison Group 2 Accessible'!K469","v":2.5893564444234248E-3},{"$f":"'Comparison Group 1 Accessible'!J469","v":56},{"$f":"'Comparison Group 1 Accessible'!K469","v":6.6627007733491969E-3},{"$f":"SUM('Subject Data Accessible'!L469:P469)","v":7},8.9743589743589744E-2]
["Collision with Concrete Traffic Barrier",{"$f":"'Comparison Group 3 Accessible'!B470","v":126},{"$f":"'Comparison Group 3 Accessible'!C470","v":5.1575931232091692E-2},{"$f":"'Comparison Group 2 Accessible'!B470","v":108},{"$f":"'Comparison Group 2 Accessible'!C470","v":5.6162246489859596E-2},{"$f":"'Comparison Group 1 Accessible'!B470","v":24},{"$f":"'Comparison Group 1 Accessible'!C470","v":0.1111111111111111},{"$f":"SUM('Subject Data Accessible'!D470:H470)","v":0},0,"Collision with Concrete Traffic Barrier",{"$f":"'Comparison Group 3 Accessible'!J470","v":644},{"$f":"'Comparison Group 3 Accessible'!K470","v":5.9763544238014814E-3},{"$f":"'Comparison Group 2 Accessible'!J470","v":531},{"$f":"'Comparison Group 2 Accessible'!K470","v":6.2783026118211809E-3},{"$f":"'Comparison Group 1 Accessible'!J470","v":276},{"$f":"'Comparison Group 1 Accessible'!K470","v":3.2837596668649612E-2},{"$f":"SUM('Subject Data Accessible'!L470:P470)","v":8},0.10256410256410256]
["Collision with Culvert",{"$f":"'Comparison Group 3 Accessible'!B471","v":657},{"$f":"'Comparison Group 3 Accessible'!C471","v":0.26893164142447812},{"$f":"'Comparison Group 2 Accessible'!B471","v":283},{"$f":"'Comparison Group 2 Accessible'!C471","v":0.14716588663546543},{"$f":"'Comparison Group 1 Accessible'!B471","v":3},{"$f":"'Comparison Group 1 Accessible'!C471","v":1.3888888888888888E-2},{"$f":"SUM('Subject Data Accessible'!D471:H471)","v":1},0.1111111111111111,"Collision with Culvert",{"$f":"'Comparison Group 3 Accessible'!J471","v":36603},{"$f":"'Comparison Group 3 Accessible'!K471","v":0.33967779654410807},{"$f":"'Comparison Group 2 Accessible'!J471","v":1510},{"$f":"'Comparison Group 2 Accessible'!K471","v":1.7853553566572474E-2},{"$f":"'Comparison Group 1 Accessible'!J471","v":539},{"$f":"'Comparison Group 1 Accessible'!K471","v":6.412849494348602E-2},{"$f":"SUM('Subject Data Accessible'!L471:P471)","v":1},1.282051282051282E-2]
["Collision with Curb",{"$f":"'Comparison Group 3 Accessible'!B472","v":0},{"$f":"'Comparison Group 3 Accessible'!C472","v":0},{"$f":"'Comparison Group 2 Accessible'!B472","v":3},{"$f":"'Comparison Group 2 Accessible'!C472","v":1.5600624024960999E-3},{"$f":"'Comparison Group 1 Accessible'!B472","v":19},{"$f":"'Comparison Group 1 Accessible'!C472","v":8.7962962962962965E-2},{"$f":"SUM('Subject Data Accessible'!D472:H472)","v":0},0,"Collision with Curb",{"$f":"'Comparison Group 3 Accessible'!J472","v":80},{"$f":"'Comparison Group 3 Accessible'!K472","v":7.4240427624863118E-4},{"$f":"'Comparison Group 2 Accessible'!J472","v":56},{"$f":"'Comparison Group 2 Accessible'!K472","v":6.6211854286626383E-4},{"$f":"'Comparison Group 1 Accessible'!J472","v":78},{"$f":"'Comparison Group 1 Accessible'!K472","v":9.2801903628792377E-3},{"$f":"SUM('Subject Data Accessible'!L472:P472)","v":0},0]
["Collision with Ditch",{"$f":"'Comparison Group 3 Accessible'!B473","v":214},{"$f":"'Comparison Group 3 Accessible'!C473","v":8.7597216537044623E-2},{"$f":"'Comparison Group 2 Accessible'!B473","v":167},{"$f":"'Comparison Group 2 Accessible'!C473","v":8.6843473738949559E-2},{"$f":"'Comparison Group 1 Accessible'!B473","v":0},{"$f":"'Comparison Group 1 Accessible'!C473","v":0},{"$f":"SUM('Subject Data Accessible'!D473:H473)","v":1},0.1111111111111111,"Collision with Ditch",{"$f":"'Comparison Group 3 Accessible'!J473","v":11137},{"$f":"'Comparison Group 3 Accessible'!K473","v":0.10335195530726257},{"$f":"'Comparison Group 2 Accessible'!J473","v":5615},{"$f":"'Comparison Group 2 Accessible'!K473","v":6.6389207467751274E-2},{"$f":"'Comparison Group 1 Accessible'!J473","v":3},{"$f":"'Comparison Group 1 Accessible'!K473","v":3.5693039857227841E-4},{"$f":"SUM('Subject Data Accessible'!L473:P473)","v":8},0.10256410256410256]
["Collision with Embankment",{"$f":"'Comparison Group 3 Accessible'!B474","v":7},{"$f":"'Comparison Group 3 Accessible'!C474","v":2.8653295128939827E-3},{"$f":"'Comparison Group 2 Accessible'!B474","v":3},{"$f":"'Comparison Group 2 Accessible'!C474","v":1.5600624024960999E-3},{"$f":"'Comparison Group 1 Accessible'!B474","v":5},{"$f":"'Comparison Group 1 Accessible'!C474","v":2.3148148148148147E-2},{"$f":"SUM('Subject Data Accessible'!D474:H474)","v":0},0,"Collision with Embankment",{"$f":"'Comparison Group 3 Accessible'!J474","v":302},{"$f":"'Comparison Group 3 Accessible'!K474","v":2.8025761428385827E-3},{"$f":"'Comparison Group 2 Accessible'!J474","v":167},{"$f":"'Comparison Group 2 Accessible'!K474","v":1.9745320831904656E-3},{"$f":"'Comparison Group 1 Accessible'!J474","v":1053},{"$f":"'Comparison Group 1 Accessible'!K474","v":0.12528256989886971},{"$f":"SUM('Subject Data Accessible'!L474:P474)","v":0},0]
["Collision with Fence",{"$f":"'Comparison Group 3 Accessible'!B475","v":0},{"$f":"'Comparison Group 3 Accessible'!C475","v":0},{"$f":"'Comparison Group 2 Accessible'!B475","v":3},{"$f":"'Comparison Group 2 Accessible'!C475","v":1.5600624024960999E-3},{"$f":"'Comparison Group 1 Accessible'!B475","v":0},{"$f":"'Comparison Group 1 Accessible'!C475","v":0},{"$f":"SUM('Subject Data Accessible'!D475:H475)","v":1},0.1111111111111111,"Collision with Fence",{"$f":"'Comparison Group 3 Accessible'!J475","v":86},{"$f":"'Comparison Group 3 Accessible'!K475","v":7.9808459696727857E-4},{"$f":"'Comparison Group 2 Accessible'!J475","v":65},{"$f":"'Comparison Group 2 Accessible'!K475","v":7.685304515411992E-4},{"$f":"'Comparison Group 1 Accessible'!J475","v":3},{"$f":"'Comparison Group 1 Accessible'!K475","v":3.5693039857227841E-4},{"$f":"SUM('Subject Data Accessible'!L475:P475)","v":0},0]
["Collision with Guardrail End Terminal",{"$f":"'Comparison Group 3 Accessible'!B476","v":307},{"$f":"'Comparison Group 3 Accessible'!C476","v":0.12566516577977896},{"$f":"'Comparison Group 2 Accessible'!B476","v":132},{"$f":"'Comparison Group 2 Accessible'!C476","v":6.8642745709828396E-2},{"$f":"'Comparison Group 1 Accessible'!B476","v":1},{"$f":"'Comparison Group 1 Accessible'!C476","v":4.6296296296296294E-3},{"$f":"SUM('Subject Data Accessible'!D476:H476)","v":1},0.1111111111111111,"Collision with Guardrail End Terminal",{"$f":"'Comparison Group 3 Accessible'!J476","v":16550},{"$f":"'Comparison Group 3 Accessible'!K476","v":0.15358488464893558},{"$f":"'Comparison Group 2 Accessible'!J476","v":8736},{"$f":"'Comparison Group 2 Accessible'!K476","v":0.10329049268713716},{"$f":"'Comparison Group 1 Accessible'!J476","v":97},{"$f":"'Comparison Group 1 Accessible'!K476","v":1.1540749553837002E-2},{"$f":"SUM('Subject Data Accessible'!L476:P476)","v":5},6.4102564102564097E-2]
["Collision with Guardrail Face",{"$f":"'Comparison Group 3 Accessible'!B477","v":0},{"$f":"'Comparison Group 3 Accessible'!C477","v":0},{"$f":"'Comparison Group 2 Accessible'!B477","v":1},{"$f":"'Comparison Group 2 Accessible'!C477","v":5.2002080083203334E-4},{"$f":"'Comparison Group 1 Accessible'!B477","v":4},{"$f":"'Comparison Group 1 Accessible'!C477","v":1.8518518518518517E-2},{"$f":"SUM('Subject Data Accessible'!D477:H477)","v":0},0,"Collision with Guardrail Face",{"$f":"'Comparison Group 3 Accessible'!J477","v":35},{"$f":"'Comparison Group 3 Accessible'!K477","v":3.2480187085877615E-4},{"$f":"'Comparison Group 2 Accessible'!J477","v":20},{"$f":"'Comparison Group 2 Accessible'!K477","v":2.3647090816652282E-4},{"$f":"'Comparison Group 1 Accessible'!J477","v":338},{"$f":"'Comparison Group 1 Accessible'!K477","v":4.0214158239143365E-2},{"$f":"SUM('Subject Data Accessible'!L477:P477)","v":3},3.8461538461538464E-2]
["Collision with Impact Attenuator/Crash Cushion",{"$f":"'Comparison Group 3 Accessible'!B478","v":53},{"$f":"'Comparison Group 3 Accessible'!C478","v":2.1694637740483011E-2},{"$f":"'Comparison Group 2 Accessible'!B478","v":43},{"$f":"'Comparison Group 2 Accessible'!C478","v":2.2360894435777431E-2},{"$f":"'Comparison Group 1 Accessible'!B478","v":0},{"$f":"'Comparison Group 1 Accessible'!C478","v":0},{"$f":"SUM('Subject Data Accessible'!D478:H478)","v":0},0,"Collision with Impact Attenuator/Crash Cushion",{"$f":"'Comparison Group 3 Accessible'!J478","v":2402},{"$f":"'Comparison Group 3 Accessible'!K478","v":2.2290688394365151E-2},{"$f":"'Comparison Group 2 Accessible'!J478","v":1516},{"$f":"'Comparison Group 2 Accessible'!K478","v":1.7924494839022431E-2},{"$f":"'Comparison Group 1 Accessible'!J478","v":39},{"$f":"'Comparison Group 1 Accessible'!K478","v":4.6400951814396189E-3},{"$f":"SUM('Subject Data Accessible'!L478:P478)","v":0},0]
["Collision with Mailbox",{"$f":"'Comparison Group 3 Accessible'!B479","v":1},{"$f":"'Comparison Group 3 Accessible'!C479","v":4.0933278755628325E-4},{"$f":"'Comparison Group 2 Accessible'!B479","v":1},{"$f":"'Comparison Group 2 Accessible'!C479","v":5.2002080083203334E-4},{"$f":"'Comparison Group 1 Accessible'!B479","v":0},{"$f":"'Comparison Group 1 Accessible'!C479","v":0},{"$f":"SUM('Subject Data Accessible'!D479:H479)","v":0},0,"Collision with Mailbox",{"$f":"'Comparison Group 3 Accessible'!J479","v":19},{"$f":"'Comparison Group 3 Accessible'!K479","v":1.763210156090499E-4},{"$f":"'Comparison Group 2 Accessible'!J479","v":21},{"$f":"'Comparison Group 2 Accessible'!K479","v":2.4829445357484894E-4},{"$f":"'Comparison Group 1 Accessible'!J479","v":9},{"$f":"'Comparison Group 1 Accessible'!K479","v":1.0707911957168353E-3},{"$f":"SUM('Subject Data Accessible'!L479:P479)","v":0},0]
["Collision with Other Fixed Object",{"$f":"'Comparison Group 3 Accessible'!B480","v":23},{"$f":"'Comparison Group 3 Accessible'!C480","v":9.4146541137945152E-3},{"$f":"'Comparison Group 2 Accessible'!B480","v":0},{"$f":"'Comparison Group 2 Accessible'!C480","v":0},{"$f":"'Comparison Group 1 Accessible'!B480","v":3},{"$f":"'Comparison Group 1 Accessible'!C480","v":1.3888888888888888E-2},{"$f":"SUM('Subject Data Accessible'!D480:H480)","v":1},0.1111111111111111,"Collision with Other Fixed Object",{"$f":"'Comparison Group 3 Accessible'!J480","v":18},{"$f":"'Comparison Group 3 Accessible'!K480","v":1.6704096215594202E-4},{"$f":"'Comparison Group 2 Accessible'!J480","v":4866},{"$f":"'Comparison Group 2 Accessible'!K480","v":5.7533371956914998E-2},{"$f":"'Comparison Group 1 Accessible'!J480","v":74},{"$f":"'Comparison Group 1 Accessible'!K480","v":8.8042831647828675E-3},{"$f":"SUM('Subject Data Accessible'!L480:P480)","v":0},0]
["Collision with Other Post, Pole, or Support",{"$f":"'Comparison Group 3 Accessible'!B481","v":10},{"$f":"'Comparison Group 3 Accessible'!C481","v":4.0933278755628322E-3},{"$f":"'Comparison Group 2 Accessible'!B481","v":132},{"$f":"'Comparison Group 2 Accessible'!C481","v":6.8642745709828396E-2},{"$f":"'Comparison Group 1 Accessible'!B481","v":16},{"$f":"'Comparison Group 1 Accessible'!C481","v":7.407407407407407E-2},{"$f":"SUM('Subject Data Accessible'!D481:H481)","v":0},0,"Collision with Other Post, Pole, or Support",{"$f":"'Comparison Group 3 Accessible'!J481","v":15},{"$f":"'Comparison Group 3 Accessible'!K481","v":1.3920080179661835E-4},{"$f":"'Comparison Group 2 Accessible'!J481","v":2186},{"$f":"'Comparison Group 2 Accessible'!K481","v":2.5846270262600942E-2},{"$f":"'Comparison Group 1 Accessible'!J481","v":249},{"$f":"'Comparison Group 1 Accessible'!K481","v":2.9625223081499109E-2},{"$f":"SUM('Subject Data Accessible'!L481:P481)","v":0},0]
["Collision with Other Traffic Barrier",{"$f":"'Comparison Group 3 Accessible'!B482","v":17},{"$f":"'Comparison Group 3 Accessible'!C482","v":6.9586573884568154E-3},{"$f":"'Comparison Group 2 Accessible'!B482","v":46},{"$f":"'Comparison Group 2 Accessible'!C482","v":2.3920956838273531E-2},{"$f":"'Comparison Group 1 Accessible'!B482","v":1},{"$f":"'Comparison Group 1 Accessible'!C482","v":4.6296296296296294E-3},{"$f":"SUM('Subject Data Accessible'!D482:H482)","v":0},0,"Collision with Other Traffic Barrier",{"$f":"'Comparison Group 3 Accessible'!J482","v":7},{"$f":"'Comparison Group 3 Accessible'!K482","v":6.4960374171755227E-5},{"$f":"'Comparison Group 2 Accessible'!J482","v":757},{"$f":"'Comparison Group 2 Accessible'!K482","v":8.950423874102888E-3},{"$f":"'Comparison Group 1 Accessible'!J482","v":14},{"$f":"'Comparison Group 1 Accessible'!K482","v":1.6656751933372992E-3},{"$f":"SUM('Subject Data Accessible'!L482:P482)","v":0},0]
["Collision with Traffic Sign Support",{"$f":"'Comparison Group 3 Accessible'!B483","v":4},{"$f":"'Comparison Group 3 Accessible'!C483","v":1.637331150225133E-3},{"$f":"'Comparison Group 2 Accessible'!B483","v":0},{"$f":"'Comparison Group 2 Accessible'!C483","v":0},{"$f":"'Comparison Group 1 Accessible'!B483","v":1},{"$f":"'Comparison Group 1 Accessible'!C483","v":4.6296296296296294E-3},{"$f":"SUM('Subject Data Accessible'!D483:H483)","v":0},0,"Collision with Traffic Sign Support",{"$f":"'Comparison Group 3 Accessible'!J483","v":2},{"$f":"'Comparison Group 3 Accessible'!K483","v":1.8560106906215781E-5},{"$f":"'Comparison Group 2 Accessible'!J483","v":9735},{"$f":"'Comparison Group 2 Accessible'!K483","v":0.11510221455005498},{"$f":"'Comparison Group 1 Accessible'!J483","v":38},{"$f":"'Comparison Group 1 Accessible'!K483","v":4.5211183819155263E-3},{"$f":"SUM('Subject Data Accessible'!L483:P483)","v":3},3.8461538461538464E-2]
["Collision with Traffic Signal Support",{"$f":"'Comparison Group 3 Accessible'!B484","v":5},{"$f":"'Comparison Group 3 Accessible'!C484","v":2.0466639377814161E-3},{"$f":"'Comparison Group 2 Accessible'!B484","v":213},{"$f":"'Comparison Group 2 Accessible'!C484","v":0.11076443057722309},{"$f":"'Comparison Group 1 Accessible'!B484","v":0},{"$f":"'Comparison Group 1 Accessible'!C484","v":0},{"$f":"SUM('Subject Data Accessible'!D484:H484)","v":0},0,"Collision with Traffic Signal Support",{"$f":"'Comparison Group 3 Accessible'!J484","v":5},{"$f":"'Comparison Group 3 Accessible'!K484","v":4.6400267265539449E-5},{"$f":"'Comparison Group 2 Accessible'!J484","v":2809},{"$f":"'Comparison Group 2 Accessible'!K484","v":3.321233905198813E-2},{"$f":"'Comparison Group 1 Accessible'!J484","v":32},{"$f":"'Comparison Group 1 Accessible'!K484","v":3.8072575847709696E-3},{"$f":"SUM('Subject Data Accessible'!L484:P484)","v":0},0]
["Collision with Tree",{"$f":"'Comparison Group 3 Accessible'!B485","v":25},{"$f":"'Comparison Group 3 Accessible'!C485","v":1.0233319688907082E-2},{"$f":"'Comparison Group 2 Accessible'!B485","v":23},{"$f":"'Comparison Group 2 Accessible'!C485","v":1.1960478419136765E-2},{"$f":"'Comparison Group 1 Accessible'!B485","v":14},{"$f":"'Comparison Group 1 Accessible'!C485","v":6.4814814814814811E-2},{"$f":"SUM('Subject Data Accessible'!D485:H485)","v":0},0,"Collision with Tree",{"$f":"'Comparison Group 3 Accessible'!J485","v":21},{"$f":"'Comparison Group 3 Accessible'!K485","v":1.9488112251526569E-4},{"$f":"'Comparison Group 2 Accessible'!J485","v":4238},{"$f":"'Comparison Group 2 Accessible'!K485","v":5.0108185440486182E-2},{"$f":"'Comparison Group 1 Accessible'!J485","v":1306},{"$f":"'Comparison Group 1 Accessible'!K485","v":0.1553837001784652},{"$f":"SUM('Subject Data Accessible'!L485:P485)","v":0},0]
["Collision with Utility Pole or Light Support",{"$f":"'Comparison Group 3 Accessible'!B486","v":8},{"$f":"'Comparison Group 3 Accessible'!C486","v":3.274662300450266E-3},{"$f":"'Comparison Group 2 Accessible'!B486","v":0},{"$f":"'Comparison Group 2 Accessible'!C486","v":0},{"$f":"'Comparison Group 1 Accessible'!B486","v":23},{"$f":"'Comparison Group 1 Accessible'!C486","v":0.10648148148148148},{"$f":"SUM('Subject Data Accessible'!D486:H486)","v":0},0,"Collision with Utility Pole or Light Support",{"$f":"'Comparison Group 3 Accessible'!J486","v":2},{"$f":"'Comparison Group 3 Accessible'!K486","v":1.8560106906215781E-5},{"$f":"'Comparison Group 2 Accessible'!J486","v":42},{"$f":"'Comparison Group 2 Accessible'!K486","v":4.9658890714969787E-4},{"$f":"'Comparison Group 1 Accessible'!J486","v":1407},{"$f":"'Comparison Group 1 Accessible'!K486","v":0.16740035693039856},{"$f":"SUM('Subject Data Accessible'!L486:P486)","v":0},0]
["Unknown",{"$f":"'Comparison Group 3 Accessible'!B487","v":1},{"$f":"'Comparison Group 3 Accessible'!C487","v":4.0933278755628325E-4},{"$f":"'Comparison Group 2 Accessible'!B487","v":27},{"$f":"'Comparison Group 2 Accessible'!C487","v":1.4040561622464899E-2},{"$f":"'Comparison Group 1 Accessible'!B487","v":62},{"$f":"'Comparison Group 1 Accessible'!C487","v":0.28703703703703703},{"$f":"SUM('Subject Data Accessible'!D487:H487)","v":0},0,"Unknown",{"$f":"'Comparison Group 3 Accessible'!J487","v":4},{"$f":"'Comparison Group 3 Accessible'!K487","v":3.7120213812431563E-5},{"$f":"'Comparison Group 2 Accessible'!J487","v":91},{"$f":"'Comparison Group 2 Accessible'!K487","v":1.0759426321576787E-3},{"$f":"'Comparison Group 1 Accessible'!J487","v":1125},{"$f":"'Comparison Group 1 Accessible'!K487","v":0.1338488994646044},{"$f":"SUM('Subject Data Accessible'!L487:P487)","v":28},0.35897435897435898]
[{"$f":"CONCATENATE(\"Fatal and Serious Injury Crashes, Vehicle-Level Data - \",$A489,\"  \nComp 3 = \",Instructions!$B$12,\", Comp 2 = \",Instructions!$B$11,\", Comp 1 = \", Instructions!$B$10, \", Subject = \",Instructions!$B$9)","v":"Fatal and Serious Injury Crashes, Vehicle-Level Data - Contributing Circumstance, Vehicle  \nComp 3 = Test Group 3, Comp 2 = Test Group 2, Comp 1 = Test Group 1, Subject = Test County"},null,null,null,null,null,null,null,null,{"$f":"CONCATENATE(\"Total Crashes, Vehicle-Level Data - \",J489,\"\nComp 3 = \",Instructions!$B$12,\", Comp 2 = \",Instructions!$B$11,\", Comp 1 = \", Instructions!$B$10, \", Subject = \",Instructions!$B$9)","v":"Total Crashes, Vehicle-Level Data - Contributing Circumstance, Vehicle\nComp 3 = Test Group 3, Comp 2 = Test Group 2, Comp 1 = Test Group 1, Subject = Test County"}]
["Contributing Circumstance, Vehicle","Comp 3 Number","Comp 3 Percent","Comp 2 Number","Comp 2 Percent","Comp 1 Number","Comp 1 Percent","Subject Number","Subject Percent","Contributing Circumstance, Vehicle","Comp 3 Number","Comp 3 Percent","Comp 2 Number","Comp 2 Percent","Comp 1 Number","Comp 1 Percent","Subject Number","Subject Percent"]
["None",{"$f":"'Comparison Group 3 Accessible'!B490","v":19},{"$f":"'Comparison Group 3 Accessible'!C490","v":7.777322963569382E-3},{"$f":"'Comparison Group 2 Accessible'!B490","v":34},{"$f":"'Comparison Group 2 Accessible'!C490","v":1.7680707228289131E-2},{"$f":"'Comparison Group 1 Accessible'!B490","v":3},{"$f":"'Comparison Group 1 Accessible'!C490","v":1.3888888888888888E-2},{"$f":"SUM('Subject Data Accessible'!D490:H490)","v":0},{"$f":"H490/SUM(H$490:H$505)","v":0},{"$f":"A490","v":"None"},{"$f":"'Comparison Group 3 Accessible'!J490","v":595},{"$f":"'Comparison Group 3 Accessible'!K490","v":5.5216318045991945E-3},{"$f":"'Comparison Group 2 Accessible'!J490","v":403},{"$f":"'Comparison Group 2 Accessible'!K490","v":4.764888799555435E-3},{"$f":"'Comparison Group 1 Accessible'!J490","v":41},{"$f":"'Comparison Group 1 Accessible'!K490","v":4.8780487804878049E-3},{"$f":"SUM('Subject Data Accessible'!L490:P490)","v":0},{"$f":"Q490/SUM(Q$490:Q$505)","v":0}]
["Brakes",{"$f":"'Comparison Group 3 Accessible'!B491","v":5},{"$f":"'Comparison Group 3 Accessible'!C491","v":2.0466639377814161E-3},{"$f":"'Comparison Group 2 Accessible'!B491","v":0},{"$f":"'Comparison Group 2 Accessible'!C491","v":0},{"$f":"'Comparison Group 1 Accessible'!B491","v":1},{"$f":"'Comparison Group 1 Accessible'!C491","v":4.6296296296296294E-3},{"$f":"SUM('Subject Data Accessible'!D491:H491)","v":0},{"$f":"H491/SUM(H$490:H$505)","v":0},"Brakes",{"$f":"'Comparison Group 3 Accessible'!J491","v":1500},{"$f":"'Comparison Group 3 Accessible'!K491","v":1.3920080179661835E-2},{"$f":"'Comparison Group 2 Accessible'!J491","v":3},{"$f":"'Comparison Group 2 Accessible'!K491","v":3.5470636224978419E-5},{"$f":"'Comparison Group 1 Accessible'!J491","v":239},{"$f":"'Comparison Group 1 Accessible'!K491","v":2.843545508625818E-2},{"$f":"SUM('Subject Data Accessible'!L491:P491)","v":1},{"$f":"Q491/SUM(Q$490:Q$505)","v":1.282051282051282E-2}]
["Exhaust System",{"$f":"'Comparison Group 3 Accessible'!B492","v":57},{"$f":"'Comparison Group 3 Accessible'!C492","v":2.3331968890708144E-2},{"$f":"'Comparison Group 2 Accessible'!B492","v":17},{"$f":"'Comparison Group 2 Accessible'!C492","v":8.8403536141445655E-3},{"$f":"'Comparison Group 1 Accessible'!B492","v":3},{"$f":"'Comparison Group 1 Accessible'!C492","v":1.3888888888888888E-2},{"$f":"SUM('Subject Data Accessible'!D492:H492)","v":0},0,"Exhaust System",{"$f":"'Comparison Group 3 Accessible'!J492","v":4600},{"$f":"'Comparison Group 3 Accessible'!K492","v":4.2688245884296296E-2},{"$f":"'Comparison Group 2 Accessible'!J492","v":3397},{"$f":"'Comparison Group 2 Accessible'!K492","v":4.0164583752083899E-2},{"$f":"'Comparison Group 1 Accessible'!J492","v":153},{"$f":"'Comparison Group 1 Accessible'!K492","v":1.8203450327186198E-2},{"$f":"SUM('Subject Data Accessible'!L492:P492)","v":0},0]
["Body or Doors",{"$f":"'Comparison Group 3 Accessible'!B493","v":3},{"$f":"'Comparison Group 3 Accessible'!C493","v":1.2279983626688497E-3},{"$f":"'Comparison Group 2 Accessible'!B493","v":2},{"$f":"'Comparison Group 2 Accessible'!C493","v":1.0400416016640667E-3},{"$f":"'Comparison Group 1 Accessible'!B493","v":0},{"$f":"'Comparison Group 1 Accessible'!C493","v":0},{"$f":"SUM('Subject Data Accessible'!D493:H493)","v":0},0,"Body or Doors",{"$f":"'Comparison Group 3 Accessible'!J493","v":380},{"$f":"'Comparison Group 3 Accessible'!K493","v":3.5264203121809982E-3},{"$f":"'Comparison Group 2 Accessible'!J493","v":48},{"$f":"'Comparison Group 2 Accessible'!K493","v":5.6753017959965471E-4},{"$f":"'Comparison Group 1 Accessible'!J493","v":60},{"$f":"'Comparison Group 1 Accessible'!K493","v":7.138607971445568E-3},{"$f":"SUM('Subject Data Accessible'!L493:P493)","v":0},0]
["Steering",{"$f":"'Comparison Group 3 Accessible'!B494","v":1335},{"$f":"'Comparison Group 3 Accessible'!C494","v":0.54645927138763817},{"$f":"'Comparison Group 2 Accessible'!B494","v":175},{"$f":"'Comparison Group 2 Accessible'!C494","v":9.100364014560583E-2},{"$f":"'Comparison Group 1 Accessible'!B494","v":111},{"$f":"'Comparison Group 1 Accessible'!C494","v":0.51388888888888884},{"$f":"SUM('Subject Data Accessible'!D494:H494)","v":4},0.4,"Steering",{"$f":"'Comparison Group 3 Accessible'!J494","v":49057},{"$f":"'Comparison Group 3 Accessible'!K494","v":0.45525158224911377},{"$f":"'Comparison Group 2 Accessible'!J494","v":754},{"$f":"'Comparison Group 2 Accessible'!K494","v":8.9149532378779098E-3},{"$f":"'Comparison Group 1 Accessible'!J494","v":3612},{"$f":"'Comparison Group 1 Accessible'!K494","v":0.42974419988102319},{"$f":"SUM('Subject Data Accessible'!L494:P494)","v":0},0]
["Power Train",{"$f":"'Comparison Group 3 Accessible'!B495","v":308},{"$f":"'Comparison Group 3 Accessible'!C495","v":0.12607449856733524},{"$f":"'Comparison Group 2 Accessible'!B495","v":1},{"$f":"'Comparison Group 2 Accessible'!C495","v":5.2002080083203334E-4},{"$f":"'Comparison Group 1 Accessible'!B495","v":21},{"$f":"'Comparison Group 1 Accessible'!C495","v":9.7222222222222224E-2},{"$f":"SUM('Subject Data Accessible'!D495:H495)","v":0},0,"Power Train",{"$f":"'Comparison Group 3 Accessible'!J495","v":9961},{"$f":"'Comparison Group 3 Accessible'!K495","v":9.2438612446407692E-2},{"$f":"'Comparison Group 2 Accessible'!J495","v":9},{"$f":"'Comparison Group 2 Accessible'!K495","v":1.0641190867493527E-4},{"$f":"'Comparison Group 1 Accessible'!J495","v":874},{"$f":"'Comparison Group 1 Accessible'!K495","v":0.10398572278405711},{"$f":"SUM('Subject Data Accessible'!L495:P495)","v":0},0]
["Suspension",{"$f":"'Comparison Group 3 Accessible'!B496","v":49},{"$f":"'Comparison Group 3 Accessible'!C496","v":2.0057306590257881E-2},{"$f":"'Comparison Group 2 Accessible'!B496","v":4},{"$f":"'Comparison Group 2 Accessible'!C496","v":2.0800832033281333E-3},{"$f":"'Comparison Group 1 Accessible'!B496","v":2},{"$f":"'Comparison Group 1 Accessible'!C496","v":9.2592592592592587E-3},{"$f":"SUM('Subject Data Accessible'!D496:H496)","v":2},0.2,"Suspension",{"$f":"'Comparison Group 3 Accessible'!J496","v":3813},{"$f":"'Comparison Group 3 Accessible'!K496","v":3.5384843816700387E-2},{"$f":"'Comparison Group 2 Accessible'!J496","v":324},{"$f":"'Comparison Group 2 Accessible'!K496","v":3.8308287122976697E-3},{"$f":"'Comparison Group 1 Accessible'!J496","v":320},{"$f":"'Comparison Group 1 Accessible'!K496","v":3.8072575847709698E-2},{"$f":"SUM('Subject Data Accessible'!L496:P496)","v":2},2.564102564102564E-2]
["Tires",{"$f":"'Comparison Group 3 Accessible'!B497","v":21},{"$f":"'Comparison Group 3 Accessible'!C497","v":8.5959885386819486E-3},{"$f":"'Comparison Group 2 Accessible'!B497","v":160},{"$f":"'Comparison Group 2 Accessible'!C497","v":8.3203328133125323E-2},{"$f":"'Comparison Group 1 Accessible'!B497","v":5},{"$f":"'Comparison Group 1 Accessible'!C497","v":2.3148148148148147E-2},{"$f":"SUM('Subject Data Accessible'!D497:H497)","v":0},0,"Tires",{"$f":"'Comparison Group 3 Accessible'!J497","v":607},{"$f":"'Comparison Group 3 Accessible'!K497","v":5.6329924460364889E-3},{"$f":"'Comparison Group 2 Accessible'!J497","v":795},{"$f":"'Comparison Group 2 Accessible'!K497","v":9.3997185996192827E-3},{"$f":"'Comparison Group 1 Accessible'!J497","v":100},{"$f":"'Comparison Group 1 Accessible'!K497","v":1.1897679952409279E-2},{"$f":"SUM('Subject Data Accessible'!L497:P497)","v":27},0.34615384615384615]
["Wheels",{"$f":"'Comparison Group 3 Accessible'!B498","v":279},{"$f":"'Comparison Group 3 Accessible'!C498","v":0.11420384772820302},{"$f":"'Comparison Group 2 Accessible'!B498","v":815},{"$f":"'Comparison Group 2 Accessible'!C498","v":0.42381695267810715},{"$f":"'Comparison Group 1 Accessible'!B498","v":35},{"$f":"'Comparison Group 1 Accessible'!C498","v":0.16203703703703703},{"$f":"SUM('Subject Data Accessible'!D498:H498)","v":3},0.3,"Wheels",{"$f":"'Comparison Group 3 Accessible'!J498","v":4847},{"$f":"'Comparison Group 3 Accessible'!K498","v":4.4980419087213945E-2},{"$f":"'Comparison Group 2 Accessible'!J498","v":43798},{"$f":"'Comparison Group 2 Accessible'!K498","v":0.51784764179386833},{"$f":"'Comparison Group 1 Accessible'!J498","v":580},{"$f":"'Comparison Group 1 Accessible'!K498","v":6.9006543723973829E-2},{"$f":"SUM('Subject Data Accessible'!L498:P498)","v":0},0]
["Lights (head, signal, tail)",{"$f":"'Comparison Group 3 Accessible'!B499","v":42},{"$f":"'Comparison Group 3 Accessible'!C499","v":1.7191977077363897E-2},{"$f":"'Comparison Group 2 Accessible'!B499","v":3},{"$f":"'Comparison Group 2 Accessible'!C499","v":1.5600624024960999E-3},{"$f":"'Comparison Group 1 Accessible'!B499","v":8},{"$f":"'Comparison Group 1 Accessible'!C499","v":3.7037037037037035E-2},{"$f":"SUM('Subject Data Accessible'!D499:H499)","v":0},0,"Lights (head, signal, tail)",{"$f":"'Comparison Group 3 Accessible'!J499","v":4165},{"$f":"'Comparison Group 3 Accessible'!K499","v":3.8651422632194364E-2},{"$f":"'Comparison Group 2 Accessible'!J499","v":82},{"$f":"'Comparison Group 2 Accessible'!K499","v":9.6953072348274357E-4},{"$f":"'Comparison Group 1 Accessible'!J499","v":676},{"$f":"'Comparison Group 1 Accessible'!K499","v":8.0428316478286729E-2},{"$f":"SUM('Subject Data Accessible'!L499:P499)","v":18},0.23076923076923078]
["Windows or Windshield",{"$f":"'Comparison Group 3 Accessible'!B500","v":22},{"$f":"'Comparison Group 3 Accessible'!C500","v":9.005321326238231E-3},{"$f":"'Comparison Group 2 Accessible'!B500","v":248},{"$f":"'Comparison Group 2 Accessible'!C500","v":0.12896515860634425},{"$f":"'Comparison Group 1 Accessible'!B500","v":4},{"$f":"'Comparison Group 1 Accessible'!C500","v":1.8518518518518517E-2},{"$f":"SUM('Subject Data Accessible'!D500:H500)","v":0},0,"Windows or Windshield",{"$f":"'Comparison Group 3 Accessible'!J500","v":632},{"$f":"'Comparison Group 3 Accessible'!K500","v":5.8649937823641862E-3},{"$f":"'Comparison Group 2 Accessible'!J500","v":12633},{"$f":"'Comparison Group 2 Accessible'!K500","v":0.14936684914338413},{"$f":"'Comparison Group 1 Accessible'!J500","v":101},{"$f":"'Comparison Group 1 Accessible'!K500","v":1.2016656751933374E-2},{"$f":"SUM('Subject Data Accessible'!L500:P500)","v":2},2.564102564102564E-2]
["Mirrors",{"$f":"'Comparison Group 3 Accessible'!B501","v":92},{"$f":"'Comparison Group 3 Accessible'!C501","v":3.7658616455178061E-2},{"$f":"'Comparison Group 2 Accessible'!B501","v":4},{"$f":"'Comparison Group 2 Accessible'!C501","v":2.0800832033281333E-3},{"$f":"'Comparison Group 1 Accessible'!B501","v":6},{"$f":"'Comparison Group 1 Accessible'!C501","v":2.7777777777777776E-2},{"$f":"SUM('Subject Data Accessible'!D501:H501)","v":1},0.1,"Mirrors",{"$f":"'Comparison Group 3 Accessible'!J501","v":8515},{"$f":"'Comparison Group 3 Accessible'!K501","v":7.9019655153213686E-2},{"$f":"'Comparison Group 2 Accessible'!J501","v":247},{"$f":"'Comparison Group 2 Accessible'!K501","v":2.9204157158565567E-3},{"$f":"'Comparison Group 1 Accessible'!J501","v":316},{"$f":"'Comparison Group 1 Accessible'!K501","v":3.7596668649613328E-2},{"$f":"SUM('Subject Data Accessible'!L501:P501)","v":1},1.282051282051282E-2]
["Wipers",{"$f":"'Comparison Group 3 Accessible'!B502","v":169},{"$f":"'Comparison Group 3 Accessible'!C502","v":6.9177241097011871E-2},{"$f":"'Comparison Group 2 Accessible'!B502","v":3},{"$f":"'Comparison Group 2 Accessible'!C502","v":1.5600624024960999E-3},{"$f":"'Comparison Group 1 Accessible'!B502","v":7},{"$f":"'Comparison Group 1 Accessible'!C502","v":3.2407407407407406E-2},{"$f":"SUM('Subject Data Accessible'!D502:H502)","v":0},0,"Wipers",{"$f":"'Comparison Group 3 Accessible'!J502","v":18284},{"$f":"'Comparison Group 3 Accessible'!K502","v":0.16967649733662465},{"$f":"'Comparison Group 2 Accessible'!J502","v":95},{"$f":"'Comparison Group 2 Accessible'!K502","v":1.1232368137909833E-3},{"$f":"'Comparison Group 1 Accessible'!J502","v":1175},{"$f":"'Comparison Group 1 Accessible'!K502","v":0.13979773944080903},{"$f":"SUM('Subject Data Accessible'!L502:P502)","v":14},0.17948717948717949]
["Truck Coupling, Tailer Hitch, Safety Chains",{"$f":"'Comparison Group 3 Accessible'!B503","v":5},{"$f":"'Comparison Group 3 Accessible'!C503","v":2.0466639377814161E-3},{"$f":"'Comparison Group 2 Accessible'!B503","v":394},{"$f":"'Comparison Group 2 Accessible'!C503","v":0.20488819552782112},{"$f":"'Comparison Group 1 Accessible'!B503","v":3},{"$f":"'Comparison Group 1 Accessible'!C503","v":1.3888888888888888E-2},{"$f":"SUM('Subject Data Accessible'!D503:H503)","v":0},0,"Truck Coupling, Tailer Hitch, Safety Chains",{"$f":"'Comparison Group 3 Accessible'!J503","v":126},{"$f":"'Comparison Group 3 Accessible'!K503","v":1.1692867350915942E-3},{"$f":"'Comparison Group 2 Accessible'!J503","v":19659},{"$f":"'Comparison Group 2 Accessible'!K503","v":0.2324390791822836},{"$f":"'Comparison Group 1 Accessible'!J503","v":29},{"$f":"'Comparison Group 1 Accessible'!K503","v":3.4503271861986914E-3},{"$f":"SUM('Subject Data Accessible'!L503:P503)","v":0},0]
["Other",{"$f":"'Comparison Group 3 Accessible'!B504","v":19},{"$f":"'Comparison Group 3 Accessible'!C504","v":7.777322963569382E-3},{"$f":"'Comparison Group 2 Accessible'!B504","v":1},{"$f":"'Comparison Group 2 Accessible'!C504","v":5.2002080083203334E-4},{"$f":"'Comparison Group 1 Accessible'!B504","v":3},{"$f":"'Comparison Group 1 Accessible'!C504","v":1.3888888888888888E-2},{"$f":"SUM('Subject Data Accessible'!D504:H504)","v":0},0,"Other",{"$f":"'Comparison Group 3 Accessible'!J504","v":548},{"$f":"'Comparison Group 3 Accessible'!K504","v":5.085469292303124E-3},{"$f":"'Comparison Group 2 Accessible'!J504","v":29},{"$f":"'Comparison Group 2 Accessible'!K504","v":3.4288281684145805E-4},{"$f":"'Comparison Group 1 Accessible'!J504","v":110},{"$f":"'Comparison Group 1 Accessible'!K504","v":1.3087447947650209E-2},{"$f":"SUM('Subject Data Accessible'!L504:P504)","v":13},0.16666666666666666]
["Unknown",{"$f":"'Comparison Group 3 Accessible'!B505","v":18},{"$f":"'Comparison Group 3 Accessible'!C505","v":7.3679901760130987E-3},{"$f":"'Comparison Group 2 Accessible'!B505","v":62},{"$f":"'Comparison Group 2 Accessible'!C505","v":3.2241289651586062E-2},{"$f":"'Comparison Group 1 Accessible'!B505","v":4},{"$f":"'Comparison Group 1 Accessible'!C505","v":1.8518518518518517E-2},{"$f":"SUM('Subject Data Accessible'!D505:H505)","v":0},0,"Unknown",{"$f":"'Comparison Group 3 Accessible'!J505","v":128},{"$f":"'Comparison Group 3 Accessible'!K505","v":1.18784684199781E-3},{"$f":"'Comparison Group 2 Accessible'!J505","v":2301},{"$f":"'Comparison Group 2 Accessible'!K505","v":2.7205977984558451E-2},{"$f":"'Comparison Group 1 Accessible'!J505","v":19},{"$f":"'Comparison Group 1 Accessible'!K505","v":2.2605591909577631E-3},{"$f":"SUM('Subject Data Accessible'!L505:P505)","v":0},0]
["Person-Level Data",null,null,null,null,null,null,null,null,"Person-Level Data"]
[{"$f":"CONCATENATE(\"Fatal and Serious Injury Crashes, Person-Level Data - \",$A508,\"  \nComp 3 = \",Instructions!$B$12,\", Comp 2 = \",Instructions!$B$11,\", Comp 1 = \", Instructions!$B$10, \", Subject = \",Instructions!$B$9)","v":"Fatal and Serious Injury Crashes, Person-Level Data - Person Type  \nComp 3 = Test Group 3, Comp 2 = Test Group 2, Comp 1 = Test Group 1, Subject = Test County"},null,null,null,null,null,null,null,null,{"$f":"CONCATENATE(\"Total Crashes, Person-Level Data - \",J508,\"\nComp 3 = \",Instructions!$B$12,\", Comp 2 = \",Instructions!$B$11,\", Comp 1 = \", Instructions!$B$10, \", Subject = \",Instructions!$B$9)","v":"Total Crashes, Person-Level Data - Person Type\nComp 3 = Test Group 3, Comp 2 = Test Group 2, Comp 1 = Test Group 1, Subject = Test County"}]
["Person Type","Comp 3 Number","Comp 3 Percent","Comp 2 Number","Comp 2 Percent","Comp 1 Number","Comp 1 Percent","Subject Number","Subject Percent","Person Type","Comp 3 Number","Comp 3 Percent","Comp 2 Number","Comp 2 Percent","Comp 1 Number","Comp 1 Percent","Subject Number","Subject Percent"]
["Driver",{"$f":"'Comparison Group 3 Accessible'!B509","v":265},{"$f":"'Comparison Group 3 Accessible'!C509","v":7.9939668174962286E-2},{"$f":"'Comparison Group 2 Accessible'!B509","v":742},{"$f":"'Comparison Group 2 Accessible'!C509","v":0.28494623655913981},{"$f":"'Comparison Group 1 Accessible'!B509","v":68},{"$f":"'Comparison Group 1 Accessible'!C509","v":0.23287671232876711},{"$f":"SUM('Subject Data Accessible'!D509:H509)","v":1},{"$f":"H509/SUM(H$509:H$516)","v":7.1428571428571425E-2},{"$f":"A509","v":"Driver"},{"$f":"'Comparison Group 3 Accessible'!J509","v":1353},{"$f":"'Comparison Group 3 Accessible'!K509","v":9.2110996133108226E-3},{"$f":"'Comparison Group 2 Accessible'!J509","v":29003},{"$f":"'Comparison Group 2 Accessible'!K509","v":0.25160271702827203},{"$f":"'Comparison Group 1 Accessible'!J509","v":2496},{"$f":"'Comparison Group 1 Accessible'!K509","v":0.21747843513113183},{"$f":"SUM('Subject Data Accessible'!L509:P509)","v":18},{"$f":"Q509/SUM(Q$509:Q$516)","v":0.16981132075471697}]
["Passenger",{"$f":"'Comparison Group 3 Accessible'!B510","v":1414},{"$f":"'Comparison Group 3 Accessible'!C510","v":0.42654600301659124},{"$f":"'Comparison Group 2 Accessible'!B510","v":7},{"$f":"'Comparison Group 2 Accessible'!C510","v":2.6881720430107529E-3},{"$f":"'Comparison Group 1 Accessible'!B510","v":0},{"$f":"'Comparison Group 1 Accessible'!C510","v":0},{"$f":"SUM('Subject Data Accessible'!D510:H510)","v":0},{"$f":"H510/SUM(H$509:H$516)","v":0},"Passenger",{"$f":"'Comparison Group 3 Accessible'!J510","v":76868},{"$f":"'Comparison Group 3 Accessible'!K510","v":0.52331027721801648},{"$f":"'Comparison Group 2 Accessible'!J510","v":572},{"$f":"'Comparison Group 2 Accessible'!K510","v":4.962133370346916E-3},{"$f":"'Comparison Group 1 Accessible'!J510","v":17},{"$f":"'Comparison Group 1 Accessible'!K510","v":1.4812233161976126E-3},{"$f":"SUM('Subject Data Accessible'!L510:P510)","v":0},{"$f":"Q510/SUM(Q$509:Q$516)","v":0}]
["Occupant of Motor Vehicle Not in Transport",{"$f":"'Comparison Group 3 Accessible'!B511","v":3},{"$f":"'Comparison Group 3 Accessible'!C511","v":9.049773755656109E-4},{"$f":"'Comparison Group 2 Accessible'!B511","v":591},{"$f":"'Comparison Group 2 Accessible'!C511","v":0.22695852534562211},{"$f":"'Comparison Group 1 Accessible'!B511","v":52},{"$f":"'Comparison Group 1 Accessible'!C511","v":0.17808219178082191},{"$f":"SUM('Subject Data Accessible'!D511:H511)","v":2},0.14285714285714285,"Occupant of Motor Vehicle Not in Transport",{"$f":"'Comparison Group 3 Accessible'!J511","v":169},{"$f":"'Comparison Group 3 Accessible'!K511","v":1.1505364631556015E-3},{"$f":"'Comparison Group 2 Accessible'!J511","v":27632},{"$f":"'Comparison Group 2 Accessible'!K511","v":0.239709212044451},{"$f":"'Comparison Group 1 Accessible'!J511","v":1919},{"$f":"'Comparison Group 1 Accessible'!K511","v":0.16720397316371874},{"$f":"SUM('Subject Data Accessible'!L511:P511)","v":17},0.16037735849056603]
["Bicyclist",{"$f":"'Comparison Group 3 Accessible'!B512","v":415},{"$f":"'Comparison Group 3 Accessible'!C512","v":0.12518853695324283},{"$f":"'Comparison Group 2 Accessible'!B512","v":12},{"$f":"'Comparison Group 2 Accessible'!C512","v":4.608294930875576E-3},{"$f":"'Comparison Group 1 Accessible'!B512","v":0},{"$f":"'Comparison Group 1 Accessible'!C512","v":0},{"$f":"SUM('Subject Data Accessible'!D512:H512)","v":4},0.2857142857142857,"Bicyclist",{"$f":"'Comparison Group 3 Accessible'!J512","v":19426},{"$f":"'Comparison Group 3 Accessible'!K512","v":0.13225042209030008},{"$f":"'Comparison Group 2 Accessible'!J512","v":580},{"$f":"'Comparison Group 2 Accessible'!K512","v":5.0315338370650539E-3},{"$f":"'Comparison Group 1 Accessible'!J512","v":29},{"$f":"'Comparison Group 1 Accessible'!K512","v":2.5267927158665157E-3},{"$f":"SUM('Subject Data Accessible'!L512:P512)","v":1},9.433962264150943E-3]
["Other Cyclist",{"$f":"'Comparison Group 3 Accessible'!B513","v":16},{"$f":"'Comparison Group 3 Accessible'!C513","v":4.8265460030165915E-3},{"$f":"'Comparison Group 2 Accessible'!B513","v":630},{"$f":"'Comparison Group 2 Accessible'!C513","v":0.24193548387096775},{"$f":"'Comparison Group 1 Accessible'!B513","v":59},{"$f":"'Comparison Group 1 Accessible'!C513","v":0.20205479452054795},{"$f":"SUM('Subject Data Accessible'!D513:H513)","v":2},0.14285714285714285,"Other Cyclist",{"$f":"'Comparison Group 3 Accessible'!J513","v":638},{"$f":"'Comparison Group 3 Accessible'!K513","v":4.3434453461140459E-3},{"$f":"'Comparison Group 2 Accessible'!J513","v":29325},{"$f":"'Comparison Group 2 Accessible'!K513","v":0.25439608581367712},{"$f":"'Comparison Group 1 Accessible'!J513","v":2227},{"$f":"'Comparison Group 1 Accessible'!K513","v":0.19404025442188724},{"$f":"SUM('Subject Data Accessible'!L513:P513)","v":16},0.15094339622641509]
["Pedestrian",{"$f":"'Comparison Group 3 Accessible'!B514","v":3},{"$f":"'Comparison Group 3 Accessible'!C514","v":9.049773755656109E-4},{"$f":"'Comparison Group 2 Accessible'!B514","v":5},{"$f":"'Comparison Group 2 Accessible'!C514","v":1.9201228878648233E-3},{"$f":"'Comparison Group 1 Accessible'!B514","v":0},{"$f":"'Comparison Group 1 Accessible'!C514","v":0},{"$f":"SUM('Subject Data Accessible'!D514:H514)","v":0},0,"Pedestrian",{"$f":"'Comparison Group 3 Accessible'!J514","v":184},{"$f":"'Comparison Group 3 Accessible'!K514","v":1.2526550841457436E-3},{"$f":"'Comparison Group 2 Accessible'!J514","v":457},{"$f":"'Comparison Group 2 Accessible'!K514","v":3.9645016612736717E-3},{"$f":"'Comparison Group 1 Accessible'!J514","v":11},{"$f":"'Comparison Group 1 Accessible'!K514","v":9.5843861636316107E-4},{"$f":"SUM('Subject Data Accessible'!L514:P514)","v":0},0]
["Wheelchair, Person in a Building, Skater, Personal Conveyance, etc.",{"$f":"'Comparison Group 3 Accessible'!B515","v":666},{"$f":"'Comparison Group 3 Accessible'!C515","v":0.20090497737556562},{"$f":"'Comparison Group 2 Accessible'!B515","v":592},{"$f":"'Comparison Group 2 Accessible'!C515","v":0.22734254992319508},{"$f":"'Comparison Group 1 Accessible'!B515","v":34},{"$f":"'Comparison Group 1 Accessible'!C515","v":0.11643835616438356},{"$f":"SUM('Subject Data Accessible'!D515:H515)","v":4},0.2857142857142857,"Wheelchair, Person in a Building, Skater, Personal Conveyance, etc.",{"$f":"'Comparison Group 3 Accessible'!J515","v":28940},{"$f":"'Comparison Group 3 Accessible'!K515","v":0.19702085943031425},{"$f":"'Comparison Group 2 Accessible'!J515","v":26701},{"$f":"'Comparison Group 2 Accessible'!K515","v":0.23163273273012761},{"$f":"'Comparison Group 1 Accessible'!J515","v":1588},{"$f":"'Comparison Group 1 Accessible'!K515","v":0.13836368388951817},{"$f":"SUM('Subject Data Accessible'!L515:P515)","v":25},0.23584905660377359]
["Unknown",{"$f":"'Comparison Group 3 Accessible'!B516","v":533},{"$f":"'Comparison Group 3 Accessible'!C516","v":0.16078431372549021},{"$f":"'Comparison Group 2 Accessible'!B516","v":24.999999999999943},{"$f":"'Comparison Group 2 Accessible'!C516","v":9.6006144393240948E-3},{"$f":"'Comparison Group 1 Accessible'!B516","v":79},{"$f":"'Comparison Group 1 Accessible'!C516","v":0.27054794520547948},{"$f":"SUM('Subject Data Accessible'!D516:H516)","v":1},7.1428571428571425E-2,"Unknown",{"$f":"'Comparison Group 3 Accessible'!J516","v":19310},{"$f":"'Comparison Group 3 Accessible'!K516","v":0.131460704754643},{"$f":"'Comparison Group 2 Accessible'!J516","v":1003},{"$f":"'Comparison Group 2 Accessible'!K516","v":8.701083514786637E-3},{"$f":"'Comparison Group 1 Accessible'!J516","v":3190},{"$f":"'Comparison Group 1 Accessible'!K516","v":0.2779471987453167},{"$f":"SUM('Subject Data Accessible'!L516:P516)","v":29},0.27358490566037735]
[null,{"$f":"CONCATENATE(\"Fatal and Serious Injury Crashes, Person-Level Data - \",$A518,\"  \nComp 3 = \",Instructions!$B$12,\", Comp 2 = \",Instructions!$B$11,\", Comp 1 = \", Instructions!$B$10, \", Subject = \",Instructions!$B$9)","v":"Fatal and Serious Injury Crashes, Person-Level Data - Restraint Use  \nComp 3 = Test Group 3, Comp 2 = Test Group 2, Comp 1 = Test Group 1, Subject = Test County"},null,null,null,null,null,null,null,{"$f":"CONCATENATE(\"Total Crashes, Person-Level Data - \",J518,\"\nComp 3 = \",Instructions!$B$12,\", Comp 2 = \",Instructions!$B$11,\", Comp 1 = \", Instructions!$B$10, \", Subject = \",Instructions!$B$9)","v":"Total Crashes, Person-Level Data - Restraint Use\nComp 3 = Test Group 3, Comp 2 = Test Group 2, Comp 1 = Test Group 1, Subject = Test County"}]
["Restraint Use","Comp 3 Number","Comp 3 Percent","Comp 2 Number","Comp 2 Percent","Comp 1 Number","Comp 1 Percent","Subject Number","Subject Percent","Restraint Use","Comp 3 Number","Comp 3 Percent","Comp 2 Number","Comp 2 Percent","Comp 1 Number","Comp 1 Percent","Subject Number","Subject Percent"]
["Booster Seat",{"$f":"'Comparison Group 3 Accessible'!B519","v":50},{"$f":"'Comparison Group 3 Accessible'!C519","v":1.5082956259426848E-2},{"$f":"'Comparison Group 2 Accessible'!B519","v":44},{"$f":"'Comparison Group 2 Accessible'!C519","v":1.6897081413210446E-2},{"$f":"'Comparison Group 1 Accessible'!B519","v":35},{"$f":"'Comparison Group 1 Accessible'!C519","v":0.11986301369863013},{"$f":"SUM('Subject Data Accessible'!D519:H519)","v":0},{"$f":"H519/SUM(H$519:H$536)","v":0},{"$f":"A519","v":"Booster Seat"},{"$f":"'Comparison Group 3 Accessible'!J519","v":635},{"$f":"'Comparison Group 3 Accessible'!K519","v":4.3230216219160176E-3},{"$f":"'Comparison Group 2 Accessible'!J519","v":543},{"$f":"'Comparison Group 2 Accessible'!K519","v":4.7105566784936626E-3},{"$f":"'Comparison Group 1 Accessible'!J519","v":580},{"$f":"'Comparison Group 1 Accessible'!K519","v":5.0535854317330313E-2},{"$f":"SUM('Subject Data Accessible'!L519:P519)","v":0},{"$f":"Q519/SUM(Q$519:Q$536)","v":0}]
["Child Restraint System - Forward Facing",{"$f":"'Comparison Group 3 Accessible'!B520","v":2},{"$f":"'Comparison Group 3 Accessible'!C520","v":6.0331825037707393E-4},{"$f":"'Comparison Group 2 Accessible'!B520","v":0},{"$f":"'Comparison Group 2 Accessible'!C520","v":0},{"$f":"'Comparison Group 1 Accessible'!B520","v":8},{"$f":"'Comparison Group 1 Accessible'!C520","v":2.7397260273972601E-2},{"$f":"SUM('Subject Data Accessible'!D520:H520)","v":0},{"$f":"H520/SUM(H$519:H$536)","v":0},"Child Restraint System - Forward Facing",{"$f":"'Comparison Group 3 Accessible'!J520","v":12},{"$f":"'Comparison Group 3 Accessible'!K520","v":8.1694896792113721E-5},{"$f":"'Comparison Group 2 Accessible'!J520","v":4},{"$f":"'Comparison Group 2 Accessible'!K520","v":3.4700233359069342E-5},{"$f":"'Comparison Group 1 Accessible'!J520","v":676},{"$f":"'Comparison Group 1 Accessible'!K520","v":5.8900409514681534E-2},{"$f":"SUM('Subject Data Accessible'!L520:P520)","v":0},{"$f":"Q520/SUM(Q$519:Q$536)","v":0}]
["Child Restraint System - Rear Facing",{"$f":"'Comparison Group 3 Accessible'!B521","v":31},{"$f":"'Comparison Group 3 Accessible'!C521","v":9.3514328808446453E-3},{"$f":"'Comparison Group 2 Accessible'!B521","v":21},{"$f":"'Comparison Group 2 Accessible'!C521","v":8.0645161290322578E-3},{"$f":"'Comparison Group 1 Accessible'!B521","v":4},{"$f":"'Comparison Group 1 Accessible'!C521","v":1.3698630136986301E-2},{"$f":"SUM('Subject Data Accessible'!D521:H521)","v":1},7.1428571428571425E-2,"Child Restraint System - Rear Facing",{"$f":"'Comparison Group 3 Accessible'!J521","v":5372},{"$f":"'Comparison Group 3 Accessible'!K521","v":3.6572082130602909E-2},{"$f":"'Comparison Group 2 Accessible'!J521","v":4616},{"$f":"'Comparison Group 2 Accessible'!K521","v":4.0044069296366017E-2},{"$f":"'Comparison Group 1 Accessible'!J521","v":101},{"$f":"'Comparison Group 1 Accessible'!K521","v":8.8002091138799331E-3},{"$f":"SUM('Subject Data Accessible'!L521:P521)","v":1},9.433962264150943E-3]
["Child Restraint - Type Unknown",{"$f":"'Comparison Group 3 Accessible'!B522","v":2},{"$f":"'Comparison Group 3 Accessible'!C522","v":6.0331825037707393E-4},{"$f":"'Comparison Group 2 Accessible'!B522","v":2},{"$f":"'Comparison Group 2 Accessible'!C522","v":7.6804915514592934E-4},{"$f":"'Comparison Group 1 Accessible'!B522","v":6},{"$f":"'Comparison Group 1 Accessible'!C522","v":2.0547945205479451E-2},{"$f":"SUM('Subject Data Accessible'!D522:H522)","v":0},0,"Child Restraint - Type Unknown",{"$f":"'Comparison Group 3 Accessible'!J522","v":91},{"$f":"'Comparison Group 3 Accessible'!K522","v":6.1951963400686233E-4},{"$f":"'Comparison Group 2 Accessible'!J522","v":63},{"$f":"'Comparison Group 2 Accessible'!K522","v":5.4652867540534212E-4},{"$f":"'Comparison Group 1 Accessible'!J522","v":316},{"$f":"'Comparison Group 1 Accessible'!K522","v":2.7533327524614445E-2},{"$f":"SUM('Subject Data Accessible'!L522:P522)","v":0},0]
["Lap Belt Only Used",{"$f":"'Comparison Group 3 Accessible'!B523","v":333},{"$f":"'Comparison Group 3 Accessible'!C523","v":0.10045248868778281},{"$f":"'Comparison Group 2 Accessible'!B523","v":237},{"$f":"'Comparison Group 2 Accessible'!C523","v":9.1013824884792621E-2},{"$f":"'Comparison Group 1 Accessible'!B523","v":7},{"$f":"'Comparison Group 1 Accessible'!C523","v":2.3972602739726026E-2},{"$f":"SUM('Subject Data Accessible'!D523:H523)","v":2},0.14285714285714285,"Lap Belt Only Used",{"$f":"'Comparison Group 3 Accessible'!J523","v":1385},{"$f":"'Comparison Group 3 Accessible'!K523","v":9.4289526714231246E-3},{"$f":"'Comparison Group 2 Accessible'!J523","v":1022},{"$f":"'Comparison Group 2 Accessible'!K523","v":8.8659096232422165E-3},{"$f":"'Comparison Group 1 Accessible'!J523","v":1175},{"$f":"'Comparison Group 1 Accessible'!K523","v":0.10237867038424675},{"$f":"SUM('Subject Data Accessible'!L523:P523)","v":0},0]
["None Used - Motor Vehicle Occupant",{"$f":"'Comparison Group 3 Accessible'!B524","v":1},{"$f":"'Comparison Group 3 Accessible'!C524","v":3.0165912518853697E-4},{"$f":"'Comparison Group 2 Accessible'!B524","v":1},{"$f":"'Comparison Group 2 Accessible'!C524","v":3.8402457757296467E-4},{"$f":"'Comparison Group 1 Accessible'!B524","v":3},{"$f":"'Comparison Group 1 Accessible'!C524","v":1.0273972602739725E-2},{"$f":"SUM('Subject Data Accessible'!D524:H524)","v":0},0,"None Used - Motor Vehicle Occupant",{"$f":"'Comparison Group 3 Accessible'!J524","v":16},{"$f":"'Comparison Group 3 Accessible'!K524","v":1.0892652905615162E-4},{"$f":"'Comparison Group 2 Accessible'!J524","v":10},{"$f":"'Comparison Group 2 Accessible'!K524","v":8.6750583397673345E-5},{"$f":"'Comparison Group 1 Accessible'!J524","v":29},{"$f":"'Comparison Group 1 Accessible'!K524","v":2.5267927158665157E-3},{"$f":"SUM('Subject Data Accessible'!L524:P524)","v":0},0]
["Restraint Used - Type Unknown",{"$f":"'Comparison Group 3 Accessible'!B525","v":8},{"$f":"'Comparison Group 3 Accessible'!C525","v":2.4132730015082957E-3},{"$f":"'Comparison Group 2 Accessible'!B525","v":4},{"$f":"'Comparison Group 2 Accessible'!C525","v":1.5360983102918587E-3},{"$f":"'Comparison Group 1 Accessible'!B525","v":3},{"$f":"'Comparison Group 1 Accessible'!C525","v":1.0273972602739725E-2},{"$f":"SUM('Subject Data Accessible'!D525:H525)","v":1},7.1428571428571425E-2,"Restraint Used - Type Unknown",{"$f":"'Comparison Group 3 Accessible'!J525","v":541},{"$f":"'Comparison Group 3 Accessible'!K525","v":3.6830782637111269E-3},{"$f":"'Comparison Group 2 Accessible'!J525","v":442},{"$f":"'Comparison Group 2 Accessible'!K525","v":3.8343757861771621E-3},{"$f":"'Comparison Group 1 Accessible'!J525","v":110},{"$f":"'Comparison Group 1 Accessible'!K525","v":9.5843861636316103E-3},{"$f":"SUM('Subject Data Accessible'!L525:P525)","v":0},0]
["Shoulder and Lap Belt Used",{"$f":"'Comparison Group 3 Accessible'!B526","v":256},{"$f":"'Comparison Group 3 Accessible'!C526","v":7.7224736048265463E-2},{"$f":"'Comparison Group 2 Accessible'!B526","v":214},{"$f":"'Comparison Group 2 Accessible'!C526","v":8.218125960061444E-2},{"$f":"'Comparison Group 1 Accessible'!B526","v":4},{"$f":"'Comparison Group 1 Accessible'!C526","v":1.3698630136986301E-2},{"$f":"SUM('Subject Data Accessible'!D526:H526)","v":1},7.1428571428571425E-2,"Shoulder and Lap Belt Used",{"$f":"'Comparison Group 3 Accessible'!J526","v":1315},{"$f":"'Comparison Group 3 Accessible'!K526","v":8.9523991068024625E-3},{"$f":"'Comparison Group 2 Accessible'!J526","v":1081},{"$f":"'Comparison Group 2 Accessible'!K526","v":9.3777380652884882E-3},{"$f":"'Comparison Group 1 Accessible'!J526","v":19},{"$f":"'Comparison Group 1 Accessible'!K526","v":1.6554848828090965E-3},{"$f":"SUM('Subject Data Accessible'!L526:P526)","v":2},1.8867924528301886E-2]
["Shoulder Belt Only Used",{"$f":"'Comparison Group 3 Accessible'!B527","v":1370},{"$f":"'Comparison Group 3 Accessible'!C527","v":0.4132730015082956},{"$f":"'Comparison Group 2 Accessible'!B527","v":1101},{"$f":"'Comparison Group 2 Accessible'!C527","v":0.42281105990783407},{"$f":"'Comparison Group 1 Accessible'!B527","v":3},{"$f":"'Comparison Group 1 Accessible'!C527","v":1.0273972602739725E-2},{"$f":"SUM('Subject Data Accessible'!D527:H527)","v":1},7.1428571428571425E-2,"Shoulder Belt Only Used",{"$f":"'Comparison Group 3 Accessible'!J527","v":74831},{"$f":"'Comparison Group 3 Accessible'!K527","v":0.50944256848755509},{"$f":"'Comparison Group 2 Accessible'!J527","v":59677},{"$f":"'Comparison Group 2 Accessible'!K527","v":0.51770145654229527},{"$f":"'Comparison Group 1 Accessible'!J527","v":41},{"$f":"'Comparison Group 1 Accessible'!K527","v":3.5723621155354188E-3},{"$f":"SUM('Subject Data Accessible'!L527:P527)","v":27},0.25471698113207547]
["Stretcher",{"$f":"'Comparison Group 3 Accessible'!B528","v":3},{"$f":"'Comparison Group 3 Accessible'!C528","v":9.049773755656109E-4},{"$f":"'Comparison Group 2 Accessible'!B528","v":3},{"$f":"'Comparison Group 2 Accessible'!C528","v":1.152073732718894E-3},{"$f":"'Comparison Group 1 Accessible'!B528","v":1},{"$f":"'Comparison Group 1 Accessible'!C528","v":3.4246575342465752E-3},{"$f":"SUM('Subject Data Accessible'!D528:H528)","v":0},0,"Stretcher",{"$f":"'Comparison Group 3 Accessible'!J528","v":168},{"$f":"'Comparison Group 3 Accessible'!K528","v":1.143728555089592E-3},{"$f":"'Comparison Group 2 Accessible'!J528","v":113},{"$f":"'Comparison Group 2 Accessible'!K528","v":9.802815923937089E-4},{"$f":"'Comparison Group 1 Accessible'!J528","v":239},{"$f":"'Comparison Group 1 Accessible'!K528","v":2.0824257210072319E-2},{"$f":"SUM('Subject Data Accessible'!L528:P528)","v":0},0]
["Wheelchair",{"$f":"'Comparison Group 3 Accessible'!B529","v":429},{"$f":"'Comparison Group 3 Accessible'!C529","v":0.12941176470588237},{"$f":"'Comparison Group 2 Accessible'!B529","v":331},{"$f":"'Comparison Group 2 Accessible'!C529","v":0.12711213517665129},{"$f":"'Comparison Group 1 Accessible'!B529","v":3},{"$f":"'Comparison Group 1 Accessible'!C529","v":1.0273972602739725E-2},{"$f":"SUM('Subject Data Accessible'!D529:H529)","v":4},0.2857142857142857,"Wheelchair",{"$f":"'Comparison Group 3 Accessible'!J529","v":22791},{"$f":"'Comparison Group 3 Accessible'!K529","v":0.15515903273242199},{"$f":"'Comparison Group 2 Accessible'!J529","v":17233},{"$f":"'Comparison Group 2 Accessible'!K529","v":0.14949728036921048},{"$f":"'Comparison Group 1 Accessible'!J529","v":153},{"$f":"'Comparison Group 1 Accessible'!K529","v":1.3331009845778513E-2},{"$f":"SUM('Subject Data Accessible'!L529:P529)","v":18},0.16981132075471697]
["DOT-Compliant Motorcycle Helmet",{"$f":"'Comparison Group 3 Accessible'!B530","v":16},{"$f":"'Comparison Group 3 Accessible'!C530","v":4.8265460030165915E-3},{"$f":"'Comparison Group 2 Accessible'!B530","v":5},{"$f":"'Comparison Group 2 Accessible'!C530","v":1.9201228878648233E-3},{"$f":"'Comparison Group 1 Accessible'!B530","v":0},{"$f":"'Comparison Group 1 Accessible'!C530","v":0},{"$f":"SUM('Subject Data Accessible'!D530:H530)","v":0},0,"DOT-Compliant Motorcycle Helmet",{"$f":"'Comparison Group 3 Accessible'!J530","v":625},{"$f":"'Comparison Group 3 Accessible'!K530","v":4.2549425412559232E-3},{"$f":"'Comparison Group 2 Accessible'!J530","v":338},{"$f":"'Comparison Group 2 Accessible'!K530","v":2.9321697188413594E-3},{"$f":"'Comparison Group 1 Accessible'!J530","v":60},{"$f":"'Comparison Group 1 Accessible'!K530","v":5.2278469983445151E-3},{"$f":"SUM('Subject Data Accessible'!L530:P530)","v":2},1.8867924528301886E-2]
["Not DOT-Compliant Motorcycle Helmet",{"$f":"'Comparison Group 3 Accessible'!B531","v":3},{"$f":"'Comparison Group 3 Accessible'!C531","v":9.049773755656109E-4},{"$f":"'Comparison Group 2 Accessible'!B531","v":3},{"$f":"'Comparison Group 2 Accessible'!C531","v":1.152073732718894E-3},{"$f":"'Comparison Group 1 Accessible'!B531","v":111},{"$f":"'Comparison Group 1 Accessible'!C531","v":0.38013698630136988},{"$f":"SUM('Subject Data Accessible'!D531:H531)","v":0},0,"Not DOT-Compliant Motorcycle Helmet",{"$f":"'Comparison Group 3 Accessible'!J531","v":178},{"$f":"'Comparison Group 3 Accessible'!K531","v":1.2118076357496869E-3},{"$f":"'Comparison Group 2 Accessible'!J531","v":128},{"$f":"'Comparison Group 2 Accessible'!K531","v":1.1104074674902189E-3},{"$f":"'Comparison Group 1 Accessible'!J531","v":3612},{"$f":"'Comparison Group 1 Accessible'!K531","v":0.31471638930033979},{"$f":"SUM('Subject Data Accessible'!L531:P531)","v":1},9.433962264150943E-3]
["Unknown if DOT-Compliant Motorcycle Helmet",{"$f":"'Comparison Group 3 Accessible'!B532","v":668},{"$f":"'Comparison Group 3 Accessible'!C532","v":0.20150829562594269},{"$f":"'Comparison Group 2 Accessible'!B532","v":534},{"$f":"'Comparison Group 2 Accessible'!C532","v":0.20506912442396313},{"$f":"'Comparison Group 1 Accessible'!B532","v":21},{"$f":"'Comparison Group 1 Accessible'!C532","v":7.1917808219178078E-2},{"$f":"SUM('Subject Data Accessible'!D532:H532)","v":2},0.14285714285714285,"Unknown if DOT-Compliant Motorcycle Helmet",{"$f":"'Comparison Group 3 Accessible'!J532","v":33832},{"$f":"'Comparison Group 3 Accessible'!K532","v":0.23032514568923262},{"$f":"'Comparison Group 2 Accessible'!J532","v":26790},{"$f":"'Comparison Group 2 Accessible'!K532","v":0.23240481292236689},{"$f":"'Comparison Group 1 Accessible'!J532","v":874},{"$f":"'Comparison Group 1 Accessible'!K532","v":7.6152304609218444E-2},{"$f":"SUM('Subject Data Accessible'!L532:P532)","v":14},0.13207547169811321]
["No Helmet",{"$f":"'Comparison Group 3 Accessible'!B533","v":2},{"$f":"'Comparison Group 3 Accessible'!C533","v":6.0331825037707393E-4},{"$f":"'Comparison Group 2 Accessible'!B533","v":1},{"$f":"'Comparison Group 2 Accessible'!C533","v":3.8402457757296467E-4},{"$f":"'Comparison Group 1 Accessible'!B533","v":2},{"$f":"'Comparison Group 1 Accessible'!C533","v":6.8493150684931503E-3},{"$f":"SUM('Subject Data Accessible'!D533:H533)","v":0},0,"No Helmet",{"$f":"'Comparison Group 3 Accessible'!J533","v":75},{"$f":"'Comparison Group 3 Accessible'!K533","v":5.1059310495071071E-4},{"$f":"'Comparison Group 2 Accessible'!J533","v":38},{"$f":"'Comparison Group 2 Accessible'!K533","v":3.2965221691115873E-4},{"$f":"'Comparison Group 1 Accessible'!J533","v":320},{"$f":"'Comparison Group 1 Accessible'!K533","v":2.7881850657837413E-2},{"$f":"SUM('Subject Data Accessible'!L533:P533)","v":0},0]
["Not Applicable",{"$f":"'Comparison Group 3 Accessible'!B534","v":111},{"$f":"'Comparison Group 3 Accessible'!C534","v":3.3484162895927601E-2},{"$f":"'Comparison Group 2 Accessible'!B534","v":82},{"$f":"'Comparison Group 2 Accessible'!C534","v":3.1490015360983101E-2},{"$f":"'Comparison Group 1 Accessible'!B534","v":18},{"$f":"'Comparison Group 1 Accessible'!C534","v":6.1643835616438353E-2},{"$f":"SUM('Subject Data Accessible'!D534:H534)","v":2},0.14285714285714285,"Not Applicable",{"$f":"'Comparison Group 3 Accessible'!J534","v":4927},{"$f":"'Comparison Group 3 Accessible'!K534","v":3.3542563041228692E-2},{"$f":"'Comparison Group 2 Accessible'!J534","v":3106},{"$f":"'Comparison Group 2 Accessible'!K534","v":2.6944731203317342E-2},{"$f":"'Comparison Group 1 Accessible'!J534","v":219},{"$f":"'Comparison Group 1 Accessible'!K534","v":1.908164154395748E-2},{"$f":"SUM('Subject Data Accessible'!L534:P534)","v":13},0.12264150943396226]
["Other",{"$f":"'Comparison Group 3 Accessible'!B535","v":3},{"$f":"'Comparison Group 3 Accessible'!C535","v":9.049773755656109E-4},{"$f":"'Comparison Group 2 Accessible'!B535","v":1},{"$f":"'Comparison Group 2 Accessible'!C535","v":3.8402457757296467E-4},{"$f":"'Comparison Group 1 Accessible'!B535","v":26},{"$f":"'Comparison Group 1 Accessible'!C535","v":8.9041095890410954E-2},{"$f":"SUM('Subject Data Accessible'!D535:H535)","v":0},0,"Other",{"$f":"'Comparison Group 3 Accessible'!J535","v":60},{"$f":"'Comparison Group 3 Accessible'!K535","v":4.0847448396056859E-4},{"$f":"'Comparison Group 2 Accessible'!J535","v":40},{"$f":"'Comparison Group 2 Accessible'!K535","v":3.4700233359069338E-4},{"$f":"'Comparison Group 1 Accessible'!J535","v":1627},{"$f":"'Comparison Group 1 Accessible'!K535","v":0.14176178443844209},{"$f":"SUM('Subject Data Accessible'!L535:P535)","v":0},0]
["Unknown",{"$f":"'Comparison Group 3 Accessible'!B536","v":27},{"$f":"'Comparison Group 3 Accessible'!C536","v":8.1447963800904983E-3},{"$f":"'Comparison Group 2 Accessible'!B536","v":19.999999999999943},{"$f":"'Comparison Group 2 Accessible'!C536","v":7.6804915514592717E-3},{"$f":"'Comparison Group 1 Accessible'!B536","v":37},{"$f":"'Comparison Group 1 Accessible'!C536","v":0.12671232876712329},{"$f":"SUM('Subject Data Accessible'!D536:H536)","v":0},0,"Unknown",{"$f":"'Comparison Group 3 Accessible'!J536","v":34},{"$f":"'Comparison Group 3 Accessible'!K536","v":2.314688742443222E-4},{"$f":"'Comparison Group 2 Accessible'!J536","v":29},{"$f":"'Comparison Group 2 Accessible'!K536","v":2.5157669185325274E-4},{"$f":"'Comparison Group 1 Accessible'!J536","v":1326},{"$f":"'Comparison Group 1 Accessible'!K536","v":0.11553541866341378},{"$f":"SUM('Subject Data Accessible'!L536:P536)","v":28},0.26415094339622641]
[{"$f":"CONCATENATE(\"Fatal and Serious Injury Crashes, Person-Level Data - \",$A538,\"  \nComp 3 = \",Instructions!$B$12,\", Comp 2 = \",Instructions!$B$11,\", Comp 1 = \", Instructions!$B$10, \", Subject = \",Instructions!$B$9)","v":"Fatal and Serious Injury Crashes, Person-Level Data - Driver Actions at Time of Crash, Selection 1  \nComp 3 = Test Group 3, Comp 2 = Test Group 2, Comp 1 = Test Group 1, Subject = Test County"},null,null,null,null,null,null,null,null,{"$f":"CONCATENATE(\"Total Crashes, Person-Level Data - \",J538,\"\nComp 3 = \",Instructions!$B$12,\", Comp 2 = \",Instructions!$B$11,\", Comp 1 = \", Instructions!$B$10, \", Subject = \",Instructions!$B$9)","v":"Total Crashes, Person-Level Data - Driver Actions at Time of Crash, Selection 1\nComp 3 = Test Group 3, Comp 2 = Test Group 2, Comp 1 = Test Group 1, Subject = Test County"}]
["Driver Actions at Time of Crash, Selection 1","Comp 3 Number","Comp 3 Percent","Comp 2 Number","Comp 2 Percent","Comp 1 Number","Comp 1 Percent","Subject Number","Subject Percent","Driver Actions at Time of Crash, Selection 1","Comp 3 Number","Comp 3 Percent","Comp 2 Number","Comp 2 Percent","Comp 1 Number","Comp 1 Percent","Subject Number","Subject Percent"]
["No Contributing Action",{"$f":"'Comparison Group 3 Accessible'!B539","v":23},{"$f":"'Comparison Group 3 Accessible'!C539","v":6.9381598793363496E-3},{"$f":"'Comparison Group 2 Accessible'!B539","v":534},{"$f":"'Comparison Group 2 Accessible'!C539","v":0.20506912442396313},{"$f":"'Comparison Group 1 Accessible'!B539","v":26},{"$f":"'Comparison Group 1 Accessible'!C539","v":8.9041095890410954E-2},{"$f":"SUM('Subject Data Accessible'!D539:H539)","v":4},{"$f":"H539/SUM(H$539:H$557)","v":0.2857142857142857},{"$f":"A539","v":"No Contributing Action"},{"$f":"'Comparison Group 3 Accessible'!J539","v":808},{"$f":"'Comparison Group 3 Accessible'!K539","v":5.5007897173356569E-3},{"$f":"'Comparison Group 2 Accessible'!J539","v":26790},{"$f":"'Comparison Group 2 Accessible'!K539","v":0.23240481292236689},{"$f":"'Comparison Group 1 Accessible'!J539","v":1555},{"$f":"'Comparison Group 1 Accessible'!K539","v":0.13548836804042869},{"$f":"SUM('Subject Data Accessible'!L539:P539)","v":18},{"$f":"Q539/SUM(Q$539:Q$557)","v":0.16981132075471697}]
["Disregarded Other Road Markings",{"$f":"'Comparison Group 3 Accessible'!B540","v":5},{"$f":"'Comparison Group 3 Accessible'!C540","v":1.5082956259426848E-3},{"$f":"'Comparison Group 2 Accessible'!B540","v":1},{"$f":"'Comparison Group 2 Accessible'!C540","v":3.8402457757296467E-4},{"$f":"'Comparison Group 1 Accessible'!B540","v":33},{"$f":"'Comparison Group 1 Accessible'!C540","v":0.11301369863013698},{"$f":"SUM('Subject Data Accessible'!D540:H540)","v":0},{"$f":"H540/SUM(H$539:H$557)","v":0},"Disregarded Other Road Markings",{"$f":"'Comparison Group 3 Accessible'!J540","v":2042},{"$f":"'Comparison Group 3 Accessible'!K540","v":1.3901748270791351E-2},{"$f":"'Comparison Group 2 Accessible'!J540","v":38},{"$f":"'Comparison Group 2 Accessible'!K540","v":3.2965221691115873E-4},{"$f":"'Comparison Group 1 Accessible'!J540","v":1267},{"$f":"'Comparison Group 1 Accessible'!K540","v":0.11039470244837502},{"$f":"SUM('Subject Data Accessible'!L540:P540)","v":2},{"$f":"Q540/SUM(Q$539:Q$557)","v":1.8867924528301886E-2}]
["Disregarded Other Traffic Sign",{"$f":"'Comparison Group 3 Accessible'!B541","v":76},{"$f":"'Comparison Group 3 Accessible'!C541","v":2.2926093514328807E-2},{"$f":"'Comparison Group 2 Accessible'!B541","v":82},{"$f":"'Comparison Group 2 Accessible'!C541","v":3.1490015360983101E-2},{"$f":"'Comparison Group 1 Accessible'!B541","v":30},{"$f":"'Comparison Group 1 Accessible'!C541","v":0.10273972602739725},{"$f":"SUM('Subject Data Accessible'!D541:H541)","v":0},0,"Disregarded Other Traffic Sign",{"$f":"'Comparison Group 3 Accessible'!J541","v":3138},{"$f":"'Comparison Group 3 Accessible'!K541","v":2.1363215511137738E-2},{"$f":"'Comparison Group 2 Accessible'!J541","v":3106},{"$f":"'Comparison Group 2 Accessible'!K541","v":2.6944731203317342E-2},{"$f":"'Comparison Group 1 Accessible'!J541","v":571},{"$f":"'Comparison Group 1 Accessible'!K541","v":4.9751677267578634E-2},{"$f":"SUM('Subject Data Accessible'!L541:P541)","v":1},9.433962264150943E-3]
["Failed to Keep in Proper Lane",{"$f":"'Comparison Group 3 Accessible'!B542","v":3},{"$f":"'Comparison Group 3 Accessible'!C542","v":9.049773755656109E-4},{"$f":"'Comparison Group 2 Accessible'!B542","v":1},{"$f":"'Comparison Group 2 Accessible'!C542","v":3.8402457757296467E-4},{"$f":"'Comparison Group 1 Accessible'!B542","v":8},{"$f":"'Comparison Group 1 Accessible'!C542","v":2.7397260273972601E-2},{"$f":"SUM('Subject Data Accessible'!D542:H542)","v":2},0.14285714285714285,"Failed to Keep in Proper Lane",{"$f":"'Comparison Group 3 Accessible'!J542","v":519},{"$f":"'Comparison Group 3 Accessible'!K542","v":3.5333042862589182E-3},{"$f":"'Comparison Group 2 Accessible'!J542","v":40},{"$f":"'Comparison Group 2 Accessible'!K542","v":3.4700233359069338E-4},{"$f":"'Comparison Group 1 Accessible'!J542","v":676},{"$f":"'Comparison Group 1 Accessible'!K542","v":5.8900409514681534E-2},{"$f":"SUM('Subject Data Accessible'!L542:P542)","v":14},0.13207547169811321]
["Failed to Yield Right-of-Way",{"$f":"'Comparison Group 3 Accessible'!B543","v":1694},{"$f":"'Comparison Group 3 Accessible'!C543","v":0.51101055806938156},{"$f":"'Comparison Group 2 Accessible'!B543","v":19.999999999999943},{"$f":"'Comparison Group 2 Accessible'!C543","v":7.6804915514592717E-3},{"$f":"'Comparison Group 1 Accessible'!B543","v":4},{"$f":"'Comparison Group 1 Accessible'!C543","v":1.3698630136986301E-2},{"$f":"SUM('Subject Data Accessible'!D543:H543)","v":0},0,"Failed to Yield Right-of-Way",{"$f":"'Comparison Group 3 Accessible'!J543","v":64625},{"$f":"'Comparison Group 3 Accessible'!K543","v":0.43996105876586244},{"$f":"'Comparison Group 2 Accessible'!J543","v":29},{"$f":"'Comparison Group 2 Accessible'!K543","v":2.5157669185325274E-4},{"$f":"'Comparison Group 1 Accessible'!J543","v":101},{"$f":"'Comparison Group 1 Accessible'!K543","v":8.8002091138799331E-3},{"$f":"SUM('Subject Data Accessible'!L543:P543)","v":0},0]
["Followed Too Closely",{"$f":"'Comparison Group 3 Accessible'!B544","v":418},{"$f":"'Comparison Group 3 Accessible'!C544","v":0.12609351432880844},{"$f":"'Comparison Group 2 Accessible'!B544","v":44},{"$f":"'Comparison Group 2 Accessible'!C544","v":1.6897081413210446E-2},{"$f":"'Comparison Group 1 Accessible'!B544","v":6},{"$f":"'Comparison Group 1 Accessible'!C544","v":2.0547945205479451E-2},{"$f":"SUM('Subject Data Accessible'!D544:H544)","v":2},0.14285714285714285,"Followed Too Closely",{"$f":"'Comparison Group 3 Accessible'!J544","v":13567},{"$f":"'Comparison Group 3 Accessible'!K544","v":9.2362888731550574E-2},{"$f":"'Comparison Group 2 Accessible'!J544","v":543},{"$f":"'Comparison Group 2 Accessible'!K544","v":4.7105566784936626E-3},{"$f":"'Comparison Group 1 Accessible'!J544","v":296},{"$f":"'Comparison Group 1 Accessible'!K544","v":2.5790711858499609E-2},{"$f":"SUM('Subject Data Accessible'!L544:P544)","v":13},0.12264150943396226]
["Improper Backing",{"$f":"'Comparison Group 3 Accessible'!B545","v":63},{"$f":"'Comparison Group 3 Accessible'!C545","v":1.9004524886877826E-2},{"$f":"'Comparison Group 2 Accessible'!B545","v":0},{"$f":"'Comparison Group 2 Accessible'!C545","v":0},{"$f":"'Comparison Group 1 Accessible'!B545","v":7},{"$f":"'Comparison Group 1 Accessible'!C545","v":2.3972602739726026E-2},{"$f":"SUM('Subject Data Accessible'!D545:H545)","v":0},0,"Improper Backing",{"$f":"'Comparison Group 3 Accessible'!J545","v":5202},{"$f":"'Comparison Group 3 Accessible'!K545","v":3.5414737759381296E-2},{"$f":"'Comparison Group 2 Accessible'!J545","v":4},{"$f":"'Comparison Group 2 Accessible'!K545","v":3.4700233359069342E-5},{"$f":"'Comparison Group 1 Accessible'!J545","v":1038},{"$f":"'Comparison Group 1 Accessible'!K545","v":9.0441753071360112E-2},{"$f":"SUM('Subject Data Accessible'!L545:P545)","v":0},0]
["Improper Passing",{"$f":"'Comparison Group 3 Accessible'!B546","v":26},{"$f":"'Comparison Group 3 Accessible'!C546","v":7.8431372549019607E-3},{"$f":"'Comparison Group 2 Accessible'!B546","v":21},{"$f":"'Comparison Group 2 Accessible'!C546","v":8.0645161290322578E-3},{"$f":"'Comparison Group 1 Accessible'!B546","v":26},{"$f":"'Comparison Group 1 Accessible'!C546","v":8.9041095890410954E-2},{"$f":"SUM('Subject Data Accessible'!D546:H546)","v":0},0,"Improper Passing",{"$f":"'Comparison Group 3 Accessible'!J546","v":824},{"$f":"'Comparison Group 3 Accessible'!K546","v":5.6097162463918087E-3},{"$f":"'Comparison Group 2 Accessible'!J546","v":4616},{"$f":"'Comparison Group 2 Accessible'!K546","v":4.0044069296366017E-2},{"$f":"'Comparison Group 1 Accessible'!J546","v":364},{"$f":"'Comparison Group 1 Accessible'!K546","v":3.171560512329006E-2},{"$f":"SUM('Subject Data Accessible'!L546:P546)","v":28},0.26415094339622641]
["Improper Turn",{"$f":"'Comparison Group 3 Accessible'!B547","v":376},{"$f":"'Comparison Group 3 Accessible'!C547","v":0.11342383107088989},{"$f":"'Comparison Group 2 Accessible'!B547","v":2},{"$f":"'Comparison Group 2 Accessible'!C547","v":7.6804915514592934E-4},{"$f":"'Comparison Group 1 Accessible'!B547","v":3},{"$f":"'Comparison Group 1 Accessible'!C547","v":1.0273972602739725E-2},{"$f":"SUM('Subject Data Accessible'!D547:H547)","v":0},0,"Improper Turn",{"$f":"'Comparison Group 3 Accessible'!J547","v":6608},{"$f":"'Comparison Group 3 Accessible'!K547","v":4.4986656500190618E-2},{"$f":"'Comparison Group 2 Accessible'!J547","v":63},{"$f":"'Comparison Group 2 Accessible'!K547","v":5.4652867540534212E-4},{"$f":"'Comparison Group 1 Accessible'!J547","v":108},{"$f":"'Comparison Group 1 Accessible'!K547","v":9.4101245970201267E-3},{"$f":"SUM('Subject Data Accessible'!L547:P547)","v":0},0]
["Operated Motor Vehicle in Inattentive, Careless, Negligent, or Erratic Manner",{"$f":"'Comparison Group 3 Accessible'!B548","v":55},{"$f":"'Comparison Group 3 Accessible'!C548","v":1.6591251885369532E-2},{"$f":"'Comparison Group 2 Accessible'!B548","v":237},{"$f":"'Comparison Group 2 Accessible'!C548","v":9.1013824884792621E-2},{"$f":"'Comparison Group 1 Accessible'!B548","v":4},{"$f":"'Comparison Group 1 Accessible'!C548","v":1.3698630136986301E-2},{"$f":"SUM('Subject Data Accessible'!D548:H548)","v":0},0,"Operated Motor Vehicle in Inattentive, Careless, Negligent, or Erratic Manner",{"$f":"'Comparison Group 3 Accessible'!J548","v":5677},{"$f":"'Comparison Group 3 Accessible'!K548","v":3.8648494090735799E-2},{"$f":"'Comparison Group 2 Accessible'!J548","v":1022},{"$f":"'Comparison Group 2 Accessible'!K548","v":8.8659096232422165E-3},{"$f":"'Comparison Group 1 Accessible'!J548","v":19},{"$f":"'Comparison Group 1 Accessible'!K548","v":1.6554848828090965E-3},{"$f":"SUM('Subject Data Accessible'!L548:P548)","v":0},0]
["Operated Motor Vehicle in Reckless or Aggressive Manner",{"$f":"'Comparison Group 3 Accessible'!B549","v":28},{"$f":"'Comparison Group 3 Accessible'!C549","v":8.4464555052790342E-3},{"$f":"'Comparison Group 2 Accessible'!B549","v":1},{"$f":"'Comparison Group 2 Accessible'!C549","v":3.8402457757296467E-4},{"$f":"'Comparison Group 1 Accessible'!B549","v":3},{"$f":"'Comparison Group 1 Accessible'!C549","v":1.0273972602739725E-2},{"$f":"SUM('Subject Data Accessible'!D549:H549)","v":1},7.1428571428571425E-2,"Operated Motor Vehicle in Reckless or Aggressive Manner",{"$f":"'Comparison Group 3 Accessible'!J549","v":861},{"$f":"'Comparison Group 3 Accessible'!K549","v":5.8616088448341592E-3},{"$f":"'Comparison Group 2 Accessible'!J549","v":10},{"$f":"'Comparison Group 2 Accessible'!K549","v":8.6750583397673345E-5},{"$f":"'Comparison Group 1 Accessible'!J549","v":41},{"$f":"'Comparison Group 1 Accessible'!K549","v":3.5723621155354188E-3},{"$f":"SUM('Subject Data Accessible'!L549:P549)","v":1},9.433962264150943E-3]
["Over-Correcting/Over-Steering",{"$f":"'Comparison Group 3 Accessible'!B550","v":122},{"$f":"'Comparison Group 3 Accessible'!C550","v":3.6802413273001509E-2},{"$f":"'Comparison Group 2 Accessible'!B550","v":4},{"$f":"'Comparison Group 2 Accessible'!C550","v":1.5360983102918587E-3},{"$f":"'Comparison Group 1 Accessible'!B550","v":1},{"$f":"'Comparison Group 1 Accessible'!C550","v":3.4246575342465752E-3},{"$f":"SUM('Subject Data Accessible'!D550:H550)","v":0},0,"Over-Correcting/Over-Steering",{"$f":"'Comparison Group 3 Accessible'!J550","v":11600},{"$f":"'Comparison Group 3 Accessible'!K550","v":7.8971733565709926E-2},{"$f":"'Comparison Group 2 Accessible'!J550","v":442},{"$f":"'Comparison Group 2 Accessible'!K550","v":3.8343757861771621E-3},{"$f":"'Comparison Group 1 Accessible'!J550","v":229},{"$f":"'Comparison Group 1 Accessible'!K550","v":1.99529493770149E-2},{"$f":"SUM('Subject Data Accessible'!L550:P550)","v":0},0]
["Ran Off Roadway",{"$f":"'Comparison Group 3 Accessible'!B551","v":227},{"$f":"'Comparison Group 3 Accessible'!C551","v":6.8476621417797895E-2},{"$f":"'Comparison Group 2 Accessible'!B551","v":214},{"$f":"'Comparison Group 2 Accessible'!C551","v":8.218125960061444E-2},{"$f":"'Comparison Group 1 Accessible'!B551","v":3},{"$f":"'Comparison Group 1 Accessible'!C551","v":1.0273972602739725E-2},{"$f":"SUM('Subject Data Accessible'!D551:H551)","v":2},0.14285714285714285,"Ran Off Roadway",{"$f":"'Comparison Group 3 Accessible'!J551","v":24930},{"$f":"'Comparison Group 3 Accessible'!K551","v":0.16972114808561625},{"$f":"'Comparison Group 2 Accessible'!J551","v":1081},{"$f":"'Comparison Group 2 Accessible'!K551","v":9.3777380652884882E-3},{"$f":"'Comparison Group 1 Accessible'!J551","v":153},{"$f":"'Comparison Group 1 Accessible'!K551","v":1.3331009845778513E-2},{"$f":"SUM('Subject Data Accessible'!L551:P551)","v":0},0]
["Ran Red Light",{"$f":"'Comparison Group 3 Accessible'!B552","v":6},{"$f":"'Comparison Group 3 Accessible'!C552","v":1.8099547511312218E-3},{"$f":"'Comparison Group 2 Accessible'!B552","v":1101},{"$f":"'Comparison Group 2 Accessible'!C552","v":0.42281105990783407},{"$f":"'Comparison Group 1 Accessible'!B552","v":0},{"$f":"'Comparison Group 1 Accessible'!C552","v":0},{"$f":"SUM('Subject Data Accessible'!D552:H552)","v":0},0,"Ran Red Light",{"$f":"'Comparison Group 3 Accessible'!J552","v":175},{"$f":"'Comparison Group 3 Accessible'!K552","v":1.1913839115516584E-3},{"$f":"'Comparison Group 2 Accessible'!J552","v":59677},{"$f":"'Comparison Group 2 Accessible'!K552","v":0.51770145654229527},{"$f":"'Comparison Group 1 Accessible'!J552","v":60},{"$f":"'Comparison Group 1 Accessible'!K552","v":5.2278469983445151E-3},{"$f":"SUM('Subject Data Accessible'!L552:P552)","v":0},0]
["Ran Stop Sign",{"$f":"'Comparison Group 3 Accessible'!B553","v":24},{"$f":"'Comparison Group 3 Accessible'!C553","v":7.2398190045248872E-3},{"$f":"'Comparison Group 2 Accessible'!B553","v":3},{"$f":"'Comparison Group 2 Accessible'!C553","v":1.152073732718894E-3},{"$f":"'Comparison Group 1 Accessible'!B553","v":0},{"$f":"'Comparison Group 1 Accessible'!C553","v":0},{"$f":"SUM('Subject Data Accessible'!D553:H553)","v":1},7.1428571428571425E-2,"Ran Stop Sign",{"$f":"'Comparison Group 3 Accessible'!J553","v":745},{"$f":"'Comparison Group 3 Accessible'!K553","v":5.0718915091770601E-3},{"$f":"'Comparison Group 2 Accessible'!J553","v":113},{"$f":"'Comparison Group 2 Accessible'!K553","v":9.802815923937089E-4},{"$f":"'Comparison Group 1 Accessible'!J553","v":128},{"$f":"'Comparison Group 1 Accessible'!K553","v":1.1152740263134965E-2},{"$f":"SUM('Subject Data Accessible'!L553:P553)","v":0},0]
["Swerve or Avoided Due to Wind, Slippery Surface, Motor Vehicle, Object, Non-Motorist in Roadway, etc.",{"$f":"'Comparison Group 3 Accessible'!B554","v":23},{"$f":"'Comparison Group 3 Accessible'!C554","v":6.9381598793363496E-3},{"$f":"'Comparison Group 2 Accessible'!B554","v":0},{"$f":"'Comparison Group 2 Accessible'!C554","v":0},{"$f":"'Comparison Group 1 Accessible'!B554","v":97},{"$f":"'Comparison Group 1 Accessible'!C554","v":0.3321917808219178},{"$f":"SUM('Subject Data Accessible'!D554:H554)","v":1},7.1428571428571425E-2,"Swerve or Avoided Due to Wind, Slippery Surface, Motor Vehicle, Object, Non-Motorist in Roadway, etc.",{"$f":"'Comparison Group 3 Accessible'!J554","v":172},{"$f":"'Comparison Group 3 Accessible'!K554","v":1.17096018735363E-3},{"$f":"'Comparison Group 2 Accessible'!J554","v":405},{"$f":"'Comparison Group 2 Accessible'!K554","v":3.5133986276057708E-3},{"$f":"'Comparison Group 1 Accessible'!J554","v":3480},{"$f":"'Comparison Group 1 Accessible'!K554","v":0.30321512590398186},{"$f":"SUM('Subject Data Accessible'!L554:P554)","v":2},1.8867924528301886E-2]
["Wrong Side or Wrong Way",{"$f":"'Comparison Group 3 Accessible'!B555","v":91},{"$f":"'Comparison Group 3 Accessible'!C555","v":2.7450980392156862E-2},{"$f":"'Comparison Group 2 Accessible'!B555","v":331},{"$f":"'Comparison Group 2 Accessible'!C555","v":0.12711213517665129},{"$f":"'Comparison Group 1 Accessible'!B555","v":21},{"$f":"'Comparison Group 1 Accessible'!C555","v":7.1917808219178078E-2},{"$f":"SUM('Subject Data Accessible'!D555:H555)","v":1},7.1428571428571425E-2,"Wrong Side or Wrong Way",{"$f":"'Comparison Group 3 Accessible'!J555","v":1475},{"$f":"'Comparison Group 3 Accessible'!K555","v":1.0041664397363977E-2},{"$f":"'Comparison Group 2 Accessible'!J555","v":16828},{"$f":"'Comparison Group 2 Accessible'!K555","v":0.1459838817416047},{"$f":"'Comparison Group 1 Accessible'!J555","v":874},{"$f":"'Comparison Group 1 Accessible'!K555","v":7.6152304609218444E-2},{"$f":"SUM('Subject Data Accessible'!L555:P555)","v":27},0.25471698113207547]
["Other Contributing Action",{"$f":"'Comparison Group 3 Accessible'!B556","v":31},{"$f":"'Comparison Group 3 Accessible'!C556","v":9.3514328808446453E-3},{"$f":"'Comparison Group 2 Accessible'!B556","v":5},{"$f":"'Comparison Group 2 Accessible'!C556","v":1.9201228878648233E-3},{"$f":"'Comparison Group 1 Accessible'!B556","v":2},{"$f":"'Comparison Group 1 Accessible'!C556","v":6.8493150684931503E-3},{"$f":"SUM('Subject Data Accessible'!D556:H556)","v":0},0,"Other Contributing Action",{"$f":"'Comparison Group 3 Accessible'!J556","v":3139},{"$f":"'Comparison Group 3 Accessible'!K556","v":2.1370023419203747E-2},{"$f":"'Comparison Group 2 Accessible'!J556","v":338},{"$f":"'Comparison Group 2 Accessible'!K556","v":2.9321697188413594E-3},{"$f":"'Comparison Group 1 Accessible'!J556","v":298},{"$f":"'Comparison Group 1 Accessible'!K556","v":2.5964973425111091E-2},{"$f":"SUM('Subject Data Accessible'!L556:P556)","v":0},0]
["Unknown",{"$f":"'Comparison Group 3 Accessible'!B557","v":24},{"$f":"'Comparison Group 3 Accessible'!C557","v":7.2398190045248872E-3},{"$f":"'Comparison Group 2 Accessible'!B557","v":3},{"$f":"'Comparison Group 2 Accessible'!C557","v":1.152073732718894E-3},{"$f":"'Comparison Group 1 Accessible'!B557","v":18},{"$f":"'Comparison Group 1 Accessible'!C557","v":6.1643835616438353E-2},{"$f":"SUM('Subject Data Accessible'!D557:H557)","v":0},0,"Unknown",{"$f":"'Comparison Group 3 Accessible'!J557","v":781},{"$f":"'Comparison Group 3 Accessible'!K557","v":5.3169761995534009E-3},{"$f":"'Comparison Group 2 Accessible'!J557","v":128},{"$f":"'Comparison Group 2 Accessible'!K557","v":1.1104074674902189E-3},{"$f":"'Comparison Group 1 Accessible'!J557","v":219},{"$f":"'Comparison Group 1 Accessible'!K557","v":1.908164154395748E-2},{"$f":"SUM('Subject Data Accessible'!L557:P557)","v":0},0]
[{"$f":"CONCATENATE(\"Fatal and Serious Injury Crashes, Person-Level Data - \",$A559,\"  \nComp 3 = \",Instructions!$B$12,\", Comp 2 = \",Instructions!$B$11,\", Comp 1 = \", Instructions!$B$10, \", Subject = \",Instructions!$B$9)","v":"Fatal and Serious Injury Crashes, Person-Level Data - Driver Actions at Time of Crash, Selection 2  \nComp 3 = Test Group 3, Comp 2 = Test Group 2, Comp 1 = Test Group 1, Subject = Test County"},null,null,null,null,null,null,null,null,{"$f":"CONCATENATE(\"Total Crashes, Person-Level Data - \",J559,\"\nComp 3 = \",Instructions!$B$12,\", Comp 2 = \",Instructions!$B$11,\", Comp 1 = \", Instructions!$B$10, \", Subject = \",Instructions!$B$9)","v":"Total Crashes, Person-Level Data - Driver Actions at Time of Crash, Selection 2\nComp 3 = Test Group 3, Comp 2 = Test Group 2, Comp 1 = Test Group 1, Subject = Test County"}]
["Driver Actions at Time of Crash, Selection 2","Comp 3 Number","Comp 3 Percent","Comp 2 Number","Comp 2 Percent","Comp 1 Number","Comp 1 Percent","Subject Number","Subject Percent","Driver Actions at Time of Crash, Selection 2","Comp 3 Number","Comp 3 Percent","Comp 2 Number","Comp 2 Percent","Comp 1 Number","Comp 1 Percent","Subject Number","Subject Percent"]
["No Contributing Action",{"$f":"'Comparison Group 3 Accessible'!B560","v":1324},{"$f":"'Comparison Group 3 Accessible'!C560","v":0.39939668174962295},{"$f":"'Comparison Group 2 Accessible'!B560","v":0},{"$f":"'Comparison Group 2 Accessible'!C560","v":0},{"$f":"'Comparison Group 1 Accessible'!B560","v":111},{"$f":"'Comparison Group 1 Accessible'!C560","v":0.38013698630136988},{"$f":"SUM('Subject Data Accessible'!D560:H560)","v":0},{"$f":"H560/SUM(H$560:H$578)","v":0},{"$f":"A560","v":"No Contributing Action"},{"$f":"'Comparison Group 3 Accessible'!J560","v":57749},{"$f":"'Comparison Group 3 Accessible'!K560","v":0.39314988290398128},{"$f":"'Comparison Group 2 Accessible'!J560","v":4},{"$f":"'Comparison Group 2 Accessible'!K560","v":3.4700233359069342E-5},{"$f":"'Comparison Group 1 Accessible'!J560","v":3580},{"$f":"'Comparison Group 1 Accessible'!K560","v":0.31192820423455608},{"$f":"SUM('Subject Data Accessible'!L560:P560)","v":10},{"$f":"Q560/SUM(Q$560:Q$578)","v":9.4339622641509441E-2}]
["Disregarded Other Road Markings",{"$f":"'Comparison Group 3 Accessible'!B561","v":232},{"$f":"'Comparison Group 3 Accessible'!C561","v":6.9984917043740574E-2},{"$f":"'Comparison Group 2 Accessible'!B561","v":21},{"$f":"'Comparison Group 2 Accessible'!C561","v":8.0645161290322578E-3},{"$f":"'Comparison Group 1 Accessible'!B561","v":21},{"$f":"'Comparison Group 1 Accessible'!C561","v":7.1917808219178078E-2},{"$f":"SUM('Subject Data Accessible'!D561:H561)","v":2},{"$f":"H561/SUM(H$560:H$578)","v":0.14285714285714285},"Disregarded Other Road Markings",{"$f":"'Comparison Group 3 Accessible'!J561","v":16297},{"$f":"'Comparison Group 3 Accessible'!K561","v":0.11094847775175644},{"$f":"'Comparison Group 2 Accessible'!J561","v":4616},{"$f":"'Comparison Group 2 Accessible'!K561","v":4.0044069296366017E-2},{"$f":"'Comparison Group 1 Accessible'!J561","v":874},{"$f":"'Comparison Group 1 Accessible'!K561","v":7.6152304609218444E-2},{"$f":"SUM('Subject Data Accessible'!L561:P561)","v":8},{"$f":"Q561/SUM(Q$560:Q$578)","v":7.5471698113207544E-2}]
["Disregarded Other Traffic Sign",{"$f":"'Comparison Group 3 Accessible'!B562","v":109},{"$f":"'Comparison Group 3 Accessible'!C562","v":3.2880844645550529E-2},{"$f":"'Comparison Group 2 Accessible'!B562","v":2},{"$f":"'Comparison Group 2 Accessible'!C562","v":7.6804915514592934E-4},{"$f":"'Comparison Group 1 Accessible'!B562","v":2},{"$f":"'Comparison Group 1 Accessible'!C562","v":6.8493150684931503E-3},{"$f":"SUM('Subject Data Accessible'!D562:H562)","v":0},0,"Disregarded Other Traffic Sign",{"$f":"'Comparison Group 3 Accessible'!J562","v":545},{"$f":"'Comparison Group 3 Accessible'!K562","v":3.7103098959751649E-3},{"$f":"'Comparison Group 2 Accessible'!J562","v":63},{"$f":"'Comparison Group 2 Accessible'!K562","v":5.4652867540534212E-4},{"$f":"'Comparison Group 1 Accessible'!J562","v":313},{"$f":"'Comparison Group 1 Accessible'!K562","v":2.7271935174697219E-2},{"$f":"SUM('Subject Data Accessible'!L562:P562)","v":14},0.13207547169811321]
["Failed to Keep in Proper Lane",{"$f":"'Comparison Group 3 Accessible'!B563","v":31},{"$f":"'Comparison Group 3 Accessible'!C563","v":9.3514328808446453E-3},{"$f":"'Comparison Group 2 Accessible'!B563","v":237},{"$f":"'Comparison Group 2 Accessible'!C563","v":9.1013824884792621E-2},{"$f":"'Comparison Group 1 Accessible'!B563","v":18},{"$f":"'Comparison Group 1 Accessible'!C563","v":6.1643835616438353E-2},{"$f":"SUM('Subject Data Accessible'!D563:H563)","v":0},0,"Failed to Keep in Proper Lane",{"$f":"'Comparison Group 3 Accessible'!J563","v":73},{"$f":"'Comparison Group 3 Accessible'!K563","v":4.9697728881869184E-4},{"$f":"'Comparison Group 2 Accessible'!J563","v":1022},{"$f":"'Comparison Group 2 Accessible'!K563","v":8.8659096232422165E-3},{"$f":"'Comparison Group 1 Accessible'!J563","v":219},{"$f":"'Comparison Group 1 Accessible'!K563","v":1.908164154395748E-2},{"$f":"SUM('Subject Data Accessible'!L563:P563)","v":10},9.4339622641509441E-2]
["Failed to Yield Right-of-Way",{"$f":"'Comparison Group 3 Accessible'!B564","v":14},{"$f":"'Comparison Group 3 Accessible'!C564","v":4.2232277526395171E-3},{"$f":"'Comparison Group 2 Accessible'!B564","v":1},{"$f":"'Comparison Group 2 Accessible'!C564","v":3.8402457757296467E-4},{"$f":"'Comparison Group 1 Accessible'!B564","v":26},{"$f":"'Comparison Group 1 Accessible'!C564","v":8.9041095890410954E-2},{"$f":"SUM('Subject Data Accessible'!D564:H564)","v":4},0.2857142857142857,"Failed to Yield Right-of-Way",{"$f":"'Comparison Group 3 Accessible'!J564","v":402},{"$f":"'Comparison Group 3 Accessible'!K564","v":2.7367790425358095E-3},{"$f":"'Comparison Group 2 Accessible'!J564","v":10},{"$f":"'Comparison Group 2 Accessible'!K564","v":8.6750583397673345E-5},{"$f":"'Comparison Group 1 Accessible'!J564","v":1606},{"$f":"'Comparison Group 1 Accessible'!K564","v":0.13993203798902151},{"$f":"SUM('Subject Data Accessible'!L564:P564)","v":11},0.10377358490566038]
["Followed Too Closely",{"$f":"'Comparison Group 3 Accessible'!B565","v":107},{"$f":"'Comparison Group 3 Accessible'!C565","v":3.2277526395173457E-2},{"$f":"'Comparison Group 2 Accessible'!B565","v":4},{"$f":"'Comparison Group 2 Accessible'!C565","v":1.5360983102918587E-3},{"$f":"'Comparison Group 1 Accessible'!B565","v":37},{"$f":"'Comparison Group 1 Accessible'!C565","v":0.12671232876712329},{"$f":"SUM('Subject Data Accessible'!D565:H565)","v":2},0.14285714285714285,"Followed Too Closely",{"$f":"'Comparison Group 3 Accessible'!J565","v":1814},{"$f":"'Comparison Group 3 Accessible'!K565","v":1.234954523174119E-2},{"$f":"'Comparison Group 2 Accessible'!J565","v":442},{"$f":"'Comparison Group 2 Accessible'!K565","v":3.8343757861771621E-3},{"$f":"'Comparison Group 1 Accessible'!J565","v":1289},{"$f":"'Comparison Group 1 Accessible'!K565","v":0.11231157968110134},{"$f":"SUM('Subject Data Accessible'!L565:P565)","v":13},0.12264150943396226]
["Improper Backing",{"$f":"'Comparison Group 3 Accessible'!B566","v":1},{"$f":"'Comparison Group 3 Accessible'!C566","v":3.0165912518853697E-4},{"$f":"'Comparison Group 2 Accessible'!B566","v":214},{"$f":"'Comparison Group 2 Accessible'!C566","v":8.218125960061444E-2},{"$f":"'Comparison Group 1 Accessible'!B566","v":35},{"$f":"'Comparison Group 1 Accessible'!C566","v":0.11986301369863013},{"$f":"SUM('Subject Data Accessible'!D566:H566)","v":0},0,"Improper Backing",{"$f":"'Comparison Group 3 Accessible'!J566","v":40},{"$f":"'Comparison Group 3 Accessible'!K566","v":2.7231632264037908E-4},{"$f":"'Comparison Group 2 Accessible'!J566","v":1081},{"$f":"'Comparison Group 2 Accessible'!K566","v":9.3777380652884882E-3},{"$f":"'Comparison Group 1 Accessible'!J566","v":571},{"$f":"'Comparison Group 1 Accessible'!K566","v":4.9751677267578634E-2},{"$f":"SUM('Subject Data Accessible'!L566:P566)","v":7},6.6037735849056603E-2]
["Improper Passing",{"$f":"'Comparison Group 3 Accessible'!B567","v":50},{"$f":"'Comparison Group 3 Accessible'!C567","v":1.5082956259426848E-2},{"$f":"'Comparison Group 2 Accessible'!B567","v":1101},{"$f":"'Comparison Group 2 Accessible'!C567","v":0.42281105990783407},{"$f":"'Comparison Group 1 Accessible'!B567","v":8},{"$f":"'Comparison Group 1 Accessible'!C567","v":2.7397260273972601E-2},{"$f":"SUM('Subject Data Accessible'!D567:H567)","v":1},7.1428571428571425E-2,"Improper Passing",{"$f":"'Comparison Group 3 Accessible'!J567","v":1438},{"$f":"'Comparison Group 3 Accessible'!K567","v":9.7897717989216277E-3},{"$f":"'Comparison Group 2 Accessible'!J567","v":59677},{"$f":"'Comparison Group 2 Accessible'!K567","v":0.51770145654229527},{"$f":"'Comparison Group 1 Accessible'!J567","v":676},{"$f":"'Comparison Group 1 Accessible'!K567","v":5.8900409514681534E-2},{"$f":"SUM('Subject Data Accessible'!L567:P567)","v":3},2.8301886792452831E-2]
["Improper Turn",{"$f":"'Comparison Group 3 Accessible'!B568","v":21},{"$f":"'Comparison Group 3 Accessible'!C568","v":6.3348416289592761E-3},{"$f":"'Comparison Group 2 Accessible'!B568","v":3},{"$f":"'Comparison Group 2 Accessible'!C568","v":1.152073732718894E-3},{"$f":"'Comparison Group 1 Accessible'!B568","v":4},{"$f":"'Comparison Group 1 Accessible'!C568","v":1.3698630136986301E-2},{"$f":"SUM('Subject Data Accessible'!D568:H568)","v":1},7.1428571428571425E-2,"Improper Turn",{"$f":"'Comparison Group 3 Accessible'!J568","v":1061},{"$f":"'Comparison Group 3 Accessible'!K568","v":7.2231904580360544E-3},{"$f":"'Comparison Group 2 Accessible'!J568","v":113},{"$f":"'Comparison Group 2 Accessible'!K568","v":9.802815923937089E-4},{"$f":"'Comparison Group 1 Accessible'!J568","v":101},{"$f":"'Comparison Group 1 Accessible'!K568","v":8.8002091138799331E-3},{"$f":"SUM('Subject Data Accessible'!L568:P568)","v":2},1.8867924528301886E-2]
["Operated Motor Vehicle in Inattentive, Careless, Negligent, or Erratic Manner",{"$f":"'Comparison Group 3 Accessible'!B569","v":0},{"$f":"'Comparison Group 3 Accessible'!C569","v":0},{"$f":"'Comparison Group 2 Accessible'!B569","v":0},{"$f":"'Comparison Group 2 Accessible'!C569","v":0},{"$f":"'Comparison Group 1 Accessible'!B569","v":6},{"$f":"'Comparison Group 1 Accessible'!C569","v":2.0547945205479451E-2},{"$f":"SUM('Subject Data Accessible'!D569:H569)","v":0},0,"Operated Motor Vehicle in Inattentive, Careless, Negligent, or Erratic Manner",{"$f":"'Comparison Group 3 Accessible'!J569","v":2},{"$f":"'Comparison Group 3 Accessible'!K569","v":1.3615816132018953E-5},{"$f":"'Comparison Group 2 Accessible'!J569","v":405},{"$f":"'Comparison Group 2 Accessible'!K569","v":3.5133986276057708E-3},{"$f":"'Comparison Group 1 Accessible'!J569","v":316},{"$f":"'Comparison Group 1 Accessible'!K569","v":2.7533327524614445E-2},{"$f":"SUM('Subject Data Accessible'!L569:P569)","v":0},0]
["Operated Motor Vehicle in Reckless or Aggressive Manner",{"$f":"'Comparison Group 3 Accessible'!B570","v":52},{"$f":"'Comparison Group 3 Accessible'!C570","v":1.5686274509803921E-2},{"$f":"'Comparison Group 2 Accessible'!B570","v":331},{"$f":"'Comparison Group 2 Accessible'!C570","v":0.12711213517665129},{"$f":"'Comparison Group 1 Accessible'!B570","v":7},{"$f":"'Comparison Group 1 Accessible'!C570","v":2.3972602739726026E-2},{"$f":"SUM('Subject Data Accessible'!D570:H570)","v":0},0,"Operated Motor Vehicle in Reckless or Aggressive Manner",{"$f":"'Comparison Group 3 Accessible'!J570","v":9275},{"$f":"'Comparison Group 3 Accessible'!K570","v":6.3143347312237891E-2},{"$f":"'Comparison Group 2 Accessible'!J570","v":16828},{"$f":"'Comparison Group 2 Accessible'!K570","v":0.1459838817416047},{"$f":"'Comparison Group 1 Accessible'!J570","v":1163},{"$f":"'Comparison Group 1 Accessible'!K570","v":0.10133310098457785},{"$f":"SUM('Subject Data Accessible'!L570:P570)","v":4},3.7735849056603772E-2]
["Over-Correcting/Over-Steering",{"$f":"'Comparison Group 3 Accessible'!B571","v":2},{"$f":"'Comparison Group 3 Accessible'!C571","v":6.0331825037707393E-4},{"$f":"'Comparison Group 2 Accessible'!B571","v":5},{"$f":"'Comparison Group 2 Accessible'!C571","v":1.9201228878648233E-3},{"$f":"'Comparison Group 1 Accessible'!B571","v":3},{"$f":"'Comparison Group 1 Accessible'!C571","v":1.0273972602739725E-2},{"$f":"SUM('Subject Data Accessible'!D571:H571)","v":0},0,"Over-Correcting/Over-Steering",{"$f":"'Comparison Group 3 Accessible'!J571","v":71},{"$f":"'Comparison Group 3 Accessible'!K571","v":4.8336147268667281E-4},{"$f":"'Comparison Group 2 Accessible'!J571","v":338},{"$f":"'Comparison Group 2 Accessible'!K571","v":2.9321697188413594E-3},{"$f":"'Comparison Group 1 Accessible'!J571","v":29},{"$f":"'Comparison Group 1 Accessible'!K571","v":2.5267927158665157E-3},{"$f":"SUM('Subject Data Accessible'!L571:P571)","v":0},0]
["Ran Off Roadway",{"$f":"'Comparison Group 3 Accessible'!B572","v":10},{"$f":"'Comparison Group 3 Accessible'!C572","v":3.0165912518853697E-3},{"$f":"'Comparison Group 2 Accessible'!B572","v":3},{"$f":"'Comparison Group 2 Accessible'!C572","v":1.152073732718894E-3},{"$f":"'Comparison Group 1 Accessible'!B572","v":3},{"$f":"'Comparison Group 1 Accessible'!C572","v":1.0273972602739725E-2},{"$f":"SUM('Subject Data Accessible'!D572:H572)","v":1},7.1428571428571425E-2,"Ran Off Roadway",{"$f":"'Comparison Group 3 Accessible'!J572","v":811},{"$f":"'Comparison Group 3 Accessible'!K572","v":5.5212134415336851E-3},{"$f":"'Comparison Group 2 Accessible'!J572","v":128},{"$f":"'Comparison Group 2 Accessible'!K572","v":1.1104074674902189E-3},{"$f":"'Comparison Group 1 Accessible'!J572","v":110},{"$f":"'Comparison Group 1 Accessible'!K572","v":9.5843861636316103E-3},{"$f":"SUM('Subject Data Accessible'!L572:P572)","v":10},9.4339622641509441E-2]
["Ran Red Light",{"$f":"'Comparison Group 3 Accessible'!B573","v":2},{"$f":"'Comparison Group 3 Accessible'!C573","v":6.0331825037707393E-4},{"$f":"'Comparison Group 2 Accessible'!B573","v":534},{"$f":"'Comparison Group 2 Accessible'!C573","v":0.20506912442396313},{"$f":"'Comparison Group 1 Accessible'!B573","v":4},{"$f":"'Comparison Group 1 Accessible'!C573","v":1.3698630136986301E-2},{"$f":"SUM('Subject Data Accessible'!D573:H573)","v":1},7.1428571428571425E-2,"Ran Red Light",{"$f":"'Comparison Group 3 Accessible'!J573","v":70},{"$f":"'Comparison Group 3 Accessible'!K573","v":4.7655356462066338E-4},{"$f":"'Comparison Group 2 Accessible'!J573","v":26790},{"$f":"'Comparison Group 2 Accessible'!K573","v":0.23240481292236689},{"$f":"'Comparison Group 1 Accessible'!J573","v":19},{"$f":"'Comparison Group 1 Accessible'!K573","v":1.6554848828090965E-3},{"$f":"SUM('Subject Data Accessible'!L573:P573)","v":0},0]
["Ran Stop Sign",{"$f":"'Comparison Group 3 Accessible'!B574","v":20},{"$f":"'Comparison Group 3 Accessible'!C574","v":6.0331825037707393E-3},{"$f":"'Comparison Group 2 Accessible'!B574","v":1},{"$f":"'Comparison Group 2 Accessible'!C574","v":3.8402457757296467E-4},{"$f":"'Comparison Group 1 Accessible'!B574","v":3},{"$f":"'Comparison Group 1 Accessible'!C574","v":1.0273972602739725E-2},{"$f":"SUM('Subject Data Accessible'!D574:H574)","v":1},7.1428571428571425E-2,"Ran Stop Sign",{"$f":"'Comparison Group 3 Accessible'!J574","v":1581},{"$f":"'Comparison Group 3 Accessible'!K574","v":1.0763302652360982E-2},{"$f":"'Comparison Group 2 Accessible'!J574","v":38},{"$f":"'Comparison Group 2 Accessible'!K574","v":3.2965221691115873E-4},{"$f":"'Comparison Group 1 Accessible'!J574","v":41},{"$f":"'Comparison Group 1 Accessible'!K574","v":3.5723621155354188E-3},{"$f":"SUM('Subject Data Accessible'!L574:P574)","v":8},7.5471698113207544E-2]
["Swerve or Avoided Due to Wind, Slippery Surface, Motor Vehicle, Object, Non-Motorist in Roadway, etc.",{"$f":"'Comparison Group 3 Accessible'!B575","v":96},{"$f":"'Comparison Group 3 Accessible'!C575","v":2.8959276018099549E-2},{"$f":"'Comparison Group 2 Accessible'!B575","v":82},{"$f":"'Comparison Group 2 Accessible'!C575","v":3.1490015360983101E-2},{"$f":"'Comparison Group 1 Accessible'!B575","v":1},{"$f":"'Comparison Group 1 Accessible'!C575","v":3.4246575342465752E-3},{"$f":"SUM('Subject Data Accessible'!D575:H575)","v":1},7.1428571428571425E-2,"Swerve or Avoided Due to Wind, Slippery Surface, Motor Vehicle, Object, Non-Motorist in Roadway, etc.",{"$f":"'Comparison Group 3 Accessible'!J575","v":3157},{"$f":"'Comparison Group 3 Accessible'!K575","v":2.1492565764391916E-2},{"$f":"'Comparison Group 2 Accessible'!J575","v":3106},{"$f":"'Comparison Group 2 Accessible'!K575","v":2.6944731203317342E-2},{"$f":"'Comparison Group 1 Accessible'!J575","v":229},{"$f":"'Comparison Group 1 Accessible'!K575","v":1.99529493770149E-2},{"$f":"SUM('Subject Data Accessible'!L575:P575)","v":0},0]
["Wrong Side or Wrong Way",{"$f":"'Comparison Group 3 Accessible'!B576","v":3},{"$f":"'Comparison Group 3 Accessible'!C576","v":9.049773755656109E-4},{"$f":"'Comparison Group 2 Accessible'!B576","v":1},{"$f":"'Comparison Group 2 Accessible'!C576","v":3.8402457757296467E-4},{"$f":"'Comparison Group 1 Accessible'!B576","v":3},{"$f":"'Comparison Group 1 Accessible'!C576","v":1.0273972602739725E-2},{"$f":"SUM('Subject Data Accessible'!D576:H576)","v":0},0,"Wrong Side or Wrong Way",{"$f":"'Comparison Group 3 Accessible'!J576","v":805},{"$f":"'Comparison Group 3 Accessible'!K576","v":5.4803659931376286E-3},{"$f":"'Comparison Group 2 Accessible'!J576","v":40},{"$f":"'Comparison Group 2 Accessible'!K576","v":3.4700233359069338E-4},{"$f":"'Comparison Group 1 Accessible'!J576","v":153},{"$f":"'Comparison Group 1 Accessible'!K576","v":1.3331009845778513E-2},{"$f":"SUM('Subject Data Accessible'!L576:P576)","v":0},0]
["Other Contributing Action",{"$f":"'Comparison Group 3 Accessible'!B577","v":16},{"$f":"'Comparison Group 3 Accessible'!C577","v":4.8265460030165915E-3},{"$f":"'Comparison Group 2 Accessible'!B577","v":19.999999999999943},{"$f":"'Comparison Group 2 Accessible'!C577","v":7.6804915514592717E-3},{"$f":"'Comparison Group 1 Accessible'!B577","v":0},{"$f":"'Comparison Group 1 Accessible'!C577","v":0},{"$f":"SUM('Subject Data Accessible'!D577:H577)","v":0},0,"Other Contributing Action",{"$f":"'Comparison Group 3 Accessible'!J577","v":2654},{"$f":"'Comparison Group 3 Accessible'!K577","v":1.8068188007189151E-2},{"$f":"'Comparison Group 2 Accessible'!J577","v":29},{"$f":"'Comparison Group 2 Accessible'!K577","v":2.5157669185325274E-4},{"$f":"'Comparison Group 1 Accessible'!J577","v":60},{"$f":"'Comparison Group 1 Accessible'!K577","v":5.2278469983445151E-3},{"$f":"SUM('Subject Data Accessible'!L577:P577)","v":0},0]
["Unknown",{"$f":"'Comparison Group 3 Accessible'!B578","v":1225},{"$f":"'Comparison Group 3 Accessible'!C578","v":0.36953242835595779},{"$f":"'Comparison Group 2 Accessible'!B578","v":44},{"$f":"'Comparison Group 2 Accessible'!C578","v":1.6897081413210446E-2},{"$f":"'Comparison Group 1 Accessible'!B578","v":0},{"$f":"'Comparison Group 1 Accessible'!C578","v":0},{"$f":"SUM('Subject Data Accessible'!D578:H578)","v":0},0,"Unknown",{"$f":"'Comparison Group 3 Accessible'!J578","v":49043},{"$f":"'Comparison Group 3 Accessible'!K578","v":0.33388023528130278},{"$f":"'Comparison Group 2 Accessible'!J578","v":543},{"$f":"'Comparison Group 2 Accessible'!K578","v":4.7105566784936626E-3},{"$f":"'Comparison Group 1 Accessible'!J578","v":128},{"$f":"'Comparison Group 1 Accessible'!K578","v":1.1152740263134965E-2},{"$f":"SUM('Subject Data Accessible'!L578:P578)","v":6},5.6603773584905662E-2]
[{"$f":"CONCATENATE(\"Fatal and Serious Injury Crashes, Person-Level Data - \",$A580,\"  \nComp 3 = \",Instructions!$B$12,\", Comp 2 = \",Instructions!$B$11,\", Comp 1 = \", Instructions!$B$10, \", Subject = \",Instructions!$B$9)","v":"Fatal and Serious Injury Crashes, Person-Level Data - Driver Actions at Time of Crash, Selection 3  \nComp 3 = Test Group 3, Comp 2 = Test Group 2, Comp 1 = Test Group 1, Subject = Test County"},null,null,null,null,null,null,null,null,{"$f":"CONCATENATE(\"Total Crashes, Person-Level Data - \",J580,\"\nComp 3 = \",Instructions!$B$12,\", Comp 2 = \",Instructions!$B$11,\", Comp 1 = \", Instructions!$B$10, \", Subject = \",Instructions!$B$9)","v":"Total Crashes, Person-Level Data - Driver Actions at Time of Crash, Selection 3\nComp 3 = Test Group 3, Comp 2 = Test Group 2, Comp 1 = Test Group 1, Subject = Test County"}]
["Driver Actions at Time of Crash, Selection 3","Comp 3 Number","Comp 3 Percent","Comp 2 Number","Comp 2 Percent","Comp 1 Number","Comp 1 Percent","Subject Number","Subject Percent","Driver Actions at Time of Crash, Selection 3","Comp 3 Number","Comp 3 Percent","Comp 2 Number","Comp 2 Percent","Comp 1 Number","Comp 1 Percent","Subject Number","Subject Percent"]
["No Contributing Action",{"$f":"'Comparison Group 3 Accessible'!B581","v":227},{"$f":"'Comparison Group 3 Accessible'!C581","v":6.8476621417797895E-2},{"$f":"'Comparison Group 2 Accessible'!B581","v":331},{"$f":"'Comparison Group 2 Accessible'!C581","v":0.12711213517665129},{"$f":"'Comparison Group 1 Accessible'!B581","v":3},{"$f":"'Comparison Group 1 Accessible'!C581","v":1.0273972602739725E-2},{"$f":"SUM('Subject Data Accessible'!D581:H581)","v":1},{"$f":"H581/SUM(H$581:H$599)","v":7.1428571428571425E-2},{"$f":"A581","v":"No Contributing Action"},{"$f":"'Comparison Group 3 Accessible'!J581","v":24930},{"$f":"'Comparison Group 3 Accessible'!K581","v":0.16972114808561625},{"$f":"'Comparison Group 2 Accessible'!J581","v":16828},{"$f":"'Comparison Group 2 Accessible'!K581","v":0.1459838817416047},{"$f":"'Comparison Group 1 Accessible'!J581","v":41},{"$f":"'Comparison Group 1 Accessible'!K581","v":3.5723621155354188E-3},{"$f":"SUM('Subject Data Accessible'!L581:P581)","v":8},{"$f":"Q581/SUM(Q$581:Q$599)","v":7.5471698113207544E-2}]
["Disregarded Other Road Markings",{"$f":"'Comparison Group 3 Accessible'!B582","v":6},{"$f":"'Comparison Group 3 Accessible'!C582","v":1.8099547511312218E-3},{"$f":"'Comparison Group 2 Accessible'!B582","v":5},{"$f":"'Comparison Group 2 Accessible'!C582","v":1.9201228878648233E-3},{"$f":"'Comparison Group 1 Accessible'!B582","v":1},{"$f":"'Comparison Group 1 Accessible'!C582","v":3.4246575342465752E-3},{"$f":"SUM('Subject Data Accessible'!D582:H582)","v":1},{"$f":"H582/SUM(H$581:H$599)","v":7.1428571428571425E-2},"Disregarded Other Road Markings",{"$f":"'Comparison Group 3 Accessible'!J582","v":175},{"$f":"'Comparison Group 3 Accessible'!K582","v":1.1913839115516584E-3},{"$f":"'Comparison Group 2 Accessible'!J582","v":338},{"$f":"'Comparison Group 2 Accessible'!K582","v":2.9321697188413594E-3},{"$f":"'Comparison Group 1 Accessible'!J582","v":239},{"$f":"'Comparison Group 1 Accessible'!K582","v":2.0824257210072319E-2},{"$f":"SUM('Subject Data Accessible'!L582:P582)","v":0},{"$f":"Q582/SUM(Q$581:Q$599)","v":0}]
["Disregarded Other Traffic Sign",{"$f":"'Comparison Group 3 Accessible'!B583","v":24},{"$f":"'Comparison Group 3 Accessible'!C583","v":7.2398190045248872E-3},{"$f":"'Comparison Group 2 Accessible'!B583","v":3},{"$f":"'Comparison Group 2 Accessible'!C583","v":1.152073732718894E-3},{"$f":"'Comparison Group 1 Accessible'!B583","v":3},{"$f":"'Comparison Group 1 Accessible'!C583","v":1.0273972602739725E-2},{"$f":"SUM('Subject Data Accessible'!D583:H583)","v":1},7.1428571428571425E-2,"Disregarded Other Traffic Sign",{"$f":"'Comparison Group 3 Accessible'!J583","v":745},{"$f":"'Comparison Group 3 Accessible'!K583","v":5.0718915091770601E-3},{"$f":"'Comparison Group 2 Accessible'!J583","v":128},{"$f":"'Comparison Group 2 Accessible'!K583","v":1.1104074674902189E-3},{"$f":"'Comparison Group 1 Accessible'!J583","v":153},{"$f":"'Comparison Group 1 Accessible'!K583","v":1.3331009845778513E-2},{"$f":"SUM('Subject Data Accessible'!L583:P583)","v":0},0]
["Failed to Keep in Proper Lane",{"$f":"'Comparison Group 3 Accessible'!B584","v":23},{"$f":"'Comparison Group 3 Accessible'!C584","v":6.9381598793363496E-3},{"$f":"'Comparison Group 2 Accessible'!B584","v":1},{"$f":"'Comparison Group 2 Accessible'!C584","v":3.8402457757296467E-4},{"$f":"'Comparison Group 1 Accessible'!B584","v":0},{"$f":"'Comparison Group 1 Accessible'!C584","v":0},{"$f":"SUM('Subject Data Accessible'!D584:H584)","v":0},0,"Failed to Keep in Proper Lane",{"$f":"'Comparison Group 3 Accessible'!J584","v":172},{"$f":"'Comparison Group 3 Accessible'!K584","v":1.17096018735363E-3},{"$f":"'Comparison Group 2 Accessible'!J584","v":40},{"$f":"'Comparison Group 2 Accessible'!K584","v":3.4700233359069338E-4},{"$f":"'Comparison Group 1 Accessible'!J584","v":60},{"$f":"'Comparison Group 1 Accessible'!K584","v":5.2278469983445151E-3},{"$f":"SUM('Subject Data Accessible'!L584:P584)","v":0},0]
["Failed to Yield Right-of-Way",{"$f":"'Comparison Group 3 Accessible'!B585","v":91},{"$f":"'Comparison Group 3 Accessible'!C585","v":2.7450980392156862E-2},{"$f":"'Comparison Group 2 Accessible'!B585","v":19.999999999999943},{"$f":"'Comparison Group 2 Accessible'!C585","v":7.6804915514592717E-3},{"$f":"'Comparison Group 1 Accessible'!B585","v":111},{"$f":"'Comparison Group 1 Accessible'!C585","v":0.38013698630136988},{"$f":"SUM('Subject Data Accessible'!D585:H585)","v":0},0,"Failed to Yield Right-of-Way",{"$f":"'Comparison Group 3 Accessible'!J585","v":1475},{"$f":"'Comparison Group 3 Accessible'!K585","v":1.0041664397363977E-2},{"$f":"'Comparison Group 2 Accessible'!J585","v":29},{"$f":"'Comparison Group 2 Accessible'!K585","v":2.5157669185325274E-4},{"$f":"'Comparison Group 1 Accessible'!J585","v":3612},{"$f":"'Comparison Group 1 Accessible'!K585","v":0.31471638930033979},{"$f":"SUM('Subject Data Accessible'!L585:P585)","v":6},5.6603773584905662E-2]
["Followed Too Closely",{"$f":"'Comparison Group 3 Accessible'!B586","v":31},{"$f":"'Comparison Group 3 Accessible'!C586","v":9.3514328808446453E-3},{"$f":"'Comparison Group 2 Accessible'!B586","v":44},{"$f":"'Comparison Group 2 Accessible'!C586","v":1.6897081413210446E-2},{"$f":"'Comparison Group 1 Accessible'!B586","v":21},{"$f":"'Comparison Group 1 Accessible'!C586","v":7.1917808219178078E-2},{"$f":"SUM('Subject Data Accessible'!D586:H586)","v":0},0,"Followed Too Closely",{"$f":"'Comparison Group 3 Accessible'!J586","v":3139},{"$f":"'Comparison Group 3 Accessible'!K586","v":2.1370023419203747E-2},{"$f":"'Comparison Group 2 Accessible'!J586","v":543},{"$f":"'Comparison Group 2 Accessible'!K586","v":4.7105566784936626E-3},{"$f":"'Comparison Group 1 Accessible'!J586","v":874},{"$f":"'Comparison Group 1 Accessible'!K586","v":7.6152304609218444E-2},{"$f":"SUM('Subject Data Accessible'!L586:P586)","v":10},9.4339622641509441E-2]
["Improper Backing",{"$f":"'Comparison Group 3 Accessible'!B587","v":24},{"$f":"'Comparison Group 3 Accessible'!C587","v":7.2398190045248872E-3},{"$f":"'Comparison Group 2 Accessible'!B587","v":237},{"$f":"'Comparison Group 2 Accessible'!C587","v":9.1013824884792621E-2},{"$f":"'Comparison Group 1 Accessible'!B587","v":2},{"$f":"'Comparison Group 1 Accessible'!C587","v":6.8493150684931503E-3},{"$f":"SUM('Subject Data Accessible'!D587:H587)","v":0},0,"Improper Backing",{"$f":"'Comparison Group 3 Accessible'!J587","v":781},{"$f":"'Comparison Group 3 Accessible'!K587","v":5.3169761995534009E-3},{"$f":"'Comparison Group 2 Accessible'!J587","v":1022},{"$f":"'Comparison Group 2 Accessible'!K587","v":8.8659096232422165E-3},{"$f":"'Comparison Group 1 Accessible'!J587","v":320},{"$f":"'Comparison Group 1 Accessible'!K587","v":2.7881850657837413E-2},{"$f":"SUM('Subject Data Accessible'!L587:P587)","v":8},7.5471698113207544E-2]
["Improper Passing",{"$f":"'Comparison Group 3 Accessible'!B588","v":23},{"$f":"'Comparison Group 3 Accessible'!C588","v":6.9381598793363496E-3},{"$f":"'Comparison Group 2 Accessible'!B588","v":1},{"$f":"'Comparison Group 2 Accessible'!C588","v":3.8402457757296467E-4},{"$f":"'Comparison Group 1 Accessible'!B588","v":5},{"$f":"'Comparison Group 1 Accessible'!C588","v":1.7123287671232876E-2},{"$f":"SUM('Subject Data Accessible'!D588:H588)","v":2},0.14285714285714285,"Improper Passing",{"$f":"'Comparison Group 3 Accessible'!J588","v":808},{"$f":"'Comparison Group 3 Accessible'!K588","v":5.5007897173356569E-3},{"$f":"'Comparison Group 2 Accessible'!J588","v":10},{"$f":"'Comparison Group 2 Accessible'!K588","v":8.6750583397673345E-5},{"$f":"'Comparison Group 1 Accessible'!J588","v":100},{"$f":"'Comparison Group 1 Accessible'!K588","v":8.7130783305741921E-3},{"$f":"SUM('Subject Data Accessible'!L588:P588)","v":14},0.13207547169811321]
["Improper Turn",{"$f":"'Comparison Group 3 Accessible'!B589","v":5},{"$f":"'Comparison Group 3 Accessible'!C589","v":1.5082956259426848E-3},{"$f":"'Comparison Group 2 Accessible'!B589","v":4},{"$f":"'Comparison Group 2 Accessible'!C589","v":1.5360983102918587E-3},{"$f":"'Comparison Group 1 Accessible'!B589","v":35},{"$f":"'Comparison Group 1 Accessible'!C589","v":0.11986301369863013},{"$f":"SUM('Subject Data Accessible'!D589:H589)","v":0},0,"Improper Turn",{"$f":"'Comparison Group 3 Accessible'!J589","v":2042},{"$f":"'Comparison Group 3 Accessible'!K589","v":1.3901748270791351E-2},{"$f":"'Comparison Group 2 Accessible'!J589","v":442},{"$f":"'Comparison Group 2 Accessible'!K589","v":3.8343757861771621E-3},{"$f":"'Comparison Group 1 Accessible'!J589","v":580},{"$f":"'Comparison Group 1 Accessible'!K589","v":5.0535854317330313E-2},{"$f":"SUM('Subject Data Accessible'!L589:P589)","v":10},9.4339622641509441E-2]
["Operated Motor Vehicle in Inattentive, Careless, Negligent, or Erratic Manner",{"$f":"'Comparison Group 3 Accessible'!B590","v":76},{"$f":"'Comparison Group 3 Accessible'!C590","v":2.2926093514328807E-2},{"$f":"'Comparison Group 2 Accessible'!B590","v":214},{"$f":"'Comparison Group 2 Accessible'!C590","v":8.218125960061444E-2},{"$f":"'Comparison Group 1 Accessible'!B590","v":8},{"$f":"'Comparison Group 1 Accessible'!C590","v":2.7397260273972601E-2},{"$f":"SUM('Subject Data Accessible'!D590:H590)","v":0},0,"Operated Motor Vehicle in Inattentive, Careless, Negligent, or Erratic Manner",{"$f":"'Comparison Group 3 Accessible'!J590","v":3138},{"$f":"'Comparison Group 3 Accessible'!K590","v":2.1363215511137738E-2},{"$f":"'Comparison Group 2 Accessible'!J590","v":1081},{"$f":"'Comparison Group 2 Accessible'!K590","v":9.3777380652884882E-3},{"$f":"'Comparison Group 1 Accessible'!J590","v":676},{"$f":"'Comparison Group 1 Accessible'!K590","v":5.8900409514681534E-2},{"$f":"SUM('Subject Data Accessible'!L590:P590)","v":11},0.10377358490566038]
["Operated Motor Vehicle in Reckless or Aggressive Manner",{"$f":"'Comparison Group 3 Accessible'!B591","v":3},{"$f":"'Comparison Group 3 Accessible'!C591","v":9.049773755656109E-4},{"$f":"'Comparison Group 2 Accessible'!B591","v":1101},{"$f":"'Comparison Group 2 Accessible'!C591","v":0.42281105990783407},{"$f":"'Comparison Group 1 Accessible'!B591","v":4},{"$f":"'Comparison Group 1 Accessible'!C591","v":1.3698630136986301E-2},{"$f":"SUM('Subject Data Accessible'!D591:H591)","v":4},0.2857142857142857,"Operated Motor Vehicle in Reckless or Aggressive Manner",{"$f":"'Comparison Group 3 Accessible'!J591","v":519},{"$f":"'Comparison Group 3 Accessible'!K591","v":3.5333042862589182E-3},{"$f":"'Comparison Group 2 Accessible'!J591","v":59677},{"$f":"'Comparison Group 2 Accessible'!K591","v":0.51770145654229527},{"$f":"'Comparison Group 1 Accessible'!J591","v":101},{"$f":"'Comparison Group 1 Accessible'!K591","v":8.8002091138799331E-3},{"$f":"SUM('Subject Data Accessible'!L591:P591)","v":13},0.12264150943396226]
["Over-Correcting/Over-Steering",{"$f":"'Comparison Group 3 Accessible'!B592","v":1694},{"$f":"'Comparison Group 3 Accessible'!C592","v":0.51101055806938156},{"$f":"'Comparison Group 2 Accessible'!B592","v":3},{"$f":"'Comparison Group 2 Accessible'!C592","v":1.152073732718894E-3},{"$f":"'Comparison Group 1 Accessible'!B592","v":6},{"$f":"'Comparison Group 1 Accessible'!C592","v":2.0547945205479451E-2},{"$f":"SUM('Subject Data Accessible'!D592:H592)","v":2},0.14285714285714285,"Over-Correcting/Over-Steering",{"$f":"'Comparison Group 3 Accessible'!J592","v":64625},{"$f":"'Comparison Group 3 Accessible'!K592","v":0.43996105876586244},{"$f":"'Comparison Group 2 Accessible'!J592","v":113},{"$f":"'Comparison Group 2 Accessible'!K592","v":9.802815923937089E-4},{"$f":"'Comparison Group 1 Accessible'!J592","v":316},{"$f":"'Comparison Group 1 Accessible'!K592","v":2.7533327524614445E-2},{"$f":"SUM('Subject Data Accessible'!L592:P592)","v":7},6.6037735849056603E-2]
["Ran Off Roadway",{"$f":"'Comparison Group 3 Accessible'!B593","v":418},{"$f":"'Comparison Group 3 Accessible'!C593","v":0.12609351432880844},{"$f":"'Comparison Group 2 Accessible'!B593","v":0},{"$f":"'Comparison Group 2 Accessible'!C593","v":0},{"$f":"'Comparison Group 1 Accessible'!B593","v":7},{"$f":"'Comparison Group 1 Accessible'!C593","v":2.3972602739726026E-2},{"$f":"SUM('Subject Data Accessible'!D593:H593)","v":0},0,"Ran Off Roadway",{"$f":"'Comparison Group 3 Accessible'!J593","v":13567},{"$f":"'Comparison Group 3 Accessible'!K593","v":9.2362888731550574E-2},{"$f":"'Comparison Group 2 Accessible'!J593","v":405},{"$f":"'Comparison Group 2 Accessible'!K593","v":3.5133986276057708E-3},{"$f":"'Comparison Group 1 Accessible'!J593","v":1175},{"$f":"'Comparison Group 1 Accessible'!K593","v":0.10237867038424675},{"$f":"SUM('Subject Data Accessible'!L593:P593)","v":3},2.8301886792452831E-2]
["Ran Red Light",{"$f":"'Comparison Group 3 Accessible'!B594","v":63},{"$f":"'Comparison Group 3 Accessible'!C594","v":1.9004524886877826E-2},{"$f":"'Comparison Group 2 Accessible'!B594","v":0},{"$f":"'Comparison Group 2 Accessible'!C594","v":0},{"$f":"'Comparison Group 1 Accessible'!B594","v":3},{"$f":"'Comparison Group 1 Accessible'!C594","v":1.0273972602739725E-2},{"$f":"SUM('Subject Data Accessible'!D594:H594)","v":1},7.1428571428571425E-2,"Ran Red Light",{"$f":"'Comparison Group 3 Accessible'!J594","v":5202},{"$f":"'Comparison Group 3 Accessible'!K594","v":3.5414737759381296E-2},{"$f":"'Comparison Group 2 Accessible'!J594","v":4},{"$f":"'Comparison Group 2 Accessible'!K594","v":3.4700233359069342E-5},{"$f":"'Comparison Group 1 Accessible'!J594","v":29},{"$f":"'Comparison Group 1 Accessible'!K594","v":2.5267927158665157E-3},{"$f":"SUM('Subject Data Accessible'!L594:P594)","v":2},1.8867924528301886E-2]
["Ran Stop Sign",{"$f":"'Comparison Group 3 Accessible'!B595","v":26},{"$f":"'Comparison Group 3 Accessible'!C595","v":7.8431372549019607E-3},{"$f":"'Comparison Group 2 Accessible'!B595","v":21},{"$f":"'Comparison Group 2 Accessible'!C595","v":8.0645161290322578E-3},{"$f":"'Comparison Group 1 Accessible'!B595","v":3},{"$f":"'Comparison Group 1 Accessible'!C595","v":1.0273972602739725E-2},{"$f":"SUM('Subject Data Accessible'!D595:H595)","v":1},7.1428571428571425E-2,"Ran Stop Sign",{"$f":"'Comparison Group 3 Accessible'!J595","v":824},{"$f":"'Comparison Group 3 Accessible'!K595","v":5.6097162463918087E-3},{"$f":"'Comparison Group 2 Accessible'!J595","v":4616},{"$f":"'Comparison Group 2 Accessible'!K595","v":4.0044069296366017E-2},{"$f":"'Comparison Group 1 Accessible'!J595","v":110},{"$f":"'Comparison Group 1 Accessible'!K595","v":9.5843861636316103E-3},{"$f":"SUM('Subject Data Accessible'!L595:P595)","v":0},0]
["Swerve or Avoided Due to Wind, Slippery Surface, Motor Vehicle, Object, Non-Motorist in Roadway, etc.",{"$f":"'Comparison Group 3 Accessible'!B596","v":376},{"$f":"'Comparison Group 3 Accessible'!C596","v":0.11342383107088989},{"$f":"'Comparison Group 2 Accessible'!B596","v":2},{"$f":"'Comparison Group 2 Accessible'!C596","v":7.6804915514592934E-4},{"$f":"'Comparison Group 1 Accessible'!B596","v":4},{"$f":"'Comparison Group 1 Accessible'!C596","v":1.3698630136986301E-2},{"$f":"SUM('Subject Data Accessible'!D596:H596)","v":0},0,"Swerve or Avoided Due to Wind, Slippery Surface, Motor Vehicle, Object, Non-Motorist in Roadway, etc.",{"$f":"'Comparison Group 3 Accessible'!J596","v":6608},{"$f":"'Comparison Group 3 Accessible'!K596","v":4.4986656500190618E-2},{"$f":"'Comparison Group 2 Accessible'!J596","v":63},{"$f":"'Comparison Group 2 Accessible'!K596","v":5.4652867540534212E-4},{"$f":"'Comparison Group 1 Accessible'!J596","v":19},{"$f":"'Comparison Group 1 Accessible'!K596","v":1.6554848828090965E-3},{"$f":"SUM('Subject Data Accessible'!L596:P596)","v":4},3.7735849056603772E-2]
["Wrong Side or Wrong Way",{"$f":"'Comparison Group 3 Accessible'!B597","v":55},{"$f":"'Comparison Group 3 Accessible'!C597","v":1.6591251885369532E-2},{"$f":"'Comparison Group 2 Accessible'!B597","v":534},{"$f":"'Comparison Group 2 Accessible'!C597","v":0.20506912442396313},{"$f":"'Comparison Group 1 Accessible'!B597","v":28},{"$f":"'Comparison Group 1 Accessible'!C597","v":9.5890410958904104E-2},{"$f":"SUM('Subject Data Accessible'!D597:H597)","v":0},0,"Wrong Side or Wrong Way",{"$f":"'Comparison Group 3 Accessible'!J597","v":5677},{"$f":"'Comparison Group 3 Accessible'!K597","v":3.8648494090735799E-2},{"$f":"'Comparison Group 2 Accessible'!J597","v":26790},{"$f":"'Comparison Group 2 Accessible'!K597","v":0.23240481292236689},{"$f":"'Comparison Group 1 Accessible'!J597","v":132},{"$f":"'Comparison Group 1 Accessible'!K597","v":1.1501263396357934E-2},{"$f":"SUM('Subject Data Accessible'!L597:P597)","v":0},0]
["Other Contributing Action",{"$f":"'Comparison Group 3 Accessible'!B598","v":28},{"$f":"'Comparison Group 3 Accessible'!C598","v":8.4464555052790342E-3},{"$f":"'Comparison Group 2 Accessible'!B598","v":1},{"$f":"'Comparison Group 2 Accessible'!C598","v":3.8402457757296467E-4},{"$f":"'Comparison Group 1 Accessible'!B598","v":6},{"$f":"'Comparison Group 1 Accessible'!C598","v":2.0547945205479451E-2},{"$f":"SUM('Subject Data Accessible'!D598:H598)","v":0},0,"Other Contributing Action",{"$f":"'Comparison Group 3 Accessible'!J598","v":861},{"$f":"'Comparison Group 3 Accessible'!K598","v":5.8616088448341592E-3},{"$f":"'Comparison Group 2 Accessible'!J598","v":38},{"$f":"'Comparison Group 2 Accessible'!K598","v":3.2965221691115873E-4},{"$f":"'Comparison Group 1 Accessible'!J598","v":96},{"$f":"'Comparison Group 1 Accessible'!K598","v":8.3645551973512249E-3},{"$f":"SUM('Subject Data Accessible'!L598:P598)","v":10},9.4339622641509441E-2]
["Unknown",{"$f":"'Comparison Group 3 Accessible'!B599","v":122},{"$f":"'Comparison Group 3 Accessible'!C599","v":3.6802413273001509E-2},{"$f":"'Comparison Group 2 Accessible'!B599","v":82},{"$f":"'Comparison Group 2 Accessible'!C599","v":3.1490015360983101E-2},{"$f":"'Comparison Group 1 Accessible'!B599","v":42},{"$f":"'Comparison Group 1 Accessible'!C599","v":0.14383561643835616},{"$f":"SUM('Subject Data Accessible'!D599:H599)","v":1},7.1428571428571425E-2,"Unknown",{"$f":"'Comparison Group 3 Accessible'!J599","v":11600},{"$f":"'Comparison Group 3 Accessible'!K599","v":7.8971733565709926E-2},{"$f":"'Comparison Group 2 Accessible'!J599","v":3106},{"$f":"'Comparison Group 2 Accessible'!K599","v":2.6944731203317342E-2},{"$f":"'Comparison Group 1 Accessible'!J599","v":2844},{"$f":"'Comparison Group 1 Accessible'!K599","v":0.24779994772153002},{"$f":"SUM('Subject Data Accessible'!L599:P599)","v":0},0]
[{"$f":"CONCATENATE(\"Fatal and Serious Injury Crashes, Person-Level Data - \",$A601,\"  \nComp 3 = \",Instructions!$B$12,\", Comp 2 = \",Instructions!$B$11,\", Comp 1 = \", Instructions!$B$10, \", Subject = \",Instructions!$B$9)","v":"Fatal and Serious Injury Crashes, Person-Level Data - Driver Actions at Time of Crash, Selection 4  \nComp 3 = Test Group 3, Comp 2 = Test Group 2, Comp 1 = Test Group 1, Subject = Test County"},null,null,null,null,null,null,null,null,{"$f":"CONCATENATE(\"Total Crashes, Person-Level Data - \",J601,\"\nComp 3 = \",Instructions!$B$12,\", Comp 2 = \",Instructions!$B$11,\", Comp 1 = \", Instructions!$B$10, \", Subject = \",Instructions!$B$9)","v":"Total Crashes, Person-Level Data - Driver Actions at Time of Crash, Selection 4\nComp 3 = Test Group 3, Comp 2 = Test Group 2, Comp 1 = Test Group 1, Subject = Test County"}]
["Driver Actions at Time of Crash, Selection 4","Comp 3 Number","Comp 3 Percent","Comp 2 Number","Comp 2 Percent","Comp 1 Number","Comp 1 Percent","Subject Number","Subject Percent","Driver Actions at Time of Crash, Selection 4","Comp 3 Number","Comp 3 Percent","Comp 2 Number","Comp 2 Percent","Comp 1 Number","Comp 1 Percent","Subject Number","Subject Percent"]
["No Contributing Action",{"$f":"'Comparison Group 3 Accessible'!B602","v":52},{"$f":"'Comparison Group 3 Accessible'!C602","v":1.5686274509803921E-2},{"$f":"'Comparison Group 2 Accessible'!B602","v":1101},{"$f":"'Comparison Group 2 Accessible'!C602","v":0.42281105990783407},{"$f":"'Comparison Group 1 Accessible'!B602","v":3},{"$f":"'Comparison Group 1 Accessible'!C602","v":1.0273972602739725E-2},{"$f":"SUM('Subject Data Accessible'!D602:H602)","v":0},{"$f":"H602/SUM(H$602:H$620)","v":0},{"$f":"A602","v":"No Contributing Action"},{"$f":"'Comparison Group 3 Accessible'!J602","v":9275},{"$f":"'Comparison Group 3 Accessible'!K602","v":6.3143347312237891E-2},{"$f":"'Comparison Group 2 Accessible'!J602","v":59677},{"$f":"'Comparison Group 2 Accessible'!K602","v":0.51770145654229527},{"$f":"'Comparison Group 1 Accessible'!J602","v":108},{"$f":"'Comparison Group 1 Accessible'!K602","v":9.4101245970201267E-3},{"$f":"SUM('Subject Data Accessible'!L602:P602)","v":12},{"$f":"Q602/SUM(Q$602:Q$620)","v":0.11320754716981132}]
["Disregarded Other Road Markings",{"$f":"'Comparison Group 3 Accessible'!B603","v":2},{"$f":"'Comparison Group 3 Accessible'!C603","v":6.0331825037707393E-4},{"$f":"'Comparison Group 2 Accessible'!B603","v":3},{"$f":"'Comparison Group 2 Accessible'!C603","v":1.152073732718894E-3},{"$f":"'Comparison Group 1 Accessible'!B603","v":4},{"$f":"'Comparison Group 1 Accessible'!C603","v":1.3698630136986301E-2},{"$f":"SUM('Subject Data Accessible'!D603:H603)","v":1},{"$f":"H603/SUM(H$602:H$620)","v":7.1428571428571425E-2},"Disregarded Other Road Markings",{"$f":"'Comparison Group 3 Accessible'!J603","v":71},{"$f":"'Comparison Group 3 Accessible'!K603","v":4.8336147268667281E-4},{"$f":"'Comparison Group 2 Accessible'!J603","v":113},{"$f":"'Comparison Group 2 Accessible'!K603","v":9.802815923937089E-4},{"$f":"'Comparison Group 1 Accessible'!J603","v":19},{"$f":"'Comparison Group 1 Accessible'!K603","v":1.6554848828090965E-3},{"$f":"SUM('Subject Data Accessible'!L603:P603)","v":0},{"$f":"Q603/SUM(Q$602:Q$620)","v":0}]
["Disregarded Other Traffic Sign",{"$f":"'Comparison Group 3 Accessible'!B604","v":10},{"$f":"'Comparison Group 3 Accessible'!C604","v":3.0165912518853697E-3},{"$f":"'Comparison Group 2 Accessible'!B604","v":0},{"$f":"'Comparison Group 2 Accessible'!C604","v":0},{"$f":"'Comparison Group 1 Accessible'!B604","v":3},{"$f":"'Comparison Group 1 Accessible'!C604","v":1.0273972602739725E-2},{"$f":"SUM('Subject Data Accessible'!D604:H604)","v":2},0.14285714285714285,"Disregarded Other Traffic Sign",{"$f":"'Comparison Group 3 Accessible'!J604","v":811},{"$f":"'Comparison Group 3 Accessible'!K604","v":5.5212134415336851E-3},{"$f":"'Comparison Group 2 Accessible'!J604","v":405},{"$f":"'Comparison Group 2 Accessible'!K604","v":3.5133986276057708E-3},{"$f":"'Comparison Group 1 Accessible'!J604","v":41},{"$f":"'Comparison Group 1 Accessible'!K604","v":3.5723621155354188E-3},{"$f":"SUM('Subject Data Accessible'!L604:P604)","v":0},0]
["Failed to Keep in Proper Lane",{"$f":"'Comparison Group 3 Accessible'!B605","v":2},{"$f":"'Comparison Group 3 Accessible'!C605","v":6.0331825037707393E-4},{"$f":"'Comparison Group 2 Accessible'!B605","v":0},{"$f":"'Comparison Group 2 Accessible'!C605","v":0},{"$f":"'Comparison Group 1 Accessible'!B605","v":1},{"$f":"'Comparison Group 1 Accessible'!C605","v":3.4246575342465752E-3},{"$f":"SUM('Subject Data Accessible'!D605:H605)","v":0},0,"Failed to Keep in Proper Lane",{"$f":"'Comparison Group 3 Accessible'!J605","v":70},{"$f":"'Comparison Group 3 Accessible'!K605","v":4.7655356462066338E-4},{"$f":"'Comparison Group 2 Accessible'!J605","v":4},{"$f":"'Comparison Group 2 Accessible'!K605","v":3.4700233359069342E-5},{"$f":"'Comparison Group 1 Accessible'!J605","v":229},{"$f":"'Comparison Group 1 Accessible'!K605","v":1.99529493770149E-2},{"$f":"SUM('Subject Data Accessible'!L605:P605)","v":0},0]
["Failed to Yield Right-of-Way",{"$f":"'Comparison Group 3 Accessible'!B606","v":20},{"$f":"'Comparison Group 3 Accessible'!C606","v":6.0331825037707393E-3},{"$f":"'Comparison Group 2 Accessible'!B606","v":21},{"$f":"'Comparison Group 2 Accessible'!C606","v":8.0645161290322578E-3},{"$f":"'Comparison Group 1 Accessible'!B606","v":3},{"$f":"'Comparison Group 1 Accessible'!C606","v":1.0273972602739725E-2},{"$f":"SUM('Subject Data Accessible'!D606:H606)","v":0},0,"Failed to Yield Right-of-Way",{"$f":"'Comparison Group 3 Accessible'!J606","v":1581},{"$f":"'Comparison Group 3 Accessible'!K606","v":1.0763302652360982E-2},{"$f":"'Comparison Group 2 Accessible'!J606","v":4616},{"$f":"'Comparison Group 2 Accessible'!K606","v":4.0044069296366017E-2},{"$f":"'Comparison Group 1 Accessible'!J606","v":153},{"$f":"'Comparison Group 1 Accessible'!K606","v":1.3331009845778513E-2},{"$f":"SUM('Subject Data Accessible'!L606:P606)","v":5},4.716981132075472E-2]
["Followed Too Closely",{"$f":"'Comparison Group 3 Accessible'!B607","v":96},{"$f":"'Comparison Group 3 Accessible'!C607","v":2.8959276018099549E-2},{"$f":"'Comparison Group 2 Accessible'!B607","v":2},{"$f":"'Comparison Group 2 Accessible'!C607","v":7.6804915514592934E-4},{"$f":"'Comparison Group 1 Accessible'!B607","v":0},{"$f":"'Comparison Group 1 Accessible'!C607","v":0},{"$f":"SUM('Subject Data Accessible'!D607:H607)","v":0},0,"Followed Too Closely",{"$f":"'Comparison Group 3 Accessible'!J607","v":3157},{"$f":"'Comparison Group 3 Accessible'!K607","v":2.1492565764391916E-2},{"$f":"'Comparison Group 2 Accessible'!J607","v":63},{"$f":"'Comparison Group 2 Accessible'!K607","v":5.4652867540534212E-4},{"$f":"'Comparison Group 1 Accessible'!J607","v":60},{"$f":"'Comparison Group 1 Accessible'!K607","v":5.2278469983445151E-3},{"$f":"SUM('Subject Data Accessible'!L607:P607)","v":4},3.7735849056603772E-2]
["Improper Backing",{"$f":"'Comparison Group 3 Accessible'!B608","v":3},{"$f":"'Comparison Group 3 Accessible'!C608","v":9.049773755656109E-4},{"$f":"'Comparison Group 2 Accessible'!B608","v":534},{"$f":"'Comparison Group 2 Accessible'!C608","v":0.20506912442396313},{"$f":"'Comparison Group 1 Accessible'!B608","v":0},{"$f":"'Comparison Group 1 Accessible'!C608","v":0},{"$f":"SUM('Subject Data Accessible'!D608:H608)","v":0},0,"Improper Backing",{"$f":"'Comparison Group 3 Accessible'!J608","v":805},{"$f":"'Comparison Group 3 Accessible'!K608","v":5.4803659931376286E-3},{"$f":"'Comparison Group 2 Accessible'!J608","v":26790},{"$f":"'Comparison Group 2 Accessible'!K608","v":0.23240481292236689},{"$f":"'Comparison Group 1 Accessible'!J608","v":128},{"$f":"'Comparison Group 1 Accessible'!K608","v":1.1152740263134965E-2},{"$f":"SUM('Subject Data Accessible'!L608:P608)","v":17},0.16037735849056603]
["Improper Passing",{"$f":"'Comparison Group 3 Accessible'!B609","v":16},{"$f":"'Comparison Group 3 Accessible'!C609","v":4.8265460030165915E-3},{"$f":"'Comparison Group 2 Accessible'!B609","v":1},{"$f":"'Comparison Group 2 Accessible'!C609","v":3.8402457757296467E-4},{"$f":"'Comparison Group 1 Accessible'!B609","v":97},{"$f":"'Comparison Group 1 Accessible'!C609","v":0.3321917808219178},{"$f":"SUM('Subject Data Accessible'!D609:H609)","v":2},0.14285714285714285,"Improper Passing",{"$f":"'Comparison Group 3 Accessible'!J609","v":2654},{"$f":"'Comparison Group 3 Accessible'!K609","v":1.8068188007189151E-2},{"$f":"'Comparison Group 2 Accessible'!J609","v":38},{"$f":"'Comparison Group 2 Accessible'!K609","v":3.2965221691115873E-4},{"$f":"'Comparison Group 1 Accessible'!J609","v":3480},{"$f":"'Comparison Group 1 Accessible'!K609","v":0.30321512590398186},{"$f":"SUM('Subject Data Accessible'!L609:P609)","v":12},0.11320754716981132]
["Improper Turn",{"$f":"'Comparison Group 3 Accessible'!B610","v":1124},{"$f":"'Comparison Group 3 Accessible'!C610","v":0.33906485671191555},{"$f":"'Comparison Group 2 Accessible'!B610","v":82},{"$f":"'Comparison Group 2 Accessible'!C610","v":3.1490015360983101E-2},{"$f":"'Comparison Group 1 Accessible'!B610","v":21},{"$f":"'Comparison Group 1 Accessible'!C610","v":7.1917808219178078E-2},{"$f":"SUM('Subject Data Accessible'!D610:H610)","v":0},0,"Improper Turn",{"$f":"'Comparison Group 3 Accessible'!J610","v":46084},{"$f":"'Comparison Group 3 Accessible'!K610","v":0.31373563531398074},{"$f":"'Comparison Group 2 Accessible'!J610","v":3106},{"$f":"'Comparison Group 2 Accessible'!K610","v":2.6944731203317342E-2},{"$f":"'Comparison Group 1 Accessible'!J610","v":874},{"$f":"'Comparison Group 1 Accessible'!K610","v":7.6152304609218444E-2},{"$f":"SUM('Subject Data Accessible'!L610:P610)","v":10},9.4339622641509441E-2]
["Operated Motor Vehicle in Inattentive, Careless, Negligent, or Erratic Manner",{"$f":"'Comparison Group 3 Accessible'!B611","v":1304},{"$f":"'Comparison Group 3 Accessible'!C611","v":0.39336349924585218},{"$f":"'Comparison Group 2 Accessible'!B611","v":331},{"$f":"'Comparison Group 2 Accessible'!C611","v":0.12711213517665129},{"$f":"'Comparison Group 1 Accessible'!B611","v":2},{"$f":"'Comparison Group 1 Accessible'!C611","v":6.8493150684931503E-3},{"$f":"SUM('Subject Data Accessible'!D611:H611)","v":1},7.1428571428571425E-2,"Operated Motor Vehicle in Inattentive, Careless, Negligent, or Erratic Manner",{"$f":"'Comparison Group 3 Accessible'!J611","v":57749},{"$f":"'Comparison Group 3 Accessible'!K611","v":0.39314988290398128},{"$f":"'Comparison Group 2 Accessible'!J611","v":16828},{"$f":"'Comparison Group 2 Accessible'!K611","v":0.1459838817416047},{"$f":"'Comparison Group 1 Accessible'!J611","v":298},{"$f":"'Comparison Group 1 Accessible'!K611","v":2.5964973425111091E-2},{"$f":"SUM('Subject Data Accessible'!L611:P611)","v":7},6.6037735849056603E-2]
["Operated Motor Vehicle in Reckless or Aggressive Manner",{"$f":"'Comparison Group 3 Accessible'!B612","v":232},{"$f":"'Comparison Group 3 Accessible'!C612","v":6.9984917043740574E-2},{"$f":"'Comparison Group 2 Accessible'!B612","v":5},{"$f":"'Comparison Group 2 Accessible'!C612","v":1.9201228878648233E-3},{"$f":"'Comparison Group 1 Accessible'!B612","v":18},{"$f":"'Comparison Group 1 Accessible'!C612","v":6.1643835616438353E-2},{"$f":"SUM('Subject Data Accessible'!D612:H612)","v":3},0.21428571428571427,"Operated Motor Vehicle in Reckless or Aggressive Manner",{"$f":"'Comparison Group 3 Accessible'!J612","v":16297},{"$f":"'Comparison Group 3 Accessible'!K612","v":0.11094847775175644},{"$f":"'Comparison Group 2 Accessible'!J612","v":338},{"$f":"'Comparison Group 2 Accessible'!K612","v":2.9321697188413594E-3},{"$f":"'Comparison Group 1 Accessible'!J612","v":219},{"$f":"'Comparison Group 1 Accessible'!K612","v":1.908164154395748E-2},{"$f":"SUM('Subject Data Accessible'!L612:P612)","v":12},0.11320754716981132]
["Over-Correcting/Over-Steering",{"$f":"'Comparison Group 3 Accessible'!B613","v":109},{"$f":"'Comparison Group 3 Accessible'!C613","v":3.2880844645550529E-2},{"$f":"'Comparison Group 2 Accessible'!B613","v":3},{"$f":"'Comparison Group 2 Accessible'!C613","v":1.152073732718894E-3},{"$f":"'Comparison Group 1 Accessible'!B613","v":26},{"$f":"'Comparison Group 1 Accessible'!C613","v":8.9041095890410954E-2},{"$f":"SUM('Subject Data Accessible'!D613:H613)","v":2},0.14285714285714285,"Over-Correcting/Over-Steering",{"$f":"'Comparison Group 3 Accessible'!J613","v":545},{"$f":"'Comparison Group 3 Accessible'!K613","v":3.7103098959751649E-3},{"$f":"'Comparison Group 2 Accessible'!J613","v":128},{"$f":"'Comparison Group 2 Accessible'!K613","v":1.1104074674902189E-3},{"$f":"'Comparison Group 1 Accessible'!J613","v":1555},{"$f":"'Comparison Group 1 Accessible'!K613","v":0.13548836804042869},{"$f":"SUM('Subject Data Accessible'!L613:P613)","v":5},4.716981132075472E-2]
["Ran Off Roadway",{"$f":"'Comparison Group 3 Accessible'!B614","v":31},{"$f":"'Comparison Group 3 Accessible'!C614","v":9.3514328808446453E-3},{"$f":"'Comparison Group 2 Accessible'!B614","v":1},{"$f":"'Comparison Group 2 Accessible'!C614","v":3.8402457757296467E-4},{"$f":"'Comparison Group 1 Accessible'!B614","v":33},{"$f":"'Comparison Group 1 Accessible'!C614","v":0.11301369863013698},{"$f":"SUM('Subject Data Accessible'!D614:H614)","v":0},0,"Ran Off Roadway",{"$f":"'Comparison Group 3 Accessible'!J614","v":73},{"$f":"'Comparison Group 3 Accessible'!K614","v":4.9697728881869184E-4},{"$f":"'Comparison Group 2 Accessible'!J614","v":40},{"$f":"'Comparison Group 2 Accessible'!K614","v":3.4700233359069338E-4},{"$f":"'Comparison Group 1 Accessible'!J614","v":1267},{"$f":"'Comparison Group 1 Accessible'!K614","v":0.11039470244837502},{"$f":"SUM('Subject Data Accessible'!L614:P614)","v":3},2.8301886792452831E-2]
["Ran Red Light",{"$f":"'Comparison Group 3 Accessible'!B615","v":14},{"$f":"'Comparison Group 3 Accessible'!C615","v":4.2232277526395171E-3},{"$f":"'Comparison Group 2 Accessible'!B615","v":19.999999999999943},{"$f":"'Comparison Group 2 Accessible'!C615","v":7.6804915514592717E-3},{"$f":"'Comparison Group 1 Accessible'!B615","v":30},{"$f":"'Comparison Group 1 Accessible'!C615","v":0.10273972602739725},{"$f":"SUM('Subject Data Accessible'!D615:H615)","v":1},7.1428571428571425E-2,"Ran Red Light",{"$f":"'Comparison Group 3 Accessible'!J615","v":402},{"$f":"'Comparison Group 3 Accessible'!K615","v":2.7367790425358095E-3},{"$f":"'Comparison Group 2 Accessible'!J615","v":29},{"$f":"'Comparison Group 2 Accessible'!K615","v":2.5157669185325274E-4},{"$f":"'Comparison Group 1 Accessible'!J615","v":571},{"$f":"'Comparison Group 1 Accessible'!K615","v":4.9751677267578634E-2},{"$f":"SUM('Subject Data Accessible'!L615:P615)","v":2},1.8867924528301886E-2]
["Ran Stop Sign",{"$f":"'Comparison Group 3 Accessible'!B616","v":107},{"$f":"'Comparison Group 3 Accessible'!C616","v":3.2277526395173457E-2},{"$f":"'Comparison Group 2 Accessible'!B616","v":44},{"$f":"'Comparison Group 2 Accessible'!C616","v":1.6897081413210446E-2},{"$f":"'Comparison Group 1 Accessible'!B616","v":8},{"$f":"'Comparison Group 1 Accessible'!C616","v":2.7397260273972601E-2},{"$f":"SUM('Subject Data Accessible'!D616:H616)","v":1},7.1428571428571425E-2,"Ran Stop Sign",{"$f":"'Comparison Group 3 Accessible'!J616","v":1814},{"$f":"'Comparison Group 3 Accessible'!K616","v":1.234954523174119E-2},{"$f":"'Comparison Group 2 Accessible'!J616","v":543},{"$f":"'Comparison Group 2 Accessible'!K616","v":4.7105566784936626E-3},{"$f":"'Comparison Group 1 Accessible'!J616","v":676},{"$f":"'Comparison Group 1 Accessible'!K616","v":5.8900409514681534E-2},{"$f":"SUM('Subject Data Accessible'!L616:P616)","v":0},0]
["Swerve or Avoided Due to Wind, Slippery Surface, Motor Vehicle, Object, Non-Motorist in Roadway, etc.",{"$f":"'Comparison Group 3 Accessible'!B617","v":1},{"$f":"'Comparison Group 3 Accessible'!C617","v":3.0165912518853697E-4},{"$f":"'Comparison Group 2 Accessible'!B617","v":237},{"$f":"'Comparison Group 2 Accessible'!C617","v":9.1013824884792621E-2},{"$f":"'Comparison Group 1 Accessible'!B617","v":4},{"$f":"'Comparison Group 1 Accessible'!C617","v":1.3698630136986301E-2},{"$f":"SUM('Subject Data Accessible'!D617:H617)","v":0},0,"Swerve or Avoided Due to Wind, Slippery Surface, Motor Vehicle, Object, Non-Motorist in Roadway, etc.",{"$f":"'Comparison Group 3 Accessible'!J617","v":40},{"$f":"'Comparison Group 3 Accessible'!K617","v":2.7231632264037908E-4},{"$f":"'Comparison Group 2 Accessible'!J617","v":1022},{"$f":"'Comparison Group 2 Accessible'!K617","v":8.8659096232422165E-3},{"$f":"'Comparison Group 1 Accessible'!J617","v":101},{"$f":"'Comparison Group 1 Accessible'!K617","v":8.8002091138799331E-3},{"$f":"SUM('Subject Data Accessible'!L617:P617)","v":4},3.7735849056603772E-2]
["Wrong Side or Wrong Way",{"$f":"'Comparison Group 3 Accessible'!B618","v":50},{"$f":"'Comparison Group 3 Accessible'!C618","v":1.5082956259426848E-2},{"$f":"'Comparison Group 2 Accessible'!B618","v":1},{"$f":"'Comparison Group 2 Accessible'!C618","v":3.8402457757296467E-4},{"$f":"'Comparison Group 1 Accessible'!B618","v":6},{"$f":"'Comparison Group 1 Accessible'!C618","v":2.0547945205479451E-2},{"$f":"SUM('Subject Data Accessible'!D618:H618)","v":0},0,"Wrong Side or Wrong Way",{"$f":"'Comparison Group 3 Accessible'!J618","v":1438},{"$f":"'Comparison Group 3 Accessible'!K618","v":9.7897717989216277E-3},{"$f":"'Comparison Group 2 Accessible'!J618","v":10},{"$f":"'Comparison Group 2 Accessible'!K618","v":8.6750583397673345E-5},{"$f":"'Comparison Group 1 Accessible'!J618","v":296},{"$f":"'Comparison Group 1 Accessible'!K618","v":2.5790711858499609E-2},{"$f":"SUM('Subject Data Accessible'!L618:P618)","v":0},0]
["Other Contributing Action",{"$f":"'Comparison Group 3 Accessible'!B619","v":21},{"$f":"'Comparison Group 3 Accessible'!C619","v":6.3348416289592761E-3},{"$f":"'Comparison Group 2 Accessible'!B619","v":4},{"$f":"'Comparison Group 2 Accessible'!C619","v":1.5360983102918587E-3},{"$f":"'Comparison Group 1 Accessible'!B619","v":7},{"$f":"'Comparison Group 1 Accessible'!C619","v":2.3972602739726026E-2},{"$f":"SUM('Subject Data Accessible'!D619:H619)","v":0},0,"Other Contributing Action",{"$f":"'Comparison Group 3 Accessible'!J619","v":1061},{"$f":"'Comparison Group 3 Accessible'!K619","v":7.2231904580360544E-3},{"$f":"'Comparison Group 2 Accessible'!J619","v":442},{"$f":"'Comparison Group 2 Accessible'!K619","v":3.8343757861771621E-3},{"$f":"'Comparison Group 1 Accessible'!J619","v":1038},{"$f":"'Comparison Group 1 Accessible'!K619","v":9.0441753071360112E-2},{"$f":"SUM('Subject Data Accessible'!L619:P619)","v":10},9.4339622641509441E-2]
["Unknown",{"$f":"'Comparison Group 3 Accessible'!B620","v":121},{"$f":"'Comparison Group 3 Accessible'!C620","v":3.6500754147812974E-2},{"$f":"'Comparison Group 2 Accessible'!B620","v":214},{"$f":"'Comparison Group 2 Accessible'!C620","v":8.218125960061444E-2},{"$f":"'Comparison Group 1 Accessible'!B620","v":26},{"$f":"'Comparison Group 1 Accessible'!C620","v":8.9041095890410954E-2},{"$f":"SUM('Subject Data Accessible'!D620:H620)","v":1},7.1428571428571425E-2,"Unknown",{"$f":"'Comparison Group 3 Accessible'!J620","v":2961},{"$f":"'Comparison Group 3 Accessible'!K620","v":2.0158215783454059E-2},{"$f":"'Comparison Group 2 Accessible'!J620","v":1081},{"$f":"'Comparison Group 2 Accessible'!K620","v":9.3777380652884882E-3},{"$f":"'Comparison Group 1 Accessible'!J620","v":364},{"$f":"'Comparison Group 1 Accessible'!K620","v":3.171560512329006E-2},{"$f":"SUM('Subject Data Accessible'!L620:P620)","v":3},2.8301886792452831E-2]